{"text_format":"1","workbook":"xlsx","n_sheets":4,"sheets":["Instructions","Marks Entry","Report Card","Abstract"],"not_rendered":{"charts":1,"images":2,"macros":1,"external_links":1,"defined_names":3,"comments":0,"pivot_tables":0},"unopened":[],"bounds":{"document_bytes":16777216,"sheet_cells":100000,"rows_first":2000,"rows_last":500,"rows_between":2000,"halvings":0,"cell_chars":16384,"cell_head_chars":4096},"cells_cut":0,"cells_raw":0,"read":"whole","date_system":"1900"}

{"sheet":"Instructions","index":0,"n_rows":36,"n_cols":12,"rows_kept":36,"cut":false,"hidden":false,"merged":[[24,2,25,2],[26,2,27,2],[28,2,30,2],[0,0,0,5],[16,1,16,2],[21,1,21,2],[8,1,8,4],[3,1,3,2],[4,1,4,5],[9,1,9,4],[6,1,6,6],[7,1,7,6]]}
["Instructions",null,null,null,null,null,null,null,null,null,"Year","Month"]
["Kindly read All Instructions before Use Report Card Utitly",null,null,null,null,null,null,null,null,null,2022,"Sept"]
[null,null,null,null,null,null,null,null,null,null,2023,"March"]
[1,"First Fill  Necessary Data for report card by click on ",null,"Fill Data",null,null,null,null,null,null,2024]
[2,"In All Sheet Use only or Click on  Yellow coloured Filled  Cell to Enter or Select Data. Rest Cells Are Locked",null,null,null,null,null,null,null,null,2025]
[3,"Now Goto Marks Entry  . Then Enter Data ( Marks) in Yellow cell thier",null,null,null,null,null,null,null,null,2026]
[4,"Enter Subjects Total Marks for Each Subject in this sheet at Row no . 20 onwards",null,null,null,null,null,null,null,null,2027]
[5,"You can find Grade Wise , Class Wise , Subject Wise Students count and Topper List",null,null,null,null,null,null,null,null,2028]
[6,"you can copy Paste Students Data Like Name ,Father Name, Class Etc.  From Epunjab Student Report Excel File",null,null,null,null,null,null,null,null,2029]
[7,"After Entered All data in yellow cell of Marks Entry Sheet . Goto Report Card to View/Print report card of each Students",null,null,null,null,null,null,null,null,2030]
[]
[]
[]
[]
[]
[]
[null,"Select to  Fill Data"]
[null,"Select Year Below","Select Month"]
[null,2025,"March"]
[null,"Enter Date of Report Card Preparation","2024-03-31"]
[]
[null,"Enter Maximum Subject Marks"]
[null,"Punjabi",100]
[null,"English",100]
[null,"Elective Subject 1 option 1",100]
[null,"Elective Subject 1 option 2"]
[null,"Elective Subject 2 Option 1",100]
[null,"Elective Subject 2 Option 2"]
[null,"Elective Subject 3 Option 1",100]
[null,"Elective Subject 3 Option 2"]
[null,"Elective Subject 3 Option 3"]
[null,"Computer Sci",50]
[null,"EVS",50]
[null,null,null,null,{"$f":"UPPER(B34)","v":""}]
[]
[null,"Grand Total (Except Grading Subject)",{"$f":"SUM(C23:C31)","v":500}]

{"sheet":"Marks Entry","index":1,"n_rows":874,"n_cols":53,"rows_kept":874,"cut":false,"hidden":false,"merged":[]}
["Sno",null,"Class","Sec","Student ID","Name","FatherName","MotherName","DOB","Gender",{"$f":"Instructions!B23","v":"Punjabi"},{"$f":"Instructions!B24","v":"English"},null,{"$f":"Instructions!B25","v":"Elective Subject 1 option 1"},{"$f":"Instructions!B26","v":"Elective Subject 1 option 2"},{"$f":"Instructions!B27","v":"Elective Subject 2 Option 1"},{"$f":"Instructions!B28","v":"Elective Subject 2 Option 2"},{"$f":"Instructions!B29","v":"Elective Subject 3 Option 1"},{"$f":"Instructions!B30","v":"Elective Subject 3 Option 2"},{"$f":"Instructions!B31","v":"Elective Subject 3 Option 3"},"Com Sci","EVS","Total Marks ","Total w/o F","Elective Sub 1","Elective Sub 1 Name","Elective Sub 2","Elective Sub 2 Name","Elective Sub 3 Marks","Elective Sub 3 Name","Pbi%","Eng","Elect Sub 1 %","Elect Sub 2 %","Elect Sub 3","Evs %","Com Sci%","Total %","Pass/Fail","Pbi Grade. ","Eng","option 1 ","option 2","Option 3","EVS","Com Sci","Grade total",null,null,null,null,null,{"$f":"Table_2[[#This Row],[Column51]]&Table_2[[#This Row],[Column52]]&AW3","v":""}]
[1,null,"11th","A",1555,"AMRITPREET KAUR","GURBHEJ SINGH","Mother1",null,"Female",25,30,null,40,null,null,40,95,null,null,40,15,{"$f":"IF(MIN(AE2:AI2)>=33,SUM(K2:T2),\"--\")","v":"--"},{"$f":"IF(W2=\"--\",0,W2)","v":0},{"$f":"Table_2[[#This Row],[Column20]]+Table_2[[#This Row],[Column56]]","v":40},{"$f":"IF(N2>0,$N$1,IF(O2>0,$O$1,\"\"))","v":"Elective Subject 1 option 1"},{"$f":"Table_2[[#This Row],[Column20]]+Table_2[[#This Row],[Column56]]","v":40},{"$f":"IFERROR(IF(P2>0,$P$1,IF(Q2>0,$Q$1,\"\")),\"\")","v":"Elective Subject 2 Option 2"},{"$f":"Table_2[[#This Row],[Column57]]+Table_2[[#This Row],[Column16]]+Table_2[[#This Row],[Column15]]","v":95},{"$f":"IFERROR(IF(R2>0,$R$1,IF(S2>0,$S$1,IF(T2>0,$T$1,\"\"))),\"\")","v":"Elective Subject 3 Option 1"},{"$f":"(K2/Instructions!$C$23)*100","v":25},{"$f":"(L2/Instructions!$C$24)*100","v":30},{"$f":"(Y2/Instructions!$C$25)*100","v":40},{"$f":"(AA2/Instructions!$C$27)*100","v":40},{"$f":"(AC2/Instructions!$C$29)*100","v":95},{"$f":"(V2/Instructions!$C$33)*100","v":30},{"$f":"(U2/Instructions!$C$32)*100","v":80},{"$f":"(W2/Instructions!$C$36)*100","v":{"$error":"#VALUE!"}},{"$f":"IFERROR(IF(AL2>=33,\"PASS\",\"----\"),\"\")","v":""},{"$f":"IFERROR(IF(AE2>90,\"A+\",IF(AE2>80,\"A\",IF(AE2>70,\"B+\",IF(AE2>60,\"B\",IF(AE2>50,\"C+\",IF(AE2>40,\"C\",IF(AE2>=33,\"D\",\"E\"))))))),\"Abs\")","v":"E"},"E","D","D","A+","E","B+",{"$f":"IFERROR(IF(AL2>90,\"A+\",IF(AL2>80,\"A\",IF(AL2>70,\"B+\",IF(AL2>60,\"B\",IF(AL2>50,\"C+\",IF(AL2>40,\"C\",IF(AL2>=33,\"D\",\"E\"))))))),\"--\")","v":"--"},null,null,null,null,null,{"$f":"Table_2[[#This Row],[Column51]]&Table_2[[#This Row],[Column52]]&AW4","v":""}]
[2,null,"11th","A",1556,"ARIF","SULEMAAN KHAN","Mother2",null,"Male",30,35,null,50,null,80,null,null,33,null,33,20,{"$f":"IF(MIN(AE3:AI3)>=33,SUM(K3:T3),\"--\")","v":"--"},{"$f":"IF(W3=\"--\",0,W3)","v":0},{"$f":"Table_2[[#This Row],[Column20]]+Table_2[[#This Row],[Column56]]","v":50},{"$f":"IF(N3>0,$N$1,IF(O3>0,$O$1,\"\"))","v":"Elective Subject 1 option 1"},{"$f":"Table_2[[#This Row],[Column20]]+Table_2[[#This Row],[Column56]]","v":50},{"$f":"IFERROR(IF(P3>0,$P$1,IF(Q3>0,$Q$1,\"\")),\"\")","v":"Elective Subject 2 Option 1"},{"$f":"Table_2[[#This Row],[Column57]]+Table_2[[#This Row],[Column16]]+Table_2[[#This Row],[Column15]]","v":33},{"$f":"IFERROR(IF(R3>0,$R$1,IF(S3>0,$S$1,IF(T3>0,$T$1,\"\"))),\"\")","v":"Elective Subject 3 Option 2"},{"$f":"(K3/Instructions!$C$23)*100","v":30},{"$f":"(L3/Instructions!$C$24)*100","v":35},{"$f":"(Y3/Instructions!$C$25)*100","v":50},{"$f":"(AA3/Instructions!$C$27)*100","v":50},{"$f":"(AC3/Instructions!$C$29)*100","v":33},{"$f":"(V3/Instructions!$C$33)*100","v":40},{"$f":"(U3/Instructions!$C$32)*100","v":66},{"$f":"(W3/Instructions!$C$36)*100","v":{"$error":"#VALUE!"}},{"$f":"IFERROR(IF(AL3>=33,\"PASS\",\"----\"),\"\")","v":""},{"$f":"IFERROR(IF(AE3>90,\"A+\",IF(AE3>80,\"A\",IF(AE3>70,\"B+\",IF(AE3>60,\"B\",IF(AE3>50,\"C+\",IF(AE3>40,\"C\",IF(AE3>=33,\"D\",\"E\"))))))),\"Abs\")","v":"E"},{"$f":"IFERROR(IF(AF3>90,\"A+\",IF(AF3>80,\"A\",IF(AF3>70,\"B+\",IF(AF3>60,\"B\",IF(AF3>50,\"C+\",IF(AF3>40,\"C\",IF(AF3>=33,\"D\",\"E\"))))))),\"Abs\")","v":"D"},{"$f":"IFERROR(IF(AG3>90,\"A+\",IF(AG3>80,\"A\",IF(AG3>70,\"B+\",IF(AG3>60,\"B\",IF(AG3>50,\"C+\",IF(AG3>40,\"C\",IF(AG3>=33,\"D\",\"E\"))))))),\"Abs\")","v":"C"},{"$f":"IFERROR(IF(AH3>90,\"A+\",IF(AH3>80,\"A\",IF(AH3>70,\"B+\",IF(AH3>60,\"B\",IF(AH3>50,\"C+\",IF(AH3>40,\"C\",IF(AH3>=33,\"D\",\"E\"))))))),\"Abs\")","v":"C"},{"$f":"IFERROR(IF(AI3>90,\"A+\",IF(AI3>80,\"A\",IF(AI3>70,\"B+\",IF(AI3>60,\"B\",IF(AI3>50,\"C+\",IF(AI3>40,\"C\",IF(AI3>=33,\"D\",\"E\"))))))),\"Abs\")","v":"D"},{"$f":"IFERROR(IF(AJ3>90,\"A+\",IF(AJ3>80,\"A\",IF(AJ3>70,\"B+\",IF(AJ3>60,\"B\",IF(AJ3>50,\"C+\",IF(AJ3>40,\"C\",IF(AJ3>=33,\"D\",\"E\"))))))),\"Abs\")","v":"D"},{"$f":"IFERROR(IF(AK3>90,\"A+\",IF(AK3>80,\"A\",IF(AK3>70,\"B+\",IF(AK3>60,\"B\",IF(AK3>50,\"C+\",IF(AK3>40,\"C\",IF(AK3>=33,\"D\",\"E\"))))))),\"Abs\")","v":"B"},{"$f":"IFERROR(IF(AL3>90,\"A+\",IF(AL3>80,\"A\",IF(AL3>70,\"B+\",IF(AL3>60,\"B\",IF(AL3>50,\"C+\",IF(AL3>40,\"C\",IF(AL3>=33,\"D\",\"E\"))))))),\"--\")","v":"--"},null,null,null,null,null,{"$f":"Table_2[[#This Row],[Column51]]&Table_2[[#This Row],[Column52]]&AW5","v":""}]
[3,null,null,null,null,null,null,"Mother3",null,"Male",35,40,null,null,20,null,82,null,null,30,46,55,"--",0,{"$f":"Table_2[[#This Row],[Column20]]+Table_2[[#This Row],[Column56]]","v":20},"Elective Subject 1 option 2",{"$f":"Table_2[[#This Row],[Column20]]+Table_2[[#This Row],[Column56]]","v":20},"Elective Subject 2 Option 2",{"$f":"Table_2[[#This Row],[Column57]]+Table_2[[#This Row],[Column16]]+Table_2[[#This Row],[Column15]]","v":30},"Elective Subject 3 Option 3",{"$f":"(K4/Instructions!$C$23)*100","v":35},{"$f":"(L4/Instructions!$C$24)*100","v":40},{"$f":"(Y4/Instructions!$C$25)*100","v":20},{"$f":"(AA4/Instructions!$C$27)*100","v":20},{"$f":"(AC4/Instructions!$C$29)*100","v":30},{"$f":"(V4/Instructions!$C$33)*100","v":110.00000000000001},{"$f":"(U4/Instructions!$C$32)*100","v":92},{"$f":"(W4/Instructions!$C$36)*100","v":{"$error":"#VALUE!"}},"","D","D","E","E","E","A+","A+","--"]
[4,null,null,null,null,null,null,"Mother4",null,"Male",40,45,null,null,36,null,10,40,null,null,65,93,171,171,{"$f":"Table_2[[#This Row],[Column20]]+Table_2[[#This Row],[Column56]]","v":36},"Elective Subject 1 option 2",{"$f":"Table_2[[#This Row],[Column20]]+Table_2[[#This Row],[Column56]]","v":36},"Elective Subject 2 Option 2",{"$f":"Table_2[[#This Row],[Column57]]+Table_2[[#This Row],[Column16]]+Table_2[[#This Row],[Column15]]","v":40},"Elective Subject 3 Option 1",{"$f":"(K5/Instructions!$C$23)*100","v":40},{"$f":"(L5/Instructions!$C$24)*100","v":45},{"$f":"(Y5/Instructions!$C$25)*100","v":36},{"$f":"(AA5/Instructions!$C$27)*100","v":36},{"$f":"(AC5/Instructions!$C$29)*100","v":40},{"$f":"(V5/Instructions!$C$33)*100","v":186},{"$f":"(U5/Instructions!$C$32)*100","v":130},{"$f":"(W5/Instructions!$C$36)*100","v":34.200000000000003},"PASS","D","C","D","D","D","A+","A+","D"]
[5,null,null,null,null,null,null,"Mother5",null,"Male",45,50,null,null,90,null,75,null,null,90,92,85,350,350,{"$f":"Table_2[[#This Row],[Column20]]+Table_2[[#This Row],[Column56]]","v":90},"Elective Subject 1 option 2",{"$f":"Table_2[[#This Row],[Column20]]+Table_2[[#This Row],[Column56]]","v":90},"Elective Subject 2 Option 2",{"$f":"Table_2[[#This Row],[Column57]]+Table_2[[#This Row],[Column16]]+Table_2[[#This Row],[Column15]]","v":90},"Elective Subject 3 Option 3",{"$f":"(K6/Instructions!$C$23)*100","v":45},{"$f":"(L6/Instructions!$C$24)*100","v":50},{"$f":"(Y6/Instructions!$C$25)*100","v":90},{"$f":"(AA6/Instructions!$C$27)*100","v":90},{"$f":"(AC6/Instructions!$C$29)*100","v":90},{"$f":"(V6/Instructions!$C$33)*100","v":170},{"$f":"(U6/Instructions!$C$32)*100","v":184},{"$f":"(W6/Instructions!$C$36)*100","v":70},"PASS","C","C","A","A","A","A+","A+","B"]
[6,null,null,null,null,null,null,null,null,null,null,null,null,null,null,null,null,null,null,null,null,null,"--",0,{"$f":"Table_2[[#This Row],[Column20]]+Table_2[[#This Row],[Column56]]","v":0},"",{"$f":"Table_2[[#This Row],[Column20]]+Table_2[[#This Row],[Column56]]","v":0},"",{"$f":"Table_2[[#This Row],[Column57]]+Table_2[[#This Row],[Column16]]+Table_2[[#This Row],[Column15]]","v":0},"",{"$f":"(K7/Instructions!$C$23)*100","v":0},{"$f":"(L7/Instructions!$C$24)*100","v":0},{"$f":"(Y7/Instructions!$C$25)*100","v":0},{"$f":"(AA7/Instructions!$C$27)*100","v":0},{"$f":"(AC7/Instructions!$C$29)*100","v":0},{"$f":"(V7/Instructions!$C$33)*100","v":0},{"$f":"(U7/Instructions!$C$32)*100","v":0},{"$f":"(W7/Instructions!$C$36)*100","v":{"$error":"#VALUE!"}},"","E","E","E","E","E","E","E","--"]
[7,null,null,null,null,null,null,null,null,null,null,null,null,null,null,null,null,null,null,null,null,null,"--",0,{"$f":"Table_2[[#This Row],[Column20]]+Table_2[[#This Row],[Column56]]","v":0},"",{"$f":"Table_2[[#This Row],[Column20]]+Table_2[[#This Row],[Column56]]","v":0},"",{"$f":"Table_2[[#This Row],[Column57]]+Table_2[[#This Row],[Column16]]+Table_2[[#This Row],[Column15]]","v":0},"",{"$f":"(K8/Instructions!$C$23)*100","v":0},{"$f":"(L8/Instructions!$C$24)*100","v":0},{"$f":"(Y8/Instructions!$C$25)*100","v":0},{"$f":"(AA8/Instructions!$C$27)*100","v":0},{"$f":"(AC8/Instructions!$C$29)*100","v":0},{"$f":"(V8/Instructions!$C$33)*100","v":0},{"$f":"(U8/Instructions!$C$32)*100","v":0},{"$f":"(W8/Instructions!$C$36)*100","v":{"$error":"#VALUE!"}},"","E","E","E","E","E","E","E","--"]
[8,null,null,null,null,null,null,null,null,null,null,null,null,null,null,null,null,null,null,null,null,null,"--",0,{"$f":"Table_2[[#This Row],[Column20]]+Table_2[[#This Row],[Column56]]","v":0},"",{"$f":"Table_2[[#This Row],[Column20]]+Table_2[[#This Row],[Column56]]","v":0},"",{"$f":"Table_2[[#This Row],[Column57]]+Table_2[[#This Row],[Column16]]+Table_2[[#This Row],[Column15]]","v":0},"",{"$f":"(K9/Instructions!$C$23)*100","v":0},{"$f":"(L9/Instructions!$C$24)*100","v":0},{"$f":"(Y9/Instructions!$C$25)*100","v":0},{"$f":"(AA9/Instructions!$C$27)*100","v":0},{"$f":"(AC9/Instructions!$C$29)*100","v":0},{"$f":"(V9/Instructions!$C$33)*100","v":0},{"$f":"(U9/Instructions!$C$32)*100","v":0},{"$f":"(W9/Instructions!$C$36)*100","v":{"$error":"#VALUE!"}},"","E","E","E","E","E","E","E","--"]
[9,null,null,null,null,null,null,null,null,null,null,null,null,null,null,null,null,null,null,null,null,null,"--",0,{"$f":"Table_2[[#This Row],[Column20]]+Table_2[[#This Row],[Column56]]","v":0},"",{"$f":"Table_2[[#This Row],[Column20]]+Table_2[[#This Row],[Column56]]","v":0},"",{"$f":"Table_2[[#This Row],[Column57]]+Table_2[[#This Row],[Column16]]+Table_2[[#This Row],[Column15]]","v":0},"",{"$f":"(K10/Instructions!$C$23)*100","v":0},{"$f":"(L10/Instructions!$C$24)*100","v":0},{"$f":"(Y10/Instructions!$C$25)*100","v":0},{"$f":"(AA10/Instructions!$C$27)*100","v":0},{"$f":"(AC10/Instructions!$C$29)*100","v":0},{"$f":"(V10/Instructions!$C$33)*100","v":0},{"$f":"(U10/Instructions!$C$32)*100","v":0},{"$f":"(W10/Instructions!$C$36)*100","v":{"$error":"#VALUE!"}},"","E","E","E","E","E","E","E","--"]
[10,null,null,null,null,null,null,null,null,null,null,null,null,null,null,null,null,null,null,null,null,null,"--",0,{"$f":"Table_2[[#This Row],[Column20]]+Table_2[[#This Row],[Column56]]","v":0},"",{"$f":"Table_2[[#This Row],[Column20]]+Table_2[[#This Row],[Column56]]","v":0},"",{"$f":"Table_2[[#This Row],[Column57]]+Table_2[[#This Row],[Column16]]+Table_2[[#This Row],[Column15]]","v":0},"",{"$f":"(K11/Instructions!$C$23)*100","v":0},{"$f":"(L11/Instructions!$C$24)*100","v":0},{"$f":"(Y11/Instructions!$C$25)*100","v":0},{"$f":"(AA11/Instructions!$C$27)*100","v":0},{"$f":"(AC11/Instructions!$C$29)*100","v":0},{"$f":"(V11/Instructions!$C$33)*100","v":0},{"$f":"(U11/Instructions!$C$32)*100","v":0},{"$f":"(W11/Instructions!$C$36)*100","v":{"$error":"#VALUE!"}},"","E","E","E","E","E","E","E","--"]
[11,null,null,null,null,null,null,null,null,null,null,null,null,null,null,null,null,null,null,null,null,null,"--",0,{"$f":"Table_2[[#This Row],[Column20]]+Table_2[[#This Row],[Column56]]","v":0},"",{"$f":"Table_2[[#This Row],[Column20]]+Table_2[[#This Row],[Column56]]","v":0},"",{"$f":"Table_2[[#This Row],[Column57]]+Table_2[[#This Row],[Column16]]+Table_2[[#This Row],[Column15]]","v":0},"",{"$f":"(K12/Instructions!$C$23)*100","v":0},{"$f":"(L12/Instructions!$C$24)*100","v":0},{"$f":"(Y12/Instructions!$C$25)*100","v":0},{"$f":"(AA12/Instructions!$C$27)*100","v":0},{"$f":"(AC12/Instructions!$C$29)*100","v":0},{"$f":"(V12/Instructions!$C$33)*100","v":0},{"$f":"(U12/Instructions!$C$32)*100","v":0},{"$f":"(W12/Instructions!$C$36)*100","v":{"$error":"#VALUE!"}},"","E","E","E","E","E","E","E","--"]
[12,null,null,null,null,null,null,null,null,null,null,null,null,null,null,null,null,null,null,null,null,null,"--",0,{"$f":"Table_2[[#This Row],[Column20]]+Table_2[[#This Row],[Column56]]","v":0},"",{"$f":"Table_2[[#This Row],[Column20]]+Table_2[[#This Row],[Column56]]","v":0},"",{"$f":"Table_2[[#This Row],[Column57]]+Table_2[[#This Row],[Column16]]+Table_2[[#This Row],[Column15]]","v":0},"",{"$f":"(K13/Instructions!$C$23)*100","v":0},{"$f":"(L13/Instructions!$C$24)*100","v":0},{"$f":"(Y13/Instructions!$C$25)*100","v":0},{"$f":"(AA13/Instructions!$C$27)*100","v":0},{"$f":"(AC13/Instructions!$C$29)*100","v":0},{"$f":"(V13/Instructions!$C$33)*100","v":0},{"$f":"(U13/Instructions!$C$32)*100","v":0},{"$f":"(W13/Instructions!$C$36)*100","v":{"$error":"#VALUE!"}},"","E","E","E","E","E","E","E","--",null,null,null,null,null,{"$f":"Table_2[[#This Row],[Column51]]&Table_2[[#This Row],[Column52]]&AW15","v":""}]
[13,null,null,null,null,null,null,null,null,null,null,null,null,null,null,null,null,null,null,null,null,null,"--",0,{"$f":"Table_2[[#This Row],[Column20]]+Table_2[[#This Row],[Column56]]","v":0},"",{"$f":"Table_2[[#This Row],[Column20]]+Table_2[[#This Row],[Column56]]","v":0},"",{"$f":"Table_2[[#This Row],[Column57]]+Table_2[[#This Row],[Column16]]+Table_2[[#This Row],[Column15]]","v":0},"",{"$f":"(K14/Instructions!$C$23)*100","v":0},{"$f":"(L14/Instructions!$C$24)*100","v":0},{"$f":"(Y14/Instructions!$C$25)*100","v":0},{"$f":"(AA14/Instructions!$C$27)*100","v":0},{"$f":"(AC14/Instructions!$C$29)*100","v":0},{"$f":"(V14/Instructions!$C$33)*100","v":0},{"$f":"(U14/Instructions!$C$32)*100","v":0},{"$f":"(W14/Instructions!$C$36)*100","v":{"$error":"#VALUE!"}},"","E","E","E","E","E","E","E","--",null,null,null,null,null,{"$f":"Table_2[[#This Row],[Column51]]&Table_2[[#This Row],[Column52]]&AW16","v":""}]
[14,null,null,null,null,null,null,null,null,null,null,null,null,null,null,null,null,null,null,null,null,null,"--",0,{"$f":"Table_2[[#This Row],[Column20]]+Table_2[[#This Row],[Column56]]","v":0},"",{"$f":"Table_2[[#This Row],[Column20]]+Table_2[[#This Row],[Column56]]","v":0},"",{"$f":"Table_2[[#This Row],[Column57]]+Table_2[[#This Row],[Column16]]+Table_2[[#This Row],[Column15]]","v":0},"",{"$f":"(K15/Instructions!$C$23)*100","v":0},{"$f":"(L15/Instructions!$C$24)*100","v":0},{"$f":"(Y15/Instructions!$C$25)*100","v":0},{"$f":"(AA15/Instructions!$C$27)*100","v":0},{"$f":"(AC15/Instructions!$C$29)*100","v":0},{"$f":"(V15/Instructions!$C$33)*100","v":0},{"$f":"(U15/Instructions!$C$32)*100","v":0},{"$f":"(W15/Instructions!$C$36)*100","v":{"$error":"#VALUE!"}},"","E","E","E","E","E","E","E","--",null,null,null,null,null,{"$f":"Table_2[[#This Row],[Column51]]&Table_2[[#This Row],[Column52]]&AW17","v":""}]
[15,null,null,null,null,null,null,null,null,null,null,null,null,null,null,null,null,null,null,null,null,null,"--",0,{"$f":"Table_2[[#This Row],[Column20]]+Table_2[[#This Row],[Column56]]","v":0},"",{"$f":"Table_2[[#This Row],[Column20]]+Table_2[[#This Row],[Column56]]","v":0},"",{"$f":"Table_2[[#This Row],[Column57]]+Table_2[[#This Row],[Column16]]+Table_2[[#This Row],[Column15]]","v":0},"",{"$f":"(K16/Instructions!$C$23)*100","v":0},{"$f":"(L16/Instructions!$C$24)*100","v":0},{"$f":"(Y16/Instructions!$C$25)*100","v":0},{"$f":"(AA16/Instructions!$C$27)*100","v":0},{"$f":"(AC16/Instructions!$C$29)*100","v":0},{"$f":"(V16/Instructions!$C$33)*100","v":0},{"$f":"(U16/Instructions!$C$32)*100","v":0},{"$f":"(W16/Instructions!$C$36)*100","v":{"$error":"#VALUE!"}},"","E","E","E","E","E","E","E","--",null,null,null,null,null,{"$f":"Table_2[[#This Row],[Column51]]&Table_2[[#This Row],[Column52]]&AW18","v":""}]
[16,null,null,null,null,null,null,null,null,null,null,null,null,null,null,null,null,null,null,null,null,null,"--",0,{"$f":"Table_2[[#This Row],[Column20]]+Table_2[[#This Row],[Column56]]","v":0},"",{"$f":"Table_2[[#This Row],[Column20]]+Table_2[[#This Row],[Column56]]","v":0},"",{"$f":"Table_2[[#This Row],[Column57]]+Table_2[[#This Row],[Column16]]+Table_2[[#This Row],[Column15]]","v":0},"",{"$f":"(K17/Instructions!$C$23)*100","v":0},{"$f":"(L17/Instructions!$C$24)*100","v":0},{"$f":"(Y17/Instructions!$C$25)*100","v":0},{"$f":"(AA17/Instructions!$C$27)*100","v":0},{"$f":"(AC17/Instructions!$C$29)*100","v":0},{"$f":"(V17/Instructions!$C$33)*100","v":0},{"$f":"(U17/Instructions!$C$32)*100","v":0},{"$f":"(W17/Instructions!$C$36)*100","v":{"$error":"#VALUE!"}},"","E","E","E","E","E","E","E","--",null,null,null,null,null,{"$f":"Table_2[[#This Row],[Column51]]&Table_2[[#This Row],[Column52]]&AW19","v":""}]
[17,null,null,null,null,null,null,null,null,null,null,null,null,null,null,null,null,null,null,null,null,null,"--",0,{"$f":"Table_2[[#This Row],[Column20]]+Table_2[[#This Row],[Column56]]","v":0},"",{"$f":"Table_2[[#This Row],[Column20]]+Table_2[[#This Row],[Column56]]","v":0},"",{"$f":"Table_2[[#This Row],[Column57]]+Table_2[[#This Row],[Column16]]+Table_2[[#This Row],[Column15]]","v":0},"",{"$f":"(K18/Instructions!$C$23)*100","v":0},{"$f":"(L18/Instructions!$C$24)*100","v":0},{"$f":"(Y18/Instructions!$C$25)*100","v":0},{"$f":"(AA18/Instructions!$C$27)*100","v":0},{"$f":"(AC18/Instructions!$C$29)*100","v":0},{"$f":"(V18/Instructions!$C$33)*100","v":0},{"$f":"(U18/Instructions!$C$32)*100","v":0},{"$f":"(W18/Instructions!$C$36)*100","v":{"$error":"#VALUE!"}},"","E","E","E","E","E","E","E","--",null,null,null,null,null,{"$f":"Table_2[[#This Row],[Column51]]&Table_2[[#This Row],[Column52]]&AW20","v":""}]
[18,null,null,null,null,null,null,null,null,null,null,null,null,null,null,null,null,null,null,null,null,null,"--",0,{"$f":"Table_2[[#This Row],[Column20]]+Table_2[[#This Row],[Column56]]","v":0},"",{"$f":"Table_2[[#This Row],[Column20]]+Table_2[[#This Row],[Column56]]","v":0},"",{"$f":"Table_2[[#This Row],[Column57]]+Table_2[[#This Row],[Column16]]+Table_2[[#This Row],[Column15]]","v":0},"",{"$f":"(K19/Instructions!$C$23)*100","v":0},{"$f":"(L19/Instructions!$C$24)*100","v":0},{"$f":"(Y19/Instructions!$C$25)*100","v":0},{"$f":"(AA19/Instructions!$C$27)*100","v":0},{"$f":"(AC19/Instructions!$C$29)*100","v":0},{"$f":"(V19/Instructions!$C$33)*100","v":0},{"$f":"(U19/Instructions!$C$32)*100","v":0},{"$f":"(W19/Instructions!$C$36)*100","v":{"$error":"#VALUE!"}},"","E","E","E","E","E","E","E","--",null,null,null,null,null,{"$f":"Table_2[[#This Row],[Column51]]&Table_2[[#This Row],[Column52]]&AW21","v":""}]
[19,null,null,null,null,null,null,null,null,null,null,null,null,null,null,null,null,null,null,null,null,null,"--",0,{"$f":"Table_2[[#This Row],[Column20]]+Table_2[[#This Row],[Column56]]","v":0},"",{"$f":"Table_2[[#This Row],[Column20]]+Table_2[[#This Row],[Column56]]","v":0},"",{"$f":"Table_2[[#This Row],[Column57]]+Table_2[[#This Row],[Column16]]+Table_2[[#This Row],[Column15]]","v":0},"",{"$f":"(K20/Instructions!$C$23)*100","v":0},{"$f":"(L20/Instructions!$C$24)*100","v":0},{"$f":"(Y20/Instructions!$C$25)*100","v":0},{"$f":"(AA20/Instructions!$C$27)*100","v":0},{"$f":"(AC20/Instructions!$C$29)*100","v":0},{"$f":"(V20/Instructions!$C$33)*100","v":0},{"$f":"(U20/Instructions!$C$32)*100","v":0},{"$f":"(W20/Instructions!$C$36)*100","v":{"$error":"#VALUE!"}},"","E","E","E","E","E","E","E","--",null,null,null,null,null,{"$f":"Table_2[[#This Row],[Column51]]&Table_2[[#This Row],[Column52]]&AW22","v":""}]
[20,null,null,null,null,null,null,null,null,null,null,null,null,null,null,null,null,null,null,null,null,null,"--",0,{"$f":"Table_2[[#This Row],[Column20]]+Table_2[[#This Row],[Column56]]","v":0},"",{"$f":"Table_2[[#This Row],[Column20]]+Table_2[[#This Row],[Column56]]","v":0},"",{"$f":"Table_2[[#This Row],[Column57]]+Table_2[[#This Row],[Column16]]+Table_2[[#This Row],[Column15]]","v":0},"",{"$f":"(K21/Instructions!$C$23)*100","v":0},{"$f":"(L21/Instructions!$C$24)*100","v":0},{"$f":"(Y21/Instructions!$C$25)*100","v":0},{"$f":"(AA21/Instructions!$C$27)*100","v":0},{"$f":"(AC21/Instructions!$C$29)*100","v":0},{"$f":"(V21/Instructions!$C$33)*100","v":0},{"$f":"(U21/Instructions!$C$32)*100","v":0},{"$f":"(W21/Instructions!$C$36)*100","v":{"$error":"#VALUE!"}},"","E","E","E","E","E","E","E","--",null,null,null,null,null,{"$f":"Table_2[[#This Row],[Column51]]&Table_2[[#This Row],[Column52]]&AW23","v":""}]
[21,null,null,null,null,null,null,null,null,null,null,null,null,null,null,null,null,null,null,null,null,null,"--",0,{"$f":"Table_2[[#This Row],[Column20]]+Table_2[[#This Row],[Column56]]","v":0},"",{"$f":"Table_2[[#This Row],[Column20]]+Table_2[[#This Row],[Column56]]","v":0},"",{"$f":"Table_2[[#This Row],[Column57]]+Table_2[[#This Row],[Column16]]+Table_2[[#This Row],[Column15]]","v":0},"",{"$f":"(K22/Instructions!$C$23)*100","v":0},{"$f":"(L22/Instructions!$C$24)*100","v":0},{"$f":"(Y22/Instructions!$C$25)*100","v":0},{"$f":"(AA22/Instructions!$C$27)*100","v":0},{"$f":"(AC22/Instructions!$C$29)*100","v":0},{"$f":"(V22/Instructions!$C$33)*100","v":0},{"$f":"(U22/Instructions!$C$32)*100","v":0},{"$f":"(W22/Instructions!$C$36)*100","v":{"$error":"#VALUE!"}},"","E","E","E","E","E","E","E","--",null,null,null,null,null,{"$f":"Table_2[[#This Row],[Column51]]&Table_2[[#This Row],[Column52]]&AW24","v":""}]
[22,null,null,null,null,null,null,null,null,null,null,null,null,null,null,null,null,null,null,null,null,null,"--",0,{"$f":"Table_2[[#This Row],[Column20]]+Table_2[[#This Row],[Column56]]","v":0},"",{"$f":"Table_2[[#This Row],[Column20]]+Table_2[[#This Row],[Column56]]","v":0},"",{"$f":"Table_2[[#This Row],[Column57]]+Table_2[[#This Row],[Column16]]+Table_2[[#This Row],[Column15]]","v":0},"",{"$f":"(K23/Instructions!$C$23)*100","v":0},{"$f":"(L23/Instructions!$C$24)*100","v":0},{"$f":"(Y23/Instructions!$C$25)*100","v":0},{"$f":"(AA23/Instructions!$C$27)*100","v":0},{"$f":"(AC23/Instructions!$C$29)*100","v":0},{"$f":"(V23/Instructions!$C$33)*100","v":0},{"$f":"(U23/Instructions!$C$32)*100","v":0},{"$f":"(W23/Instructions!$C$36)*100","v":{"$error":"#VALUE!"}},"","E","E","E","E","E","E","E","--",null,null,null,null,null,{"$f":"Table_2[[#This Row],[Column51]]&Table_2[[#This Row],[Column52]]&AW25","v":""}]
[23,null,null,null,null,null,null,null,null,null,null,null,null,null,null,null,null,null,null,null,null,null,"--",0,{"$f":"Table_2[[#This Row],[Column20]]+Table_2[[#This Row],[Column56]]","v":0},"",{"$f":"Table_2[[#This Row],[Column20]]+Table_2[[#This Row],[Column56]]","v":0},"",{"$f":"Table_2[[#This Row],[Column57]]+Table_2[[#This Row],[Column16]]+Table_2[[#This Row],[Column15]]","v":0},"",{"$f":"(K24/Instructions!$C$23)*100","v":0},{"$f":"(L24/Instructions!$C$24)*100","v":0},{"$f":"(Y24/Instructions!$C$25)*100","v":0},{"$f":"(AA24/Instructions!$C$27)*100","v":0},{"$f":"(AC24/Instructions!$C$29)*100","v":0},{"$f":"(V24/Instructions!$C$33)*100","v":0},{"$f":"(U24/Instructions!$C$32)*100","v":0},{"$f":"(W24/Instructions!$C$36)*100","v":{"$error":"#VALUE!"}},"","E","E","E","E","E","E","E","--",null,null,null,null,null,{"$f":"Table_2[[#This Row],[Column51]]&Table_2[[#This Row],[Column52]]&AW26","v":""}]
[24,null,null,null,null,null,null,null,null,null,null,null,null,null,null,null,null,null,null,null,null,null,"--",0,{"$f":"Table_2[[#This Row],[Column20]]+Table_2[[#This Row],[Column56]]","v":0},"",{"$f":"Table_2[[#This Row],[Column20]]+Table_2[[#This Row],[Column56]]","v":0},"",{"$f":"Table_2[[#This Row],[Column57]]+Table_2[[#This Row],[Column16]]+Table_2[[#This Row],[Column15]]","v":0},"",{"$f":"(K25/Instructions!$C$23)*100","v":0},{"$f":"(L25/Instructions!$C$24)*100","v":0},{"$f":"(Y25/Instructions!$C$25)*100","v":0},{"$f":"(AA25/Instructions!$C$27)*100","v":0},{"$f":"(AC25/Instructions!$C$29)*100","v":0},{"$f":"(V25/Instructions!$C$33)*100","v":0},{"$f":"(U25/Instructions!$C$32)*100","v":0},{"$f":"(W25/Instructions!$C$36)*100","v":{"$error":"#VALUE!"}},"","E","E","E","E","E","E","E","--",null,null,null,null,null,{"$f":"Table_2[[#This Row],[Column51]]&Table_2[[#This Row],[Column52]]&AW27","v":""}]
[25,null,null,null,null,null,null,null,null,null,null,null,null,null,null,null,null,null,null,null,null,null,"--",0,{"$f":"Table_2[[#This Row],[Column20]]+Table_2[[#This Row],[Column56]]","v":0},"",{"$f":"Table_2[[#This Row],[Column20]]+Table_2[[#This Row],[Column56]]","v":0},"",{"$f":"Table_2[[#This Row],[Column57]]+Table_2[[#This Row],[Column16]]+Table_2[[#This Row],[Column15]]","v":0},"",{"$f":"(K26/Instructions!$C$23)*100","v":0},{"$f":"(L26/Instructions!$C$24)*100","v":0},{"$f":"(Y26/Instructions!$C$25)*100","v":0},{"$f":"(AA26/Instructions!$C$27)*100","v":0},{"$f":"(AC26/Instructions!$C$29)*100","v":0},{"$f":"(V26/Instructions!$C$33)*100","v":0},{"$f":"(U26/Instructions!$C$32)*100","v":0},{"$f":"(W26/Instructions!$C$36)*100","v":{"$error":"#VALUE!"}},"","E","E","E","E","E","E","E","--",null,null,null,null,null,{"$f":"Table_2[[#This Row],[Column51]]&Table_2[[#This Row],[Column52]]&AW28","v":""}]
[26,null,null,null,null,null,null,null,null,null,null,null,null,null,null,null,null,null,null,null,null,null,"--",0,{"$f":"Table_2[[#This Row],[Column20]]+Table_2[[#This Row],[Column56]]","v":0},"",{"$f":"Table_2[[#This Row],[Column20]]+Table_2[[#This Row],[Column56]]","v":0},"",{"$f":"Table_2[[#This Row],[Column57]]+Table_2[[#This Row],[Column16]]+Table_2[[#This Row],[Column15]]","v":0},"",{"$f":"(K27/Instructions!$C$23)*100","v":0},{"$f":"(L27/Instructions!$C$24)*100","v":0},{"$f":"(Y27/Instructions!$C$25)*100","v":0},{"$f":"(AA27/Instructions!$C$27)*100","v":0},{"$f":"(AC27/Instructions!$C$29)*100","v":0},{"$f":"(V27/Instructions!$C$33)*100","v":0},{"$f":"(U27/Instructions!$C$32)*100","v":0},{"$f":"(W27/Instructions!$C$36)*100","v":{"$error":"#VALUE!"}},"","E","E","E","E","E","E","E","--",null,null,null,null,null,{"$f":"Table_2[[#This Row],[Column51]]&Table_2[[#This Row],[Column52]]&AW29","v":""}]
[27,null,null,null,null,null,null,null,null,null,null,null,null,null,null,null,null,null,null,null,null,null,"--",0,{"$f":"Table_2[[#This Row],[Column20]]+Table_2[[#This Row],[Column56]]","v":0},"",{"$f":"Table_2[[#This Row],[Column20]]+Table_2[[#This Row],[Column56]]","v":0},"",{"$f":"Table_2[[#This Row],[Column57]]+Table_2[[#This Row],[Column16]]+Table_2[[#This Row],[Column15]]","v":0},"",{"$f":"(K28/Instructions!$C$23)*100","v":0},{"$f":"(L28/Instructions!$C$24)*100","v":0},{"$f":"(Y28/Instructions!$C$25)*100","v":0},{"$f":"(AA28/Instructions!$C$27)*100","v":0},{"$f":"(AC28/Instructions!$C$29)*100","v":0},{"$f":"(V28/Instructions!$C$33)*100","v":0},{"$f":"(U28/Instructions!$C$32)*100","v":0},{"$f":"(W28/Instructions!$C$36)*100","v":{"$error":"#VALUE!"}},"","E","E","E","E","E","E","E","--",null,null,null,null,null,{"$f":"Table_2[[#This Row],[Column51]]&Table_2[[#This Row],[Column52]]&AW30","v":""}]
[28,null,null,null,null,null,null,null,null,null,null,null,null,null,null,null,null,null,null,null,null,null,"--",0,{"$f":"Table_2[[#This Row],[Column20]]+Table_2[[#This Row],[Column56]]","v":0},"",{"$f":"Table_2[[#This Row],[Column20]]+Table_2[[#This Row],[Column56]]","v":0},"",{"$f":"Table_2[[#This Row],[Column57]]+Table_2[[#This Row],[Column16]]+Table_2[[#This Row],[Column15]]","v":0},"",{"$f":"(K29/Instructions!$C$23)*100","v":0},{"$f":"(L29/Instructions!$C$24)*100","v":0},{"$f":"(Y29/Instructions!$C$25)*100","v":0},{"$f":"(AA29/Instructions!$C$27)*100","v":0},{"$f":"(AC29/Instructions!$C$29)*100","v":0},{"$f":"(V29/Instructions!$C$33)*100","v":0},{"$f":"(U29/Instructions!$C$32)*100","v":0},{"$f":"(W29/Instructions!$C$36)*100","v":{"$error":"#VALUE!"}},"","E","E","E","E","E","E","E","--",null,null,null,null,null,{"$f":"Table_2[[#This Row],[Column51]]&Table_2[[#This Row],[Column52]]&AW31","v":""}]
[29,null,null,null,null,null,null,null,null,null,null,null,null,null,null,null,null,null,null,null,null,null,"--",0,{"$f":"Table_2[[#This Row],[Column20]]+Table_2[[#This Row],[Column56]]","v":0},"",{"$f":"Table_2[[#This Row],[Column20]]+Table_2[[#This Row],[Column56]]","v":0},"",{"$f":"Table_2[[#This Row],[Column57]]+Table_2[[#This Row],[Column16]]+Table_2[[#This Row],[Column15]]","v":0},"",{"$f":"(K30/Instructions!$C$23)*100","v":0},{"$f":"(L30/Instructions!$C$24)*100","v":0},{"$f":"(Y30/Instructions!$C$25)*100","v":0},{"$f":"(AA30/Instructions!$C$27)*100","v":0},{"$f":"(AC30/Instructions!$C$29)*100","v":0},{"$f":"(V30/Instructions!$C$33)*100","v":0},{"$f":"(U30/Instructions!$C$32)*100","v":0},{"$f":"(W30/Instructions!$C$36)*100","v":{"$error":"#VALUE!"}},"","E","E","E","E","E","E","E","--",null,null,null,null,null,{"$f":"Table_2[[#This Row],[Column51]]&Table_2[[#This Row],[Column52]]&AW32","v":""}]
[30,null,null,null,null,null,null,null,null,null,null,null,null,null,null,null,null,null,null,null,null,null,"--",0,{"$f":"Table_2[[#This Row],[Column20]]+Table_2[[#This Row],[Column56]]","v":0},"",{"$f":"Table_2[[#This Row],[Column20]]+Table_2[[#This Row],[Column56]]","v":0},"",{"$f":"Table_2[[#This Row],[Column57]]+Table_2[[#This Row],[Column16]]+Table_2[[#This Row],[Column15]]","v":0},"",{"$f":"(K31/Instructions!$C$23)*100","v":0},{"$f":"(L31/Instructions!$C$24)*100","v":0},{"$f":"(Y31/Instructions!$C$25)*100","v":0},{"$f":"(AA31/Instructions!$C$27)*100","v":0},{"$f":"(AC31/Instructions!$C$29)*100","v":0},{"$f":"(V31/Instructions!$C$33)*100","v":0},{"$f":"(U31/Instructions!$C$32)*100","v":0},{"$f":"(W31/Instructions!$C$36)*100","v":{"$error":"#VALUE!"}},"","E","E","E","E","E","E","E","--",null,null,null,null,null,{"$f":"Table_2[[#This Row],[Column51]]&Table_2[[#This Row],[Column52]]&AW33","v":""}]
[31,null,null,null,null,null,null,null,null,null,null,null,null,null,null,null,null,null,null,null,null,null,"--",0,{"$f":"Table_2[[#This Row],[Column20]]+Table_2[[#This Row],[Column56]]","v":0},"",{"$f":"Table_2[[#This Row],[Column20]]+Table_2[[#This Row],[Column56]]","v":0},"",{"$f":"Table_2[[#This Row],[Column57]]+Table_2[[#This Row],[Column16]]+Table_2[[#This Row],[Column15]]","v":0},"",{"$f":"(K32/Instructions!$C$23)*100","v":0},{"$f":"(L32/Instructions!$C$24)*100","v":0},{"$f":"(Y32/Instructions!$C$25)*100","v":0},{"$f":"(AA32/Instructions!$C$27)*100","v":0},{"$f":"(AC32/Instructions!$C$29)*100","v":0},{"$f":"(V32/Instructions!$C$33)*100","v":0},{"$f":"(U32/Instructions!$C$32)*100","v":0},{"$f":"(W32/Instructions!$C$36)*100","v":{"$error":"#VALUE!"}},"","E","E","E","E","E","E","E","--",null,null,null,null,null,{"$f":"Table_2[[#This Row],[Column51]]&Table_2[[#This Row],[Column52]]&AW34","v":""}]
[32,null,null,null,null,null,null,null,null,null,null,null,null,null,null,null,null,null,null,null,null,null,"--",0,{"$f":"Table_2[[#This Row],[Column20]]+Table_2[[#This Row],[Column56]]","v":0},"",{"$f":"Table_2[[#This Row],[Column20]]+Table_2[[#This Row],[Column56]]","v":0},"",{"$f":"Table_2[[#This Row],[Column57]]+Table_2[[#This Row],[Column16]]+Table_2[[#This Row],[Column15]]","v":0},"",{"$f":"(K33/Instructions!$C$23)*100","v":0},{"$f":"(L33/Instructions!$C$24)*100","v":0},{"$f":"(Y33/Instructions!$C$25)*100","v":0},{"$f":"(AA33/Instructions!$C$27)*100","v":0},{"$f":"(AC33/Instructions!$C$29)*100","v":0},{"$f":"(V33/Instructions!$C$33)*100","v":0},{"$f":"(U33/Instructions!$C$32)*100","v":0},{"$f":"(W33/Instructions!$C$36)*100","v":{"$error":"#VALUE!"}},"","E","E","E","E","E","E","E","--",null,null,null,null,null,{"$f":"Table_2[[#This Row],[Column51]]&Table_2[[#This Row],[Column52]]&AW35","v":""}]
[33,null,null,null,null,null,null,null,null,null,null,null,null,null,null,null,null,null,null,null,null,null,"--",0,{"$f":"Table_2[[#This Row],[Column20]]+Table_2[[#This Row],[Column56]]","v":0},"",{"$f":"Table_2[[#This Row],[Column20]]+Table_2[[#This Row],[Column56]]","v":0},"",{"$f":"Table_2[[#This Row],[Column57]]+Table_2[[#This Row],[Column16]]+Table_2[[#This Row],[Column15]]","v":0},"",{"$f":"(K34/Instructions!$C$23)*100","v":0},{"$f":"(L34/Instructions!$C$24)*100","v":0},{"$f":"(Y34/Instructions!$C$25)*100","v":0},{"$f":"(AA34/Instructions!$C$27)*100","v":0},{"$f":"(AC34/Instructions!$C$29)*100","v":0},{"$f":"(V34/Instructions!$C$33)*100","v":0},{"$f":"(U34/Instructions!$C$32)*100","v":0},{"$f":"(W34/Instructions!$C$36)*100","v":{"$error":"#VALUE!"}},"","E","E","E","E","E","E","E","--",null,null,null,null,null,{"$f":"Table_2[[#This Row],[Column51]]&Table_2[[#This Row],[Column52]]&AW36","v":""}]
[34,null,null,null,null,null,null,null,null,null,null,null,null,null,null,null,null,null,null,null,null,null,"--",0,{"$f":"Table_2[[#This Row],[Column20]]+Table_2[[#This Row],[Column56]]","v":0},"",{"$f":"Table_2[[#This Row],[Column20]]+Table_2[[#This Row],[Column56]]","v":0},"",{"$f":"Table_2[[#This Row],[Column57]]+Table_2[[#This Row],[Column16]]+Table_2[[#This Row],[Column15]]","v":0},"",{"$f":"(K35/Instructions!$C$23)*100","v":0},{"$f":"(L35/Instructions!$C$24)*100","v":0},{"$f":"(Y35/Instructions!$C$25)*100","v":0},{"$f":"(AA35/Instructions!$C$27)*100","v":0},{"$f":"(AC35/Instructions!$C$29)*100","v":0},{"$f":"(V35/Instructions!$C$33)*100","v":0},{"$f":"(U35/Instructions!$C$32)*100","v":0},{"$f":"(W35/Instructions!$C$36)*100","v":{"$error":"#VALUE!"}},"","E","E","E","E","E","E","E","--",null,null,null,null,null,{"$f":"Table_2[[#This Row],[Column51]]&Table_2[[#This Row],[Column52]]&AW37","v":""}]
[35,null,null,null,null,null,null,null,null,null,null,null,null,null,null,null,null,null,null,null,null,null,"--",0,{"$f":"Table_2[[#This Row],[Column20]]+Table_2[[#This Row],[Column56]]","v":0},"",{"$f":"Table_2[[#This Row],[Column20]]+Table_2[[#This Row],[Column56]]","v":0},"",{"$f":"Table_2[[#This Row],[Column57]]+Table_2[[#This Row],[Column16]]+Table_2[[#This Row],[Column15]]","v":0},"",{"$f":"(K36/Instructions!$C$23)*100","v":0},{"$f":"(L36/Instructions!$C$24)*100","v":0},{"$f":"(Y36/Instructions!$C$25)*100","v":0},{"$f":"(AA36/Instructions!$C$27)*100","v":0},{"$f":"(AC36/Instructions!$C$29)*100","v":0},{"$f":"(V36/Instructions!$C$33)*100","v":0},{"$f":"(U36/Instructions!$C$32)*100","v":0},{"$f":"(W36/Instructions!$C$36)*100","v":{"$error":"#VALUE!"}},"","E","E","E","E","E","E","E","--",null,null,null,null,null,{"$f":"Table_2[[#This Row],[Column51]]&Table_2[[#This Row],[Column52]]&AW38","v":""}]
[36,null,null,null,null,null,null,null,null,null,null,null,null,null,null,null,null,null,null,null,null,null,"--",0,{"$f":"Table_2[[#This Row],[Column20]]+Table_2[[#This Row],[Column56]]","v":0},"",{"$f":"Table_2[[#This Row],[Column20]]+Table_2[[#This Row],[Column56]]","v":0},"",{"$f":"Table_2[[#This Row],[Column57]]+Table_2[[#This Row],[Column16]]+Table_2[[#This Row],[Column15]]","v":0},"",{"$f":"(K37/Instructions!$C$23)*100","v":0},{"$f":"(L37/Instructions!$C$24)*100","v":0},{"$f":"(Y37/Instructions!$C$25)*100","v":0},{"$f":"(AA37/Instructions!$C$27)*100","v":0},{"$f":"(AC37/Instructions!$C$29)*100","v":0},{"$f":"(V37/Instructions!$C$33)*100","v":0},{"$f":"(U37/Instructions!$C$32)*100","v":0},{"$f":"(W37/Instructions!$C$36)*100","v":{"$error":"#VALUE!"}},"","E","E","E","E","E","E","E","--",null,null,null,null,null,{"$f":"Table_2[[#This Row],[Column51]]&Table_2[[#This Row],[Column52]]&AW39","v":""}]
[37,null,null,null,null,null,null,null,null,null,null,null,null,null,null,null,null,null,null,null,null,null,"--",0,{"$f":"Table_2[[#This Row],[Column20]]+Table_2[[#This Row],[Column56]]","v":0},"",{"$f":"Table_2[[#This Row],[Column20]]+Table_2[[#This Row],[Column56]]","v":0},"",{"$f":"Table_2[[#This Row],[Column57]]+Table_2[[#This Row],[Column16]]+Table_2[[#This Row],[Column15]]","v":0},"",{"$f":"(K38/Instructions!$C$23)*100","v":0},{"$f":"(L38/Instructions!$C$24)*100","v":0},{"$f":"(Y38/Instructions!$C$25)*100","v":0},{"$f":"(AA38/Instructions!$C$27)*100","v":0},{"$f":"(AC38/Instructions!$C$29)*100","v":0},{"$f":"(V38/Instructions!$C$33)*100","v":0},{"$f":"(U38/Instructions!$C$32)*100","v":0},{"$f":"(W38/Instructions!$C$36)*100","v":{"$error":"#VALUE!"}},"","E","E","E","E","E","E","E","--",null,null,null,null,null,{"$f":"Table_2[[#This Row],[Column51]]&Table_2[[#This Row],[Column52]]&AW40","v":""}]
[38,null,null,null,null,null,null,null,null,null,null,null,null,null,null,null,null,null,null,null,null,null,"--",0,{"$f":"Table_2[[#This Row],[Column20]]+Table_2[[#This Row],[Column56]]","v":0},"",{"$f":"Table_2[[#This Row],[Column20]]+Table_2[[#This Row],[Column56]]","v":0},"",{"$f":"Table_2[[#This Row],[Column57]]+Table_2[[#This Row],[Column16]]+Table_2[[#This Row],[Column15]]","v":0},"",{"$f":"(K39/Instructions!$C$23)*100","v":0},{"$f":"(L39/Instructions!$C$24)*100","v":0},{"$f":"(Y39/Instructions!$C$25)*100","v":0},{"$f":"(AA39/Instructions!$C$27)*100","v":0},{"$f":"(AC39/Instructions!$C$29)*100","v":0},{"$f":"(V39/Instructions!$C$33)*100","v":0},{"$f":"(U39/Instructions!$C$32)*100","v":0},{"$f":"(W39/Instructions!$C$36)*100","v":{"$error":"#VALUE!"}},"","E","E","E","E","E","E","E","--",null,null,null,null,null,{"$f":"Table_2[[#This Row],[Column51]]&Table_2[[#This Row],[Column52]]&AW41","v":""}]
[39,null,null,null,null,null,null,null,null,null,null,null,null,null,null,null,null,null,null,null,null,null,"--",0,{"$f":"Table_2[[#This Row],[Column20]]+Table_2[[#This Row],[Column56]]","v":0},"",{"$f":"Table_2[[#This Row],[Column20]]+Table_2[[#This Row],[Column56]]","v":0},"",{"$f":"Table_2[[#This Row],[Column57]]+Table_2[[#This Row],[Column16]]+Table_2[[#This Row],[Column15]]","v":0},"",{"$f":"(K40/Instructions!$C$23)*100","v":0},{"$f":"(L40/Instructions!$C$24)*100","v":0},{"$f":"(Y40/Instructions!$C$25)*100","v":0},{"$f":"(AA40/Instructions!$C$27)*100","v":0},{"$f":"(AC40/Instructions!$C$29)*100","v":0},{"$f":"(V40/Instructions!$C$33)*100","v":0},{"$f":"(U40/Instructions!$C$32)*100","v":0},{"$f":"(W40/Instructions!$C$36)*100","v":{"$error":"#VALUE!"}},"","E","E","E","E","E","E","E","--",null,null,null,null,null,{"$f":"Table_2[[#This Row],[Column51]]&Table_2[[#This Row],[Column52]]&AW42","v":""}]
[40,null,null,null,null,null,null,null,null,null,null,null,null,null,null,null,null,null,null,null,null,null,"--",0,{"$f":"Table_2[[#This Row],[Column20]]+Table_2[[#This Row],[Column56]]","v":0},"",{"$f":"Table_2[[#This Row],[Column20]]+Table_2[[#This Row],[Column56]]","v":0},"",{"$f":"Table_2[[#This Row],[Column57]]+Table_2[[#This Row],[Column16]]+Table_2[[#This Row],[Column15]]","v":0},"",{"$f":"(K41/Instructions!$C$23)*100","v":0},{"$f":"(L41/Instructions!$C$24)*100","v":0},{"$f":"(Y41/Instructions!$C$25)*100","v":0},{"$f":"(AA41/Instructions!$C$27)*100","v":0},{"$f":"(AC41/Instructions!$C$29)*100","v":0},{"$f":"(V41/Instructions!$C$33)*100","v":0},{"$f":"(U41/Instructions!$C$32)*100","v":0},{"$f":"(W41/Instructions!$C$36)*100","v":{"$error":"#VALUE!"}},"","E","E","E","E","E","E","E","--",null,null,null,null,null,{"$f":"Table_2[[#This Row],[Column51]]&Table_2[[#This Row],[Column52]]&AW43","v":""}]
[41,null,null,null,null,null,null,null,null,null,null,null,null,null,null,null,null,null,null,null,null,null,"--",0,{"$f":"Table_2[[#This Row],[Column20]]+Table_2[[#This Row],[Column56]]","v":0},"",{"$f":"Table_2[[#This Row],[Column20]]+Table_2[[#This Row],[Column56]]","v":0},"",{"$f":"Table_2[[#This Row],[Column57]]+Table_2[[#This Row],[Column16]]+Table_2[[#This Row],[Column15]]","v":0},"",{"$f":"(K42/Instructions!$C$23)*100","v":0},{"$f":"(L42/Instructions!$C$24)*100","v":0},{"$f":"(Y42/Instructions!$C$25)*100","v":0},{"$f":"(AA42/Instructions!$C$27)*100","v":0},{"$f":"(AC42/Instructions!$C$29)*100","v":0},{"$f":"(V42/Instructions!$C$33)*100","v":0},{"$f":"(U42/Instructions!$C$32)*100","v":0},{"$f":"(W42/Instructions!$C$36)*100","v":{"$error":"#VALUE!"}},"","E","E","E","E","E","E","E","--",null,null,null,null,null,{"$f":"Table_2[[#This Row],[Column51]]&Table_2[[#This Row],[Column52]]&AW44","v":""}]
[42,null,null,null,null,null,null,null,null,null,null,null,null,null,null,null,null,null,null,null,null,null,"--",0,{"$f":"Table_2[[#This Row],[Column20]]+Table_2[[#This Row],[Column56]]","v":0},"",{"$f":"Table_2[[#This Row],[Column20]]+Table_2[[#This Row],[Column56]]","v":0},"",{"$f":"Table_2[[#This Row],[Column57]]+Table_2[[#This Row],[Column16]]+Table_2[[#This Row],[Column15]]","v":0},"",{"$f":"(K43/Instructions!$C$23)*100","v":0},{"$f":"(L43/Instructions!$C$24)*100","v":0},{"$f":"(Y43/Instructions!$C$25)*100","v":0},{"$f":"(AA43/Instructions!$C$27)*100","v":0},{"$f":"(AC43/Instructions!$C$29)*100","v":0},{"$f":"(V43/Instructions!$C$33)*100","v":0},{"$f":"(U43/Instructions!$C$32)*100","v":0},{"$f":"(W43/Instructions!$C$36)*100","v":{"$error":"#VALUE!"}},"","E","E","E","E","E","E","E","--",null,null,null,null,null,{"$f":"Table_2[[#This Row],[Column51]]&Table_2[[#This Row],[Column52]]&AW45","v":""}]
[43,null,null,null,null,null,null,null,null,null,null,null,null,null,null,null,null,null,null,null,null,null,"--",0,{"$f":"Table_2[[#This Row],[Column20]]+Table_2[[#This Row],[Column56]]","v":0},"",{"$f":"Table_2[[#This Row],[Column20]]+Table_2[[#This Row],[Column56]]","v":0},"",{"$f":"Table_2[[#This Row],[Column57]]+Table_2[[#This Row],[Column16]]+Table_2[[#This Row],[Column15]]","v":0},"",{"$f":"(K44/Instructions!$C$23)*100","v":0},{"$f":"(L44/Instructions!$C$24)*100","v":0},{"$f":"(Y44/Instructions!$C$25)*100","v":0},{"$f":"(AA44/Instructions!$C$27)*100","v":0},{"$f":"(AC44/Instructions!$C$29)*100","v":0},{"$f":"(V44/Instructions!$C$33)*100","v":0},{"$f":"(U44/Instructions!$C$32)*100","v":0},{"$f":"(W44/Instructions!$C$36)*100","v":{"$error":"#VALUE!"}},"","E","E","E","E","E","E","E","--",null,null,null,null,null,{"$f":"Table_2[[#This Row],[Column51]]&Table_2[[#This Row],[Column52]]&AW46","v":""}]
[44,null,null,null,null,null,null,null,null,null,null,null,null,null,null,null,null,null,null,null,null,null,"--",0,{"$f":"Table_2[[#This Row],[Column20]]+Table_2[[#This Row],[Column56]]","v":0},"",{"$f":"Table_2[[#This Row],[Column20]]+Table_2[[#This Row],[Column56]]","v":0},"",{"$f":"Table_2[[#This Row],[Column57]]+Table_2[[#This Row],[Column16]]+Table_2[[#This Row],[Column15]]","v":0},"",{"$f":"(K45/Instructions!$C$23)*100","v":0},{"$f":"(L45/Instructions!$C$24)*100","v":0},{"$f":"(Y45/Instructions!$C$25)*100","v":0},{"$f":"(AA45/Instructions!$C$27)*100","v":0},{"$f":"(AC45/Instructions!$C$29)*100","v":0},{"$f":"(V45/Instructions!$C$33)*100","v":0},{"$f":"(U45/Instructions!$C$32)*100","v":0},{"$f":"(W45/Instructions!$C$36)*100","v":{"$error":"#VALUE!"}},"","E","E","E","E","E","E","E","--",null,null,null,null,null,{"$f":"Table_2[[#This Row],[Column51]]&Table_2[[#This Row],[Column52]]&AW47","v":""}]
[45,null,null,null,null,null,null,null,null,null,null,null,null,null,null,null,null,null,null,null,null,null,"--",0,{"$f":"Table_2[[#This Row],[Column20]]+Table_2[[#This Row],[Column56]]","v":0},"",{"$f":"Table_2[[#This Row],[Column20]]+Table_2[[#This Row],[Column56]]","v":0},"",{"$f":"Table_2[[#This Row],[Column57]]+Table_2[[#This Row],[Column16]]+Table_2[[#This Row],[Column15]]","v":0},"",{"$f":"(K46/Instructions!$C$23)*100","v":0},{"$f":"(L46/Instructions!$C$24)*100","v":0},{"$f":"(Y46/Instructions!$C$25)*100","v":0},{"$f":"(AA46/Instructions!$C$27)*100","v":0},{"$f":"(AC46/Instructions!$C$29)*100","v":0},{"$f":"(V46/Instructions!$C$33)*100","v":0},{"$f":"(U46/Instructions!$C$32)*100","v":0},{"$f":"(W46/Instructions!$C$36)*100","v":{"$error":"#VALUE!"}},"","E","E","E","E","E","E","E","--",null,null,null,null,null,{"$f":"Table_2[[#This Row],[Column51]]&Table_2[[#This Row],[Column52]]&AW48","v":""}]
[46,null,null,null,null,null,null,null,null,null,null,null,null,null,null,null,null,null,null,null,null,null,"--",0,{"$f":"Table_2[[#This Row],[Column20]]+Table_2[[#This Row],[Column56]]","v":0},"",{"$f":"Table_2[[#This Row],[Column20]]+Table_2[[#This Row],[Column56]]","v":0},"",{"$f":"Table_2[[#This Row],[Column57]]+Table_2[[#This Row],[Column16]]+Table_2[[#This Row],[Column15]]","v":0},"",{"$f":"(K47/Instructions!$C$23)*100","v":0},{"$f":"(L47/Instructions!$C$24)*100","v":0},{"$f":"(Y47/Instructions!$C$25)*100","v":0},{"$f":"(AA47/Instructions!$C$27)*100","v":0},{"$f":"(AC47/Instructions!$C$29)*100","v":0},{"$f":"(V47/Instructions!$C$33)*100","v":0},{"$f":"(U47/Instructions!$C$32)*100","v":0},{"$f":"(W47/Instructions!$C$36)*100","v":{"$error":"#VALUE!"}},"","E","E","E","E","E","E","E","--",null,null,null,null,null,{"$f":"Table_2[[#This Row],[Column51]]&Table_2[[#This Row],[Column52]]&AW49","v":""}]
[47,null,null,null,null,null,null,null,null,null,null,null,null,null,null,null,null,null,null,null,null,null,"--",0,{"$f":"Table_2[[#This Row],[Column20]]+Table_2[[#This Row],[Column56]]","v":0},"",{"$f":"Table_2[[#This Row],[Column20]]+Table_2[[#This Row],[Column56]]","v":0},"",{"$f":"Table_2[[#This Row],[Column57]]+Table_2[[#This Row],[Column16]]+Table_2[[#This Row],[Column15]]","v":0},"",{"$f":"(K48/Instructions!$C$23)*100","v":0},{"$f":"(L48/Instructions!$C$24)*100","v":0},{"$f":"(Y48/Instructions!$C$25)*100","v":0},{"$f":"(AA48/Instructions!$C$27)*100","v":0},{"$f":"(AC48/Instructions!$C$29)*100","v":0},{"$f":"(V48/Instructions!$C$33)*100","v":0},{"$f":"(U48/Instructions!$C$32)*100","v":0},{"$f":"(W48/Instructions!$C$36)*100","v":{"$error":"#VALUE!"}},"","E","E","E","E","E","E","E","--",null,null,null,null,null,{"$f":"Table_2[[#This Row],[Column51]]&Table_2[[#This Row],[Column52]]&AW50","v":""}]
[48,null,null,null,null,null,null,null,null,null,null,null,null,null,null,null,null,null,null,null,null,null,"--",0,{"$f":"Table_2[[#This Row],[Column20]]+Table_2[[#This Row],[Column56]]","v":0},"",{"$f":"Table_2[[#This Row],[Column20]]+Table_2[[#This Row],[Column56]]","v":0},"",{"$f":"Table_2[[#This Row],[Column57]]+Table_2[[#This Row],[Column16]]+Table_2[[#This Row],[Column15]]","v":0},"",{"$f":"(K49/Instructions!$C$23)*100","v":0},{"$f":"(L49/Instructions!$C$24)*100","v":0},{"$f":"(Y49/Instructions!$C$25)*100","v":0},{"$f":"(AA49/Instructions!$C$27)*100","v":0},{"$f":"(AC49/Instructions!$C$29)*100","v":0},{"$f":"(V49/Instructions!$C$33)*100","v":0},{"$f":"(U49/Instructions!$C$32)*100","v":0},{"$f":"(W49/Instructions!$C$36)*100","v":{"$error":"#VALUE!"}},"","E","E","E","E","E","E","E","--",null,null,null,null,null,{"$f":"Table_2[[#This Row],[Column51]]&Table_2[[#This Row],[Column52]]&AW51","v":""}]
[49,null,null,null,null,null,null,null,null,null,null,null,null,null,null,null,null,null,null,null,null,null,"--",0,{"$f":"Table_2[[#This Row],[Column20]]+Table_2[[#This Row],[Column56]]","v":0},"",{"$f":"Table_2[[#This Row],[Column20]]+Table_2[[#This Row],[Column56]]","v":0},"",{"$f":"Table_2[[#This Row],[Column57]]+Table_2[[#This Row],[Column16]]+Table_2[[#This Row],[Column15]]","v":0},"",{"$f":"(K50/Instructions!$C$23)*100","v":0},{"$f":"(L50/Instructions!$C$24)*100","v":0},{"$f":"(Y50/Instructions!$C$25)*100","v":0},{"$f":"(AA50/Instructions!$C$27)*100","v":0},{"$f":"(AC50/Instructions!$C$29)*100","v":0},{"$f":"(V50/Instructions!$C$33)*100","v":0},{"$f":"(U50/Instructions!$C$32)*100","v":0},{"$f":"(W50/Instructions!$C$36)*100","v":{"$error":"#VALUE!"}},"","E","E","E","E","E","E","E","--",null,null,null,null,null,{"$f":"Table_2[[#This Row],[Column51]]&Table_2[[#This Row],[Column52]]&AW52","v":""}]
[50,null,null,null,null,null,null,null,null,null,null,null,null,null,null,null,null,null,null,null,null,null,"--",0,{"$f":"Table_2[[#This Row],[Column20]]+Table_2[[#This Row],[Column56]]","v":0},"",{"$f":"Table_2[[#This Row],[Column20]]+Table_2[[#This Row],[Column56]]","v":0},"",{"$f":"Table_2[[#This Row],[Column57]]+Table_2[[#This Row],[Column16]]+Table_2[[#This Row],[Column15]]","v":0},"",{"$f":"(K51/Instructions!$C$23)*100","v":0},{"$f":"(L51/Instructions!$C$24)*100","v":0},{"$f":"(Y51/Instructions!$C$25)*100","v":0},{"$f":"(AA51/Instructions!$C$27)*100","v":0},{"$f":"(AC51/Instructions!$C$29)*100","v":0},{"$f":"(V51/Instructions!$C$33)*100","v":0},{"$f":"(U51/Instructions!$C$32)*100","v":0},{"$f":"(W51/Instructions!$C$36)*100","v":{"$error":"#VALUE!"}},"","E","E","E","E","E","E","E","--",null,null,null,null,null,{"$f":"Table_2[[#This Row],[Column51]]&Table_2[[#This Row],[Column52]]&AW53","v":""}]
[51,null,null,null,null,null,null,null,null,null,null,null,null,null,null,null,null,null,null,null,null,null,"--",0,{"$f":"Table_2[[#This Row],[Column20]]+Table_2[[#This Row],[Column56]]","v":0},"",{"$f":"Table_2[[#This Row],[Column20]]+Table_2[[#This Row],[Column56]]","v":0},"",{"$f":"Table_2[[#This Row],[Column57]]+Table_2[[#This Row],[Column16]]+Table_2[[#This Row],[Column15]]","v":0},"",{"$f":"(K52/Instructions!$C$23)*100","v":0},{"$f":"(L52/Instructions!$C$24)*100","v":0},{"$f":"(Y52/Instructions!$C$25)*100","v":0},{"$f":"(AA52/Instructions!$C$27)*100","v":0},{"$f":"(AC52/Instructions!$C$29)*100","v":0},{"$f":"(V52/Instructions!$C$33)*100","v":0},{"$f":"(U52/Instructions!$C$32)*100","v":0},{"$f":"(W52/Instructions!$C$36)*100","v":{"$error":"#VALUE!"}},"","E","E","E","E","E","E","E","--",null,null,null,null,null,{"$f":"Table_2[[#This Row],[Column51]]&Table_2[[#This Row],[Column52]]&AW54","v":""}]
[52,null,null,null,null,null,null,null,null,null,null,null,null,null,null,null,null,null,null,null,null,null,"--",0,{"$f":"Table_2[[#This Row],[Column20]]+Table_2[[#This Row],[Column56]]","v":0},"",{"$f":"Table_2[[#This Row],[Column20]]+Table_2[[#This Row],[Column56]]","v":0},"",{"$f":"Table_2[[#This Row],[Column57]]+Table_2[[#This Row],[Column16]]+Table_2[[#This Row],[Column15]]","v":0},"",{"$f":"(K53/Instructions!$C$23)*100","v":0},{"$f":"(L53/Instructions!$C$24)*100","v":0},{"$f":"(Y53/Instructions!$C$25)*100","v":0},{"$f":"(AA53/Instructions!$C$27)*100","v":0},{"$f":"(AC53/Instructions!$C$29)*100","v":0},{"$f":"(V53/Instructions!$C$33)*100","v":0},{"$f":"(U53/Instructions!$C$32)*100","v":0},{"$f":"(W53/Instructions!$C$36)*100","v":{"$error":"#VALUE!"}},"","E","E","E","E","E","E","E","--",null,null,null,null,null,{"$f":"Table_2[[#This Row],[Column51]]&Table_2[[#This Row],[Column52]]&AW55","v":""}]
[53,null,null,null,null,null,null,null,null,null,null,null,null,null,null,null,null,null,null,null,null,null,"--",0,{"$f":"Table_2[[#This Row],[Column20]]+Table_2[[#This Row],[Column56]]","v":0},"",{"$f":"Table_2[[#This Row],[Column20]]+Table_2[[#This Row],[Column56]]","v":0},"",{"$f":"Table_2[[#This Row],[Column57]]+Table_2[[#This Row],[Column16]]+Table_2[[#This Row],[Column15]]","v":0},"",{"$f":"(K54/Instructions!$C$23)*100","v":0},{"$f":"(L54/Instructions!$C$24)*100","v":0},{"$f":"(Y54/Instructions!$C$25)*100","v":0},{"$f":"(AA54/Instructions!$C$27)*100","v":0},{"$f":"(AC54/Instructions!$C$29)*100","v":0},{"$f":"(V54/Instructions!$C$33)*100","v":0},{"$f":"(U54/Instructions!$C$32)*100","v":0},{"$f":"(W54/Instructions!$C$36)*100","v":{"$error":"#VALUE!"}},"","E","E","E","E","E","E","E","--",null,null,null,null,null,{"$f":"Table_2[[#This Row],[Column51]]&Table_2[[#This Row],[Column52]]&AW56","v":""}]
[54,null,null,null,null,null,null,null,null,null,null,null,null,null,null,null,null,null,null,null,null,null,"--",0,{"$f":"Table_2[[#This Row],[Column20]]+Table_2[[#This Row],[Column56]]","v":0},"",{"$f":"Table_2[[#This Row],[Column20]]+Table_2[[#This Row],[Column56]]","v":0},"",{"$f":"Table_2[[#This Row],[Column57]]+Table_2[[#This Row],[Column16]]+Table_2[[#This Row],[Column15]]","v":0},"",{"$f":"(K55/Instructions!$C$23)*100","v":0},{"$f":"(L55/Instructions!$C$24)*100","v":0},{"$f":"(Y55/Instructions!$C$25)*100","v":0},{"$f":"(AA55/Instructions!$C$27)*100","v":0},{"$f":"(AC55/Instructions!$C$29)*100","v":0},{"$f":"(V55/Instructions!$C$33)*100","v":0},{"$f":"(U55/Instructions!$C$32)*100","v":0},{"$f":"(W55/Instructions!$C$36)*100","v":{"$error":"#VALUE!"}},"","E","E","E","E","E","E","E","--",null,null,null,null,null,{"$f":"Table_2[[#This Row],[Column51]]&Table_2[[#This Row],[Column52]]&AW57","v":""}]
[55,null,null,null,null,null,null,null,null,null,null,null,null,null,null,null,null,null,null,null,null,null,"--",0,{"$f":"Table_2[[#This Row],[Column20]]+Table_2[[#This Row],[Column56]]","v":0},"",{"$f":"Table_2[[#This Row],[Column20]]+Table_2[[#This Row],[Column56]]","v":0},"",{"$f":"Table_2[[#This Row],[Column57]]+Table_2[[#This Row],[Column16]]+Table_2[[#This Row],[Column15]]","v":0},"",{"$f":"(K56/Instructions!$C$23)*100","v":0},{"$f":"(L56/Instructions!$C$24)*100","v":0},{"$f":"(Y56/Instructions!$C$25)*100","v":0},{"$f":"(AA56/Instructions!$C$27)*100","v":0},{"$f":"(AC56/Instructions!$C$29)*100","v":0},{"$f":"(V56/Instructions!$C$33)*100","v":0},{"$f":"(U56/Instructions!$C$32)*100","v":0},{"$f":"(W56/Instructions!$C$36)*100","v":{"$error":"#VALUE!"}},"","E","E","E","E","E","E","E","--",null,null,null,null,null,{"$f":"Table_2[[#This Row],[Column51]]&Table_2[[#This Row],[Column52]]&AW58","v":""}]
[56,null,null,null,null,null,null,null,null,null,null,null,null,null,null,null,null,null,null,null,null,null,"--",0,{"$f":"Table_2[[#This Row],[Column20]]+Table_2[[#This Row],[Column56]]","v":0},"",{"$f":"Table_2[[#This Row],[Column20]]+Table_2[[#This Row],[Column56]]","v":0},"",{"$f":"Table_2[[#This Row],[Column57]]+Table_2[[#This Row],[Column16]]+Table_2[[#This Row],[Column15]]","v":0},"",{"$f":"(K57/Instructions!$C$23)*100","v":0},{"$f":"(L57/Instructions!$C$24)*100","v":0},{"$f":"(Y57/Instructions!$C$25)*100","v":0},{"$f":"(AA57/Instructions!$C$27)*100","v":0},{"$f":"(AC57/Instructions!$C$29)*100","v":0},{"$f":"(V57/Instructions!$C$33)*100","v":0},{"$f":"(U57/Instructions!$C$32)*100","v":0},{"$f":"(W57/Instructions!$C$36)*100","v":{"$error":"#VALUE!"}},"","E","E","E","E","E","E","E","--",null,null,null,null,null,{"$f":"Table_2[[#This Row],[Column51]]&Table_2[[#This Row],[Column52]]&AW59","v":""}]
[57,null,null,null,null,null,null,null,null,null,null,null,null,null,null,null,null,null,null,null,null,null,"--",0,{"$f":"Table_2[[#This Row],[Column20]]+Table_2[[#This Row],[Column56]]","v":0},"",{"$f":"Table_2[[#This Row],[Column20]]+Table_2[[#This Row],[Column56]]","v":0},"",{"$f":"Table_2[[#This Row],[Column57]]+Table_2[[#This Row],[Column16]]+Table_2[[#This Row],[Column15]]","v":0},"",{"$f":"(K58/Instructions!$C$23)*100","v":0},{"$f":"(L58/Instructions!$C$24)*100","v":0},{"$f":"(Y58/Instructions!$C$25)*100","v":0},{"$f":"(AA58/Instructions!$C$27)*100","v":0},{"$f":"(AC58/Instructions!$C$29)*100","v":0},{"$f":"(V58/Instructions!$C$33)*100","v":0},{"$f":"(U58/Instructions!$C$32)*100","v":0},{"$f":"(W58/Instructions!$C$36)*100","v":{"$error":"#VALUE!"}},"","E","E","E","E","E","E","E","--",null,null,null,null,null,{"$f":"Table_2[[#This Row],[Column51]]&Table_2[[#This Row],[Column52]]&AW60","v":""}]
[58,null,null,null,null,null,null,null,null,null,null,null,null,null,null,null,null,null,null,null,null,null,"--",0,{"$f":"Table_2[[#This Row],[Column20]]+Table_2[[#This Row],[Column56]]","v":0},"",{"$f":"Table_2[[#This Row],[Column20]]+Table_2[[#This Row],[Column56]]","v":0},"",{"$f":"Table_2[[#This Row],[Column57]]+Table_2[[#This Row],[Column16]]+Table_2[[#This Row],[Column15]]","v":0},"",{"$f":"(K59/Instructions!$C$23)*100","v":0},{"$f":"(L59/Instructions!$C$24)*100","v":0},{"$f":"(Y59/Instructions!$C$25)*100","v":0},{"$f":"(AA59/Instructions!$C$27)*100","v":0},{"$f":"(AC59/Instructions!$C$29)*100","v":0},{"$f":"(V59/Instructions!$C$33)*100","v":0},{"$f":"(U59/Instructions!$C$32)*100","v":0},{"$f":"(W59/Instructions!$C$36)*100","v":{"$error":"#VALUE!"}},"","E","E","E","E","E","E","E","--",null,null,null,null,null,{"$f":"Table_2[[#This Row],[Column51]]&Table_2[[#This Row],[Column52]]&AW61","v":""}]
[59,null,null,null,null,null,null,null,null,null,null,null,null,null,null,null,null,null,null,null,null,null,"--",0,{"$f":"Table_2[[#This Row],[Column20]]+Table_2[[#This Row],[Column56]]","v":0},"",{"$f":"Table_2[[#This Row],[Column20]]+Table_2[[#This Row],[Column56]]","v":0},"",{"$f":"Table_2[[#This Row],[Column57]]+Table_2[[#This Row],[Column16]]+Table_2[[#This Row],[Column15]]","v":0},"",{"$f":"(K60/Instructions!$C$23)*100","v":0},{"$f":"(L60/Instructions!$C$24)*100","v":0},{"$f":"(Y60/Instructions!$C$25)*100","v":0},{"$f":"(AA60/Instructions!$C$27)*100","v":0},{"$f":"(AC60/Instructions!$C$29)*100","v":0},{"$f":"(V60/Instructions!$C$33)*100","v":0},{"$f":"(U60/Instructions!$C$32)*100","v":0},{"$f":"(W60/Instructions!$C$36)*100","v":{"$error":"#VALUE!"}},"","E","E","E","E","E","E","E","--",null,null,null,null,null,{"$f":"Table_2[[#This Row],[Column51]]&Table_2[[#This Row],[Column52]]&AW62","v":""}]
[60,null,null,null,null,null,null,null,null,null,null,null,null,null,null,null,null,null,null,null,null,null,"--",0,{"$f":"Table_2[[#This Row],[Column20]]+Table_2[[#This Row],[Column56]]","v":0},"",{"$f":"Table_2[[#This Row],[Column20]]+Table_2[[#This Row],[Column56]]","v":0},"",{"$f":"Table_2[[#This Row],[Column57]]+Table_2[[#This Row],[Column16]]+Table_2[[#This Row],[Column15]]","v":0},"",{"$f":"(K61/Instructions!$C$23)*100","v":0},{"$f":"(L61/Instructions!$C$24)*100","v":0},{"$f":"(Y61/Instructions!$C$25)*100","v":0},{"$f":"(AA61/Instructions!$C$27)*100","v":0},{"$f":"(AC61/Instructions!$C$29)*100","v":0},{"$f":"(V61/Instructions!$C$33)*100","v":0},{"$f":"(U61/Instructions!$C$32)*100","v":0},{"$f":"(W61/Instructions!$C$36)*100","v":{"$error":"#VALUE!"}},"","E","E","E","E","E","E","E","--",null,null,null,null,null,{"$f":"Table_2[[#This Row],[Column51]]&Table_2[[#This Row],[Column52]]&AW63","v":""}]
[61,null,null,null,null,null,null,null,null,null,null,null,null,null,null,null,null,null,null,null,null,null,"--",0,{"$f":"Table_2[[#This Row],[Column20]]+Table_2[[#This Row],[Column56]]","v":0},"",{"$f":"Table_2[[#This Row],[Column20]]+Table_2[[#This Row],[Column56]]","v":0},"",{"$f":"Table_2[[#This Row],[Column57]]+Table_2[[#This Row],[Column16]]+Table_2[[#This Row],[Column15]]","v":0},"",{"$f":"(K62/Instructions!$C$23)*100","v":0},{"$f":"(L62/Instructions!$C$24)*100","v":0},{"$f":"(Y62/Instructions!$C$25)*100","v":0},{"$f":"(AA62/Instructions!$C$27)*100","v":0},{"$f":"(AC62/Instructions!$C$29)*100","v":0},{"$f":"(V62/Instructions!$C$33)*100","v":0},{"$f":"(U62/Instructions!$C$32)*100","v":0},{"$f":"(W62/Instructions!$C$36)*100","v":{"$error":"#VALUE!"}},"","E","E","E","E","E","E","E","--",null,null,null,null,null,{"$f":"Table_2[[#This Row],[Column51]]&Table_2[[#This Row],[Column52]]&AW64","v":""}]
[62,null,null,null,null,null,null,null,null,null,null,null,null,null,null,null,null,null,null,null,null,null,"--",0,{"$f":"Table_2[[#This Row],[Column20]]+Table_2[[#This Row],[Column56]]","v":0},"",{"$f":"Table_2[[#This Row],[Column20]]+Table_2[[#This Row],[Column56]]","v":0},"",{"$f":"Table_2[[#This Row],[Column57]]+Table_2[[#This Row],[Column16]]+Table_2[[#This Row],[Column15]]","v":0},"",{"$f":"(K63/Instructions!$C$23)*100","v":0},{"$f":"(L63/Instructions!$C$24)*100","v":0},{"$f":"(Y63/Instructions!$C$25)*100","v":0},{"$f":"(AA63/Instructions!$C$27)*100","v":0},{"$f":"(AC63/Instructions!$C$29)*100","v":0},{"$f":"(V63/Instructions!$C$33)*100","v":0},{"$f":"(U63/Instructions!$C$32)*100","v":0},{"$f":"(W63/Instructions!$C$36)*100","v":{"$error":"#VALUE!"}},"","E","E","E","E","E","E","E","--",null,null,null,null,null,{"$f":"Table_2[[#This Row],[Column51]]&Table_2[[#This Row],[Column52]]&AW65","v":""}]
[63,null,null,null,null,null,null,null,null,null,null,null,null,null,null,null,null,null,null,null,null,null,"--",0,{"$f":"Table_2[[#This Row],[Column20]]+Table_2[[#This Row],[Column56]]","v":0},"",{"$f":"Table_2[[#This Row],[Column20]]+Table_2[[#This Row],[Column56]]","v":0},"",{"$f":"Table_2[[#This Row],[Column57]]+Table_2[[#This Row],[Column16]]+Table_2[[#This Row],[Column15]]","v":0},"",{"$f":"(K64/Instructions!$C$23)*100","v":0},{"$f":"(L64/Instructions!$C$24)*100","v":0},{"$f":"(Y64/Instructions!$C$25)*100","v":0},{"$f":"(AA64/Instructions!$C$27)*100","v":0},{"$f":"(AC64/Instructions!$C$29)*100","v":0},{"$f":"(V64/Instructions!$C$33)*100","v":0},{"$f":"(U64/Instructions!$C$32)*100","v":0},{"$f":"(W64/Instructions!$C$36)*100","v":{"$error":"#VALUE!"}},"","E","E","E","E","E","E","E","--",null,null,null,null,null,{"$f":"Table_2[[#This Row],[Column51]]&Table_2[[#This Row],[Column52]]&AW66","v":""}]
[64,null,null,null,null,null,null,null,null,null,null,null,null,null,null,null,null,null,null,null,null,null,"--",0,{"$f":"Table_2[[#This Row],[Column20]]+Table_2[[#This Row],[Column56]]","v":0},"",{"$f":"Table_2[[#This Row],[Column20]]+Table_2[[#This Row],[Column56]]","v":0},"",{"$f":"Table_2[[#This Row],[Column57]]+Table_2[[#This Row],[Column16]]+Table_2[[#This Row],[Column15]]","v":0},"",{"$f":"(K65/Instructions!$C$23)*100","v":0},{"$f":"(L65/Instructions!$C$24)*100","v":0},{"$f":"(Y65/Instructions!$C$25)*100","v":0},{"$f":"(AA65/Instructions!$C$27)*100","v":0},{"$f":"(AC65/Instructions!$C$29)*100","v":0},{"$f":"(V65/Instructions!$C$33)*100","v":0},{"$f":"(U65/Instructions!$C$32)*100","v":0},{"$f":"(W65/Instructions!$C$36)*100","v":{"$error":"#VALUE!"}},"","E","E","E","E","E","E","E","--",null,null,null,null,null,{"$f":"Table_2[[#This Row],[Column51]]&Table_2[[#This Row],[Column52]]&AW67","v":""}]
[65,null,null,null,null,null,null,null,null,null,null,null,null,null,null,null,null,null,null,null,null,null,"--",0,{"$f":"Table_2[[#This Row],[Column20]]+Table_2[[#This Row],[Column56]]","v":0},"",{"$f":"Table_2[[#This Row],[Column20]]+Table_2[[#This Row],[Column56]]","v":0},"",{"$f":"Table_2[[#This Row],[Column57]]+Table_2[[#This Row],[Column16]]+Table_2[[#This Row],[Column15]]","v":0},"",{"$f":"(K66/Instructions!$C$23)*100","v":0},{"$f":"(L66/Instructions!$C$24)*100","v":0},{"$f":"(Y66/Instructions!$C$25)*100","v":0},{"$f":"(AA66/Instructions!$C$27)*100","v":0},{"$f":"(AC66/Instructions!$C$29)*100","v":0},{"$f":"(V66/Instructions!$C$33)*100","v":0},{"$f":"(U66/Instructions!$C$32)*100","v":0},{"$f":"(W66/Instructions!$C$36)*100","v":{"$error":"#VALUE!"}},"","E","E","E","E","E","E","E","--",null,null,null,null,null,{"$f":"Table_2[[#This Row],[Column51]]&Table_2[[#This Row],[Column52]]&AW68","v":""}]
[66,null,null,null,null,null,null,null,null,null,null,null,null,null,null,null,null,null,null,null,null,null,{"$f":"IF(MIN(AE67:AI67)>=33,SUM(K67:T67),\"--\")","v":"--"},{"$f":"IF(W67=\"--\",0,W67)","v":0},{"$f":"Table_2[[#This Row],[Column20]]+Table_2[[#This Row],[Column56]]","v":0},{"$f":"IF(N67>0,$N$1,IF(O67>0,$O$1,\"\"))","v":""},{"$f":"Table_2[[#This Row],[Column20]]+Table_2[[#This Row],[Column56]]","v":0},{"$f":"IFERROR(IF(P67>0,$P$1,IF(Q67>0,$Q$1,\"\")),\"\")","v":""},{"$f":"Table_2[[#This Row],[Column57]]+Table_2[[#This Row],[Column16]]+Table_2[[#This Row],[Column15]]","v":0},{"$f":"IFERROR(IF(R67>0,$R$1,IF(S67>0,$S$1,IF(T67>0,$T$1,\"\"))),\"\")","v":""},{"$f":"(K67/Instructions!$C$23)*100","v":0},{"$f":"(L67/Instructions!$C$24)*100","v":0},{"$f":"(Y67/Instructions!$C$25)*100","v":0},{"$f":"(AA67/Instructions!$C$27)*100","v":0},{"$f":"(AC67/Instructions!$C$29)*100","v":0},{"$f":"(V67/Instructions!$C$33)*100","v":0},{"$f":"(U67/Instructions!$C$32)*100","v":0},{"$f":"(W67/Instructions!$C$36)*100","v":{"$error":"#VALUE!"}},{"$f":"IFERROR(IF(AL67>=33,\"PASS\",\"----\"),\"\")","v":""},{"$f":"IFERROR(IF(AE67>90,\"A+\",IF(AE67>80,\"A\",IF(AE67>70,\"B+\",IF(AE67>60,\"B\",IF(AE67>50,\"C+\",IF(AE67>40,\"C\",IF(AE67>=33,\"D\",\"E\"))))))),\"Abs\")","v":"E"},{"$f":"IFERROR(IF(AF67>90,\"A+\",IF(AF67>80,\"A\",IF(AF67>70,\"B+\",IF(AF67>60,\"B\",IF(AF67>50,\"C+\",IF(AF67>40,\"C\",IF(AF67>=33,\"D\",\"E\"))))))),\"Abs\")","v":"E"},{"$f":"IFERROR(IF(AG67>90,\"A+\",IF(AG67>80,\"A\",IF(AG67>70,\"B+\",IF(AG67>60,\"B\",IF(AG67>50,\"C+\",IF(AG67>40,\"C\",IF(AG67>=33,\"D\",\"E\"))))))),\"Abs\")","v":"E"},{"$f":"IFERROR(IF(AH67>90,\"A+\",IF(AH67>80,\"A\",IF(AH67>70,\"B+\",IF(AH67>60,\"B\",IF(AH67>50,\"C+\",IF(AH67>40,\"C\",IF(AH67>=33,\"D\",\"E\"))))))),\"Abs\")","v":"E"},{"$f":"IFERROR(IF(AI67>90,\"A+\",IF(AI67>80,\"A\",IF(AI67>70,\"B+\",IF(AI67>60,\"B\",IF(AI67>50,\"C+\",IF(AI67>40,\"C\",IF(AI67>=33,\"D\",\"E\"))))))),\"Abs\")","v":"E"},{"$f":"IFERROR(IF(AJ67>90,\"A+\",IF(AJ67>80,\"A\",IF(AJ67>70,\"B+\",IF(AJ67>60,\"B\",IF(AJ67>50,\"C+\",IF(AJ67>40,\"C\",IF(AJ67>=33,\"D\",\"E\"))))))),\"Abs\")","v":"E"},{"$f":"IFERROR(IF(AK67>90,\"A+\",IF(AK67>80,\"A\",IF(AK67>70,\"B+\",IF(AK67>60,\"B\",IF(AK67>50,\"C+\",IF(AK67>40,\"C\",IF(AK67>=33,\"D\",\"E\"))))))),\"Abs\")","v":"E"},{"$f":"IFERROR(IF(AL67>90,\"A+\",IF(AL67>80,\"A\",IF(AL67>70,\"B+\",IF(AL67>60,\"B\",IF(AL67>50,\"C+\",IF(AL67>40,\"C\",IF(AL67>=33,\"D\",\"E\"))))))),\"--\")","v":"--"},null,null,null,null,null,{"$f":"Table_2[[#This Row],[Column51]]&Table_2[[#This Row],[Column52]]&AW69","v":""}]
[67,null,null,null,null,null,null,null,null,null,null,null,null,null,null,null,null,null,null,null,null,null,"--",0,{"$f":"Table_2[[#This Row],[Column20]]+Table_2[[#This Row],[Column56]]","v":0},"",{"$f":"Table_2[[#This Row],[Column20]]+Table_2[[#This Row],[Column56]]","v":0},"",{"$f":"Table_2[[#This Row],[Column57]]+Table_2[[#This Row],[Column16]]+Table_2[[#This Row],[Column15]]","v":0},"",{"$f":"(K68/Instructions!$C$23)*100","v":0},{"$f":"(L68/Instructions!$C$24)*100","v":0},{"$f":"(Y68/Instructions!$C$25)*100","v":0},{"$f":"(AA68/Instructions!$C$27)*100","v":0},{"$f":"(AC68/Instructions!$C$29)*100","v":0},{"$f":"(V68/Instructions!$C$33)*100","v":0},{"$f":"(U68/Instructions!$C$32)*100","v":0},{"$f":"(W68/Instructions!$C$36)*100","v":{"$error":"#VALUE!"}},"","E","E","E","E","E","E","E","--",null,null,null,null,null,{"$f":"Table_2[[#This Row],[Column51]]&Table_2[[#This Row],[Column52]]&AW70","v":""}]
[68,null,null,null,null,null,null,null,null,null,null,null,null,null,null,null,null,null,null,null,null,null,"--",0,{"$f":"Table_2[[#This Row],[Column20]]+Table_2[[#This Row],[Column56]]","v":0},"",{"$f":"Table_2[[#This Row],[Column20]]+Table_2[[#This Row],[Column56]]","v":0},"",{"$f":"Table_2[[#This Row],[Column57]]+Table_2[[#This Row],[Column16]]+Table_2[[#This Row],[Column15]]","v":0},"",{"$f":"(K69/Instructions!$C$23)*100","v":0},{"$f":"(L69/Instructions!$C$24)*100","v":0},{"$f":"(Y69/Instructions!$C$25)*100","v":0},{"$f":"(AA69/Instructions!$C$27)*100","v":0},{"$f":"(AC69/Instructions!$C$29)*100","v":0},{"$f":"(V69/Instructions!$C$33)*100","v":0},{"$f":"(U69/Instructions!$C$32)*100","v":0},{"$f":"(W69/Instructions!$C$36)*100","v":{"$error":"#VALUE!"}},"","E","E","E","E","E","E","E","--",null,null,null,null,null,{"$f":"Table_2[[#This Row],[Column51]]&Table_2[[#This Row],[Column52]]&AW71","v":""}]
[69,null,null,null,null,null,null,null,null,null,null,null,null,null,null,null,null,null,null,null,null,null,"--",0,{"$f":"Table_2[[#This Row],[Column20]]+Table_2[[#This Row],[Column56]]","v":0},"",{"$f":"Table_2[[#This Row],[Column20]]+Table_2[[#This Row],[Column56]]","v":0},"",{"$f":"Table_2[[#This Row],[Column57]]+Table_2[[#This Row],[Column16]]+Table_2[[#This Row],[Column15]]","v":0},"",{"$f":"(K70/Instructions!$C$23)*100","v":0},{"$f":"(L70/Instructions!$C$24)*100","v":0},{"$f":"(Y70/Instructions!$C$25)*100","v":0},{"$f":"(AA70/Instructions!$C$27)*100","v":0},{"$f":"(AC70/Instructions!$C$29)*100","v":0},{"$f":"(V70/Instructions!$C$33)*100","v":0},{"$f":"(U70/Instructions!$C$32)*100","v":0},{"$f":"(W70/Instructions!$C$36)*100","v":{"$error":"#VALUE!"}},"","E","E","E","E","E","E","E","--",null,null,null,null,null,{"$f":"Table_2[[#This Row],[Column51]]&Table_2[[#This Row],[Column52]]&AW72","v":""}]
[70,null,null,null,null,null,null,null,null,null,null,null,null,null,null,null,null,null,null,null,null,null,"--",0,{"$f":"Table_2[[#This Row],[Column20]]+Table_2[[#This Row],[Column56]]","v":0},"",{"$f":"Table_2[[#This Row],[Column20]]+Table_2[[#This Row],[Column56]]","v":0},"",{"$f":"Table_2[[#This Row],[Column57]]+Table_2[[#This Row],[Column16]]+Table_2[[#This Row],[Column15]]","v":0},"",{"$f":"(K71/Instructions!$C$23)*100","v":0},{"$f":"(L71/Instructions!$C$24)*100","v":0},{"$f":"(Y71/Instructions!$C$25)*100","v":0},{"$f":"(AA71/Instructions!$C$27)*100","v":0},{"$f":"(AC71/Instructions!$C$29)*100","v":0},{"$f":"(V71/Instructions!$C$33)*100","v":0},{"$f":"(U71/Instructions!$C$32)*100","v":0},{"$f":"(W71/Instructions!$C$36)*100","v":{"$error":"#VALUE!"}},"","E","E","E","E","E","E","E","--",null,null,null,null,null,{"$f":"Table_2[[#This Row],[Column51]]&Table_2[[#This Row],[Column52]]&AW73","v":""}]
[71,null,null,null,null,null,null,null,null,null,null,null,null,null,null,null,null,null,null,null,null,null,"--",0,{"$f":"Table_2[[#This Row],[Column20]]+Table_2[[#This Row],[Column56]]","v":0},"",{"$f":"Table_2[[#This Row],[Column20]]+Table_2[[#This Row],[Column56]]","v":0},"",{"$f":"Table_2[[#This Row],[Column57]]+Table_2[[#This Row],[Column16]]+Table_2[[#This Row],[Column15]]","v":0},"",{"$f":"(K72/Instructions!$C$23)*100","v":0},{"$f":"(L72/Instructions!$C$24)*100","v":0},{"$f":"(Y72/Instructions!$C$25)*100","v":0},{"$f":"(AA72/Instructions!$C$27)*100","v":0},{"$f":"(AC72/Instructions!$C$29)*100","v":0},{"$f":"(V72/Instructions!$C$33)*100","v":0},{"$f":"(U72/Instructions!$C$32)*100","v":0},{"$f":"(W72/Instructions!$C$36)*100","v":{"$error":"#VALUE!"}},"","E","E","E","E","E","E","E","--",null,null,null,null,null,{"$f":"Table_2[[#This Row],[Column51]]&Table_2[[#This Row],[Column52]]&AW74","v":""}]
[72,null,null,null,null,null,null,null,null,null,null,null,null,null,null,null,null,null,null,null,null,null,"--",0,{"$f":"Table_2[[#This Row],[Column20]]+Table_2[[#This Row],[Column56]]","v":0},"",{"$f":"Table_2[[#This Row],[Column20]]+Table_2[[#This Row],[Column56]]","v":0},"",{"$f":"Table_2[[#This Row],[Column57]]+Table_2[[#This Row],[Column16]]+Table_2[[#This Row],[Column15]]","v":0},"",{"$f":"(K73/Instructions!$C$23)*100","v":0},{"$f":"(L73/Instructions!$C$24)*100","v":0},{"$f":"(Y73/Instructions!$C$25)*100","v":0},{"$f":"(AA73/Instructions!$C$27)*100","v":0},{"$f":"(AC73/Instructions!$C$29)*100","v":0},{"$f":"(V73/Instructions!$C$33)*100","v":0},{"$f":"(U73/Instructions!$C$32)*100","v":0},{"$f":"(W73/Instructions!$C$36)*100","v":{"$error":"#VALUE!"}},"","E","E","E","E","E","E","E","--",null,null,null,null,null,{"$f":"Table_2[[#This Row],[Column51]]&Table_2[[#This Row],[Column52]]&AW75","v":""}]
[73,null,null,null,null,null,null,null,null,null,null,null,null,null,null,null,null,null,null,null,null,null,"--",0,{"$f":"Table_2[[#This Row],[Column20]]+Table_2[[#This Row],[Column56]]","v":0},"",{"$f":"Table_2[[#This Row],[Column20]]+Table_2[[#This Row],[Column56]]","v":0},"",{"$f":"Table_2[[#This Row],[Column57]]+Table_2[[#This Row],[Column16]]+Table_2[[#This Row],[Column15]]","v":0},"",{"$f":"(K74/Instructions!$C$23)*100","v":0},{"$f":"(L74/Instructions!$C$24)*100","v":0},{"$f":"(Y74/Instructions!$C$25)*100","v":0},{"$f":"(AA74/Instructions!$C$27)*100","v":0},{"$f":"(AC74/Instructions!$C$29)*100","v":0},{"$f":"(V74/Instructions!$C$33)*100","v":0},{"$f":"(U74/Instructions!$C$32)*100","v":0},{"$f":"(W74/Instructions!$C$36)*100","v":{"$error":"#VALUE!"}},"","E","E","E","E","E","E","E","--",null,null,null,null,null,{"$f":"Table_2[[#This Row],[Column51]]&Table_2[[#This Row],[Column52]]&AW76","v":""}]
[74,null,null,null,null,null,null,null,null,null,null,null,null,null,null,null,null,null,null,null,null,null,"--",0,{"$f":"Table_2[[#This Row],[Column20]]+Table_2[[#This Row],[Column56]]","v":0},"",{"$f":"Table_2[[#This Row],[Column20]]+Table_2[[#This Row],[Column56]]","v":0},"",{"$f":"Table_2[[#This Row],[Column57]]+Table_2[[#This Row],[Column16]]+Table_2[[#This Row],[Column15]]","v":0},"",{"$f":"(K75/Instructions!$C$23)*100","v":0},{"$f":"(L75/Instructions!$C$24)*100","v":0},{"$f":"(Y75/Instructions!$C$25)*100","v":0},{"$f":"(AA75/Instructions!$C$27)*100","v":0},{"$f":"(AC75/Instructions!$C$29)*100","v":0},{"$f":"(V75/Instructions!$C$33)*100","v":0},{"$f":"(U75/Instructions!$C$32)*100","v":0},{"$f":"(W75/Instructions!$C$36)*100","v":{"$error":"#VALUE!"}},"","E","E","E","E","E","E","E","--",null,null,null,null,null,{"$f":"Table_2[[#This Row],[Column51]]&Table_2[[#This Row],[Column52]]&AW77","v":""}]
[75,null,null,null,null,null,null,null,null,null,null,null,null,null,null,null,null,null,null,null,null,null,"--",0,{"$f":"Table_2[[#This Row],[Column20]]+Table_2[[#This Row],[Column56]]","v":0},"",{"$f":"Table_2[[#This Row],[Column20]]+Table_2[[#This Row],[Column56]]","v":0},"",{"$f":"Table_2[[#This Row],[Column57]]+Table_2[[#This Row],[Column16]]+Table_2[[#This Row],[Column15]]","v":0},"",{"$f":"(K76/Instructions!$C$23)*100","v":0},{"$f":"(L76/Instructions!$C$24)*100","v":0},{"$f":"(Y76/Instructions!$C$25)*100","v":0},{"$f":"(AA76/Instructions!$C$27)*100","v":0},{"$f":"(AC76/Instructions!$C$29)*100","v":0},{"$f":"(V76/Instructions!$C$33)*100","v":0},{"$f":"(U76/Instructions!$C$32)*100","v":0},{"$f":"(W76/Instructions!$C$36)*100","v":{"$error":"#VALUE!"}},"","E","E","E","E","E","E","E","--",null,null,null,null,null,{"$f":"Table_2[[#This Row],[Column51]]&Table_2[[#This Row],[Column52]]&AW78","v":""}]
[76,null,null,null,null,null,null,null,null,null,null,null,null,null,null,null,null,null,null,null,null,null,"--",0,{"$f":"Table_2[[#This Row],[Column20]]+Table_2[[#This Row],[Column56]]","v":0},"",{"$f":"Table_2[[#This Row],[Column20]]+Table_2[[#This Row],[Column56]]","v":0},"",{"$f":"Table_2[[#This Row],[Column57]]+Table_2[[#This Row],[Column16]]+Table_2[[#This Row],[Column15]]","v":0},"",{"$f":"(K77/Instructions!$C$23)*100","v":0},{"$f":"(L77/Instructions!$C$24)*100","v":0},{"$f":"(Y77/Instructions!$C$25)*100","v":0},{"$f":"(AA77/Instructions!$C$27)*100","v":0},{"$f":"(AC77/Instructions!$C$29)*100","v":0},{"$f":"(V77/Instructions!$C$33)*100","v":0},{"$f":"(U77/Instructions!$C$32)*100","v":0},{"$f":"(W77/Instructions!$C$36)*100","v":{"$error":"#VALUE!"}},"","E","E","E","E","E","E","E","--",null,null,null,null,null,{"$f":"Table_2[[#This Row],[Column51]]&Table_2[[#This Row],[Column52]]&AW79","v":""}]
[77,null,null,null,null,null,null,null,null,null,null,null,null,null,null,null,null,null,null,null,null,null,"--",0,{"$f":"Table_2[[#This Row],[Column20]]+Table_2[[#This Row],[Column56]]","v":0},"",{"$f":"Table_2[[#This Row],[Column20]]+Table_2[[#This Row],[Column56]]","v":0},"",{"$f":"Table_2[[#This Row],[Column57]]+Table_2[[#This Row],[Column16]]+Table_2[[#This Row],[Column15]]","v":0},"",{"$f":"(K78/Instructions!$C$23)*100","v":0},{"$f":"(L78/Instructions!$C$24)*100","v":0},{"$f":"(Y78/Instructions!$C$25)*100","v":0},{"$f":"(AA78/Instructions!$C$27)*100","v":0},{"$f":"(AC78/Instructions!$C$29)*100","v":0},{"$f":"(V78/Instructions!$C$33)*100","v":0},{"$f":"(U78/Instructions!$C$32)*100","v":0},{"$f":"(W78/Instructions!$C$36)*100","v":{"$error":"#VALUE!"}},"","E","E","E","E","E","E","E","--",null,null,null,null,null,{"$f":"Table_2[[#This Row],[Column51]]&Table_2[[#This Row],[Column52]]&AW80","v":""}]
[78,null,null,null,null,null,null,null,null,null,null,null,null,null,null,null,null,null,null,null,null,null,"--",0,{"$f":"Table_2[[#This Row],[Column20]]+Table_2[[#This Row],[Column56]]","v":0},"",{"$f":"Table_2[[#This Row],[Column20]]+Table_2[[#This Row],[Column56]]","v":0},"",{"$f":"Table_2[[#This Row],[Column57]]+Table_2[[#This Row],[Column16]]+Table_2[[#This Row],[Column15]]","v":0},"",{"$f":"(K79/Instructions!$C$23)*100","v":0},{"$f":"(L79/Instructions!$C$24)*100","v":0},{"$f":"(Y79/Instructions!$C$25)*100","v":0},{"$f":"(AA79/Instructions!$C$27)*100","v":0},{"$f":"(AC79/Instructions!$C$29)*100","v":0},{"$f":"(V79/Instructions!$C$33)*100","v":0},{"$f":"(U79/Instructions!$C$32)*100","v":0},{"$f":"(W79/Instructions!$C$36)*100","v":{"$error":"#VALUE!"}},"","E","E","E","E","E","E","E","--",null,null,null,null,null,{"$f":"Table_2[[#This Row],[Column51]]&Table_2[[#This Row],[Column52]]&AW81","v":""}]
[79,null,null,null,null,null,null,null,null,null,null,null,null,null,null,null,null,null,null,null,null,null,"--",0,{"$f":"Table_2[[#This Row],[Column20]]+Table_2[[#This Row],[Column56]]","v":0},"",{"$f":"Table_2[[#This Row],[Column20]]+Table_2[[#This Row],[Column56]]","v":0},"",{"$f":"Table_2[[#This Row],[Column57]]+Table_2[[#This Row],[Column16]]+Table_2[[#This Row],[Column15]]","v":0},"",{"$f":"(K80/Instructions!$C$23)*100","v":0},{"$f":"(L80/Instructions!$C$24)*100","v":0},{"$f":"(Y80/Instructions!$C$25)*100","v":0},{"$f":"(AA80/Instructions!$C$27)*100","v":0},{"$f":"(AC80/Instructions!$C$29)*100","v":0},{"$f":"(V80/Instructions!$C$33)*100","v":0},{"$f":"(U80/Instructions!$C$32)*100","v":0},{"$f":"(W80/Instructions!$C$36)*100","v":{"$error":"#VALUE!"}},"","E","E","E","E","E","E","E","--",null,null,null,null,null,{"$f":"Table_2[[#This Row],[Column51]]&Table_2[[#This Row],[Column52]]&AW82","v":""}]
[80,null,null,null,null,null,null,null,null,null,null,null,null,null,null,null,null,null,null,null,null,null,"--",0,{"$f":"Table_2[[#This Row],[Column20]]+Table_2[[#This Row],[Column56]]","v":0},"",{"$f":"Table_2[[#This Row],[Column20]]+Table_2[[#This Row],[Column56]]","v":0},"",{"$f":"Table_2[[#This Row],[Column57]]+Table_2[[#This Row],[Column16]]+Table_2[[#This Row],[Column15]]","v":0},"",{"$f":"(K81/Instructions!$C$23)*100","v":0},{"$f":"(L81/Instructions!$C$24)*100","v":0},{"$f":"(Y81/Instructions!$C$25)*100","v":0},{"$f":"(AA81/Instructions!$C$27)*100","v":0},{"$f":"(AC81/Instructions!$C$29)*100","v":0},{"$f":"(V81/Instructions!$C$33)*100","v":0},{"$f":"(U81/Instructions!$C$32)*100","v":0},{"$f":"(W81/Instructions!$C$36)*100","v":{"$error":"#VALUE!"}},"","E","E","E","E","E","E","E","--",null,null,null,null,null,{"$f":"Table_2[[#This Row],[Column51]]&Table_2[[#This Row],[Column52]]&AW83","v":""}]
[81,null,null,null,null,null,null,null,null,null,null,null,null,null,null,null,null,null,null,null,null,null,"--",0,{"$f":"Table_2[[#This Row],[Column20]]+Table_2[[#This Row],[Column56]]","v":0},"",{"$f":"Table_2[[#This Row],[Column20]]+Table_2[[#This Row],[Column56]]","v":0},"",{"$f":"Table_2[[#This Row],[Column57]]+Table_2[[#This Row],[Column16]]+Table_2[[#This Row],[Column15]]","v":0},"",{"$f":"(K82/Instructions!$C$23)*100","v":0},{"$f":"(L82/Instructions!$C$24)*100","v":0},{"$f":"(Y82/Instructions!$C$25)*100","v":0},{"$f":"(AA82/Instructions!$C$27)*100","v":0},{"$f":"(AC82/Instructions!$C$29)*100","v":0},{"$f":"(V82/Instructions!$C$33)*100","v":0},{"$f":"(U82/Instructions!$C$32)*100","v":0},{"$f":"(W82/Instructions!$C$36)*100","v":{"$error":"#VALUE!"}},"","E","E","E","E","E","E","E","--",null,null,null,null,null,{"$f":"Table_2[[#This Row],[Column51]]&Table_2[[#This Row],[Column52]]&AW84","v":""}]
[82,null,null,null,null,null,null,null,null,null,null,null,null,null,null,null,null,null,null,null,null,null,"--",0,{"$f":"Table_2[[#This Row],[Column20]]+Table_2[[#This Row],[Column56]]","v":0},"",{"$f":"Table_2[[#This Row],[Column20]]+Table_2[[#This Row],[Column56]]","v":0},"",{"$f":"Table_2[[#This Row],[Column57]]+Table_2[[#This Row],[Column16]]+Table_2[[#This Row],[Column15]]","v":0},"",{"$f":"(K83/Instructions!$C$23)*100","v":0},{"$f":"(L83/Instructions!$C$24)*100","v":0},{"$f":"(Y83/Instructions!$C$25)*100","v":0},{"$f":"(AA83/Instructions!$C$27)*100","v":0},{"$f":"(AC83/Instructions!$C$29)*100","v":0},{"$f":"(V83/Instructions!$C$33)*100","v":0},{"$f":"(U83/Instructions!$C$32)*100","v":0},{"$f":"(W83/Instructions!$C$36)*100","v":{"$error":"#VALUE!"}},"","E","E","E","E","E","E","E","--",null,null,null,null,null,{"$f":"Table_2[[#This Row],[Column51]]&Table_2[[#This Row],[Column52]]&AW85","v":""}]
[83,null,null,null,null,null,null,null,null,null,null,null,null,null,null,null,null,null,null,null,null,null,"--",0,{"$f":"Table_2[[#This Row],[Column20]]+Table_2[[#This Row],[Column56]]","v":0},"",{"$f":"Table_2[[#This Row],[Column20]]+Table_2[[#This Row],[Column56]]","v":0},"",{"$f":"Table_2[[#This Row],[Column57]]+Table_2[[#This Row],[Column16]]+Table_2[[#This Row],[Column15]]","v":0},"",{"$f":"(K84/Instructions!$C$23)*100","v":0},{"$f":"(L84/Instructions!$C$24)*100","v":0},{"$f":"(Y84/Instructions!$C$25)*100","v":0},{"$f":"(AA84/Instructions!$C$27)*100","v":0},{"$f":"(AC84/Instructions!$C$29)*100","v":0},{"$f":"(V84/Instructions!$C$33)*100","v":0},{"$f":"(U84/Instructions!$C$32)*100","v":0},{"$f":"(W84/Instructions!$C$36)*100","v":{"$error":"#VALUE!"}},"","E","E","E","E","E","E","E","--",null,null,null,null,null,{"$f":"Table_2[[#This Row],[Column51]]&Table_2[[#This Row],[Column52]]&AW86","v":""}]
[84,null,null,null,null,null,null,null,null,null,null,null,null,null,null,null,null,null,null,null,null,null,"--",0,{"$f":"Table_2[[#This Row],[Column20]]+Table_2[[#This Row],[Column56]]","v":0},"",{"$f":"Table_2[[#This Row],[Column20]]+Table_2[[#This Row],[Column56]]","v":0},"",{"$f":"Table_2[[#This Row],[Column57]]+Table_2[[#This Row],[Column16]]+Table_2[[#This Row],[Column15]]","v":0},"",{"$f":"(K85/Instructions!$C$23)*100","v":0},{"$f":"(L85/Instructions!$C$24)*100","v":0},{"$f":"(Y85/Instructions!$C$25)*100","v":0},{"$f":"(AA85/Instructions!$C$27)*100","v":0},{"$f":"(AC85/Instructions!$C$29)*100","v":0},{"$f":"(V85/Instructions!$C$33)*100","v":0},{"$f":"(U85/Instructions!$C$32)*100","v":0},{"$f":"(W85/Instructions!$C$36)*100","v":{"$error":"#VALUE!"}},"","E","E","E","E","E","E","E","--",null,null,null,null,null,{"$f":"Table_2[[#This Row],[Column51]]&Table_2[[#This Row],[Column52]]&AW87","v":""}]
[85,null,null,null,null,null,null,null,null,null,null,null,null,null,null,null,null,null,null,null,null,null,"--",0,{"$f":"Table_2[[#This Row],[Column20]]+Table_2[[#This Row],[Column56]]","v":0},"",{"$f":"Table_2[[#This Row],[Column20]]+Table_2[[#This Row],[Column56]]","v":0},"",{"$f":"Table_2[[#This Row],[Column57]]+Table_2[[#This Row],[Column16]]+Table_2[[#This Row],[Column15]]","v":0},"",{"$f":"(K86/Instructions!$C$23)*100","v":0},{"$f":"(L86/Instructions!$C$24)*100","v":0},{"$f":"(Y86/Instructions!$C$25)*100","v":0},{"$f":"(AA86/Instructions!$C$27)*100","v":0},{"$f":"(AC86/Instructions!$C$29)*100","v":0},{"$f":"(V86/Instructions!$C$33)*100","v":0},{"$f":"(U86/Instructions!$C$32)*100","v":0},{"$f":"(W86/Instructions!$C$36)*100","v":{"$error":"#VALUE!"}},"","E","E","E","E","E","E","E","--",null,null,null,null,null,{"$f":"Table_2[[#This Row],[Column51]]&Table_2[[#This Row],[Column52]]&AW88","v":""}]
[86,null,null,null,null,null,null,null,null,null,null,null,null,null,null,null,null,null,null,null,null,null,"--",0,{"$f":"Table_2[[#This Row],[Column20]]+Table_2[[#This Row],[Column56]]","v":0},"",{"$f":"Table_2[[#This Row],[Column20]]+Table_2[[#This Row],[Column56]]","v":0},"",{"$f":"Table_2[[#This Row],[Column57]]+Table_2[[#This Row],[Column16]]+Table_2[[#This Row],[Column15]]","v":0},"",{"$f":"(K87/Instructions!$C$23)*100","v":0},{"$f":"(L87/Instructions!$C$24)*100","v":0},{"$f":"(Y87/Instructions!$C$25)*100","v":0},{"$f":"(AA87/Instructions!$C$27)*100","v":0},{"$f":"(AC87/Instructions!$C$29)*100","v":0},{"$f":"(V87/Instructions!$C$33)*100","v":0},{"$f":"(U87/Instructions!$C$32)*100","v":0},{"$f":"(W87/Instructions!$C$36)*100","v":{"$error":"#VALUE!"}},"","E","E","E","E","E","E","E","--",null,null,null,null,null,{"$f":"Table_2[[#This Row],[Column51]]&Table_2[[#This Row],[Column52]]&AW89","v":""}]
[87,null,null,null,null,null,null,null,null,null,null,null,null,null,null,null,null,null,null,null,null,null,"--",0,{"$f":"Table_2[[#This Row],[Column20]]+Table_2[[#This Row],[Column56]]","v":0},"",{"$f":"Table_2[[#This Row],[Column20]]+Table_2[[#This Row],[Column56]]","v":0},"",{"$f":"Table_2[[#This Row],[Column57]]+Table_2[[#This Row],[Column16]]+Table_2[[#This Row],[Column15]]","v":0},"",{"$f":"(K88/Instructions!$C$23)*100","v":0},{"$f":"(L88/Instructions!$C$24)*100","v":0},{"$f":"(Y88/Instructions!$C$25)*100","v":0},{"$f":"(AA88/Instructions!$C$27)*100","v":0},{"$f":"(AC88/Instructions!$C$29)*100","v":0},{"$f":"(V88/Instructions!$C$33)*100","v":0},{"$f":"(U88/Instructions!$C$32)*100","v":0},{"$f":"(W88/Instructions!$C$36)*100","v":{"$error":"#VALUE!"}},"","E","E","E","E","E","E","E","--",null,null,null,null,null,{"$f":"Table_2[[#This Row],[Column51]]&Table_2[[#This Row],[Column52]]&AW90","v":""}]
[88,null,null,null,null,null,null,null,null,null,null,null,null,null,null,null,null,null,null,null,null,null,"--",0,{"$f":"Table_2[[#This Row],[Column20]]+Table_2[[#This Row],[Column56]]","v":0},"",{"$f":"Table_2[[#This Row],[Column20]]+Table_2[[#This Row],[Column56]]","v":0},"",{"$f":"Table_2[[#This Row],[Column57]]+Table_2[[#This Row],[Column16]]+Table_2[[#This Row],[Column15]]","v":0},"",{"$f":"(K89/Instructions!$C$23)*100","v":0},{"$f":"(L89/Instructions!$C$24)*100","v":0},{"$f":"(Y89/Instructions!$C$25)*100","v":0},{"$f":"(AA89/Instructions!$C$27)*100","v":0},{"$f":"(AC89/Instructions!$C$29)*100","v":0},{"$f":"(V89/Instructions!$C$33)*100","v":0},{"$f":"(U89/Instructions!$C$32)*100","v":0},{"$f":"(W89/Instructions!$C$36)*100","v":{"$error":"#VALUE!"}},"","E","E","E","E","E","E","E","--",null,null,null,null,null,{"$f":"Table_2[[#This Row],[Column51]]&Table_2[[#This Row],[Column52]]&AW91","v":""}]
[89,null,null,null,null,null,null,null,null,null,null,null,null,null,null,null,null,null,null,null,null,null,"--",0,{"$f":"Table_2[[#This Row],[Column20]]+Table_2[[#This Row],[Column56]]","v":0},"",{"$f":"Table_2[[#This Row],[Column20]]+Table_2[[#This Row],[Column56]]","v":0},"",{"$f":"Table_2[[#This Row],[Column57]]+Table_2[[#This Row],[Column16]]+Table_2[[#This Row],[Column15]]","v":0},"",{"$f":"(K90/Instructions!$C$23)*100","v":0},{"$f":"(L90/Instructions!$C$24)*100","v":0},{"$f":"(Y90/Instructions!$C$25)*100","v":0},{"$f":"(AA90/Instructions!$C$27)*100","v":0},{"$f":"(AC90/Instructions!$C$29)*100","v":0},{"$f":"(V90/Instructions!$C$33)*100","v":0},{"$f":"(U90/Instructions!$C$32)*100","v":0},{"$f":"(W90/Instructions!$C$36)*100","v":{"$error":"#VALUE!"}},"","E","E","E","E","E","E","E","--",null,null,null,null,null,{"$f":"Table_2[[#This Row],[Column51]]&Table_2[[#This Row],[Column52]]&AW92","v":""}]
[90,null,null,null,null,null,null,null,null,null,null,null,null,null,null,null,null,null,null,null,null,null,"--",0,{"$f":"Table_2[[#This Row],[Column20]]+Table_2[[#This Row],[Column56]]","v":0},"",{"$f":"Table_2[[#This Row],[Column20]]+Table_2[[#This Row],[Column56]]","v":0},"",{"$f":"Table_2[[#This Row],[Column57]]+Table_2[[#This Row],[Column16]]+Table_2[[#This Row],[Column15]]","v":0},"",{"$f":"(K91/Instructions!$C$23)*100","v":0},{"$f":"(L91/Instructions!$C$24)*100","v":0},{"$f":"(Y91/Instructions!$C$25)*100","v":0},{"$f":"(AA91/Instructions!$C$27)*100","v":0},{"$f":"(AC91/Instructions!$C$29)*100","v":0},{"$f":"(V91/Instructions!$C$33)*100","v":0},{"$f":"(U91/Instructions!$C$32)*100","v":0},{"$f":"(W91/Instructions!$C$36)*100","v":{"$error":"#VALUE!"}},"","E","E","E","E","E","E","E","--",null,null,null,null,null,{"$f":"Table_2[[#This Row],[Column51]]&Table_2[[#This Row],[Column52]]&AW93","v":""}]
[91,null,null,null,null,null,null,null,null,null,null,null,null,null,null,null,null,null,null,null,null,null,"--",0,{"$f":"Table_2[[#This Row],[Column20]]+Table_2[[#This Row],[Column56]]","v":0},"",{"$f":"Table_2[[#This Row],[Column20]]+Table_2[[#This Row],[Column56]]","v":0},"",{"$f":"Table_2[[#This Row],[Column57]]+Table_2[[#This Row],[Column16]]+Table_2[[#This Row],[Column15]]","v":0},"",{"$f":"(K92/Instructions!$C$23)*100","v":0},{"$f":"(L92/Instructions!$C$24)*100","v":0},{"$f":"(Y92/Instructions!$C$25)*100","v":0},{"$f":"(AA92/Instructions!$C$27)*100","v":0},{"$f":"(AC92/Instructions!$C$29)*100","v":0},{"$f":"(V92/Instructions!$C$33)*100","v":0},{"$f":"(U92/Instructions!$C$32)*100","v":0},{"$f":"(W92/Instructions!$C$36)*100","v":{"$error":"#VALUE!"}},"","E","E","E","E","E","E","E","--",null,null,null,null,null,{"$f":"Table_2[[#This Row],[Column51]]&Table_2[[#This Row],[Column52]]&AW94","v":""}]
[92,null,null,null,null,null,null,null,null,null,null,null,null,null,null,null,null,null,null,null,null,null,"--",0,{"$f":"Table_2[[#This Row],[Column20]]+Table_2[[#This Row],[Column56]]","v":0},"",{"$f":"Table_2[[#This Row],[Column20]]+Table_2[[#This Row],[Column56]]","v":0},"",{"$f":"Table_2[[#This Row],[Column57]]+Table_2[[#This Row],[Column16]]+Table_2[[#This Row],[Column15]]","v":0},"",{"$f":"(K93/Instructions!$C$23)*100","v":0},{"$f":"(L93/Instructions!$C$24)*100","v":0},{"$f":"(Y93/Instructions!$C$25)*100","v":0},{"$f":"(AA93/Instructions!$C$27)*100","v":0},{"$f":"(AC93/Instructions!$C$29)*100","v":0},{"$f":"(V93/Instructions!$C$33)*100","v":0},{"$f":"(U93/Instructions!$C$32)*100","v":0},{"$f":"(W93/Instructions!$C$36)*100","v":{"$error":"#VALUE!"}},"","E","E","E","E","E","E","E","--",null,null,null,null,null,{"$f":"Table_2[[#This Row],[Column51]]&Table_2[[#This Row],[Column52]]&AW95","v":""}]
[93,null,null,null,null,null,null,null,null,null,null,null,null,null,null,null,null,null,null,null,null,null,"--",0,{"$f":"Table_2[[#This Row],[Column20]]+Table_2[[#This Row],[Column56]]","v":0},"",{"$f":"Table_2[[#This Row],[Column20]]+Table_2[[#This Row],[Column56]]","v":0},"",{"$f":"Table_2[[#This Row],[Column57]]+Table_2[[#This Row],[Column16]]+Table_2[[#This Row],[Column15]]","v":0},"",{"$f":"(K94/Instructions!$C$23)*100","v":0},{"$f":"(L94/Instructions!$C$24)*100","v":0},{"$f":"(Y94/Instructions!$C$25)*100","v":0},{"$f":"(AA94/Instructions!$C$27)*100","v":0},{"$f":"(AC94/Instructions!$C$29)*100","v":0},{"$f":"(V94/Instructions!$C$33)*100","v":0},{"$f":"(U94/Instructions!$C$32)*100","v":0},{"$f":"(W94/Instructions!$C$36)*100","v":{"$error":"#VALUE!"}},"","E","E","E","E","E","E","E","--",null,null,null,null,null,{"$f":"Table_2[[#This Row],[Column51]]&Table_2[[#This Row],[Column52]]&AW96","v":""}]
[94,null,null,null,null,null,null,null,null,null,null,null,null,null,null,null,null,null,null,null,null,null,"--",0,{"$f":"Table_2[[#This Row],[Column20]]+Table_2[[#This Row],[Column56]]","v":0},"",{"$f":"Table_2[[#This Row],[Column20]]+Table_2[[#This Row],[Column56]]","v":0},"",{"$f":"Table_2[[#This Row],[Column57]]+Table_2[[#This Row],[Column16]]+Table_2[[#This Row],[Column15]]","v":0},"",{"$f":"(K95/Instructions!$C$23)*100","v":0},{"$f":"(L95/Instructions!$C$24)*100","v":0},{"$f":"(Y95/Instructions!$C$25)*100","v":0},{"$f":"(AA95/Instructions!$C$27)*100","v":0},{"$f":"(AC95/Instructions!$C$29)*100","v":0},{"$f":"(V95/Instructions!$C$33)*100","v":0},{"$f":"(U95/Instructions!$C$32)*100","v":0},{"$f":"(W95/Instructions!$C$36)*100","v":{"$error":"#VALUE!"}},"","E","E","E","E","E","E","E","--",null,null,null,null,null,{"$f":"Table_2[[#This Row],[Column51]]&Table_2[[#This Row],[Column52]]&AW97","v":""}]
[95,null,null,null,null,null,null,null,null,null,null,null,null,null,null,null,null,null,null,null,null,null,"--",0,{"$f":"Table_2[[#This Row],[Column20]]+Table_2[[#This Row],[Column56]]","v":0},"",{"$f":"Table_2[[#This Row],[Column20]]+Table_2[[#This Row],[Column56]]","v":0},"",{"$f":"Table_2[[#This Row],[Column57]]+Table_2[[#This Row],[Column16]]+Table_2[[#This Row],[Column15]]","v":0},"",{"$f":"(K96/Instructions!$C$23)*100","v":0},{"$f":"(L96/Instructions!$C$24)*100","v":0},{"$f":"(Y96/Instructions!$C$25)*100","v":0},{"$f":"(AA96/Instructions!$C$27)*100","v":0},{"$f":"(AC96/Instructions!$C$29)*100","v":0},{"$f":"(V96/Instructions!$C$33)*100","v":0},{"$f":"(U96/Instructions!$C$32)*100","v":0},{"$f":"(W96/Instructions!$C$36)*100","v":{"$error":"#VALUE!"}},"","E","E","E","E","E","E","E","--",null,null,null,null,null,{"$f":"Table_2[[#This Row],[Column51]]&Table_2[[#This Row],[Column52]]&AW98","v":""}]
[96,null,null,null,null,null,null,null,null,null,null,null,null,null,null,null,null,null,null,null,null,null,"--",0,{"$f":"Table_2[[#This Row],[Column20]]+Table_2[[#This Row],[Column56]]","v":0},"",{"$f":"Table_2[[#This Row],[Column20]]+Table_2[[#This Row],[Column56]]","v":0},"",{"$f":"Table_2[[#This Row],[Column57]]+Table_2[[#This Row],[Column16]]+Table_2[[#This Row],[Column15]]","v":0},"",{"$f":"(K97/Instructions!$C$23)*100","v":0},{"$f":"(L97/Instructions!$C$24)*100","v":0},{"$f":"(Y97/Instructions!$C$25)*100","v":0},{"$f":"(AA97/Instructions!$C$27)*100","v":0},{"$f":"(AC97/Instructions!$C$29)*100","v":0},{"$f":"(V97/Instructions!$C$33)*100","v":0},{"$f":"(U97/Instructions!$C$32)*100","v":0},{"$f":"(W97/Instructions!$C$36)*100","v":{"$error":"#VALUE!"}},"","E","E","E","E","E","E","E","--",null,null,null,null,null,{"$f":"Table_2[[#This Row],[Column51]]&Table_2[[#This Row],[Column52]]&AW99","v":""}]
[97,null,null,null,null,null,null,null,null,null,null,null,null,null,null,null,null,null,null,null,null,null,"--",0,{"$f":"Table_2[[#This Row],[Column20]]+Table_2[[#This Row],[Column56]]","v":0},"",{"$f":"Table_2[[#This Row],[Column20]]+Table_2[[#This Row],[Column56]]","v":0},"",{"$f":"Table_2[[#This Row],[Column57]]+Table_2[[#This Row],[Column16]]+Table_2[[#This Row],[Column15]]","v":0},"",{"$f":"(K98/Instructions!$C$23)*100","v":0},{"$f":"(L98/Instructions!$C$24)*100","v":0},{"$f":"(Y98/Instructions!$C$25)*100","v":0},{"$f":"(AA98/Instructions!$C$27)*100","v":0},{"$f":"(AC98/Instructions!$C$29)*100","v":0},{"$f":"(V98/Instructions!$C$33)*100","v":0},{"$f":"(U98/Instructions!$C$32)*100","v":0},{"$f":"(W98/Instructions!$C$36)*100","v":{"$error":"#VALUE!"}},"","E","E","E","E","E","E","E","--",null,null,null,null,null,{"$f":"Table_2[[#This Row],[Column51]]&Table_2[[#This Row],[Column52]]&AW100","v":""}]
[98,null,null,null,null,null,null,null,null,null,null,null,null,null,null,null,null,null,null,null,null,null,"--",0,{"$f":"Table_2[[#This Row],[Column20]]+Table_2[[#This Row],[Column56]]","v":0},"",{"$f":"Table_2[[#This Row],[Column20]]+Table_2[[#This Row],[Column56]]","v":0},"",{"$f":"Table_2[[#This Row],[Column57]]+Table_2[[#This Row],[Column16]]+Table_2[[#This Row],[Column15]]","v":0},"",{"$f":"(K99/Instructions!$C$23)*100","v":0},{"$f":"(L99/Instructions!$C$24)*100","v":0},{"$f":"(Y99/Instructions!$C$25)*100","v":0},{"$f":"(AA99/Instructions!$C$27)*100","v":0},{"$f":"(AC99/Instructions!$C$29)*100","v":0},{"$f":"(V99/Instructions!$C$33)*100","v":0},{"$f":"(U99/Instructions!$C$32)*100","v":0},{"$f":"(W99/Instructions!$C$36)*100","v":{"$error":"#VALUE!"}},"","E","E","E","E","E","E","E","--",null,null,null,null,null,{"$f":"Table_2[[#This Row],[Column51]]&Table_2[[#This Row],[Column52]]&AW101","v":""}]
[99,null,null,null,null,null,null,null,null,null,null,null,null,null,null,null,null,null,null,null,null,null,"--",0,{"$f":"Table_2[[#This Row],[Column20]]+Table_2[[#This Row],[Column56]]","v":0},"",{"$f":"Table_2[[#This Row],[Column20]]+Table_2[[#This Row],[Column56]]","v":0},"",{"$f":"Table_2[[#This Row],[Column57]]+Table_2[[#This Row],[Column16]]+Table_2[[#This Row],[Column15]]","v":0},"",{"$f":"(K100/Instructions!$C$23)*100","v":0},{"$f":"(L100/Instructions!$C$24)*100","v":0},{"$f":"(Y100/Instructions!$C$25)*100","v":0},{"$f":"(AA100/Instructions!$C$27)*100","v":0},{"$f":"(AC100/Instructions!$C$29)*100","v":0},{"$f":"(V100/Instructions!$C$33)*100","v":0},{"$f":"(U100/Instructions!$C$32)*100","v":0},{"$f":"(W100/Instructions!$C$36)*100","v":{"$error":"#VALUE!"}},"","E","E","E","E","E","E","E","--",null,null,null,null,null,{"$f":"Table_2[[#This Row],[Column51]]&Table_2[[#This Row],[Column52]]&AW102","v":""}]
[100,null,null,null,null,null,null,null,null,null,null,null,null,null,null,null,null,null,null,null,null,null,"--",0,{"$f":"Table_2[[#This Row],[Column20]]+Table_2[[#This Row],[Column56]]","v":0},"",{"$f":"Table_2[[#This Row],[Column20]]+Table_2[[#This Row],[Column56]]","v":0},"",{"$f":"Table_2[[#This Row],[Column57]]+Table_2[[#This Row],[Column16]]+Table_2[[#This Row],[Column15]]","v":0},"",{"$f":"(K101/Instructions!$C$23)*100","v":0},{"$f":"(L101/Instructions!$C$24)*100","v":0},{"$f":"(Y101/Instructions!$C$25)*100","v":0},{"$f":"(AA101/Instructions!$C$27)*100","v":0},{"$f":"(AC101/Instructions!$C$29)*100","v":0},{"$f":"(V101/Instructions!$C$33)*100","v":0},{"$f":"(U101/Instructions!$C$32)*100","v":0},{"$f":"(W101/Instructions!$C$36)*100","v":{"$error":"#VALUE!"}},"","E","E","E","E","E","E","E","--",null,null,null,null,null,{"$f":"Table_2[[#This Row],[Column51]]&Table_2[[#This Row],[Column52]]&AW103","v":""}]
[101,null,null,null,null,null,null,null,null,null,null,null,null,null,null,null,null,null,null,null,null,null,"--",0,{"$f":"Table_2[[#This Row],[Column20]]+Table_2[[#This Row],[Column56]]","v":0},"",{"$f":"Table_2[[#This Row],[Column20]]+Table_2[[#This Row],[Column56]]","v":0},"",{"$f":"Table_2[[#This Row],[Column57]]+Table_2[[#This Row],[Column16]]+Table_2[[#This Row],[Column15]]","v":0},"",{"$f":"(K102/Instructions!$C$23)*100","v":0},{"$f":"(L102/Instructions!$C$24)*100","v":0},{"$f":"(Y102/Instructions!$C$25)*100","v":0},{"$f":"(AA102/Instructions!$C$27)*100","v":0},{"$f":"(AC102/Instructions!$C$29)*100","v":0},{"$f":"(V102/Instructions!$C$33)*100","v":0},{"$f":"(U102/Instructions!$C$32)*100","v":0},{"$f":"(W102/Instructions!$C$36)*100","v":{"$error":"#VALUE!"}},"","E","E","E","E","E","E","E","--",null,null,null,null,null,{"$f":"Table_2[[#This Row],[Column51]]&Table_2[[#This Row],[Column52]]&AW104","v":""}]
[102,null,null,null,null,null,null,null,null,null,null,null,null,null,null,null,null,null,null,null,null,null,"--",0,{"$f":"Table_2[[#This Row],[Column20]]+Table_2[[#This Row],[Column56]]","v":0},"",{"$f":"Table_2[[#This Row],[Column20]]+Table_2[[#This Row],[Column56]]","v":0},"",{"$f":"Table_2[[#This Row],[Column57]]+Table_2[[#This Row],[Column16]]+Table_2[[#This Row],[Column15]]","v":0},"",{"$f":"(K103/Instructions!$C$23)*100","v":0},{"$f":"(L103/Instructions!$C$24)*100","v":0},{"$f":"(Y103/Instructions!$C$25)*100","v":0},{"$f":"(AA103/Instructions!$C$27)*100","v":0},{"$f":"(AC103/Instructions!$C$29)*100","v":0},{"$f":"(V103/Instructions!$C$33)*100","v":0},{"$f":"(U103/Instructions!$C$32)*100","v":0},{"$f":"(W103/Instructions!$C$36)*100","v":{"$error":"#VALUE!"}},"","E","E","E","E","E","E","E","--",null,null,null,null,null,{"$f":"Table_2[[#This Row],[Column51]]&Table_2[[#This Row],[Column52]]&AW105","v":""}]
[103,null,null,null,null,null,null,null,null,null,null,null,null,null,null,null,null,null,null,null,null,null,"--",0,{"$f":"Table_2[[#This Row],[Column20]]+Table_2[[#This Row],[Column56]]","v":0},"",{"$f":"Table_2[[#This Row],[Column20]]+Table_2[[#This Row],[Column56]]","v":0},"",{"$f":"Table_2[[#This Row],[Column57]]+Table_2[[#This Row],[Column16]]+Table_2[[#This Row],[Column15]]","v":0},"",{"$f":"(K104/Instructions!$C$23)*100","v":0},{"$f":"(L104/Instructions!$C$24)*100","v":0},{"$f":"(Y104/Instructions!$C$25)*100","v":0},{"$f":"(AA104/Instructions!$C$27)*100","v":0},{"$f":"(AC104/Instructions!$C$29)*100","v":0},{"$f":"(V104/Instructions!$C$33)*100","v":0},{"$f":"(U104/Instructions!$C$32)*100","v":0},{"$f":"(W104/Instructions!$C$36)*100","v":{"$error":"#VALUE!"}},"","E","E","E","E","E","E","E","--",null,null,null,null,null,{"$f":"Table_2[[#This Row],[Column51]]&Table_2[[#This Row],[Column52]]&AW106","v":""}]
[104,null,null,null,null,null,null,null,null,null,null,null,null,null,null,null,null,null,null,null,null,null,"--",0,{"$f":"Table_2[[#This Row],[Column20]]+Table_2[[#This Row],[Column56]]","v":0},"",{"$f":"Table_2[[#This Row],[Column20]]+Table_2[[#This Row],[Column56]]","v":0},"",{"$f":"Table_2[[#This Row],[Column57]]+Table_2[[#This Row],[Column16]]+Table_2[[#This Row],[Column15]]","v":0},"",{"$f":"(K105/Instructions!$C$23)*100","v":0},{"$f":"(L105/Instructions!$C$24)*100","v":0},{"$f":"(Y105/Instructions!$C$25)*100","v":0},{"$f":"(AA105/Instructions!$C$27)*100","v":0},{"$f":"(AC105/Instructions!$C$29)*100","v":0},{"$f":"(V105/Instructions!$C$33)*100","v":0},{"$f":"(U105/Instructions!$C$32)*100","v":0},{"$f":"(W105/Instructions!$C$36)*100","v":{"$error":"#VALUE!"}},"","E","E","E","E","E","E","E","--",null,null,null,null,null,{"$f":"Table_2[[#This Row],[Column51]]&Table_2[[#This Row],[Column52]]&AW107","v":""}]
[105,null,null,null,null,null,null,null,null,null,null,null,null,null,null,null,null,null,null,null,null,null,"--",0,{"$f":"Table_2[[#This Row],[Column20]]+Table_2[[#This Row],[Column56]]","v":0},"",{"$f":"Table_2[[#This Row],[Column20]]+Table_2[[#This Row],[Column56]]","v":0},"",{"$f":"Table_2[[#This Row],[Column57]]+Table_2[[#This Row],[Column16]]+Table_2[[#This Row],[Column15]]","v":0},"",{"$f":"(K106/Instructions!$C$23)*100","v":0},{"$f":"(L106/Instructions!$C$24)*100","v":0},{"$f":"(Y106/Instructions!$C$25)*100","v":0},{"$f":"(AA106/Instructions!$C$27)*100","v":0},{"$f":"(AC106/Instructions!$C$29)*100","v":0},{"$f":"(V106/Instructions!$C$33)*100","v":0},{"$f":"(U106/Instructions!$C$32)*100","v":0},{"$f":"(W106/Instructions!$C$36)*100","v":{"$error":"#VALUE!"}},"","E","E","E","E","E","E","E","--",null,null,null,null,null,{"$f":"Table_2[[#This Row],[Column51]]&Table_2[[#This Row],[Column52]]&AW108","v":""}]
[106,null,null,null,null,null,null,null,null,null,null,null,null,null,null,null,null,null,null,null,null,null,"--",0,{"$f":"Table_2[[#This Row],[Column20]]+Table_2[[#This Row],[Column56]]","v":0},"",{"$f":"Table_2[[#This Row],[Column20]]+Table_2[[#This Row],[Column56]]","v":0},"",{"$f":"Table_2[[#This Row],[Column57]]+Table_2[[#This Row],[Column16]]+Table_2[[#This Row],[Column15]]","v":0},"",{"$f":"(K107/Instructions!$C$23)*100","v":0},{"$f":"(L107/Instructions!$C$24)*100","v":0},{"$f":"(Y107/Instructions!$C$25)*100","v":0},{"$f":"(AA107/Instructions!$C$27)*100","v":0},{"$f":"(AC107/Instructions!$C$29)*100","v":0},{"$f":"(V107/Instructions!$C$33)*100","v":0},{"$f":"(U107/Instructions!$C$32)*100","v":0},{"$f":"(W107/Instructions!$C$36)*100","v":{"$error":"#VALUE!"}},"","E","E","E","E","E","E","E","--",null,null,null,null,null,{"$f":"Table_2[[#This Row],[Column51]]&Table_2[[#This Row],[Column52]]&AW109","v":""}]
[107,null,null,null,null,null,null,null,null,null,null,null,null,null,null,null,null,null,null,null,null,null,"--",0,{"$f":"Table_2[[#This Row],[Column20]]+Table_2[[#This Row],[Column56]]","v":0},"",{"$f":"Table_2[[#This Row],[Column20]]+Table_2[[#This Row],[Column56]]","v":0},"",{"$f":"Table_2[[#This Row],[Column57]]+Table_2[[#This Row],[Column16]]+Table_2[[#This Row],[Column15]]","v":0},"",{"$f":"(K108/Instructions!$C$23)*100","v":0},{"$f":"(L108/Instructions!$C$24)*100","v":0},{"$f":"(Y108/Instructions!$C$25)*100","v":0},{"$f":"(AA108/Instructions!$C$27)*100","v":0},{"$f":"(AC108/Instructions!$C$29)*100","v":0},{"$f":"(V108/Instructions!$C$33)*100","v":0},{"$f":"(U108/Instructions!$C$32)*100","v":0},{"$f":"(W108/Instructions!$C$36)*100","v":{"$error":"#VALUE!"}},"","E","E","E","E","E","E","E","--",null,null,null,null,null,{"$f":"Table_2[[#This Row],[Column51]]&Table_2[[#This Row],[Column52]]&AW110","v":""}]
[108,null,null,null,null,null,null,null,null,null,null,null,null,null,null,null,null,null,null,null,null,null,"--",0,{"$f":"Table_2[[#This Row],[Column20]]+Table_2[[#This Row],[Column56]]","v":0},"",{"$f":"Table_2[[#This Row],[Column20]]+Table_2[[#This Row],[Column56]]","v":0},"",{"$f":"Table_2[[#This Row],[Column57]]+Table_2[[#This Row],[Column16]]+Table_2[[#This Row],[Column15]]","v":0},"",{"$f":"(K109/Instructions!$C$23)*100","v":0},{"$f":"(L109/Instructions!$C$24)*100","v":0},{"$f":"(Y109/Instructions!$C$25)*100","v":0},{"$f":"(AA109/Instructions!$C$27)*100","v":0},{"$f":"(AC109/Instructions!$C$29)*100","v":0},{"$f":"(V109/Instructions!$C$33)*100","v":0},{"$f":"(U109/Instructions!$C$32)*100","v":0},{"$f":"(W109/Instructions!$C$36)*100","v":{"$error":"#VALUE!"}},"","E","E","E","E","E","E","E","--",null,null,null,null,null,{"$f":"Table_2[[#This Row],[Column51]]&Table_2[[#This Row],[Column52]]&AW111","v":""}]
[109,null,null,null,null,null,null,null,null,null,null,null,null,null,null,null,null,null,null,null,null,null,"--",0,{"$f":"Table_2[[#This Row],[Column20]]+Table_2[[#This Row],[Column56]]","v":0},"",{"$f":"Table_2[[#This Row],[Column20]]+Table_2[[#This Row],[Column56]]","v":0},"",{"$f":"Table_2[[#This Row],[Column57]]+Table_2[[#This Row],[Column16]]+Table_2[[#This Row],[Column15]]","v":0},"",{"$f":"(K110/Instructions!$C$23)*100","v":0},{"$f":"(L110/Instructions!$C$24)*100","v":0},{"$f":"(Y110/Instructions!$C$25)*100","v":0},{"$f":"(AA110/Instructions!$C$27)*100","v":0},{"$f":"(AC110/Instructions!$C$29)*100","v":0},{"$f":"(V110/Instructions!$C$33)*100","v":0},{"$f":"(U110/Instructions!$C$32)*100","v":0},{"$f":"(W110/Instructions!$C$36)*100","v":{"$error":"#VALUE!"}},"","E","E","E","E","E","E","E","--",null,null,null,null,null,{"$f":"Table_2[[#This Row],[Column51]]&Table_2[[#This Row],[Column52]]&AW112","v":""}]
[110,null,null,null,null,null,null,null,null,null,null,null,null,null,null,null,null,null,null,null,null,null,"--",0,{"$f":"Table_2[[#This Row],[Column20]]+Table_2[[#This Row],[Column56]]","v":0},"",{"$f":"Table_2[[#This Row],[Column20]]+Table_2[[#This Row],[Column56]]","v":0},"",{"$f":"Table_2[[#This Row],[Column57]]+Table_2[[#This Row],[Column16]]+Table_2[[#This Row],[Column15]]","v":0},"",{"$f":"(K111/Instructions!$C$23)*100","v":0},{"$f":"(L111/Instructions!$C$24)*100","v":0},{"$f":"(Y111/Instructions!$C$25)*100","v":0},{"$f":"(AA111/Instructions!$C$27)*100","v":0},{"$f":"(AC111/Instructions!$C$29)*100","v":0},{"$f":"(V111/Instructions!$C$33)*100","v":0},{"$f":"(U111/Instructions!$C$32)*100","v":0},{"$f":"(W111/Instructions!$C$36)*100","v":{"$error":"#VALUE!"}},"","E","E","E","E","E","E","E","--",null,null,null,null,null,{"$f":"Table_2[[#This Row],[Column51]]&Table_2[[#This Row],[Column52]]&AW113","v":""}]
[111,null,null,null,null,null,null,null,null,null,null,null,null,null,null,null,null,null,null,null,null,null,"--",0,{"$f":"Table_2[[#This Row],[Column20]]+Table_2[[#This Row],[Column56]]","v":0},"",{"$f":"Table_2[[#This Row],[Column20]]+Table_2[[#This Row],[Column56]]","v":0},"",{"$f":"Table_2[[#This Row],[Column57]]+Table_2[[#This Row],[Column16]]+Table_2[[#This Row],[Column15]]","v":0},"",{"$f":"(K112/Instructions!$C$23)*100","v":0},{"$f":"(L112/Instructions!$C$24)*100","v":0},{"$f":"(Y112/Instructions!$C$25)*100","v":0},{"$f":"(AA112/Instructions!$C$27)*100","v":0},{"$f":"(AC112/Instructions!$C$29)*100","v":0},{"$f":"(V112/Instructions!$C$33)*100","v":0},{"$f":"(U112/Instructions!$C$32)*100","v":0},{"$f":"(W112/Instructions!$C$36)*100","v":{"$error":"#VALUE!"}},"","E","E","E","E","E","E","E","--",null,null,null,null,null,{"$f":"Table_2[[#This Row],[Column51]]&Table_2[[#This Row],[Column52]]&AW114","v":""}]
[112,null,null,null,null,null,null,null,null,null,null,null,null,null,null,null,null,null,null,null,null,null,"--",0,{"$f":"Table_2[[#This Row],[Column20]]+Table_2[[#This Row],[Column56]]","v":0},"",{"$f":"Table_2[[#This Row],[Column20]]+Table_2[[#This Row],[Column56]]","v":0},"",{"$f":"Table_2[[#This Row],[Column57]]+Table_2[[#This Row],[Column16]]+Table_2[[#This Row],[Column15]]","v":0},"",{"$f":"(K113/Instructions!$C$23)*100","v":0},{"$f":"(L113/Instructions!$C$24)*100","v":0},{"$f":"(Y113/Instructions!$C$25)*100","v":0},{"$f":"(AA113/Instructions!$C$27)*100","v":0},{"$f":"(AC113/Instructions!$C$29)*100","v":0},{"$f":"(V113/Instructions!$C$33)*100","v":0},{"$f":"(U113/Instructions!$C$32)*100","v":0},{"$f":"(W113/Instructions!$C$36)*100","v":{"$error":"#VALUE!"}},"","E","E","E","E","E","E","E","--",null,null,null,null,null,{"$f":"Table_2[[#This Row],[Column51]]&Table_2[[#This Row],[Column52]]&AW115","v":""}]
[113,null,null,null,null,null,null,null,null,null,null,null,null,null,null,null,null,null,null,null,null,null,"--",0,{"$f":"Table_2[[#This Row],[Column20]]+Table_2[[#This Row],[Column56]]","v":0},"",{"$f":"Table_2[[#This Row],[Column20]]+Table_2[[#This Row],[Column56]]","v":0},"",{"$f":"Table_2[[#This Row],[Column57]]+Table_2[[#This Row],[Column16]]+Table_2[[#This Row],[Column15]]","v":0},"",{"$f":"(K114/Instructions!$C$23)*100","v":0},{"$f":"(L114/Instructions!$C$24)*100","v":0},{"$f":"(Y114/Instructions!$C$25)*100","v":0},{"$f":"(AA114/Instructions!$C$27)*100","v":0},{"$f":"(AC114/Instructions!$C$29)*100","v":0},{"$f":"(V114/Instructions!$C$33)*100","v":0},{"$f":"(U114/Instructions!$C$32)*100","v":0},{"$f":"(W114/Instructions!$C$36)*100","v":{"$error":"#VALUE!"}},"","E","E","E","E","E","E","E","--",null,null,null,null,null,{"$f":"Table_2[[#This Row],[Column51]]&Table_2[[#This Row],[Column52]]&AW116","v":""}]
[114,null,null,null,null,null,null,null,null,null,null,null,null,null,null,null,null,null,null,null,null,null,"--",0,{"$f":"Table_2[[#This Row],[Column20]]+Table_2[[#This Row],[Column56]]","v":0},"",{"$f":"Table_2[[#This Row],[Column20]]+Table_2[[#This Row],[Column56]]","v":0},"",{"$f":"Table_2[[#This Row],[Column57]]+Table_2[[#This Row],[Column16]]+Table_2[[#This Row],[Column15]]","v":0},"",{"$f":"(K115/Instructions!$C$23)*100","v":0},{"$f":"(L115/Instructions!$C$24)*100","v":0},{"$f":"(Y115/Instructions!$C$25)*100","v":0},{"$f":"(AA115/Instructions!$C$27)*100","v":0},{"$f":"(AC115/Instructions!$C$29)*100","v":0},{"$f":"(V115/Instructions!$C$33)*100","v":0},{"$f":"(U115/Instructions!$C$32)*100","v":0},{"$f":"(W115/Instructions!$C$36)*100","v":{"$error":"#VALUE!"}},"","E","E","E","E","E","E","E","--",null,null,null,null,null,{"$f":"Table_2[[#This Row],[Column51]]&Table_2[[#This Row],[Column52]]&AW117","v":""}]
[115,null,null,null,null,null,null,null,null,null,null,null,null,null,null,null,null,null,null,null,null,null,"--",0,{"$f":"Table_2[[#This Row],[Column20]]+Table_2[[#This Row],[Column56]]","v":0},"",{"$f":"Table_2[[#This Row],[Column20]]+Table_2[[#This Row],[Column56]]","v":0},"",{"$f":"Table_2[[#This Row],[Column57]]+Table_2[[#This Row],[Column16]]+Table_2[[#This Row],[Column15]]","v":0},"",{"$f":"(K116/Instructions!$C$23)*100","v":0},{"$f":"(L116/Instructions!$C$24)*100","v":0},{"$f":"(Y116/Instructions!$C$25)*100","v":0},{"$f":"(AA116/Instructions!$C$27)*100","v":0},{"$f":"(AC116/Instructions!$C$29)*100","v":0},{"$f":"(V116/Instructions!$C$33)*100","v":0},{"$f":"(U116/Instructions!$C$32)*100","v":0},{"$f":"(W116/Instructions!$C$36)*100","v":{"$error":"#VALUE!"}},"","E","E","E","E","E","E","E","--",null,null,null,null,null,{"$f":"Table_2[[#This Row],[Column51]]&Table_2[[#This Row],[Column52]]&AW118","v":""}]
[116,null,null,null,null,null,null,null,null,null,null,null,null,null,null,null,null,null,null,null,null,null,"--",0,{"$f":"Table_2[[#This Row],[Column20]]+Table_2[[#This Row],[Column56]]","v":0},"",{"$f":"Table_2[[#This Row],[Column20]]+Table_2[[#This Row],[Column56]]","v":0},"",{"$f":"Table_2[[#This Row],[Column57]]+Table_2[[#This Row],[Column16]]+Table_2[[#This Row],[Column15]]","v":0},"",{"$f":"(K117/Instructions!$C$23)*100","v":0},{"$f":"(L117/Instructions!$C$24)*100","v":0},{"$f":"(Y117/Instructions!$C$25)*100","v":0},{"$f":"(AA117/Instructions!$C$27)*100","v":0},{"$f":"(AC117/Instructions!$C$29)*100","v":0},{"$f":"(V117/Instructions!$C$33)*100","v":0},{"$f":"(U117/Instructions!$C$32)*100","v":0},{"$f":"(W117/Instructions!$C$36)*100","v":{"$error":"#VALUE!"}},"","E","E","E","E","E","E","E","--",null,null,null,null,null,{"$f":"Table_2[[#This Row],[Column51]]&Table_2[[#This Row],[Column52]]&AW119","v":""}]
[117,null,null,null,null,null,null,null,null,null,null,null,null,null,null,null,null,null,null,null,null,null,"--",0,{"$f":"Table_2[[#This Row],[Column20]]+Table_2[[#This Row],[Column56]]","v":0},"",{"$f":"Table_2[[#This Row],[Column20]]+Table_2[[#This Row],[Column56]]","v":0},"",{"$f":"Table_2[[#This Row],[Column57]]+Table_2[[#This Row],[Column16]]+Table_2[[#This Row],[Column15]]","v":0},"",{"$f":"(K118/Instructions!$C$23)*100","v":0},{"$f":"(L118/Instructions!$C$24)*100","v":0},{"$f":"(Y118/Instructions!$C$25)*100","v":0},{"$f":"(AA118/Instructions!$C$27)*100","v":0},{"$f":"(AC118/Instructions!$C$29)*100","v":0},{"$f":"(V118/Instructions!$C$33)*100","v":0},{"$f":"(U118/Instructions!$C$32)*100","v":0},{"$f":"(W118/Instructions!$C$36)*100","v":{"$error":"#VALUE!"}},"","E","E","E","E","E","E","E","--",null,null,null,null,null,{"$f":"Table_2[[#This Row],[Column51]]&Table_2[[#This Row],[Column52]]&AW120","v":""}]
[118,null,null,null,null,null,null,null,null,null,null,null,null,null,null,null,null,null,null,null,null,null,"--",0,{"$f":"Table_2[[#This Row],[Column20]]+Table_2[[#This Row],[Column56]]","v":0},"",{"$f":"Table_2[[#This Row],[Column20]]+Table_2[[#This Row],[Column56]]","v":0},"",{"$f":"Table_2[[#This Row],[Column57]]+Table_2[[#This Row],[Column16]]+Table_2[[#This Row],[Column15]]","v":0},"",{"$f":"(K119/Instructions!$C$23)*100","v":0},{"$f":"(L119/Instructions!$C$24)*100","v":0},{"$f":"(Y119/Instructions!$C$25)*100","v":0},{"$f":"(AA119/Instructions!$C$27)*100","v":0},{"$f":"(AC119/Instructions!$C$29)*100","v":0},{"$f":"(V119/Instructions!$C$33)*100","v":0},{"$f":"(U119/Instructions!$C$32)*100","v":0},{"$f":"(W119/Instructions!$C$36)*100","v":{"$error":"#VALUE!"}},"","E","E","E","E","E","E","E","--",null,null,null,null,null,{"$f":"Table_2[[#This Row],[Column51]]&Table_2[[#This Row],[Column52]]&AW121","v":""}]
[119,null,null,null,null,null,null,null,null,null,null,null,null,null,null,null,null,null,null,null,null,null,"--",0,{"$f":"Table_2[[#This Row],[Column20]]+Table_2[[#This Row],[Column56]]","v":0},"",{"$f":"Table_2[[#This Row],[Column20]]+Table_2[[#This Row],[Column56]]","v":0},"",{"$f":"Table_2[[#This Row],[Column57]]+Table_2[[#This Row],[Column16]]+Table_2[[#This Row],[Column15]]","v":0},"",{"$f":"(K120/Instructions!$C$23)*100","v":0},{"$f":"(L120/Instructions!$C$24)*100","v":0},{"$f":"(Y120/Instructions!$C$25)*100","v":0},{"$f":"(AA120/Instructions!$C$27)*100","v":0},{"$f":"(AC120/Instructions!$C$29)*100","v":0},{"$f":"(V120/Instructions!$C$33)*100","v":0},{"$f":"(U120/Instructions!$C$32)*100","v":0},{"$f":"(W120/Instructions!$C$36)*100","v":{"$error":"#VALUE!"}},"","E","E","E","E","E","E","E","--",null,null,null,null,null,{"$f":"Table_2[[#This Row],[Column51]]&Table_2[[#This Row],[Column52]]&AW122","v":""}]
[120,null,null,null,null,null,null,null,null,null,null,null,null,null,null,null,null,null,null,null,null,null,"--",0,{"$f":"Table_2[[#This Row],[Column20]]+Table_2[[#This Row],[Column56]]","v":0},"",{"$f":"Table_2[[#This Row],[Column20]]+Table_2[[#This Row],[Column56]]","v":0},"",{"$f":"Table_2[[#This Row],[Column57]]+Table_2[[#This Row],[Column16]]+Table_2[[#This Row],[Column15]]","v":0},"",{"$f":"(K121/Instructions!$C$23)*100","v":0},{"$f":"(L121/Instructions!$C$24)*100","v":0},{"$f":"(Y121/Instructions!$C$25)*100","v":0},{"$f":"(AA121/Instructions!$C$27)*100","v":0},{"$f":"(AC121/Instructions!$C$29)*100","v":0},{"$f":"(V121/Instructions!$C$33)*100","v":0},{"$f":"(U121/Instructions!$C$32)*100","v":0},{"$f":"(W121/Instructions!$C$36)*100","v":{"$error":"#VALUE!"}},"","E","E","E","E","E","E","E","--",null,null,null,null,null,{"$f":"Table_2[[#This Row],[Column51]]&Table_2[[#This Row],[Column52]]&AW123","v":""}]
[121,null,null,null,null,null,null,null,null,null,null,null,null,null,null,null,null,null,null,null,null,null,"--",0,{"$f":"Table_2[[#This Row],[Column20]]+Table_2[[#This Row],[Column56]]","v":0},"",{"$f":"Table_2[[#This Row],[Column20]]+Table_2[[#This Row],[Column56]]","v":0},"",{"$f":"Table_2[[#This Row],[Column57]]+Table_2[[#This Row],[Column16]]+Table_2[[#This Row],[Column15]]","v":0},"",{"$f":"(K122/Instructions!$C$23)*100","v":0},{"$f":"(L122/Instructions!$C$24)*100","v":0},{"$f":"(Y122/Instructions!$C$25)*100","v":0},{"$f":"(AA122/Instructions!$C$27)*100","v":0},{"$f":"(AC122/Instructions!$C$29)*100","v":0},{"$f":"(V122/Instructions!$C$33)*100","v":0},{"$f":"(U122/Instructions!$C$32)*100","v":0},{"$f":"(W122/Instructions!$C$36)*100","v":{"$error":"#VALUE!"}},"","E","E","E","E","E","E","E","--",null,null,null,null,null,{"$f":"Table_2[[#This Row],[Column51]]&Table_2[[#This Row],[Column52]]&AW124","v":""}]
[122,null,null,null,null,null,null,null,null,null,null,null,null,null,null,null,null,null,null,null,null,null,"--",0,{"$f":"Table_2[[#This Row],[Column20]]+Table_2[[#This Row],[Column56]]","v":0},"",{"$f":"Table_2[[#This Row],[Column20]]+Table_2[[#This Row],[Column56]]","v":0},"",{"$f":"Table_2[[#This Row],[Column57]]+Table_2[[#This Row],[Column16]]+Table_2[[#This Row],[Column15]]","v":0},"",{"$f":"(K123/Instructions!$C$23)*100","v":0},{"$f":"(L123/Instructions!$C$24)*100","v":0},{"$f":"(Y123/Instructions!$C$25)*100","v":0},{"$f":"(AA123/Instructions!$C$27)*100","v":0},{"$f":"(AC123/Instructions!$C$29)*100","v":0},{"$f":"(V123/Instructions!$C$33)*100","v":0},{"$f":"(U123/Instructions!$C$32)*100","v":0},{"$f":"(W123/Instructions!$C$36)*100","v":{"$error":"#VALUE!"}},"","E","E","E","E","E","E","E","--",null,null,null,null,null,{"$f":"Table_2[[#This Row],[Column51]]&Table_2[[#This Row],[Column52]]&AW125","v":""}]
[123,null,null,null,null,null,null,null,null,null,null,null,null,null,null,null,null,null,null,null,null,null,"--",0,{"$f":"Table_2[[#This Row],[Column20]]+Table_2[[#This Row],[Column56]]","v":0},"",{"$f":"Table_2[[#This Row],[Column20]]+Table_2[[#This Row],[Column56]]","v":0},"",{"$f":"Table_2[[#This Row],[Column57]]+Table_2[[#This Row],[Column16]]+Table_2[[#This Row],[Column15]]","v":0},"",{"$f":"(K124/Instructions!$C$23)*100","v":0},{"$f":"(L124/Instructions!$C$24)*100","v":0},{"$f":"(Y124/Instructions!$C$25)*100","v":0},{"$f":"(AA124/Instructions!$C$27)*100","v":0},{"$f":"(AC124/Instructions!$C$29)*100","v":0},{"$f":"(V124/Instructions!$C$33)*100","v":0},{"$f":"(U124/Instructions!$C$32)*100","v":0},{"$f":"(W124/Instructions!$C$36)*100","v":{"$error":"#VALUE!"}},"","E","E","E","E","E","E","E","--",null,null,null,null,null,{"$f":"Table_2[[#This Row],[Column51]]&Table_2[[#This Row],[Column52]]&AW126","v":""}]
[124,null,null,null,null,null,null,null,null,null,null,null,null,null,null,null,null,null,null,null,null,null,"--",0,{"$f":"Table_2[[#This Row],[Column20]]+Table_2[[#This Row],[Column56]]","v":0},"",{"$f":"Table_2[[#This Row],[Column20]]+Table_2[[#This Row],[Column56]]","v":0},"",{"$f":"Table_2[[#This Row],[Column57]]+Table_2[[#This Row],[Column16]]+Table_2[[#This Row],[Column15]]","v":0},"",{"$f":"(K125/Instructions!$C$23)*100","v":0},{"$f":"(L125/Instructions!$C$24)*100","v":0},{"$f":"(Y125/Instructions!$C$25)*100","v":0},{"$f":"(AA125/Instructions!$C$27)*100","v":0},{"$f":"(AC125/Instructions!$C$29)*100","v":0},{"$f":"(V125/Instructions!$C$33)*100","v":0},{"$f":"(U125/Instructions!$C$32)*100","v":0},{"$f":"(W125/Instructions!$C$36)*100","v":{"$error":"#VALUE!"}},"","E","E","E","E","E","E","E","--",null,null,null,null,null,{"$f":"Table_2[[#This Row],[Column51]]&Table_2[[#This Row],[Column52]]&AW127","v":""}]
[125,null,null,null,null,null,null,null,null,null,null,null,null,null,null,null,null,null,null,null,null,null,"--",0,{"$f":"Table_2[[#This Row],[Column20]]+Table_2[[#This Row],[Column56]]","v":0},"",{"$f":"Table_2[[#This Row],[Column20]]+Table_2[[#This Row],[Column56]]","v":0},"",{"$f":"Table_2[[#This Row],[Column57]]+Table_2[[#This Row],[Column16]]+Table_2[[#This Row],[Column15]]","v":0},"",{"$f":"(K126/Instructions!$C$23)*100","v":0},{"$f":"(L126/Instructions!$C$24)*100","v":0},{"$f":"(Y126/Instructions!$C$25)*100","v":0},{"$f":"(AA126/Instructions!$C$27)*100","v":0},{"$f":"(AC126/Instructions!$C$29)*100","v":0},{"$f":"(V126/Instructions!$C$33)*100","v":0},{"$f":"(U126/Instructions!$C$32)*100","v":0},{"$f":"(W126/Instructions!$C$36)*100","v":{"$error":"#VALUE!"}},"","E","E","E","E","E","E","E","--",null,null,null,null,null,{"$f":"Table_2[[#This Row],[Column51]]&Table_2[[#This Row],[Column52]]&AW128","v":""}]
[126,null,null,null,null,null,null,null,null,null,null,null,null,null,null,null,null,null,null,null,null,null,"--",0,{"$f":"Table_2[[#This Row],[Column20]]+Table_2[[#This Row],[Column56]]","v":0},"",{"$f":"Table_2[[#This Row],[Column20]]+Table_2[[#This Row],[Column56]]","v":0},"",{"$f":"Table_2[[#This Row],[Column57]]+Table_2[[#This Row],[Column16]]+Table_2[[#This Row],[Column15]]","v":0},"",{"$f":"(K127/Instructions!$C$23)*100","v":0},{"$f":"(L127/Instructions!$C$24)*100","v":0},{"$f":"(Y127/Instructions!$C$25)*100","v":0},{"$f":"(AA127/Instructions!$C$27)*100","v":0},{"$f":"(AC127/Instructions!$C$29)*100","v":0},{"$f":"(V127/Instructions!$C$33)*100","v":0},{"$f":"(U127/Instructions!$C$32)*100","v":0},{"$f":"(W127/Instructions!$C$36)*100","v":{"$error":"#VALUE!"}},"","E","E","E","E","E","E","E","--",null,null,null,null,null,{"$f":"Table_2[[#This Row],[Column51]]&Table_2[[#This Row],[Column52]]&AW129","v":""}]
[127,null,null,null,null,null,null,null,null,null,null,null,null,null,null,null,null,null,null,null,null,null,"--",0,{"$f":"Table_2[[#This Row],[Column20]]+Table_2[[#This Row],[Column56]]","v":0},"",{"$f":"Table_2[[#This Row],[Column20]]+Table_2[[#This Row],[Column56]]","v":0},"",{"$f":"Table_2[[#This Row],[Column57]]+Table_2[[#This Row],[Column16]]+Table_2[[#This Row],[Column15]]","v":0},"",{"$f":"(K128/Instructions!$C$23)*100","v":0},{"$f":"(L128/Instructions!$C$24)*100","v":0},{"$f":"(Y128/Instructions!$C$25)*100","v":0},{"$f":"(AA128/Instructions!$C$27)*100","v":0},{"$f":"(AC128/Instructions!$C$29)*100","v":0},{"$f":"(V128/Instructions!$C$33)*100","v":0},{"$f":"(U128/Instructions!$C$32)*100","v":0},{"$f":"(W128/Instructions!$C$36)*100","v":{"$error":"#VALUE!"}},"","E","E","E","E","E","E","E","--",null,null,null,null,null,{"$f":"Table_2[[#This Row],[Column51]]&Table_2[[#This Row],[Column52]]&AW130","v":""}]
[128,null,null,null,null,null,null,null,null,null,null,null,null,null,null,null,null,null,null,null,null,null,"--",0,{"$f":"Table_2[[#This Row],[Column20]]+Table_2[[#This Row],[Column56]]","v":0},"",{"$f":"Table_2[[#This Row],[Column20]]+Table_2[[#This Row],[Column56]]","v":0},"",{"$f":"Table_2[[#This Row],[Column57]]+Table_2[[#This Row],[Column16]]+Table_2[[#This Row],[Column15]]","v":0},"",{"$f":"(K129/Instructions!$C$23)*100","v":0},{"$f":"(L129/Instructions!$C$24)*100","v":0},{"$f":"(Y129/Instructions!$C$25)*100","v":0},{"$f":"(AA129/Instructions!$C$27)*100","v":0},{"$f":"(AC129/Instructions!$C$29)*100","v":0},{"$f":"(V129/Instructions!$C$33)*100","v":0},{"$f":"(U129/Instructions!$C$32)*100","v":0},{"$f":"(W129/Instructions!$C$36)*100","v":{"$error":"#VALUE!"}},"","E","E","E","E","E","E","E","--",null,null,null,null,null,{"$f":"Table_2[[#This Row],[Column51]]&Table_2[[#This Row],[Column52]]&AW131","v":""}]
[129,null,null,null,null,null,null,null,null,null,null,null,null,null,null,null,null,null,null,null,null,null,"--",0,{"$f":"Table_2[[#This Row],[Column20]]+Table_2[[#This Row],[Column56]]","v":0},"",{"$f":"Table_2[[#This Row],[Column20]]+Table_2[[#This Row],[Column56]]","v":0},"",{"$f":"Table_2[[#This Row],[Column57]]+Table_2[[#This Row],[Column16]]+Table_2[[#This Row],[Column15]]","v":0},"",{"$f":"(K130/Instructions!$C$23)*100","v":0},{"$f":"(L130/Instructions!$C$24)*100","v":0},{"$f":"(Y130/Instructions!$C$25)*100","v":0},{"$f":"(AA130/Instructions!$C$27)*100","v":0},{"$f":"(AC130/Instructions!$C$29)*100","v":0},{"$f":"(V130/Instructions!$C$33)*100","v":0},{"$f":"(U130/Instructions!$C$32)*100","v":0},{"$f":"(W130/Instructions!$C$36)*100","v":{"$error":"#VALUE!"}},"","E","E","E","E","E","E","E","--",null,null,null,null,null,{"$f":"Table_2[[#This Row],[Column51]]&Table_2[[#This Row],[Column52]]&AW132","v":""}]
[130,null,null,null,null,null,null,null,null,null,null,null,null,null,null,null,null,null,null,null,null,null,{"$f":"IF(MIN(AE131:AI131)>=33,SUM(K131:T131),\"--\")","v":"--"},{"$f":"IF(W131=\"--\",0,W131)","v":0},{"$f":"Table_2[[#This Row],[Column20]]+Table_2[[#This Row],[Column56]]","v":0},{"$f":"IF(N131>0,$N$1,IF(O131>0,$O$1,\"\"))","v":""},{"$f":"Table_2[[#This Row],[Column20]]+Table_2[[#This Row],[Column56]]","v":0},{"$f":"IFERROR(IF(P131>0,$P$1,IF(Q131>0,$Q$1,\"\")),\"\")","v":""},{"$f":"Table_2[[#This Row],[Column57]]+Table_2[[#This Row],[Column16]]+Table_2[[#This Row],[Column15]]","v":0},{"$f":"IFERROR(IF(R131>0,$R$1,IF(S131>0,$S$1,IF(T131>0,$T$1,\"\"))),\"\")","v":""},{"$f":"(K131/Instructions!$C$23)*100","v":0},{"$f":"(L131/Instructions!$C$24)*100","v":0},{"$f":"(Y131/Instructions!$C$25)*100","v":0},{"$f":"(AA131/Instructions!$C$27)*100","v":0},{"$f":"(AC131/Instructions!$C$29)*100","v":0},{"$f":"(V131/Instructions!$C$33)*100","v":0},{"$f":"(U131/Instructions!$C$32)*100","v":0},{"$f":"(W131/Instructions!$C$36)*100","v":{"$error":"#VALUE!"}},{"$f":"IFERROR(IF(AL131>=33,\"PASS\",\"----\"),\"\")","v":""},{"$f":"IFERROR(IF(AE131>90,\"A+\",IF(AE131>80,\"A\",IF(AE131>70,\"B+\",IF(AE131>60,\"B\",IF(AE131>50,\"C+\",IF(AE131>40,\"C\",IF(AE131>=33,\"D\",\"E\"))))))),\"Abs\")","v":"E"},{"$f":"IFERROR(IF(AF131>90,\"A+\",IF(AF131>80,\"A\",IF(AF131>70,\"B+\",IF(AF131>60,\"B\",IF(AF131>50,\"C+\",IF(AF131>40,\"C\",IF(AF131>=33,\"D\",\"E\"))))))),\"Abs\")","v":"E"},{"$f":"IFERROR(IF(AG131>90,\"A+\",IF(AG131>80,\"A\",IF(AG131>70,\"B+\",IF(AG131>60,\"B\",IF(AG131>50,\"C+\",IF(AG131>40,\"C\",IF(AG131>=33,\"D\",\"E\"))))))),\"Abs\")","v":"E"},{"$f":"IFERROR(IF(AH131>90,\"A+\",IF(AH131>80,\"A\",IF(AH131>70,\"B+\",IF(AH131>60,\"B\",IF(AH131>50,\"C+\",IF(AH131>40,\"C\",IF(AH131>=33,\"D\",\"E\"))))))),\"Abs\")","v":"E"},{"$f":"IFERROR(IF(AI131>90,\"A+\",IF(AI131>80,\"A\",IF(AI131>70,\"B+\",IF(AI131>60,\"B\",IF(AI131>50,\"C+\",IF(AI131>40,\"C\",IF(AI131>=33,\"D\",\"E\"))))))),\"Abs\")","v":"E"},{"$f":"IFERROR(IF(AJ131>90,\"A+\",IF(AJ131>80,\"A\",IF(AJ131>70,\"B+\",IF(AJ131>60,\"B\",IF(AJ131>50,\"C+\",IF(AJ131>40,\"C\",IF(AJ131>=33,\"D\",\"E\"))))))),\"Abs\")","v":"E"},{"$f":"IFERROR(IF(AK131>90,\"A+\",IF(AK131>80,\"A\",IF(AK131>70,\"B+\",IF(AK131>60,\"B\",IF(AK131>50,\"C+\",IF(AK131>40,\"C\",IF(AK131>=33,\"D\",\"E\"))))))),\"Abs\")","v":"E"},{"$f":"IFERROR(IF(AL131>90,\"A+\",IF(AL131>80,\"A\",IF(AL131>70,\"B+\",IF(AL131>60,\"B\",IF(AL131>50,\"C+\",IF(AL131>40,\"C\",IF(AL131>=33,\"D\",\"E\"))))))),\"--\")","v":"--"},null,null,null,null,null,{"$f":"Table_2[[#This Row],[Column51]]&Table_2[[#This Row],[Column52]]&AW133","v":""}]
[131,null,null,null,null,null,null,null,null,null,null,null,null,null,null,null,null,null,null,null,null,null,"--",0,{"$f":"Table_2[[#This Row],[Column20]]+Table_2[[#This Row],[Column56]]","v":0},"",{"$f":"Table_2[[#This Row],[Column20]]+Table_2[[#This Row],[Column56]]","v":0},"",{"$f":"Table_2[[#This Row],[Column57]]+Table_2[[#This Row],[Column16]]+Table_2[[#This Row],[Column15]]","v":0},"",{"$f":"(K132/Instructions!$C$23)*100","v":0},{"$f":"(L132/Instructions!$C$24)*100","v":0},{"$f":"(Y132/Instructions!$C$25)*100","v":0},{"$f":"(AA132/Instructions!$C$27)*100","v":0},{"$f":"(AC132/Instructions!$C$29)*100","v":0},{"$f":"(V132/Instructions!$C$33)*100","v":0},{"$f":"(U132/Instructions!$C$32)*100","v":0},{"$f":"(W132/Instructions!$C$36)*100","v":{"$error":"#VALUE!"}},"","E","E","E","E","E","E","E","--",null,null,null,null,null,{"$f":"Table_2[[#This Row],[Column51]]&Table_2[[#This Row],[Column52]]&AW134","v":""}]
[132,null,null,null,null,null,null,null,null,null,null,null,null,null,null,null,null,null,null,null,null,null,"--",0,{"$f":"Table_2[[#This Row],[Column20]]+Table_2[[#This Row],[Column56]]","v":0},"",{"$f":"Table_2[[#This Row],[Column20]]+Table_2[[#This Row],[Column56]]","v":0},"",{"$f":"Table_2[[#This Row],[Column57]]+Table_2[[#This Row],[Column16]]+Table_2[[#This Row],[Column15]]","v":0},"",{"$f":"(K133/Instructions!$C$23)*100","v":0},{"$f":"(L133/Instructions!$C$24)*100","v":0},{"$f":"(Y133/Instructions!$C$25)*100","v":0},{"$f":"(AA133/Instructions!$C$27)*100","v":0},{"$f":"(AC133/Instructions!$C$29)*100","v":0},{"$f":"(V133/Instructions!$C$33)*100","v":0},{"$f":"(U133/Instructions!$C$32)*100","v":0},{"$f":"(W133/Instructions!$C$36)*100","v":{"$error":"#VALUE!"}},"","E","E","E","E","E","E","E","--",null,null,null,null,null,{"$f":"Table_2[[#This Row],[Column51]]&Table_2[[#This Row],[Column52]]&AW135","v":""}]
[133,null,null,null,null,null,null,null,null,null,null,null,null,null,null,null,null,null,null,null,null,null,"--",0,{"$f":"Table_2[[#This Row],[Column20]]+Table_2[[#This Row],[Column56]]","v":0},"",{"$f":"Table_2[[#This Row],[Column20]]+Table_2[[#This Row],[Column56]]","v":0},"",{"$f":"Table_2[[#This Row],[Column57]]+Table_2[[#This Row],[Column16]]+Table_2[[#This Row],[Column15]]","v":0},"",{"$f":"(K134/Instructions!$C$23)*100","v":0},{"$f":"(L134/Instructions!$C$24)*100","v":0},{"$f":"(Y134/Instructions!$C$25)*100","v":0},{"$f":"(AA134/Instructions!$C$27)*100","v":0},{"$f":"(AC134/Instructions!$C$29)*100","v":0},{"$f":"(V134/Instructions!$C$33)*100","v":0},{"$f":"(U134/Instructions!$C$32)*100","v":0},{"$f":"(W134/Instructions!$C$36)*100","v":{"$error":"#VALUE!"}},"","E","E","E","E","E","E","E","--",null,null,null,null,null,{"$f":"Table_2[[#This Row],[Column51]]&Table_2[[#This Row],[Column52]]&AW136","v":""}]
[134,null,null,null,null,null,null,null,null,null,null,null,null,null,null,null,null,null,null,null,null,null,"--",0,{"$f":"Table_2[[#This Row],[Column20]]+Table_2[[#This Row],[Column56]]","v":0},"",{"$f":"Table_2[[#This Row],[Column20]]+Table_2[[#This Row],[Column56]]","v":0},"",{"$f":"Table_2[[#This Row],[Column57]]+Table_2[[#This Row],[Column16]]+Table_2[[#This Row],[Column15]]","v":0},"",{"$f":"(K135/Instructions!$C$23)*100","v":0},{"$f":"(L135/Instructions!$C$24)*100","v":0},{"$f":"(Y135/Instructions!$C$25)*100","v":0},{"$f":"(AA135/Instructions!$C$27)*100","v":0},{"$f":"(AC135/Instructions!$C$29)*100","v":0},{"$f":"(V135/Instructions!$C$33)*100","v":0},{"$f":"(U135/Instructions!$C$32)*100","v":0},{"$f":"(W135/Instructions!$C$36)*100","v":{"$error":"#VALUE!"}},"","E","E","E","E","E","E","E","--",null,null,null,null,null,{"$f":"Table_2[[#This Row],[Column51]]&Table_2[[#This Row],[Column52]]&AW137","v":""}]
[135,null,null,null,null,null,null,null,null,null,null,null,null,null,null,null,null,null,null,null,null,null,"--",0,{"$f":"Table_2[[#This Row],[Column20]]+Table_2[[#This Row],[Column56]]","v":0},"",{"$f":"Table_2[[#This Row],[Column20]]+Table_2[[#This Row],[Column56]]","v":0},"",{"$f":"Table_2[[#This Row],[Column57]]+Table_2[[#This Row],[Column16]]+Table_2[[#This Row],[Column15]]","v":0},"",{"$f":"(K136/Instructions!$C$23)*100","v":0},{"$f":"(L136/Instructions!$C$24)*100","v":0},{"$f":"(Y136/Instructions!$C$25)*100","v":0},{"$f":"(AA136/Instructions!$C$27)*100","v":0},{"$f":"(AC136/Instructions!$C$29)*100","v":0},{"$f":"(V136/Instructions!$C$33)*100","v":0},{"$f":"(U136/Instructions!$C$32)*100","v":0},{"$f":"(W136/Instructions!$C$36)*100","v":{"$error":"#VALUE!"}},"","E","E","E","E","E","E","E","--",null,null,null,null,null,{"$f":"Table_2[[#This Row],[Column51]]&Table_2[[#This Row],[Column52]]&AW138","v":""}]
[136,null,null,null,null,null,null,null,null,null,null,null,null,null,null,null,null,null,null,null,null,null,"--",0,{"$f":"Table_2[[#This Row],[Column20]]+Table_2[[#This Row],[Column56]]","v":0},"",{"$f":"Table_2[[#This Row],[Column20]]+Table_2[[#This Row],[Column56]]","v":0},"",{"$f":"Table_2[[#This Row],[Column57]]+Table_2[[#This Row],[Column16]]+Table_2[[#This Row],[Column15]]","v":0},"",{"$f":"(K137/Instructions!$C$23)*100","v":0},{"$f":"(L137/Instructions!$C$24)*100","v":0},{"$f":"(Y137/Instructions!$C$25)*100","v":0},{"$f":"(AA137/Instructions!$C$27)*100","v":0},{"$f":"(AC137/Instructions!$C$29)*100","v":0},{"$f":"(V137/Instructions!$C$33)*100","v":0},{"$f":"(U137/Instructions!$C$32)*100","v":0},{"$f":"(W137/Instructions!$C$36)*100","v":{"$error":"#VALUE!"}},"","E","E","E","E","E","E","E","--",null,null,null,null,null,{"$f":"Table_2[[#This Row],[Column51]]&Table_2[[#This Row],[Column52]]&AW139","v":""}]
[137,null,null,null,null,null,null,null,null,null,null,null,null,null,null,null,null,null,null,null,null,null,"--",0,{"$f":"Table_2[[#This Row],[Column20]]+Table_2[[#This Row],[Column56]]","v":0},"",{"$f":"Table_2[[#This Row],[Column20]]+Table_2[[#This Row],[Column56]]","v":0},"",{"$f":"Table_2[[#This Row],[Column57]]+Table_2[[#This Row],[Column16]]+Table_2[[#This Row],[Column15]]","v":0},"",{"$f":"(K138/Instructions!$C$23)*100","v":0},{"$f":"(L138/Instructions!$C$24)*100","v":0},{"$f":"(Y138/Instructions!$C$25)*100","v":0},{"$f":"(AA138/Instructions!$C$27)*100","v":0},{"$f":"(AC138/Instructions!$C$29)*100","v":0},{"$f":"(V138/Instructions!$C$33)*100","v":0},{"$f":"(U138/Instructions!$C$32)*100","v":0},{"$f":"(W138/Instructions!$C$36)*100","v":{"$error":"#VALUE!"}},"","E","E","E","E","E","E","E","--",null,null,null,null,null,{"$f":"Table_2[[#This Row],[Column51]]&Table_2[[#This Row],[Column52]]&AW140","v":""}]
[138,null,null,null,null,null,null,null,null,null,null,null,null,null,null,null,null,null,null,null,null,null,"--",0,{"$f":"Table_2[[#This Row],[Column20]]+Table_2[[#This Row],[Column56]]","v":0},"",{"$f":"Table_2[[#This Row],[Column20]]+Table_2[[#This Row],[Column56]]","v":0},"",{"$f":"Table_2[[#This Row],[Column57]]+Table_2[[#This Row],[Column16]]+Table_2[[#This Row],[Column15]]","v":0},"",{"$f":"(K139/Instructions!$C$23)*100","v":0},{"$f":"(L139/Instructions!$C$24)*100","v":0},{"$f":"(Y139/Instructions!$C$25)*100","v":0},{"$f":"(AA139/Instructions!$C$27)*100","v":0},{"$f":"(AC139/Instructions!$C$29)*100","v":0},{"$f":"(V139/Instructions!$C$33)*100","v":0},{"$f":"(U139/Instructions!$C$32)*100","v":0},{"$f":"(W139/Instructions!$C$36)*100","v":{"$error":"#VALUE!"}},"","E","E","E","E","E","E","E","--",null,null,null,null,null,{"$f":"Table_2[[#This Row],[Column51]]&Table_2[[#This Row],[Column52]]&AW141","v":""}]
[139,null,null,null,null,null,null,null,null,null,null,null,null,null,null,null,null,null,null,null,null,null,"--",0,{"$f":"Table_2[[#This Row],[Column20]]+Table_2[[#This Row],[Column56]]","v":0},"",{"$f":"Table_2[[#This Row],[Column20]]+Table_2[[#This Row],[Column56]]","v":0},"",{"$f":"Table_2[[#This Row],[Column57]]+Table_2[[#This Row],[Column16]]+Table_2[[#This Row],[Column15]]","v":0},"",{"$f":"(K140/Instructions!$C$23)*100","v":0},{"$f":"(L140/Instructions!$C$24)*100","v":0},{"$f":"(Y140/Instructions!$C$25)*100","v":0},{"$f":"(AA140/Instructions!$C$27)*100","v":0},{"$f":"(AC140/Instructions!$C$29)*100","v":0},{"$f":"(V140/Instructions!$C$33)*100","v":0},{"$f":"(U140/Instructions!$C$32)*100","v":0},{"$f":"(W140/Instructions!$C$36)*100","v":{"$error":"#VALUE!"}},"","E","E","E","E","E","E","E","--",null,null,null,null,null,{"$f":"Table_2[[#This Row],[Column51]]&Table_2[[#This Row],[Column52]]&AW142","v":""}]
[140,null,null,null,null,null,null,null,null,null,null,null,null,null,null,null,null,null,null,null,null,null,"--",0,{"$f":"Table_2[[#This Row],[Column20]]+Table_2[[#This Row],[Column56]]","v":0},"",{"$f":"Table_2[[#This Row],[Column20]]+Table_2[[#This Row],[Column56]]","v":0},"",{"$f":"Table_2[[#This Row],[Column57]]+Table_2[[#This Row],[Column16]]+Table_2[[#This Row],[Column15]]","v":0},"",{"$f":"(K141/Instructions!$C$23)*100","v":0},{"$f":"(L141/Instructions!$C$24)*100","v":0},{"$f":"(Y141/Instructions!$C$25)*100","v":0},{"$f":"(AA141/Instructions!$C$27)*100","v":0},{"$f":"(AC141/Instructions!$C$29)*100","v":0},{"$f":"(V141/Instructions!$C$33)*100","v":0},{"$f":"(U141/Instructions!$C$32)*100","v":0},{"$f":"(W141/Instructions!$C$36)*100","v":{"$error":"#VALUE!"}},"","E","E","E","E","E","E","E","--",null,null,null,null,null,{"$f":"Table_2[[#This Row],[Column51]]&Table_2[[#This Row],[Column52]]&AW143","v":""}]
[141,null,null,null,null,null,null,null,null,null,null,null,null,null,null,null,null,null,null,null,null,null,"--",0,{"$f":"Table_2[[#This Row],[Column20]]+Table_2[[#This Row],[Column56]]","v":0},"",{"$f":"Table_2[[#This Row],[Column20]]+Table_2[[#This Row],[Column56]]","v":0},"",{"$f":"Table_2[[#This Row],[Column57]]+Table_2[[#This Row],[Column16]]+Table_2[[#This Row],[Column15]]","v":0},"",{"$f":"(K142/Instructions!$C$23)*100","v":0},{"$f":"(L142/Instructions!$C$24)*100","v":0},{"$f":"(Y142/Instructions!$C$25)*100","v":0},{"$f":"(AA142/Instructions!$C$27)*100","v":0},{"$f":"(AC142/Instructions!$C$29)*100","v":0},{"$f":"(V142/Instructions!$C$33)*100","v":0},{"$f":"(U142/Instructions!$C$32)*100","v":0},{"$f":"(W142/Instructions!$C$36)*100","v":{"$error":"#VALUE!"}},"","E","E","E","E","E","E","E","--",null,null,null,null,null,{"$f":"Table_2[[#This Row],[Column51]]&Table_2[[#This Row],[Column52]]&AW144","v":""}]
[142,null,null,null,null,null,null,null,null,null,null,null,null,null,null,null,null,null,null,null,null,null,"--",0,{"$f":"Table_2[[#This Row],[Column20]]+Table_2[[#This Row],[Column56]]","v":0},"",{"$f":"Table_2[[#This Row],[Column20]]+Table_2[[#This Row],[Column56]]","v":0},"",{"$f":"Table_2[[#This Row],[Column57]]+Table_2[[#This Row],[Column16]]+Table_2[[#This Row],[Column15]]","v":0},"",{"$f":"(K143/Instructions!$C$23)*100","v":0},{"$f":"(L143/Instructions!$C$24)*100","v":0},{"$f":"(Y143/Instructions!$C$25)*100","v":0},{"$f":"(AA143/Instructions!$C$27)*100","v":0},{"$f":"(AC143/Instructions!$C$29)*100","v":0},{"$f":"(V143/Instructions!$C$33)*100","v":0},{"$f":"(U143/Instructions!$C$32)*100","v":0},{"$f":"(W143/Instructions!$C$36)*100","v":{"$error":"#VALUE!"}},"","E","E","E","E","E","E","E","--",null,null,null,null,null,{"$f":"Table_2[[#This Row],[Column51]]&Table_2[[#This Row],[Column52]]&AW145","v":""}]
[143,null,null,null,null,null,null,null,null,null,null,null,null,null,null,null,null,null,null,null,null,null,"--",0,{"$f":"Table_2[[#This Row],[Column20]]+Table_2[[#This Row],[Column56]]","v":0},"",{"$f":"Table_2[[#This Row],[Column20]]+Table_2[[#This Row],[Column56]]","v":0},"",{"$f":"Table_2[[#This Row],[Column57]]+Table_2[[#This Row],[Column16]]+Table_2[[#This Row],[Column15]]","v":0},"",{"$f":"(K144/Instructions!$C$23)*100","v":0},{"$f":"(L144/Instructions!$C$24)*100","v":0},{"$f":"(Y144/Instructions!$C$25)*100","v":0},{"$f":"(AA144/Instructions!$C$27)*100","v":0},{"$f":"(AC144/Instructions!$C$29)*100","v":0},{"$f":"(V144/Instructions!$C$33)*100","v":0},{"$f":"(U144/Instructions!$C$32)*100","v":0},{"$f":"(W144/Instructions!$C$36)*100","v":{"$error":"#VALUE!"}},"","E","E","E","E","E","E","E","--",null,null,null,null,null,{"$f":"Table_2[[#This Row],[Column51]]&Table_2[[#This Row],[Column52]]&AW146","v":""}]
[144,null,null,null,null,null,null,null,null,null,null,null,null,null,null,null,null,null,null,null,null,null,"--",0,{"$f":"Table_2[[#This Row],[Column20]]+Table_2[[#This Row],[Column56]]","v":0},"",{"$f":"Table_2[[#This Row],[Column20]]+Table_2[[#This Row],[Column56]]","v":0},"",{"$f":"Table_2[[#This Row],[Column57]]+Table_2[[#This Row],[Column16]]+Table_2[[#This Row],[Column15]]","v":0},"",{"$f":"(K145/Instructions!$C$23)*100","v":0},{"$f":"(L145/Instructions!$C$24)*100","v":0},{"$f":"(Y145/Instructions!$C$25)*100","v":0},{"$f":"(AA145/Instructions!$C$27)*100","v":0},{"$f":"(AC145/Instructions!$C$29)*100","v":0},{"$f":"(V145/Instructions!$C$33)*100","v":0},{"$f":"(U145/Instructions!$C$32)*100","v":0},{"$f":"(W145/Instructions!$C$36)*100","v":{"$error":"#VALUE!"}},"","E","E","E","E","E","E","E","--",null,null,null,null,null,{"$f":"Table_2[[#This Row],[Column51]]&Table_2[[#This Row],[Column52]]&AW147","v":""}]
[145,null,null,null,null,null,null,null,null,null,null,null,null,null,null,null,null,null,null,null,null,null,"--",0,{"$f":"Table_2[[#This Row],[Column20]]+Table_2[[#This Row],[Column56]]","v":0},"",{"$f":"Table_2[[#This Row],[Column20]]+Table_2[[#This Row],[Column56]]","v":0},"",{"$f":"Table_2[[#This Row],[Column57]]+Table_2[[#This Row],[Column16]]+Table_2[[#This Row],[Column15]]","v":0},"",{"$f":"(K146/Instructions!$C$23)*100","v":0},{"$f":"(L146/Instructions!$C$24)*100","v":0},{"$f":"(Y146/Instructions!$C$25)*100","v":0},{"$f":"(AA146/Instructions!$C$27)*100","v":0},{"$f":"(AC146/Instructions!$C$29)*100","v":0},{"$f":"(V146/Instructions!$C$33)*100","v":0},{"$f":"(U146/Instructions!$C$32)*100","v":0},{"$f":"(W146/Instructions!$C$36)*100","v":{"$error":"#VALUE!"}},"","E","E","E","E","E","E","E","--",null,null,null,null,null,{"$f":"Table_2[[#This Row],[Column51]]&Table_2[[#This Row],[Column52]]&AW148","v":""}]
[146,null,null,null,null,null,null,null,null,null,null,null,null,null,null,null,null,null,null,null,null,null,"--",0,{"$f":"Table_2[[#This Row],[Column20]]+Table_2[[#This Row],[Column56]]","v":0},"",{"$f":"Table_2[[#This Row],[Column20]]+Table_2[[#This Row],[Column56]]","v":0},"",{"$f":"Table_2[[#This Row],[Column57]]+Table_2[[#This Row],[Column16]]+Table_2[[#This Row],[Column15]]","v":0},"",{"$f":"(K147/Instructions!$C$23)*100","v":0},{"$f":"(L147/Instructions!$C$24)*100","v":0},{"$f":"(Y147/Instructions!$C$25)*100","v":0},{"$f":"(AA147/Instructions!$C$27)*100","v":0},{"$f":"(AC147/Instructions!$C$29)*100","v":0},{"$f":"(V147/Instructions!$C$33)*100","v":0},{"$f":"(U147/Instructions!$C$32)*100","v":0},{"$f":"(W147/Instructions!$C$36)*100","v":{"$error":"#VALUE!"}},"","E","E","E","E","E","E","E","--",null,null,null,null,null,{"$f":"Table_2[[#This Row],[Column51]]&Table_2[[#This Row],[Column52]]&AW149","v":""}]
[147,null,null,null,null,null,null,null,null,null,null,null,null,null,null,null,null,null,null,null,null,null,"--",0,{"$f":"Table_2[[#This Row],[Column20]]+Table_2[[#This Row],[Column56]]","v":0},"",{"$f":"Table_2[[#This Row],[Column20]]+Table_2[[#This Row],[Column56]]","v":0},"",{"$f":"Table_2[[#This Row],[Column57]]+Table_2[[#This Row],[Column16]]+Table_2[[#This Row],[Column15]]","v":0},"",{"$f":"(K148/Instructions!$C$23)*100","v":0},{"$f":"(L148/Instructions!$C$24)*100","v":0},{"$f":"(Y148/Instructions!$C$25)*100","v":0},{"$f":"(AA148/Instructions!$C$27)*100","v":0},{"$f":"(AC148/Instructions!$C$29)*100","v":0},{"$f":"(V148/Instructions!$C$33)*100","v":0},{"$f":"(U148/Instructions!$C$32)*100","v":0},{"$f":"(W148/Instructions!$C$36)*100","v":{"$error":"#VALUE!"}},"","E","E","E","E","E","E","E","--",null,null,null,null,null,{"$f":"Table_2[[#This Row],[Column51]]&Table_2[[#This Row],[Column52]]&AW150","v":""}]
[148,null,null,null,null,null,null,null,null,null,null,null,null,null,null,null,null,null,null,null,null,null,"--",0,{"$f":"Table_2[[#This Row],[Column20]]+Table_2[[#This Row],[Column56]]","v":0},"",{"$f":"Table_2[[#This Row],[Column20]]+Table_2[[#This Row],[Column56]]","v":0},"",{"$f":"Table_2[[#This Row],[Column57]]+Table_2[[#This Row],[Column16]]+Table_2[[#This Row],[Column15]]","v":0},"",{"$f":"(K149/Instructions!$C$23)*100","v":0},{"$f":"(L149/Instructions!$C$24)*100","v":0},{"$f":"(Y149/Instructions!$C$25)*100","v":0},{"$f":"(AA149/Instructions!$C$27)*100","v":0},{"$f":"(AC149/Instructions!$C$29)*100","v":0},{"$f":"(V149/Instructions!$C$33)*100","v":0},{"$f":"(U149/Instructions!$C$32)*100","v":0},{"$f":"(W149/Instructions!$C$36)*100","v":{"$error":"#VALUE!"}},"","E","E","E","E","E","E","E","--",null,null,null,null,null,{"$f":"Table_2[[#This Row],[Column51]]&Table_2[[#This Row],[Column52]]&AW151","v":""}]
[149,null,null,null,null,null,null,null,null,null,null,null,null,null,null,null,null,null,null,null,null,null,"--",0,{"$f":"Table_2[[#This Row],[Column20]]+Table_2[[#This Row],[Column56]]","v":0},"",{"$f":"Table_2[[#This Row],[Column20]]+Table_2[[#This Row],[Column56]]","v":0},"",{"$f":"Table_2[[#This Row],[Column57]]+Table_2[[#This Row],[Column16]]+Table_2[[#This Row],[Column15]]","v":0},"",{"$f":"(K150/Instructions!$C$23)*100","v":0},{"$f":"(L150/Instructions!$C$24)*100","v":0},{"$f":"(Y150/Instructions!$C$25)*100","v":0},{"$f":"(AA150/Instructions!$C$27)*100","v":0},{"$f":"(AC150/Instructions!$C$29)*100","v":0},{"$f":"(V150/Instructions!$C$33)*100","v":0},{"$f":"(U150/Instructions!$C$32)*100","v":0},{"$f":"(W150/Instructions!$C$36)*100","v":{"$error":"#VALUE!"}},"","E","E","E","E","E","E","E","--",null,null,null,null,null,{"$f":"Table_2[[#This Row],[Column51]]&Table_2[[#This Row],[Column52]]&AW152","v":""}]
[150,null,null,null,null,null,null,null,null,null,null,null,null,null,null,null,null,null,null,null,null,null,"--",0,{"$f":"Table_2[[#This Row],[Column20]]+Table_2[[#This Row],[Column56]]","v":0},"",{"$f":"Table_2[[#This Row],[Column20]]+Table_2[[#This Row],[Column56]]","v":0},"",{"$f":"Table_2[[#This Row],[Column57]]+Table_2[[#This Row],[Column16]]+Table_2[[#This Row],[Column15]]","v":0},"",{"$f":"(K151/Instructions!$C$23)*100","v":0},{"$f":"(L151/Instructions!$C$24)*100","v":0},{"$f":"(Y151/Instructions!$C$25)*100","v":0},{"$f":"(AA151/Instructions!$C$27)*100","v":0},{"$f":"(AC151/Instructions!$C$29)*100","v":0},{"$f":"(V151/Instructions!$C$33)*100","v":0},{"$f":"(U151/Instructions!$C$32)*100","v":0},{"$f":"(W151/Instructions!$C$36)*100","v":{"$error":"#VALUE!"}},"","E","E","E","E","E","E","E","--",null,null,null,null,null,{"$f":"Table_2[[#This Row],[Column51]]&Table_2[[#This Row],[Column52]]&AW153","v":""}]
[151,null,null,null,null,null,null,null,null,null,null,null,null,null,null,null,null,null,null,null,null,null,"--",0,{"$f":"Table_2[[#This Row],[Column20]]+Table_2[[#This Row],[Column56]]","v":0},"",{"$f":"Table_2[[#This Row],[Column20]]+Table_2[[#This Row],[Column56]]","v":0},"",{"$f":"Table_2[[#This Row],[Column57]]+Table_2[[#This Row],[Column16]]+Table_2[[#This Row],[Column15]]","v":0},"",{"$f":"(K152/Instructions!$C$23)*100","v":0},{"$f":"(L152/Instructions!$C$24)*100","v":0},{"$f":"(Y152/Instructions!$C$25)*100","v":0},{"$f":"(AA152/Instructions!$C$27)*100","v":0},{"$f":"(AC152/Instructions!$C$29)*100","v":0},{"$f":"(V152/Instructions!$C$33)*100","v":0},{"$f":"(U152/Instructions!$C$32)*100","v":0},{"$f":"(W152/Instructions!$C$36)*100","v":{"$error":"#VALUE!"}},"","E","E","E","E","E","E","E","--",null,null,null,null,null,{"$f":"Table_2[[#This Row],[Column51]]&Table_2[[#This Row],[Column52]]&AW154","v":""}]
[152,null,null,null,null,null,null,null,null,null,null,null,null,null,null,null,null,null,null,null,null,null,"--",0,{"$f":"Table_2[[#This Row],[Column20]]+Table_2[[#This Row],[Column56]]","v":0},"",{"$f":"Table_2[[#This Row],[Column20]]+Table_2[[#This Row],[Column56]]","v":0},"",{"$f":"Table_2[[#This Row],[Column57]]+Table_2[[#This Row],[Column16]]+Table_2[[#This Row],[Column15]]","v":0},"",{"$f":"(K153/Instructions!$C$23)*100","v":0},{"$f":"(L153/Instructions!$C$24)*100","v":0},{"$f":"(Y153/Instructions!$C$25)*100","v":0},{"$f":"(AA153/Instructions!$C$27)*100","v":0},{"$f":"(AC153/Instructions!$C$29)*100","v":0},{"$f":"(V153/Instructions!$C$33)*100","v":0},{"$f":"(U153/Instructions!$C$32)*100","v":0},{"$f":"(W153/Instructions!$C$36)*100","v":{"$error":"#VALUE!"}},"","E","E","E","E","E","E","E","--",null,null,null,null,null,{"$f":"Table_2[[#This Row],[Column51]]&Table_2[[#This Row],[Column52]]&AW155","v":""}]
[153,null,null,null,null,null,null,null,null,null,null,null,null,null,null,null,null,null,null,null,null,null,"--",0,{"$f":"Table_2[[#This Row],[Column20]]+Table_2[[#This Row],[Column56]]","v":0},"",{"$f":"Table_2[[#This Row],[Column20]]+Table_2[[#This Row],[Column56]]","v":0},"",{"$f":"Table_2[[#This Row],[Column57]]+Table_2[[#This Row],[Column16]]+Table_2[[#This Row],[Column15]]","v":0},"",{"$f":"(K154/Instructions!$C$23)*100","v":0},{"$f":"(L154/Instructions!$C$24)*100","v":0},{"$f":"(Y154/Instructions!$C$25)*100","v":0},{"$f":"(AA154/Instructions!$C$27)*100","v":0},{"$f":"(AC154/Instructions!$C$29)*100","v":0},{"$f":"(V154/Instructions!$C$33)*100","v":0},{"$f":"(U154/Instructions!$C$32)*100","v":0},{"$f":"(W154/Instructions!$C$36)*100","v":{"$error":"#VALUE!"}},"","E","E","E","E","E","E","E","--",null,null,null,null,null,{"$f":"Table_2[[#This Row],[Column51]]&Table_2[[#This Row],[Column52]]&AW156","v":""}]
[154,null,null,null,null,null,null,null,null,null,null,null,null,null,null,null,null,null,null,null,null,null,"--",0,{"$f":"Table_2[[#This Row],[Column20]]+Table_2[[#This Row],[Column56]]","v":0},"",{"$f":"Table_2[[#This Row],[Column20]]+Table_2[[#This Row],[Column56]]","v":0},"",{"$f":"Table_2[[#This Row],[Column57]]+Table_2[[#This Row],[Column16]]+Table_2[[#This Row],[Column15]]","v":0},"",{"$f":"(K155/Instructions!$C$23)*100","v":0},{"$f":"(L155/Instructions!$C$24)*100","v":0},{"$f":"(Y155/Instructions!$C$25)*100","v":0},{"$f":"(AA155/Instructions!$C$27)*100","v":0},{"$f":"(AC155/Instructions!$C$29)*100","v":0},{"$f":"(V155/Instructions!$C$33)*100","v":0},{"$f":"(U155/Instructions!$C$32)*100","v":0},{"$f":"(W155/Instructions!$C$36)*100","v":{"$error":"#VALUE!"}},"","E","E","E","E","E","E","E","--",null,null,null,null,null,{"$f":"Table_2[[#This Row],[Column51]]&Table_2[[#This Row],[Column52]]&AW157","v":""}]
[155,null,null,null,null,null,null,null,null,null,null,null,null,null,null,null,null,null,null,null,null,null,"--",0,{"$f":"Table_2[[#This Row],[Column20]]+Table_2[[#This Row],[Column56]]","v":0},"",{"$f":"Table_2[[#This Row],[Column20]]+Table_2[[#This Row],[Column56]]","v":0},"",{"$f":"Table_2[[#This Row],[Column57]]+Table_2[[#This Row],[Column16]]+Table_2[[#This Row],[Column15]]","v":0},"",{"$f":"(K156/Instructions!$C$23)*100","v":0},{"$f":"(L156/Instructions!$C$24)*100","v":0},{"$f":"(Y156/Instructions!$C$25)*100","v":0},{"$f":"(AA156/Instructions!$C$27)*100","v":0},{"$f":"(AC156/Instructions!$C$29)*100","v":0},{"$f":"(V156/Instructions!$C$33)*100","v":0},{"$f":"(U156/Instructions!$C$32)*100","v":0},{"$f":"(W156/Instructions!$C$36)*100","v":{"$error":"#VALUE!"}},"","E","E","E","E","E","E","E","--",null,null,null,null,null,{"$f":"Table_2[[#This Row],[Column51]]&Table_2[[#This Row],[Column52]]&AW158","v":""}]
[156,null,null,null,null,null,null,null,null,null,null,null,null,null,null,null,null,null,null,null,null,null,"--",0,{"$f":"Table_2[[#This Row],[Column20]]+Table_2[[#This Row],[Column56]]","v":0},"",{"$f":"Table_2[[#This Row],[Column20]]+Table_2[[#This Row],[Column56]]","v":0},"",{"$f":"Table_2[[#This Row],[Column57]]+Table_2[[#This Row],[Column16]]+Table_2[[#This Row],[Column15]]","v":0},"",{"$f":"(K157/Instructions!$C$23)*100","v":0},{"$f":"(L157/Instructions!$C$24)*100","v":0},{"$f":"(Y157/Instructions!$C$25)*100","v":0},{"$f":"(AA157/Instructions!$C$27)*100","v":0},{"$f":"(AC157/Instructions!$C$29)*100","v":0},{"$f":"(V157/Instructions!$C$33)*100","v":0},{"$f":"(U157/Instructions!$C$32)*100","v":0},{"$f":"(W157/Instructions!$C$36)*100","v":{"$error":"#VALUE!"}},"","E","E","E","E","E","E","E","--",null,null,null,null,null,{"$f":"Table_2[[#This Row],[Column51]]&Table_2[[#This Row],[Column52]]&AW159","v":""}]
[157,null,null,null,null,null,null,null,null,null,null,null,null,null,null,null,null,null,null,null,null,null,"--",0,{"$f":"Table_2[[#This Row],[Column20]]+Table_2[[#This Row],[Column56]]","v":0},"",{"$f":"Table_2[[#This Row],[Column20]]+Table_2[[#This Row],[Column56]]","v":0},"",{"$f":"Table_2[[#This Row],[Column57]]+Table_2[[#This Row],[Column16]]+Table_2[[#This Row],[Column15]]","v":0},"",{"$f":"(K158/Instructions!$C$23)*100","v":0},{"$f":"(L158/Instructions!$C$24)*100","v":0},{"$f":"(Y158/Instructions!$C$25)*100","v":0},{"$f":"(AA158/Instructions!$C$27)*100","v":0},{"$f":"(AC158/Instructions!$C$29)*100","v":0},{"$f":"(V158/Instructions!$C$33)*100","v":0},{"$f":"(U158/Instructions!$C$32)*100","v":0},{"$f":"(W158/Instructions!$C$36)*100","v":{"$error":"#VALUE!"}},"","E","E","E","E","E","E","E","--",null,null,null,null,null,{"$f":"Table_2[[#This Row],[Column51]]&Table_2[[#This Row],[Column52]]&AW160","v":""}]
[158,null,null,null,null,null,null,null,null,null,null,null,null,null,null,null,null,null,null,null,null,null,"--",0,{"$f":"Table_2[[#This Row],[Column20]]+Table_2[[#This Row],[Column56]]","v":0},"",{"$f":"Table_2[[#This Row],[Column20]]+Table_2[[#This Row],[Column56]]","v":0},"",{"$f":"Table_2[[#This Row],[Column57]]+Table_2[[#This Row],[Column16]]+Table_2[[#This Row],[Column15]]","v":0},"",{"$f":"(K159/Instructions!$C$23)*100","v":0},{"$f":"(L159/Instructions!$C$24)*100","v":0},{"$f":"(Y159/Instructions!$C$25)*100","v":0},{"$f":"(AA159/Instructions!$C$27)*100","v":0},{"$f":"(AC159/Instructions!$C$29)*100","v":0},{"$f":"(V159/Instructions!$C$33)*100","v":0},{"$f":"(U159/Instructions!$C$32)*100","v":0},{"$f":"(W159/Instructions!$C$36)*100","v":{"$error":"#VALUE!"}},"","E","E","E","E","E","E","E","--",null,null,null,null,null,{"$f":"Table_2[[#This Row],[Column51]]&Table_2[[#This Row],[Column52]]&AW161","v":""}]
[159,null,null,null,null,null,null,null,null,null,null,null,null,null,null,null,null,null,null,null,null,null,"--",0,{"$f":"Table_2[[#This Row],[Column20]]+Table_2[[#This Row],[Column56]]","v":0},"",{"$f":"Table_2[[#This Row],[Column20]]+Table_2[[#This Row],[Column56]]","v":0},"",{"$f":"Table_2[[#This Row],[Column57]]+Table_2[[#This Row],[Column16]]+Table_2[[#This Row],[Column15]]","v":0},"",{"$f":"(K160/Instructions!$C$23)*100","v":0},{"$f":"(L160/Instructions!$C$24)*100","v":0},{"$f":"(Y160/Instructions!$C$25)*100","v":0},{"$f":"(AA160/Instructions!$C$27)*100","v":0},{"$f":"(AC160/Instructions!$C$29)*100","v":0},{"$f":"(V160/Instructions!$C$33)*100","v":0},{"$f":"(U160/Instructions!$C$32)*100","v":0},{"$f":"(W160/Instructions!$C$36)*100","v":{"$error":"#VALUE!"}},"","E","E","E","E","E","E","E","--",null,null,null,null,null,{"$f":"Table_2[[#This Row],[Column51]]&Table_2[[#This Row],[Column52]]&AW162","v":""}]
[160,null,null,null,null,null,null,null,null,null,null,null,null,null,null,null,null,null,null,null,null,null,"--",0,{"$f":"Table_2[[#This Row],[Column20]]+Table_2[[#This Row],[Column56]]","v":0},"",{"$f":"Table_2[[#This Row],[Column20]]+Table_2[[#This Row],[Column56]]","v":0},"",{"$f":"Table_2[[#This Row],[Column57]]+Table_2[[#This Row],[Column16]]+Table_2[[#This Row],[Column15]]","v":0},"",{"$f":"(K161/Instructions!$C$23)*100","v":0},{"$f":"(L161/Instructions!$C$24)*100","v":0},{"$f":"(Y161/Instructions!$C$25)*100","v":0},{"$f":"(AA161/Instructions!$C$27)*100","v":0},{"$f":"(AC161/Instructions!$C$29)*100","v":0},{"$f":"(V161/Instructions!$C$33)*100","v":0},{"$f":"(U161/Instructions!$C$32)*100","v":0},{"$f":"(W161/Instructions!$C$36)*100","v":{"$error":"#VALUE!"}},"","E","E","E","E","E","E","E","--",null,null,null,null,null,{"$f":"Table_2[[#This Row],[Column51]]&Table_2[[#This Row],[Column52]]&AW163","v":""}]
[161,null,null,null,null,null,null,null,null,null,null,null,null,null,null,null,null,null,null,null,null,null,"--",0,{"$f":"Table_2[[#This Row],[Column20]]+Table_2[[#This Row],[Column56]]","v":0},"",{"$f":"Table_2[[#This Row],[Column20]]+Table_2[[#This Row],[Column56]]","v":0},"",{"$f":"Table_2[[#This Row],[Column57]]+Table_2[[#This Row],[Column16]]+Table_2[[#This Row],[Column15]]","v":0},"",{"$f":"(K162/Instructions!$C$23)*100","v":0},{"$f":"(L162/Instructions!$C$24)*100","v":0},{"$f":"(Y162/Instructions!$C$25)*100","v":0},{"$f":"(AA162/Instructions!$C$27)*100","v":0},{"$f":"(AC162/Instructions!$C$29)*100","v":0},{"$f":"(V162/Instructions!$C$33)*100","v":0},{"$f":"(U162/Instructions!$C$32)*100","v":0},{"$f":"(W162/Instructions!$C$36)*100","v":{"$error":"#VALUE!"}},"","E","E","E","E","E","E","E","--",null,null,null,null,null,{"$f":"Table_2[[#This Row],[Column51]]&Table_2[[#This Row],[Column52]]&AW164","v":""}]
[162,null,null,null,null,null,null,null,null,null,null,null,null,null,null,null,null,null,null,null,null,null,"--",0,{"$f":"Table_2[[#This Row],[Column20]]+Table_2[[#This Row],[Column56]]","v":0},"",{"$f":"Table_2[[#This Row],[Column20]]+Table_2[[#This Row],[Column56]]","v":0},"",{"$f":"Table_2[[#This Row],[Column57]]+Table_2[[#This Row],[Column16]]+Table_2[[#This Row],[Column15]]","v":0},"",{"$f":"(K163/Instructions!$C$23)*100","v":0},{"$f":"(L163/Instructions!$C$24)*100","v":0},{"$f":"(Y163/Instructions!$C$25)*100","v":0},{"$f":"(AA163/Instructions!$C$27)*100","v":0},{"$f":"(AC163/Instructions!$C$29)*100","v":0},{"$f":"(V163/Instructions!$C$33)*100","v":0},{"$f":"(U163/Instructions!$C$32)*100","v":0},{"$f":"(W163/Instructions!$C$36)*100","v":{"$error":"#VALUE!"}},"","E","E","E","E","E","E","E","--",null,null,null,null,null,{"$f":"Table_2[[#This Row],[Column51]]&Table_2[[#This Row],[Column52]]&AW165","v":""}]
[163,null,null,null,null,null,null,null,null,null,null,null,null,null,null,null,null,null,null,null,null,null,"--",0,{"$f":"Table_2[[#This Row],[Column20]]+Table_2[[#This Row],[Column56]]","v":0},"",{"$f":"Table_2[[#This Row],[Column20]]+Table_2[[#This Row],[Column56]]","v":0},"",{"$f":"Table_2[[#This Row],[Column57]]+Table_2[[#This Row],[Column16]]+Table_2[[#This Row],[Column15]]","v":0},"",{"$f":"(K164/Instructions!$C$23)*100","v":0},{"$f":"(L164/Instructions!$C$24)*100","v":0},{"$f":"(Y164/Instructions!$C$25)*100","v":0},{"$f":"(AA164/Instructions!$C$27)*100","v":0},{"$f":"(AC164/Instructions!$C$29)*100","v":0},{"$f":"(V164/Instructions!$C$33)*100","v":0},{"$f":"(U164/Instructions!$C$32)*100","v":0},{"$f":"(W164/Instructions!$C$36)*100","v":{"$error":"#VALUE!"}},"","E","E","E","E","E","E","E","--",null,null,null,null,null,{"$f":"Table_2[[#This Row],[Column51]]&Table_2[[#This Row],[Column52]]&AW166","v":""}]
[164,null,null,null,null,null,null,null,null,null,null,null,null,null,null,null,null,null,null,null,null,null,"--",0,{"$f":"Table_2[[#This Row],[Column20]]+Table_2[[#This Row],[Column56]]","v":0},"",{"$f":"Table_2[[#This Row],[Column20]]+Table_2[[#This Row],[Column56]]","v":0},"",{"$f":"Table_2[[#This Row],[Column57]]+Table_2[[#This Row],[Column16]]+Table_2[[#This Row],[Column15]]","v":0},"",{"$f":"(K165/Instructions!$C$23)*100","v":0},{"$f":"(L165/Instructions!$C$24)*100","v":0},{"$f":"(Y165/Instructions!$C$25)*100","v":0},{"$f":"(AA165/Instructions!$C$27)*100","v":0},{"$f":"(AC165/Instructions!$C$29)*100","v":0},{"$f":"(V165/Instructions!$C$33)*100","v":0},{"$f":"(U165/Instructions!$C$32)*100","v":0},{"$f":"(W165/Instructions!$C$36)*100","v":{"$error":"#VALUE!"}},"","E","E","E","E","E","E","E","--",null,null,null,null,null,{"$f":"Table_2[[#This Row],[Column51]]&Table_2[[#This Row],[Column52]]&AW167","v":""}]
[165,null,null,null,null,null,null,null,null,null,null,null,null,null,null,null,null,null,null,null,null,null,"--",0,{"$f":"Table_2[[#This Row],[Column20]]+Table_2[[#This Row],[Column56]]","v":0},"",{"$f":"Table_2[[#This Row],[Column20]]+Table_2[[#This Row],[Column56]]","v":0},"",{"$f":"Table_2[[#This Row],[Column57]]+Table_2[[#This Row],[Column16]]+Table_2[[#This Row],[Column15]]","v":0},"",{"$f":"(K166/Instructions!$C$23)*100","v":0},{"$f":"(L166/Instructions!$C$24)*100","v":0},{"$f":"(Y166/Instructions!$C$25)*100","v":0},{"$f":"(AA166/Instructions!$C$27)*100","v":0},{"$f":"(AC166/Instructions!$C$29)*100","v":0},{"$f":"(V166/Instructions!$C$33)*100","v":0},{"$f":"(U166/Instructions!$C$32)*100","v":0},{"$f":"(W166/Instructions!$C$36)*100","v":{"$error":"#VALUE!"}},"","E","E","E","E","E","E","E","--",null,null,null,null,null,{"$f":"Table_2[[#This Row],[Column51]]&Table_2[[#This Row],[Column52]]&AW168","v":""}]
[166,null,null,null,null,null,null,null,null,null,null,null,null,null,null,null,null,null,null,null,null,null,"--",0,{"$f":"Table_2[[#This Row],[Column20]]+Table_2[[#This Row],[Column56]]","v":0},"",{"$f":"Table_2[[#This Row],[Column20]]+Table_2[[#This Row],[Column56]]","v":0},"",{"$f":"Table_2[[#This Row],[Column57]]+Table_2[[#This Row],[Column16]]+Table_2[[#This Row],[Column15]]","v":0},"",{"$f":"(K167/Instructions!$C$23)*100","v":0},{"$f":"(L167/Instructions!$C$24)*100","v":0},{"$f":"(Y167/Instructions!$C$25)*100","v":0},{"$f":"(AA167/Instructions!$C$27)*100","v":0},{"$f":"(AC167/Instructions!$C$29)*100","v":0},{"$f":"(V167/Instructions!$C$33)*100","v":0},{"$f":"(U167/Instructions!$C$32)*100","v":0},{"$f":"(W167/Instructions!$C$36)*100","v":{"$error":"#VALUE!"}},"","E","E","E","E","E","E","E","--",null,null,null,null,null,{"$f":"Table_2[[#This Row],[Column51]]&Table_2[[#This Row],[Column52]]&AW169","v":""}]
[167,null,null,null,null,null,null,null,null,null,null,null,null,null,null,null,null,null,null,null,null,null,"--",0,{"$f":"Table_2[[#This Row],[Column20]]+Table_2[[#This Row],[Column56]]","v":0},"",{"$f":"Table_2[[#This Row],[Column20]]+Table_2[[#This Row],[Column56]]","v":0},"",{"$f":"Table_2[[#This Row],[Column57]]+Table_2[[#This Row],[Column16]]+Table_2[[#This Row],[Column15]]","v":0},"",{"$f":"(K168/Instructions!$C$23)*100","v":0},{"$f":"(L168/Instructions!$C$24)*100","v":0},{"$f":"(Y168/Instructions!$C$25)*100","v":0},{"$f":"(AA168/Instructions!$C$27)*100","v":0},{"$f":"(AC168/Instructions!$C$29)*100","v":0},{"$f":"(V168/Instructions!$C$33)*100","v":0},{"$f":"(U168/Instructions!$C$32)*100","v":0},{"$f":"(W168/Instructions!$C$36)*100","v":{"$error":"#VALUE!"}},"","E","E","E","E","E","E","E","--",null,null,null,null,null,{"$f":"Table_2[[#This Row],[Column51]]&Table_2[[#This Row],[Column52]]&AW170","v":""}]
[168,null,null,null,null,null,null,null,null,null,null,null,null,null,null,null,null,null,null,null,null,null,"--",0,{"$f":"Table_2[[#This Row],[Column20]]+Table_2[[#This Row],[Column56]]","v":0},"",{"$f":"Table_2[[#This Row],[Column20]]+Table_2[[#This Row],[Column56]]","v":0},"",{"$f":"Table_2[[#This Row],[Column57]]+Table_2[[#This Row],[Column16]]+Table_2[[#This Row],[Column15]]","v":0},"",{"$f":"(K169/Instructions!$C$23)*100","v":0},{"$f":"(L169/Instructions!$C$24)*100","v":0},{"$f":"(Y169/Instructions!$C$25)*100","v":0},{"$f":"(AA169/Instructions!$C$27)*100","v":0},{"$f":"(AC169/Instructions!$C$29)*100","v":0},{"$f":"(V169/Instructions!$C$33)*100","v":0},{"$f":"(U169/Instructions!$C$32)*100","v":0},{"$f":"(W169/Instructions!$C$36)*100","v":{"$error":"#VALUE!"}},"","E","E","E","E","E","E","E","--",null,null,null,null,null,{"$f":"Table_2[[#This Row],[Column51]]&Table_2[[#This Row],[Column52]]&AW171","v":""}]
[169,null,null,null,null,null,null,null,null,null,null,null,null,null,null,null,null,null,null,null,null,null,"--",0,{"$f":"Table_2[[#This Row],[Column20]]+Table_2[[#This Row],[Column56]]","v":0},"",{"$f":"Table_2[[#This Row],[Column20]]+Table_2[[#This Row],[Column56]]","v":0},"",{"$f":"Table_2[[#This Row],[Column57]]+Table_2[[#This Row],[Column16]]+Table_2[[#This Row],[Column15]]","v":0},"",{"$f":"(K170/Instructions!$C$23)*100","v":0},{"$f":"(L170/Instructions!$C$24)*100","v":0},{"$f":"(Y170/Instructions!$C$25)*100","v":0},{"$f":"(AA170/Instructions!$C$27)*100","v":0},{"$f":"(AC170/Instructions!$C$29)*100","v":0},{"$f":"(V170/Instructions!$C$33)*100","v":0},{"$f":"(U170/Instructions!$C$32)*100","v":0},{"$f":"(W170/Instructions!$C$36)*100","v":{"$error":"#VALUE!"}},"","E","E","E","E","E","E","E","--",null,null,null,null,null,{"$f":"Table_2[[#This Row],[Column51]]&Table_2[[#This Row],[Column52]]&AW172","v":""}]
[170,null,null,null,null,null,null,null,null,null,null,null,null,null,null,null,null,null,null,null,null,null,"--",0,{"$f":"Table_2[[#This Row],[Column20]]+Table_2[[#This Row],[Column56]]","v":0},"",{"$f":"Table_2[[#This Row],[Column20]]+Table_2[[#This Row],[Column56]]","v":0},"",{"$f":"Table_2[[#This Row],[Column57]]+Table_2[[#This Row],[Column16]]+Table_2[[#This Row],[Column15]]","v":0},"",{"$f":"(K171/Instructions!$C$23)*100","v":0},{"$f":"(L171/Instructions!$C$24)*100","v":0},{"$f":"(Y171/Instructions!$C$25)*100","v":0},{"$f":"(AA171/Instructions!$C$27)*100","v":0},{"$f":"(AC171/Instructions!$C$29)*100","v":0},{"$f":"(V171/Instructions!$C$33)*100","v":0},{"$f":"(U171/Instructions!$C$32)*100","v":0},{"$f":"(W171/Instructions!$C$36)*100","v":{"$error":"#VALUE!"}},"","E","E","E","E","E","E","E","--",null,null,null,null,null,{"$f":"Table_2[[#This Row],[Column51]]&Table_2[[#This Row],[Column52]]&AW173","v":""}]
[171,null,null,null,null,null,null,null,null,null,null,null,null,null,null,null,null,null,null,null,null,null,"--",0,{"$f":"Table_2[[#This Row],[Column20]]+Table_2[[#This Row],[Column56]]","v":0},"",{"$f":"Table_2[[#This Row],[Column20]]+Table_2[[#This Row],[Column56]]","v":0},"",{"$f":"Table_2[[#This Row],[Column57]]+Table_2[[#This Row],[Column16]]+Table_2[[#This Row],[Column15]]","v":0},"",{"$f":"(K172/Instructions!$C$23)*100","v":0},{"$f":"(L172/Instructions!$C$24)*100","v":0},{"$f":"(Y172/Instructions!$C$25)*100","v":0},{"$f":"(AA172/Instructions!$C$27)*100","v":0},{"$f":"(AC172/Instructions!$C$29)*100","v":0},{"$f":"(V172/Instructions!$C$33)*100","v":0},{"$f":"(U172/Instructions!$C$32)*100","v":0},{"$f":"(W172/Instructions!$C$36)*100","v":{"$error":"#VALUE!"}},"","E","E","E","E","E","E","E","--",null,null,null,null,null,{"$f":"Table_2[[#This Row],[Column51]]&Table_2[[#This Row],[Column52]]&AW174","v":""}]
[172,null,null,null,null,null,null,null,null,null,null,null,null,null,null,null,null,null,null,null,null,null,"--",0,{"$f":"Table_2[[#This Row],[Column20]]+Table_2[[#This Row],[Column56]]","v":0},"",{"$f":"Table_2[[#This Row],[Column20]]+Table_2[[#This Row],[Column56]]","v":0},"",{"$f":"Table_2[[#This Row],[Column57]]+Table_2[[#This Row],[Column16]]+Table_2[[#This Row],[Column15]]","v":0},"",{"$f":"(K173/Instructions!$C$23)*100","v":0},{"$f":"(L173/Instructions!$C$24)*100","v":0},{"$f":"(Y173/Instructions!$C$25)*100","v":0},{"$f":"(AA173/Instructions!$C$27)*100","v":0},{"$f":"(AC173/Instructions!$C$29)*100","v":0},{"$f":"(V173/Instructions!$C$33)*100","v":0},{"$f":"(U173/Instructions!$C$32)*100","v":0},{"$f":"(W173/Instructions!$C$36)*100","v":{"$error":"#VALUE!"}},"","E","E","E","E","E","E","E","--",null,null,null,null,null,{"$f":"Table_2[[#This Row],[Column51]]&Table_2[[#This Row],[Column52]]&AW175","v":""}]
[173,null,null,null,null,null,null,null,null,null,null,null,null,null,null,null,null,null,null,null,null,null,"--",0,{"$f":"Table_2[[#This Row],[Column20]]+Table_2[[#This Row],[Column56]]","v":0},"",{"$f":"Table_2[[#This Row],[Column20]]+Table_2[[#This Row],[Column56]]","v":0},"",{"$f":"Table_2[[#This Row],[Column57]]+Table_2[[#This Row],[Column16]]+Table_2[[#This Row],[Column15]]","v":0},"",{"$f":"(K174/Instructions!$C$23)*100","v":0},{"$f":"(L174/Instructions!$C$24)*100","v":0},{"$f":"(Y174/Instructions!$C$25)*100","v":0},{"$f":"(AA174/Instructions!$C$27)*100","v":0},{"$f":"(AC174/Instructions!$C$29)*100","v":0},{"$f":"(V174/Instructions!$C$33)*100","v":0},{"$f":"(U174/Instructions!$C$32)*100","v":0},{"$f":"(W174/Instructions!$C$36)*100","v":{"$error":"#VALUE!"}},"","E","E","E","E","E","E","E","--",null,null,null,null,null,{"$f":"Table_2[[#This Row],[Column51]]&Table_2[[#This Row],[Column52]]&AW176","v":""}]
[174,null,null,null,null,null,null,null,null,null,null,null,null,null,null,null,null,null,null,null,null,null,"--",0,{"$f":"Table_2[[#This Row],[Column20]]+Table_2[[#This Row],[Column56]]","v":0},"",{"$f":"Table_2[[#This Row],[Column20]]+Table_2[[#This Row],[Column56]]","v":0},"",{"$f":"Table_2[[#This Row],[Column57]]+Table_2[[#This Row],[Column16]]+Table_2[[#This Row],[Column15]]","v":0},"",{"$f":"(K175/Instructions!$C$23)*100","v":0},{"$f":"(L175/Instructions!$C$24)*100","v":0},{"$f":"(Y175/Instructions!$C$25)*100","v":0},{"$f":"(AA175/Instructions!$C$27)*100","v":0},{"$f":"(AC175/Instructions!$C$29)*100","v":0},{"$f":"(V175/Instructions!$C$33)*100","v":0},{"$f":"(U175/Instructions!$C$32)*100","v":0},{"$f":"(W175/Instructions!$C$36)*100","v":{"$error":"#VALUE!"}},"","E","E","E","E","E","E","E","--",null,null,null,null,null,{"$f":"Table_2[[#This Row],[Column51]]&Table_2[[#This Row],[Column52]]&AW177","v":""}]
[175,null,null,null,null,null,null,null,null,null,null,null,null,null,null,null,null,null,null,null,null,null,"--",0,{"$f":"Table_2[[#This Row],[Column20]]+Table_2[[#This Row],[Column56]]","v":0},"",{"$f":"Table_2[[#This Row],[Column20]]+Table_2[[#This Row],[Column56]]","v":0},"",{"$f":"Table_2[[#This Row],[Column57]]+Table_2[[#This Row],[Column16]]+Table_2[[#This Row],[Column15]]","v":0},"",{"$f":"(K176/Instructions!$C$23)*100","v":0},{"$f":"(L176/Instructions!$C$24)*100","v":0},{"$f":"(Y176/Instructions!$C$25)*100","v":0},{"$f":"(AA176/Instructions!$C$27)*100","v":0},{"$f":"(AC176/Instructions!$C$29)*100","v":0},{"$f":"(V176/Instructions!$C$33)*100","v":0},{"$f":"(U176/Instructions!$C$32)*100","v":0},{"$f":"(W176/Instructions!$C$36)*100","v":{"$error":"#VALUE!"}},"","E","E","E","E","E","E","E","--",null,null,null,null,null,{"$f":"Table_2[[#This Row],[Column51]]&Table_2[[#This Row],[Column52]]&AW178","v":""}]
[176,null,null,null,null,null,null,null,null,null,null,null,null,null,null,null,null,null,null,null,null,null,"--",0,{"$f":"Table_2[[#This Row],[Column20]]+Table_2[[#This Row],[Column56]]","v":0},"",{"$f":"Table_2[[#This Row],[Column20]]+Table_2[[#This Row],[Column56]]","v":0},"",{"$f":"Table_2[[#This Row],[Column57]]+Table_2[[#This Row],[Column16]]+Table_2[[#This Row],[Column15]]","v":0},"",{"$f":"(K177/Instructions!$C$23)*100","v":0},{"$f":"(L177/Instructions!$C$24)*100","v":0},{"$f":"(Y177/Instructions!$C$25)*100","v":0},{"$f":"(AA177/Instructions!$C$27)*100","v":0},{"$f":"(AC177/Instructions!$C$29)*100","v":0},{"$f":"(V177/Instructions!$C$33)*100","v":0},{"$f":"(U177/Instructions!$C$32)*100","v":0},{"$f":"(W177/Instructions!$C$36)*100","v":{"$error":"#VALUE!"}},"","E","E","E","E","E","E","E","--",null,null,null,null,null,{"$f":"Table_2[[#This Row],[Column51]]&Table_2[[#This Row],[Column52]]&AW179","v":""}]
[177,null,null,null,null,null,null,null,null,null,null,null,null,null,null,null,null,null,null,null,null,null,"--",0,{"$f":"Table_2[[#This Row],[Column20]]+Table_2[[#This Row],[Column56]]","v":0},"",{"$f":"Table_2[[#This Row],[Column20]]+Table_2[[#This Row],[Column56]]","v":0},"",{"$f":"Table_2[[#This Row],[Column57]]+Table_2[[#This Row],[Column16]]+Table_2[[#This Row],[Column15]]","v":0},"",{"$f":"(K178/Instructions!$C$23)*100","v":0},{"$f":"(L178/Instructions!$C$24)*100","v":0},{"$f":"(Y178/Instructions!$C$25)*100","v":0},{"$f":"(AA178/Instructions!$C$27)*100","v":0},{"$f":"(AC178/Instructions!$C$29)*100","v":0},{"$f":"(V178/Instructions!$C$33)*100","v":0},{"$f":"(U178/Instructions!$C$32)*100","v":0},{"$f":"(W178/Instructions!$C$36)*100","v":{"$error":"#VALUE!"}},"","E","E","E","E","E","E","E","--",null,null,null,null,null,{"$f":"Table_2[[#This Row],[Column51]]&Table_2[[#This Row],[Column52]]&AW180","v":""}]
[178,null,null,null,null,null,null,null,null,null,null,null,null,null,null,null,null,null,null,null,null,null,"--",0,{"$f":"Table_2[[#This Row],[Column20]]+Table_2[[#This Row],[Column56]]","v":0},"",{"$f":"Table_2[[#This Row],[Column20]]+Table_2[[#This Row],[Column56]]","v":0},"",{"$f":"Table_2[[#This Row],[Column57]]+Table_2[[#This Row],[Column16]]+Table_2[[#This Row],[Column15]]","v":0},"",{"$f":"(K179/Instructions!$C$23)*100","v":0},{"$f":"(L179/Instructions!$C$24)*100","v":0},{"$f":"(Y179/Instructions!$C$25)*100","v":0},{"$f":"(AA179/Instructions!$C$27)*100","v":0},{"$f":"(AC179/Instructions!$C$29)*100","v":0},{"$f":"(V179/Instructions!$C$33)*100","v":0},{"$f":"(U179/Instructions!$C$32)*100","v":0},{"$f":"(W179/Instructions!$C$36)*100","v":{"$error":"#VALUE!"}},"","E","E","E","E","E","E","E","--",null,null,null,null,null,{"$f":"Table_2[[#This Row],[Column51]]&Table_2[[#This Row],[Column52]]&AW181","v":""}]
[179,null,null,null,null,null,null,null,null,null,null,null,null,null,null,null,null,null,null,null,null,null,"--",0,{"$f":"Table_2[[#This Row],[Column20]]+Table_2[[#This Row],[Column56]]","v":0},"",{"$f":"Table_2[[#This Row],[Column20]]+Table_2[[#This Row],[Column56]]","v":0},"",{"$f":"Table_2[[#This Row],[Column57]]+Table_2[[#This Row],[Column16]]+Table_2[[#This Row],[Column15]]","v":0},"",{"$f":"(K180/Instructions!$C$23)*100","v":0},{"$f":"(L180/Instructions!$C$24)*100","v":0},{"$f":"(Y180/Instructions!$C$25)*100","v":0},{"$f":"(AA180/Instructions!$C$27)*100","v":0},{"$f":"(AC180/Instructions!$C$29)*100","v":0},{"$f":"(V180/Instructions!$C$33)*100","v":0},{"$f":"(U180/Instructions!$C$32)*100","v":0},{"$f":"(W180/Instructions!$C$36)*100","v":{"$error":"#VALUE!"}},"","E","E","E","E","E","E","E","--",null,null,null,null,null,{"$f":"Table_2[[#This Row],[Column51]]&Table_2[[#This Row],[Column52]]&AW182","v":""}]
[180,null,null,null,null,null,null,null,null,null,null,null,null,null,null,null,null,null,null,null,null,null,"--",0,{"$f":"Table_2[[#This Row],[Column20]]+Table_2[[#This Row],[Column56]]","v":0},"",{"$f":"Table_2[[#This Row],[Column20]]+Table_2[[#This Row],[Column56]]","v":0},"",{"$f":"Table_2[[#This Row],[Column57]]+Table_2[[#This Row],[Column16]]+Table_2[[#This Row],[Column15]]","v":0},"",{"$f":"(K181/Instructions!$C$23)*100","v":0},{"$f":"(L181/Instructions!$C$24)*100","v":0},{"$f":"(Y181/Instructions!$C$25)*100","v":0},{"$f":"(AA181/Instructions!$C$27)*100","v":0},{"$f":"(AC181/Instructions!$C$29)*100","v":0},{"$f":"(V181/Instructions!$C$33)*100","v":0},{"$f":"(U181/Instructions!$C$32)*100","v":0},{"$f":"(W181/Instructions!$C$36)*100","v":{"$error":"#VALUE!"}},"","E","E","E","E","E","E","E","--",null,null,null,null,null,{"$f":"Table_2[[#This Row],[Column51]]&Table_2[[#This Row],[Column52]]&AW183","v":""}]
[181,null,null,null,null,null,null,null,null,null,null,null,null,null,null,null,null,null,null,null,null,null,"--",0,{"$f":"Table_2[[#This Row],[Column20]]+Table_2[[#This Row],[Column56]]","v":0},"",{"$f":"Table_2[[#This Row],[Column20]]+Table_2[[#This Row],[Column56]]","v":0},"",{"$f":"Table_2[[#This Row],[Column57]]+Table_2[[#This Row],[Column16]]+Table_2[[#This Row],[Column15]]","v":0},"",{"$f":"(K182/Instructions!$C$23)*100","v":0},{"$f":"(L182/Instructions!$C$24)*100","v":0},{"$f":"(Y182/Instructions!$C$25)*100","v":0},{"$f":"(AA182/Instructions!$C$27)*100","v":0},{"$f":"(AC182/Instructions!$C$29)*100","v":0},{"$f":"(V182/Instructions!$C$33)*100","v":0},{"$f":"(U182/Instructions!$C$32)*100","v":0},{"$f":"(W182/Instructions!$C$36)*100","v":{"$error":"#VALUE!"}},"","E","E","E","E","E","E","E","--",null,null,null,null,null,{"$f":"Table_2[[#This Row],[Column51]]&Table_2[[#This Row],[Column52]]&AW184","v":""}]
[182,null,null,null,null,null,null,null,null,null,null,null,null,null,null,null,null,null,null,null,null,null,"--",0,{"$f":"Table_2[[#This Row],[Column20]]+Table_2[[#This Row],[Column56]]","v":0},"",{"$f":"Table_2[[#This Row],[Column20]]+Table_2[[#This Row],[Column56]]","v":0},"",{"$f":"Table_2[[#This Row],[Column57]]+Table_2[[#This Row],[Column16]]+Table_2[[#This Row],[Column15]]","v":0},"",{"$f":"(K183/Instructions!$C$23)*100","v":0},{"$f":"(L183/Instructions!$C$24)*100","v":0},{"$f":"(Y183/Instructions!$C$25)*100","v":0},{"$f":"(AA183/Instructions!$C$27)*100","v":0},{"$f":"(AC183/Instructions!$C$29)*100","v":0},{"$f":"(V183/Instructions!$C$33)*100","v":0},{"$f":"(U183/Instructions!$C$32)*100","v":0},{"$f":"(W183/Instructions!$C$36)*100","v":{"$error":"#VALUE!"}},"","E","E","E","E","E","E","E","--",null,null,null,null,null,{"$f":"Table_2[[#This Row],[Column51]]&Table_2[[#This Row],[Column52]]&AW185","v":""}]
[183,null,null,null,null,null,null,null,null,null,null,null,null,null,null,null,null,null,null,null,null,null,"--",0,{"$f":"Table_2[[#This Row],[Column20]]+Table_2[[#This Row],[Column56]]","v":0},"",{"$f":"Table_2[[#This Row],[Column20]]+Table_2[[#This Row],[Column56]]","v":0},"",{"$f":"Table_2[[#This Row],[Column57]]+Table_2[[#This Row],[Column16]]+Table_2[[#This Row],[Column15]]","v":0},"",{"$f":"(K184/Instructions!$C$23)*100","v":0},{"$f":"(L184/Instructions!$C$24)*100","v":0},{"$f":"(Y184/Instructions!$C$25)*100","v":0},{"$f":"(AA184/Instructions!$C$27)*100","v":0},{"$f":"(AC184/Instructions!$C$29)*100","v":0},{"$f":"(V184/Instructions!$C$33)*100","v":0},{"$f":"(U184/Instructions!$C$32)*100","v":0},{"$f":"(W184/Instructions!$C$36)*100","v":{"$error":"#VALUE!"}},"","E","E","E","E","E","E","E","--",null,null,null,null,null,{"$f":"Table_2[[#This Row],[Column51]]&Table_2[[#This Row],[Column52]]&AW186","v":""}]
[184,null,null,null,null,null,null,null,null,null,null,null,null,null,null,null,null,null,null,null,null,null,"--",0,{"$f":"Table_2[[#This Row],[Column20]]+Table_2[[#This Row],[Column56]]","v":0},"",{"$f":"Table_2[[#This Row],[Column20]]+Table_2[[#This Row],[Column56]]","v":0},"",{"$f":"Table_2[[#This Row],[Column57]]+Table_2[[#This Row],[Column16]]+Table_2[[#This Row],[Column15]]","v":0},"",{"$f":"(K185/Instructions!$C$23)*100","v":0},{"$f":"(L185/Instructions!$C$24)*100","v":0},{"$f":"(Y185/Instructions!$C$25)*100","v":0},{"$f":"(AA185/Instructions!$C$27)*100","v":0},{"$f":"(AC185/Instructions!$C$29)*100","v":0},{"$f":"(V185/Instructions!$C$33)*100","v":0},{"$f":"(U185/Instructions!$C$32)*100","v":0},{"$f":"(W185/Instructions!$C$36)*100","v":{"$error":"#VALUE!"}},"","E","E","E","E","E","E","E","--",null,null,null,null,null,{"$f":"Table_2[[#This Row],[Column51]]&Table_2[[#This Row],[Column52]]&AW187","v":""}]
[185,null,null,null,null,null,null,null,null,null,null,null,null,null,null,null,null,null,null,null,null,null,"--",0,{"$f":"Table_2[[#This Row],[Column20]]+Table_2[[#This Row],[Column56]]","v":0},"",{"$f":"Table_2[[#This Row],[Column20]]+Table_2[[#This Row],[Column56]]","v":0},"",{"$f":"Table_2[[#This Row],[Column57]]+Table_2[[#This Row],[Column16]]+Table_2[[#This Row],[Column15]]","v":0},"",{"$f":"(K186/Instructions!$C$23)*100","v":0},{"$f":"(L186/Instructions!$C$24)*100","v":0},{"$f":"(Y186/Instructions!$C$25)*100","v":0},{"$f":"(AA186/Instructions!$C$27)*100","v":0},{"$f":"(AC186/Instructions!$C$29)*100","v":0},{"$f":"(V186/Instructions!$C$33)*100","v":0},{"$f":"(U186/Instructions!$C$32)*100","v":0},{"$f":"(W186/Instructions!$C$36)*100","v":{"$error":"#VALUE!"}},"","E","E","E","E","E","E","E","--",null,null,null,null,null,{"$f":"Table_2[[#This Row],[Column51]]&Table_2[[#This Row],[Column52]]&AW188","v":""}]
[186,null,null,null,null,null,null,null,null,null,null,null,null,null,null,null,null,null,null,null,null,null,"--",0,{"$f":"Table_2[[#This Row],[Column20]]+Table_2[[#This Row],[Column56]]","v":0},"",{"$f":"Table_2[[#This Row],[Column20]]+Table_2[[#This Row],[Column56]]","v":0},"",{"$f":"Table_2[[#This Row],[Column57]]+Table_2[[#This Row],[Column16]]+Table_2[[#This Row],[Column15]]","v":0},"",{"$f":"(K187/Instructions!$C$23)*100","v":0},{"$f":"(L187/Instructions!$C$24)*100","v":0},{"$f":"(Y187/Instructions!$C$25)*100","v":0},{"$f":"(AA187/Instructions!$C$27)*100","v":0},{"$f":"(AC187/Instructions!$C$29)*100","v":0},{"$f":"(V187/Instructions!$C$33)*100","v":0},{"$f":"(U187/Instructions!$C$32)*100","v":0},{"$f":"(W187/Instructions!$C$36)*100","v":{"$error":"#VALUE!"}},"","E","E","E","E","E","E","E","--",null,null,null,null,null,{"$f":"Table_2[[#This Row],[Column51]]&Table_2[[#This Row],[Column52]]&AW189","v":""}]
[187,null,null,null,null,null,null,null,null,null,null,null,null,null,null,null,null,null,null,null,null,null,"--",0,{"$f":"Table_2[[#This Row],[Column20]]+Table_2[[#This Row],[Column56]]","v":0},"",{"$f":"Table_2[[#This Row],[Column20]]+Table_2[[#This Row],[Column56]]","v":0},"",{"$f":"Table_2[[#This Row],[Column57]]+Table_2[[#This Row],[Column16]]+Table_2[[#This Row],[Column15]]","v":0},"",{"$f":"(K188/Instructions!$C$23)*100","v":0},{"$f":"(L188/Instructions!$C$24)*100","v":0},{"$f":"(Y188/Instructions!$C$25)*100","v":0},{"$f":"(AA188/Instructions!$C$27)*100","v":0},{"$f":"(AC188/Instructions!$C$29)*100","v":0},{"$f":"(V188/Instructions!$C$33)*100","v":0},{"$f":"(U188/Instructions!$C$32)*100","v":0},{"$f":"(W188/Instructions!$C$36)*100","v":{"$error":"#VALUE!"}},"","E","E","E","E","E","E","E","--",null,null,null,null,null,{"$f":"Table_2[[#This Row],[Column51]]&Table_2[[#This Row],[Column52]]&AW190","v":""}]
[188,null,null,null,null,null,null,null,null,null,null,null,null,null,null,null,null,null,null,null,null,null,"--",0,{"$f":"Table_2[[#This Row],[Column20]]+Table_2[[#This Row],[Column56]]","v":0},"",{"$f":"Table_2[[#This Row],[Column20]]+Table_2[[#This Row],[Column56]]","v":0},"",{"$f":"Table_2[[#This Row],[Column57]]+Table_2[[#This Row],[Column16]]+Table_2[[#This Row],[Column15]]","v":0},"",{"$f":"(K189/Instructions!$C$23)*100","v":0},{"$f":"(L189/Instructions!$C$24)*100","v":0},{"$f":"(Y189/Instructions!$C$25)*100","v":0},{"$f":"(AA189/Instructions!$C$27)*100","v":0},{"$f":"(AC189/Instructions!$C$29)*100","v":0},{"$f":"(V189/Instructions!$C$33)*100","v":0},{"$f":"(U189/Instructions!$C$32)*100","v":0},{"$f":"(W189/Instructions!$C$36)*100","v":{"$error":"#VALUE!"}},"","E","E","E","E","E","E","E","--",null,null,null,null,null,{"$f":"Table_2[[#This Row],[Column51]]&Table_2[[#This Row],[Column52]]&AW191","v":""}]
[189,null,null,null,null,null,null,null,null,null,null,null,null,null,null,null,null,null,null,null,null,null,"--",0,{"$f":"Table_2[[#This Row],[Column20]]+Table_2[[#This Row],[Column56]]","v":0},"",{"$f":"Table_2[[#This Row],[Column20]]+Table_2[[#This Row],[Column56]]","v":0},"",{"$f":"Table_2[[#This Row],[Column57]]+Table_2[[#This Row],[Column16]]+Table_2[[#This Row],[Column15]]","v":0},"",{"$f":"(K190/Instructions!$C$23)*100","v":0},{"$f":"(L190/Instructions!$C$24)*100","v":0},{"$f":"(Y190/Instructions!$C$25)*100","v":0},{"$f":"(AA190/Instructions!$C$27)*100","v":0},{"$f":"(AC190/Instructions!$C$29)*100","v":0},{"$f":"(V190/Instructions!$C$33)*100","v":0},{"$f":"(U190/Instructions!$C$32)*100","v":0},{"$f":"(W190/Instructions!$C$36)*100","v":{"$error":"#VALUE!"}},"","E","E","E","E","E","E","E","--",null,null,null,null,null,{"$f":"Table_2[[#This Row],[Column51]]&Table_2[[#This Row],[Column52]]&AW192","v":""}]
[190,null,null,null,null,null,null,null,null,null,null,null,null,null,null,null,null,null,null,null,null,null,"--",0,{"$f":"Table_2[[#This Row],[Column20]]+Table_2[[#This Row],[Column56]]","v":0},"",{"$f":"Table_2[[#This Row],[Column20]]+Table_2[[#This Row],[Column56]]","v":0},"",{"$f":"Table_2[[#This Row],[Column57]]+Table_2[[#This Row],[Column16]]+Table_2[[#This Row],[Column15]]","v":0},"",{"$f":"(K191/Instructions!$C$23)*100","v":0},{"$f":"(L191/Instructions!$C$24)*100","v":0},{"$f":"(Y191/Instructions!$C$25)*100","v":0},{"$f":"(AA191/Instructions!$C$27)*100","v":0},{"$f":"(AC191/Instructions!$C$29)*100","v":0},{"$f":"(V191/Instructions!$C$33)*100","v":0},{"$f":"(U191/Instructions!$C$32)*100","v":0},{"$f":"(W191/Instructions!$C$36)*100","v":{"$error":"#VALUE!"}},"","E","E","E","E","E","E","E","--",null,null,null,null,null,{"$f":"Table_2[[#This Row],[Column51]]&Table_2[[#This Row],[Column52]]&AW193","v":""}]
[191,null,null,null,null,null,null,null,null,null,null,null,null,null,null,null,null,null,null,null,null,null,"--",0,{"$f":"Table_2[[#This Row],[Column20]]+Table_2[[#This Row],[Column56]]","v":0},"",{"$f":"Table_2[[#This Row],[Column20]]+Table_2[[#This Row],[Column56]]","v":0},"",{"$f":"Table_2[[#This Row],[Column57]]+Table_2[[#This Row],[Column16]]+Table_2[[#This Row],[Column15]]","v":0},"",{"$f":"(K192/Instructions!$C$23)*100","v":0},{"$f":"(L192/Instructions!$C$24)*100","v":0},{"$f":"(Y192/Instructions!$C$25)*100","v":0},{"$f":"(AA192/Instructions!$C$27)*100","v":0},{"$f":"(AC192/Instructions!$C$29)*100","v":0},{"$f":"(V192/Instructions!$C$33)*100","v":0},{"$f":"(U192/Instructions!$C$32)*100","v":0},{"$f":"(W192/Instructions!$C$36)*100","v":{"$error":"#VALUE!"}},"","E","E","E","E","E","E","E","--",null,null,null,null,null,{"$f":"Table_2[[#This Row],[Column51]]&Table_2[[#This Row],[Column52]]&AW194","v":""}]
[192,null,null,null,null,null,null,null,null,null,null,null,null,null,null,null,null,null,null,null,null,null,"--",0,{"$f":"Table_2[[#This Row],[Column20]]+Table_2[[#This Row],[Column56]]","v":0},"",{"$f":"Table_2[[#This Row],[Column20]]+Table_2[[#This Row],[Column56]]","v":0},"",{"$f":"Table_2[[#This Row],[Column57]]+Table_2[[#This Row],[Column16]]+Table_2[[#This Row],[Column15]]","v":0},"",{"$f":"(K193/Instructions!$C$23)*100","v":0},{"$f":"(L193/Instructions!$C$24)*100","v":0},{"$f":"(Y193/Instructions!$C$25)*100","v":0},{"$f":"(AA193/Instructions!$C$27)*100","v":0},{"$f":"(AC193/Instructions!$C$29)*100","v":0},{"$f":"(V193/Instructions!$C$33)*100","v":0},{"$f":"(U193/Instructions!$C$32)*100","v":0},{"$f":"(W193/Instructions!$C$36)*100","v":{"$error":"#VALUE!"}},"","E","E","E","E","E","E","E","--",null,null,null,null,null,{"$f":"Table_2[[#This Row],[Column51]]&Table_2[[#This Row],[Column52]]&AW195","v":""}]
[193,null,null,null,null,null,null,null,null,null,null,null,null,null,null,null,null,null,null,null,null,null,"--",0,{"$f":"Table_2[[#This Row],[Column20]]+Table_2[[#This Row],[Column56]]","v":0},"",{"$f":"Table_2[[#This Row],[Column20]]+Table_2[[#This Row],[Column56]]","v":0},"",{"$f":"Table_2[[#This Row],[Column57]]+Table_2[[#This Row],[Column16]]+Table_2[[#This Row],[Column15]]","v":0},"",{"$f":"(K194/Instructions!$C$23)*100","v":0},{"$f":"(L194/Instructions!$C$24)*100","v":0},{"$f":"(Y194/Instructions!$C$25)*100","v":0},{"$f":"(AA194/Instructions!$C$27)*100","v":0},{"$f":"(AC194/Instructions!$C$29)*100","v":0},{"$f":"(V194/Instructions!$C$33)*100","v":0},{"$f":"(U194/Instructions!$C$32)*100","v":0},{"$f":"(W194/Instructions!$C$36)*100","v":{"$error":"#VALUE!"}},"","E","E","E","E","E","E","E","--",null,null,null,null,null,{"$f":"Table_2[[#This Row],[Column51]]&Table_2[[#This Row],[Column52]]&AW196","v":""}]
[194,null,null,null,null,null,null,null,null,null,null,null,null,null,null,null,null,null,null,null,null,null,{"$f":"IF(MIN(AE195:AI195)>=33,SUM(K195:T195),\"--\")","v":"--"},{"$f":"IF(W195=\"--\",0,W195)","v":0},{"$f":"Table_2[[#This Row],[Column20]]+Table_2[[#This Row],[Column56]]","v":0},{"$f":"IF(N195>0,$N$1,IF(O195>0,$O$1,\"\"))","v":""},{"$f":"Table_2[[#This Row],[Column20]]+Table_2[[#This Row],[Column56]]","v":0},{"$f":"IFERROR(IF(P195>0,$P$1,IF(Q195>0,$Q$1,\"\")),\"\")","v":""},{"$f":"Table_2[[#This Row],[Column57]]+Table_2[[#This Row],[Column16]]+Table_2[[#This Row],[Column15]]","v":0},{"$f":"IFERROR(IF(R195>0,$R$1,IF(S195>0,$S$1,IF(T195>0,$T$1,\"\"))),\"\")","v":""},{"$f":"(K195/Instructions!$C$23)*100","v":0},{"$f":"(L195/Instructions!$C$24)*100","v":0},{"$f":"(Y195/Instructions!$C$25)*100","v":0},{"$f":"(AA195/Instructions!$C$27)*100","v":0},{"$f":"(AC195/Instructions!$C$29)*100","v":0},{"$f":"(V195/Instructions!$C$33)*100","v":0},{"$f":"(U195/Instructions!$C$32)*100","v":0},{"$f":"(W195/Instructions!$C$36)*100","v":{"$error":"#VALUE!"}},{"$f":"IFERROR(IF(AL195>=33,\"PASS\",\"----\"),\"\")","v":""},{"$f":"IFERROR(IF(AE195>90,\"A+\",IF(AE195>80,\"A\",IF(AE195>70,\"B+\",IF(AE195>60,\"B\",IF(AE195>50,\"C+\",IF(AE195>40,\"C\",IF(AE195>=33,\"D\",\"E\"))))))),\"Abs\")","v":"E"},{"$f":"IFERROR(IF(AF195>90,\"A+\",IF(AF195>80,\"A\",IF(AF195>70,\"B+\",IF(AF195>60,\"B\",IF(AF195>50,\"C+\",IF(AF195>40,\"C\",IF(AF195>=33,\"D\",\"E\"))))))),\"Abs\")","v":"E"},{"$f":"IFERROR(IF(AG195>90,\"A+\",IF(AG195>80,\"A\",IF(AG195>70,\"B+\",IF(AG195>60,\"B\",IF(AG195>50,\"C+\",IF(AG195>40,\"C\",IF(AG195>=33,\"D\",\"E\"))))))),\"Abs\")","v":"E"},{"$f":"IFERROR(IF(AH195>90,\"A+\",IF(AH195>80,\"A\",IF(AH195>70,\"B+\",IF(AH195>60,\"B\",IF(AH195>50,\"C+\",IF(AH195>40,\"C\",IF(AH195>=33,\"D\",\"E\"))))))),\"Abs\")","v":"E"},{"$f":"IFERROR(IF(AI195>90,\"A+\",IF(AI195>80,\"A\",IF(AI195>70,\"B+\",IF(AI195>60,\"B\",IF(AI195>50,\"C+\",IF(AI195>40,\"C\",IF(AI195>=33,\"D\",\"E\"))))))),\"Abs\")","v":"E"},{"$f":"IFERROR(IF(AJ195>90,\"A+\",IF(AJ195>80,\"A\",IF(AJ195>70,\"B+\",IF(AJ195>60,\"B\",IF(AJ195>50,\"C+\",IF(AJ195>40,\"C\",IF(AJ195>=33,\"D\",\"E\"))))))),\"Abs\")","v":"E"},{"$f":"IFERROR(IF(AK195>90,\"A+\",IF(AK195>80,\"A\",IF(AK195>70,\"B+\",IF(AK195>60,\"B\",IF(AK195>50,\"C+\",IF(AK195>40,\"C\",IF(AK195>=33,\"D\",\"E\"))))))),\"Abs\")","v":"E"},{"$f":"IFERROR(IF(AL195>90,\"A+\",IF(AL195>80,\"A\",IF(AL195>70,\"B+\",IF(AL195>60,\"B\",IF(AL195>50,\"C+\",IF(AL195>40,\"C\",IF(AL195>=33,\"D\",\"E\"))))))),\"--\")","v":"--"},null,null,null,null,null,{"$f":"Table_2[[#This Row],[Column51]]&Table_2[[#This Row],[Column52]]&AW197","v":""}]
[195,null,null,null,null,null,null,null,null,null,null,null,null,null,null,null,null,null,null,null,null,null,"--",0,{"$f":"Table_2[[#This Row],[Column20]]+Table_2[[#This Row],[Column56]]","v":0},"",{"$f":"Table_2[[#This Row],[Column20]]+Table_2[[#This Row],[Column56]]","v":0},"",{"$f":"Table_2[[#This Row],[Column57]]+Table_2[[#This Row],[Column16]]+Table_2[[#This Row],[Column15]]","v":0},"",{"$f":"(K196/Instructions!$C$23)*100","v":0},{"$f":"(L196/Instructions!$C$24)*100","v":0},{"$f":"(Y196/Instructions!$C$25)*100","v":0},{"$f":"(AA196/Instructions!$C$27)*100","v":0},{"$f":"(AC196/Instructions!$C$29)*100","v":0},{"$f":"(V196/Instructions!$C$33)*100","v":0},{"$f":"(U196/Instructions!$C$32)*100","v":0},{"$f":"(W196/Instructions!$C$36)*100","v":{"$error":"#VALUE!"}},"","E","E","E","E","E","E","E","--",null,null,null,null,null,{"$f":"Table_2[[#This Row],[Column51]]&Table_2[[#This Row],[Column52]]&AW198","v":""}]
[196,null,null,null,null,null,null,null,null,null,null,null,null,null,null,null,null,null,null,null,null,null,"--",0,{"$f":"Table_2[[#This Row],[Column20]]+Table_2[[#This Row],[Column56]]","v":0},"",{"$f":"Table_2[[#This Row],[Column20]]+Table_2[[#This Row],[Column56]]","v":0},"",{"$f":"Table_2[[#This Row],[Column57]]+Table_2[[#This Row],[Column16]]+Table_2[[#This Row],[Column15]]","v":0},"",{"$f":"(K197/Instructions!$C$23)*100","v":0},{"$f":"(L197/Instructions!$C$24)*100","v":0},{"$f":"(Y197/Instructions!$C$25)*100","v":0},{"$f":"(AA197/Instructions!$C$27)*100","v":0},{"$f":"(AC197/Instructions!$C$29)*100","v":0},{"$f":"(V197/Instructions!$C$33)*100","v":0},{"$f":"(U197/Instructions!$C$32)*100","v":0},{"$f":"(W197/Instructions!$C$36)*100","v":{"$error":"#VALUE!"}},"","E","E","E","E","E","E","E","--",null,null,null,null,null,{"$f":"Table_2[[#This Row],[Column51]]&Table_2[[#This Row],[Column52]]&AW199","v":""}]
[197,null,null,null,null,null,null,null,null,null,null,null,null,null,null,null,null,null,null,null,null,null,"--",0,{"$f":"Table_2[[#This Row],[Column20]]+Table_2[[#This Row],[Column56]]","v":0},"",{"$f":"Table_2[[#This Row],[Column20]]+Table_2[[#This Row],[Column56]]","v":0},"",{"$f":"Table_2[[#This Row],[Column57]]+Table_2[[#This Row],[Column16]]+Table_2[[#This Row],[Column15]]","v":0},"",{"$f":"(K198/Instructions!$C$23)*100","v":0},{"$f":"(L198/Instructions!$C$24)*100","v":0},{"$f":"(Y198/Instructions!$C$25)*100","v":0},{"$f":"(AA198/Instructions!$C$27)*100","v":0},{"$f":"(AC198/Instructions!$C$29)*100","v":0},{"$f":"(V198/Instructions!$C$33)*100","v":0},{"$f":"(U198/Instructions!$C$32)*100","v":0},{"$f":"(W198/Instructions!$C$36)*100","v":{"$error":"#VALUE!"}},"","E","E","E","E","E","E","E","--",null,null,null,null,null,{"$f":"Table_2[[#This Row],[Column51]]&Table_2[[#This Row],[Column52]]&AW200","v":""}]
[198,null,null,null,null,null,null,null,null,null,null,null,null,null,null,null,null,null,null,null,null,null,"--",0,{"$f":"Table_2[[#This Row],[Column20]]+Table_2[[#This Row],[Column56]]","v":0},"",{"$f":"Table_2[[#This Row],[Column20]]+Table_2[[#This Row],[Column56]]","v":0},"",{"$f":"Table_2[[#This Row],[Column57]]+Table_2[[#This Row],[Column16]]+Table_2[[#This Row],[Column15]]","v":0},"",{"$f":"(K199/Instructions!$C$23)*100","v":0},{"$f":"(L199/Instructions!$C$24)*100","v":0},{"$f":"(Y199/Instructions!$C$25)*100","v":0},{"$f":"(AA199/Instructions!$C$27)*100","v":0},{"$f":"(AC199/Instructions!$C$29)*100","v":0},{"$f":"(V199/Instructions!$C$33)*100","v":0},{"$f":"(U199/Instructions!$C$32)*100","v":0},{"$f":"(W199/Instructions!$C$36)*100","v":{"$error":"#VALUE!"}},"","E","E","E","E","E","E","E","--",null,null,null,null,null,{"$f":"Table_2[[#This Row],[Column51]]&Table_2[[#This Row],[Column52]]&AW201","v":""}]
[199,null,null,null,null,null,null,null,null,null,null,null,null,null,null,null,null,null,null,null,null,null,"--",0,{"$f":"Table_2[[#This Row],[Column20]]+Table_2[[#This Row],[Column56]]","v":0},"",{"$f":"Table_2[[#This Row],[Column20]]+Table_2[[#This Row],[Column56]]","v":0},"",{"$f":"Table_2[[#This Row],[Column57]]+Table_2[[#This Row],[Column16]]+Table_2[[#This Row],[Column15]]","v":0},"",{"$f":"(K200/Instructions!$C$23)*100","v":0},{"$f":"(L200/Instructions!$C$24)*100","v":0},{"$f":"(Y200/Instructions!$C$25)*100","v":0},{"$f":"(AA200/Instructions!$C$27)*100","v":0},{"$f":"(AC200/Instructions!$C$29)*100","v":0},{"$f":"(V200/Instructions!$C$33)*100","v":0},{"$f":"(U200/Instructions!$C$32)*100","v":0},{"$f":"(W200/Instructions!$C$36)*100","v":{"$error":"#VALUE!"}},"","E","E","E","E","E","E","E","--",null,null,null,null,null,{"$f":"Table_2[[#This Row],[Column51]]&Table_2[[#This Row],[Column52]]&AW202","v":""}]
[200,null,null,null,null,null,null,null,null,null,null,null,null,null,null,null,null,null,null,null,null,null,"--",0,{"$f":"Table_2[[#This Row],[Column20]]+Table_2[[#This Row],[Column56]]","v":0},"",{"$f":"Table_2[[#This Row],[Column20]]+Table_2[[#This Row],[Column56]]","v":0},"",{"$f":"Table_2[[#This Row],[Column57]]+Table_2[[#This Row],[Column16]]+Table_2[[#This Row],[Column15]]","v":0},"",{"$f":"(K201/Instructions!$C$23)*100","v":0},{"$f":"(L201/Instructions!$C$24)*100","v":0},{"$f":"(Y201/Instructions!$C$25)*100","v":0},{"$f":"(AA201/Instructions!$C$27)*100","v":0},{"$f":"(AC201/Instructions!$C$29)*100","v":0},{"$f":"(V201/Instructions!$C$33)*100","v":0},{"$f":"(U201/Instructions!$C$32)*100","v":0},{"$f":"(W201/Instructions!$C$36)*100","v":{"$error":"#VALUE!"}},"","E","E","E","E","E","E","E","--",null,null,null,null,null,{"$f":"Table_2[[#This Row],[Column51]]&Table_2[[#This Row],[Column52]]&AW203","v":""}]
[201,null,null,null,null,null,null,null,null,null,null,null,null,null,null,null,null,null,null,null,null,null,"--",0,{"$f":"Table_2[[#This Row],[Column20]]+Table_2[[#This Row],[Column56]]","v":0},"",{"$f":"Table_2[[#This Row],[Column20]]+Table_2[[#This Row],[Column56]]","v":0},"",{"$f":"Table_2[[#This Row],[Column57]]+Table_2[[#This Row],[Column16]]+Table_2[[#This Row],[Column15]]","v":0},"",{"$f":"(K202/Instructions!$C$23)*100","v":0},{"$f":"(L202/Instructions!$C$24)*100","v":0},{"$f":"(Y202/Instructions!$C$25)*100","v":0},{"$f":"(AA202/Instructions!$C$27)*100","v":0},{"$f":"(AC202/Instructions!$C$29)*100","v":0},{"$f":"(V202/Instructions!$C$33)*100","v":0},{"$f":"(U202/Instructions!$C$32)*100","v":0},{"$f":"(W202/Instructions!$C$36)*100","v":{"$error":"#VALUE!"}},"","E","E","E","E","E","E","E","--",null,null,null,null,null,{"$f":"Table_2[[#This Row],[Column51]]&Table_2[[#This Row],[Column52]]&AW204","v":""}]
[202,null,null,null,null,null,null,null,null,null,null,null,null,null,null,null,null,null,null,null,null,null,"--",0,{"$f":"Table_2[[#This Row],[Column20]]+Table_2[[#This Row],[Column56]]","v":0},"",{"$f":"Table_2[[#This Row],[Column20]]+Table_2[[#This Row],[Column56]]","v":0},"",{"$f":"Table_2[[#This Row],[Column57]]+Table_2[[#This Row],[Column16]]+Table_2[[#This Row],[Column15]]","v":0},"",{"$f":"(K203/Instructions!$C$23)*100","v":0},{"$f":"(L203/Instructions!$C$24)*100","v":0},{"$f":"(Y203/Instructions!$C$25)*100","v":0},{"$f":"(AA203/Instructions!$C$27)*100","v":0},{"$f":"(AC203/Instructions!$C$29)*100","v":0},{"$f":"(V203/Instructions!$C$33)*100","v":0},{"$f":"(U203/Instructions!$C$32)*100","v":0},{"$f":"(W203/Instructions!$C$36)*100","v":{"$error":"#VALUE!"}},"","E","E","E","E","E","E","E","--",null,null,null,null,null,{"$f":"Table_2[[#This Row],[Column51]]&Table_2[[#This Row],[Column52]]&AW205","v":""}]
[203,null,null,null,null,null,null,null,null,null,null,null,null,null,null,null,null,null,null,null,null,null,"--",0,{"$f":"Table_2[[#This Row],[Column20]]+Table_2[[#This Row],[Column56]]","v":0},"",{"$f":"Table_2[[#This Row],[Column20]]+Table_2[[#This Row],[Column56]]","v":0},"",{"$f":"Table_2[[#This Row],[Column57]]+Table_2[[#This Row],[Column16]]+Table_2[[#This Row],[Column15]]","v":0},"",{"$f":"(K204/Instructions!$C$23)*100","v":0},{"$f":"(L204/Instructions!$C$24)*100","v":0},{"$f":"(Y204/Instructions!$C$25)*100","v":0},{"$f":"(AA204/Instructions!$C$27)*100","v":0},{"$f":"(AC204/Instructions!$C$29)*100","v":0},{"$f":"(V204/Instructions!$C$33)*100","v":0},{"$f":"(U204/Instructions!$C$32)*100","v":0},{"$f":"(W204/Instructions!$C$36)*100","v":{"$error":"#VALUE!"}},"","E","E","E","E","E","E","E","--",null,null,null,null,null,{"$f":"Table_2[[#This Row],[Column51]]&Table_2[[#This Row],[Column52]]&AW206","v":""}]
[204,null,null,null,null,null,null,null,null,null,null,null,null,null,null,null,null,null,null,null,null,null,"--",0,{"$f":"Table_2[[#This Row],[Column20]]+Table_2[[#This Row],[Column56]]","v":0},"",{"$f":"Table_2[[#This Row],[Column20]]+Table_2[[#This Row],[Column56]]","v":0},"",{"$f":"Table_2[[#This Row],[Column57]]+Table_2[[#This Row],[Column16]]+Table_2[[#This Row],[Column15]]","v":0},"",{"$f":"(K205/Instructions!$C$23)*100","v":0},{"$f":"(L205/Instructions!$C$24)*100","v":0},{"$f":"(Y205/Instructions!$C$25)*100","v":0},{"$f":"(AA205/Instructions!$C$27)*100","v":0},{"$f":"(AC205/Instructions!$C$29)*100","v":0},{"$f":"(V205/Instructions!$C$33)*100","v":0},{"$f":"(U205/Instructions!$C$32)*100","v":0},{"$f":"(W205/Instructions!$C$36)*100","v":{"$error":"#VALUE!"}},"","E","E","E","E","E","E","E","--",null,null,null,null,null,{"$f":"Table_2[[#This Row],[Column51]]&Table_2[[#This Row],[Column52]]&AW207","v":""}]
[205,null,null,null,null,null,null,null,null,null,null,null,null,null,null,null,null,null,null,null,null,null,"--",0,{"$f":"Table_2[[#This Row],[Column20]]+Table_2[[#This Row],[Column56]]","v":0},"",{"$f":"Table_2[[#This Row],[Column20]]+Table_2[[#This Row],[Column56]]","v":0},"",{"$f":"Table_2[[#This Row],[Column57]]+Table_2[[#This Row],[Column16]]+Table_2[[#This Row],[Column15]]","v":0},"",{"$f":"(K206/Instructions!$C$23)*100","v":0},{"$f":"(L206/Instructions!$C$24)*100","v":0},{"$f":"(Y206/Instructions!$C$25)*100","v":0},{"$f":"(AA206/Instructions!$C$27)*100","v":0},{"$f":"(AC206/Instructions!$C$29)*100","v":0},{"$f":"(V206/Instructions!$C$33)*100","v":0},{"$f":"(U206/Instructions!$C$32)*100","v":0},{"$f":"(W206/Instructions!$C$36)*100","v":{"$error":"#VALUE!"}},"","E","E","E","E","E","E","E","--",null,null,null,null,null,{"$f":"Table_2[[#This Row],[Column51]]&Table_2[[#This Row],[Column52]]&AW208","v":""}]
[206,null,null,null,null,null,null,null,null,null,null,null,null,null,null,null,null,null,null,null,null,null,"--",0,{"$f":"Table_2[[#This Row],[Column20]]+Table_2[[#This Row],[Column56]]","v":0},"",{"$f":"Table_2[[#This Row],[Column20]]+Table_2[[#This Row],[Column56]]","v":0},"",{"$f":"Table_2[[#This Row],[Column57]]+Table_2[[#This Row],[Column16]]+Table_2[[#This Row],[Column15]]","v":0},"",{"$f":"(K207/Instructions!$C$23)*100","v":0},{"$f":"(L207/Instructions!$C$24)*100","v":0},{"$f":"(Y207/Instructions!$C$25)*100","v":0},{"$f":"(AA207/Instructions!$C$27)*100","v":0},{"$f":"(AC207/Instructions!$C$29)*100","v":0},{"$f":"(V207/Instructions!$C$33)*100","v":0},{"$f":"(U207/Instructions!$C$32)*100","v":0},{"$f":"(W207/Instructions!$C$36)*100","v":{"$error":"#VALUE!"}},"","E","E","E","E","E","E","E","--",null,null,null,null,null,{"$f":"Table_2[[#This Row],[Column51]]&Table_2[[#This Row],[Column52]]&AW209","v":""}]
[207,null,null,null,null,null,null,null,null,null,null,null,null,null,null,null,null,null,null,null,null,null,"--",0,{"$f":"Table_2[[#This Row],[Column20]]+Table_2[[#This Row],[Column56]]","v":0},"",{"$f":"Table_2[[#This Row],[Column20]]+Table_2[[#This Row],[Column56]]","v":0},"",{"$f":"Table_2[[#This Row],[Column57]]+Table_2[[#This Row],[Column16]]+Table_2[[#This Row],[Column15]]","v":0},"",{"$f":"(K208/Instructions!$C$23)*100","v":0},{"$f":"(L208/Instructions!$C$24)*100","v":0},{"$f":"(Y208/Instructions!$C$25)*100","v":0},{"$f":"(AA208/Instructions!$C$27)*100","v":0},{"$f":"(AC208/Instructions!$C$29)*100","v":0},{"$f":"(V208/Instructions!$C$33)*100","v":0},{"$f":"(U208/Instructions!$C$32)*100","v":0},{"$f":"(W208/Instructions!$C$36)*100","v":{"$error":"#VALUE!"}},"","E","E","E","E","E","E","E","--",null,null,null,null,null,{"$f":"Table_2[[#This Row],[Column51]]&Table_2[[#This Row],[Column52]]&AW210","v":""}]
[208,null,null,null,null,null,null,null,null,null,null,null,null,null,null,null,null,null,null,null,null,null,"--",0,{"$f":"Table_2[[#This Row],[Column20]]+Table_2[[#This Row],[Column56]]","v":0},"",{"$f":"Table_2[[#This Row],[Column20]]+Table_2[[#This Row],[Column56]]","v":0},"",{"$f":"Table_2[[#This Row],[Column57]]+Table_2[[#This Row],[Column16]]+Table_2[[#This Row],[Column15]]","v":0},"",{"$f":"(K209/Instructions!$C$23)*100","v":0},{"$f":"(L209/Instructions!$C$24)*100","v":0},{"$f":"(Y209/Instructions!$C$25)*100","v":0},{"$f":"(AA209/Instructions!$C$27)*100","v":0},{"$f":"(AC209/Instructions!$C$29)*100","v":0},{"$f":"(V209/Instructions!$C$33)*100","v":0},{"$f":"(U209/Instructions!$C$32)*100","v":0},{"$f":"(W209/Instructions!$C$36)*100","v":{"$error":"#VALUE!"}},"","E","E","E","E","E","E","E","--",null,null,null,null,null,{"$f":"Table_2[[#This Row],[Column51]]&Table_2[[#This Row],[Column52]]&AW211","v":""}]
[209,null,null,null,null,null,null,null,null,null,null,null,null,null,null,null,null,null,null,null,null,null,"--",0,{"$f":"Table_2[[#This Row],[Column20]]+Table_2[[#This Row],[Column56]]","v":0},"",{"$f":"Table_2[[#This Row],[Column20]]+Table_2[[#This Row],[Column56]]","v":0},"",{"$f":"Table_2[[#This Row],[Column57]]+Table_2[[#This Row],[Column16]]+Table_2[[#This Row],[Column15]]","v":0},"",{"$f":"(K210/Instructions!$C$23)*100","v":0},{"$f":"(L210/Instructions!$C$24)*100","v":0},{"$f":"(Y210/Instructions!$C$25)*100","v":0},{"$f":"(AA210/Instructions!$C$27)*100","v":0},{"$f":"(AC210/Instructions!$C$29)*100","v":0},{"$f":"(V210/Instructions!$C$33)*100","v":0},{"$f":"(U210/Instructions!$C$32)*100","v":0},{"$f":"(W210/Instructions!$C$36)*100","v":{"$error":"#VALUE!"}},"","E","E","E","E","E","E","E","--",null,null,null,null,null,{"$f":"Table_2[[#This Row],[Column51]]&Table_2[[#This Row],[Column52]]&AW212","v":""}]
[210,null,null,null,null,null,null,null,null,null,null,null,null,null,null,null,null,null,null,null,null,null,"--",0,{"$f":"Table_2[[#This Row],[Column20]]+Table_2[[#This Row],[Column56]]","v":0},"",{"$f":"Table_2[[#This Row],[Column20]]+Table_2[[#This Row],[Column56]]","v":0},"",{"$f":"Table_2[[#This Row],[Column57]]+Table_2[[#This Row],[Column16]]+Table_2[[#This Row],[Column15]]","v":0},"",{"$f":"(K211/Instructions!$C$23)*100","v":0},{"$f":"(L211/Instructions!$C$24)*100","v":0},{"$f":"(Y211/Instructions!$C$25)*100","v":0},{"$f":"(AA211/Instructions!$C$27)*100","v":0},{"$f":"(AC211/Instructions!$C$29)*100","v":0},{"$f":"(V211/Instructions!$C$33)*100","v":0},{"$f":"(U211/Instructions!$C$32)*100","v":0},{"$f":"(W211/Instructions!$C$36)*100","v":{"$error":"#VALUE!"}},"","E","E","E","E","E","E","E","--",null,null,null,null,null,{"$f":"Table_2[[#This Row],[Column51]]&Table_2[[#This Row],[Column52]]&AW213","v":""}]
[211,null,null,null,null,null,null,null,null,null,null,null,null,null,null,null,null,null,null,null,null,null,"--",0,{"$f":"Table_2[[#This Row],[Column20]]+Table_2[[#This Row],[Column56]]","v":0},"",{"$f":"Table_2[[#This Row],[Column20]]+Table_2[[#This Row],[Column56]]","v":0},"",{"$f":"Table_2[[#This Row],[Column57]]+Table_2[[#This Row],[Column16]]+Table_2[[#This Row],[Column15]]","v":0},"",{"$f":"(K212/Instructions!$C$23)*100","v":0},{"$f":"(L212/Instructions!$C$24)*100","v":0},{"$f":"(Y212/Instructions!$C$25)*100","v":0},{"$f":"(AA212/Instructions!$C$27)*100","v":0},{"$f":"(AC212/Instructions!$C$29)*100","v":0},{"$f":"(V212/Instructions!$C$33)*100","v":0},{"$f":"(U212/Instructions!$C$32)*100","v":0},{"$f":"(W212/Instructions!$C$36)*100","v":{"$error":"#VALUE!"}},"","E","E","E","E","E","E","E","--",null,null,null,null,null,{"$f":"Table_2[[#This Row],[Column51]]&Table_2[[#This Row],[Column52]]&AW214","v":""}]
[212,null,null,null,null,null,null,null,null,null,null,null,null,null,null,null,null,null,null,null,null,null,"--",0,{"$f":"Table_2[[#This Row],[Column20]]+Table_2[[#This Row],[Column56]]","v":0},"",{"$f":"Table_2[[#This Row],[Column20]]+Table_2[[#This Row],[Column56]]","v":0},"",{"$f":"Table_2[[#This Row],[Column57]]+Table_2[[#This Row],[Column16]]+Table_2[[#This Row],[Column15]]","v":0},"",{"$f":"(K213/Instructions!$C$23)*100","v":0},{"$f":"(L213/Instructions!$C$24)*100","v":0},{"$f":"(Y213/Instructions!$C$25)*100","v":0},{"$f":"(AA213/Instructions!$C$27)*100","v":0},{"$f":"(AC213/Instructions!$C$29)*100","v":0},{"$f":"(V213/Instructions!$C$33)*100","v":0},{"$f":"(U213/Instructions!$C$32)*100","v":0},{"$f":"(W213/Instructions!$C$36)*100","v":{"$error":"#VALUE!"}},"","E","E","E","E","E","E","E","--",null,null,null,null,null,{"$f":"Table_2[[#This Row],[Column51]]&Table_2[[#This Row],[Column52]]&AW215","v":""}]
[213,null,null,null,null,null,null,null,null,null,null,null,null,null,null,null,null,null,null,null,null,null,"--",0,{"$f":"Table_2[[#This Row],[Column20]]+Table_2[[#This Row],[Column56]]","v":0},"",{"$f":"Table_2[[#This Row],[Column20]]+Table_2[[#This Row],[Column56]]","v":0},"",{"$f":"Table_2[[#This Row],[Column57]]+Table_2[[#This Row],[Column16]]+Table_2[[#This Row],[Column15]]","v":0},"",{"$f":"(K214/Instructions!$C$23)*100","v":0},{"$f":"(L214/Instructions!$C$24)*100","v":0},{"$f":"(Y214/Instructions!$C$25)*100","v":0},{"$f":"(AA214/Instructions!$C$27)*100","v":0},{"$f":"(AC214/Instructions!$C$29)*100","v":0},{"$f":"(V214/Instructions!$C$33)*100","v":0},{"$f":"(U214/Instructions!$C$32)*100","v":0},{"$f":"(W214/Instructions!$C$36)*100","v":{"$error":"#VALUE!"}},"","E","E","E","E","E","E","E","--",null,null,null,null,null,{"$f":"Table_2[[#This Row],[Column51]]&Table_2[[#This Row],[Column52]]&AW216","v":""}]
[214,null,null,null,null,null,null,null,null,null,null,null,null,null,null,null,null,null,null,null,null,null,"--",0,{"$f":"Table_2[[#This Row],[Column20]]+Table_2[[#This Row],[Column56]]","v":0},"",{"$f":"Table_2[[#This Row],[Column20]]+Table_2[[#This Row],[Column56]]","v":0},"",{"$f":"Table_2[[#This Row],[Column57]]+Table_2[[#This Row],[Column16]]+Table_2[[#This Row],[Column15]]","v":0},"",{"$f":"(K215/Instructions!$C$23)*100","v":0},{"$f":"(L215/Instructions!$C$24)*100","v":0},{"$f":"(Y215/Instructions!$C$25)*100","v":0},{"$f":"(AA215/Instructions!$C$27)*100","v":0},{"$f":"(AC215/Instructions!$C$29)*100","v":0},{"$f":"(V215/Instructions!$C$33)*100","v":0},{"$f":"(U215/Instructions!$C$32)*100","v":0},{"$f":"(W215/Instructions!$C$36)*100","v":{"$error":"#VALUE!"}},"","E","E","E","E","E","E","E","--",null,null,null,null,null,{"$f":"Table_2[[#This Row],[Column51]]&Table_2[[#This Row],[Column52]]&AW217","v":""}]
[215,null,null,null,null,null,null,null,null,null,null,null,null,null,null,null,null,null,null,null,null,null,"--",0,{"$f":"Table_2[[#This Row],[Column20]]+Table_2[[#This Row],[Column56]]","v":0},"",{"$f":"Table_2[[#This Row],[Column20]]+Table_2[[#This Row],[Column56]]","v":0},"",{"$f":"Table_2[[#This Row],[Column57]]+Table_2[[#This Row],[Column16]]+Table_2[[#This Row],[Column15]]","v":0},"",{"$f":"(K216/Instructions!$C$23)*100","v":0},{"$f":"(L216/Instructions!$C$24)*100","v":0},{"$f":"(Y216/Instructions!$C$25)*100","v":0},{"$f":"(AA216/Instructions!$C$27)*100","v":0},{"$f":"(AC216/Instructions!$C$29)*100","v":0},{"$f":"(V216/Instructions!$C$33)*100","v":0},{"$f":"(U216/Instructions!$C$32)*100","v":0},{"$f":"(W216/Instructions!$C$36)*100","v":{"$error":"#VALUE!"}},"","E","E","E","E","E","E","E","--",null,null,null,null,null,{"$f":"Table_2[[#This Row],[Column51]]&Table_2[[#This Row],[Column52]]&AW218","v":""}]
[216,null,null,null,null,null,null,null,null,null,null,null,null,null,null,null,null,null,null,null,null,null,"--",0,{"$f":"Table_2[[#This Row],[Column20]]+Table_2[[#This Row],[Column56]]","v":0},"",{"$f":"Table_2[[#This Row],[Column20]]+Table_2[[#This Row],[Column56]]","v":0},"",{"$f":"Table_2[[#This Row],[Column57]]+Table_2[[#This Row],[Column16]]+Table_2[[#This Row],[Column15]]","v":0},"",{"$f":"(K217/Instructions!$C$23)*100","v":0},{"$f":"(L217/Instructions!$C$24)*100","v":0},{"$f":"(Y217/Instructions!$C$25)*100","v":0},{"$f":"(AA217/Instructions!$C$27)*100","v":0},{"$f":"(AC217/Instructions!$C$29)*100","v":0},{"$f":"(V217/Instructions!$C$33)*100","v":0},{"$f":"(U217/Instructions!$C$32)*100","v":0},{"$f":"(W217/Instructions!$C$36)*100","v":{"$error":"#VALUE!"}},"","E","E","E","E","E","E","E","--",null,null,null,null,null,{"$f":"Table_2[[#This Row],[Column51]]&Table_2[[#This Row],[Column52]]&AW219","v":""}]
[217,null,null,null,null,null,null,null,null,null,null,null,null,null,null,null,null,null,null,null,null,null,"--",0,{"$f":"Table_2[[#This Row],[Column20]]+Table_2[[#This Row],[Column56]]","v":0},"",{"$f":"Table_2[[#This Row],[Column20]]+Table_2[[#This Row],[Column56]]","v":0},"",{"$f":"Table_2[[#This Row],[Column57]]+Table_2[[#This Row],[Column16]]+Table_2[[#This Row],[Column15]]","v":0},"",{"$f":"(K218/Instructions!$C$23)*100","v":0},{"$f":"(L218/Instructions!$C$24)*100","v":0},{"$f":"(Y218/Instructions!$C$25)*100","v":0},{"$f":"(AA218/Instructions!$C$27)*100","v":0},{"$f":"(AC218/Instructions!$C$29)*100","v":0},{"$f":"(V218/Instructions!$C$33)*100","v":0},{"$f":"(U218/Instructions!$C$32)*100","v":0},{"$f":"(W218/Instructions!$C$36)*100","v":{"$error":"#VALUE!"}},"","E","E","E","E","E","E","E","--",null,null,null,null,null,{"$f":"Table_2[[#This Row],[Column51]]&Table_2[[#This Row],[Column52]]&AW220","v":""}]
[218,null,null,null,null,null,null,null,null,null,null,null,null,null,null,null,null,null,null,null,null,null,"--",0,{"$f":"Table_2[[#This Row],[Column20]]+Table_2[[#This Row],[Column56]]","v":0},"",{"$f":"Table_2[[#This Row],[Column20]]+Table_2[[#This Row],[Column56]]","v":0},"",{"$f":"Table_2[[#This Row],[Column57]]+Table_2[[#This Row],[Column16]]+Table_2[[#This Row],[Column15]]","v":0},"",{"$f":"(K219/Instructions!$C$23)*100","v":0},{"$f":"(L219/Instructions!$C$24)*100","v":0},{"$f":"(Y219/Instructions!$C$25)*100","v":0},{"$f":"(AA219/Instructions!$C$27)*100","v":0},{"$f":"(AC219/Instructions!$C$29)*100","v":0},{"$f":"(V219/Instructions!$C$33)*100","v":0},{"$f":"(U219/Instructions!$C$32)*100","v":0},{"$f":"(W219/Instructions!$C$36)*100","v":{"$error":"#VALUE!"}},"","E","E","E","E","E","E","E","--",null,null,null,null,null,{"$f":"Table_2[[#This Row],[Column51]]&Table_2[[#This Row],[Column52]]&AW221","v":""}]
[219,null,null,null,null,null,null,null,null,null,null,null,null,null,null,null,null,null,null,null,null,null,"--",0,{"$f":"Table_2[[#This Row],[Column20]]+Table_2[[#This Row],[Column56]]","v":0},"",{"$f":"Table_2[[#This Row],[Column20]]+Table_2[[#This Row],[Column56]]","v":0},"",{"$f":"Table_2[[#This Row],[Column57]]+Table_2[[#This Row],[Column16]]+Table_2[[#This Row],[Column15]]","v":0},"",{"$f":"(K220/Instructions!$C$23)*100","v":0},{"$f":"(L220/Instructions!$C$24)*100","v":0},{"$f":"(Y220/Instructions!$C$25)*100","v":0},{"$f":"(AA220/Instructions!$C$27)*100","v":0},{"$f":"(AC220/Instructions!$C$29)*100","v":0},{"$f":"(V220/Instructions!$C$33)*100","v":0},{"$f":"(U220/Instructions!$C$32)*100","v":0},{"$f":"(W220/Instructions!$C$36)*100","v":{"$error":"#VALUE!"}},"","E","E","E","E","E","E","E","--",null,null,null,null,null,{"$f":"Table_2[[#This Row],[Column51]]&Table_2[[#This Row],[Column52]]&AW222","v":""}]
[220,null,null,null,null,null,null,null,null,null,null,null,null,null,null,null,null,null,null,null,null,null,"--",0,{"$f":"Table_2[[#This Row],[Column20]]+Table_2[[#This Row],[Column56]]","v":0},"",{"$f":"Table_2[[#This Row],[Column20]]+Table_2[[#This Row],[Column56]]","v":0},"",{"$f":"Table_2[[#This Row],[Column57]]+Table_2[[#This Row],[Column16]]+Table_2[[#This Row],[Column15]]","v":0},"",{"$f":"(K221/Instructions!$C$23)*100","v":0},{"$f":"(L221/Instructions!$C$24)*100","v":0},{"$f":"(Y221/Instructions!$C$25)*100","v":0},{"$f":"(AA221/Instructions!$C$27)*100","v":0},{"$f":"(AC221/Instructions!$C$29)*100","v":0},{"$f":"(V221/Instructions!$C$33)*100","v":0},{"$f":"(U221/Instructions!$C$32)*100","v":0},{"$f":"(W221/Instructions!$C$36)*100","v":{"$error":"#VALUE!"}},"","E","E","E","E","E","E","E","--",null,null,null,null,null,{"$f":"Table_2[[#This Row],[Column51]]&Table_2[[#This Row],[Column52]]&AW223","v":""}]
[221,null,null,null,null,null,null,null,null,null,null,null,null,null,null,null,null,null,null,null,null,null,"--",0,{"$f":"Table_2[[#This Row],[Column20]]+Table_2[[#This Row],[Column56]]","v":0},"",{"$f":"Table_2[[#This Row],[Column20]]+Table_2[[#This Row],[Column56]]","v":0},"",{"$f":"Table_2[[#This Row],[Column57]]+Table_2[[#This Row],[Column16]]+Table_2[[#This Row],[Column15]]","v":0},"",{"$f":"(K222/Instructions!$C$23)*100","v":0},{"$f":"(L222/Instructions!$C$24)*100","v":0},{"$f":"(Y222/Instructions!$C$25)*100","v":0},{"$f":"(AA222/Instructions!$C$27)*100","v":0},{"$f":"(AC222/Instructions!$C$29)*100","v":0},{"$f":"(V222/Instructions!$C$33)*100","v":0},{"$f":"(U222/Instructions!$C$32)*100","v":0},{"$f":"(W222/Instructions!$C$36)*100","v":{"$error":"#VALUE!"}},"","E","E","E","E","E","E","E","--",null,null,null,null,null,{"$f":"Table_2[[#This Row],[Column51]]&Table_2[[#This Row],[Column52]]&AW224","v":""}]
[222,null,null,null,null,null,null,null,null,null,null,null,null,null,null,null,null,null,null,null,null,null,"--",0,{"$f":"Table_2[[#This Row],[Column20]]+Table_2[[#This Row],[Column56]]","v":0},"",{"$f":"Table_2[[#This Row],[Column20]]+Table_2[[#This Row],[Column56]]","v":0},"",{"$f":"Table_2[[#This Row],[Column57]]+Table_2[[#This Row],[Column16]]+Table_2[[#This Row],[Column15]]","v":0},"",{"$f":"(K223/Instructions!$C$23)*100","v":0},{"$f":"(L223/Instructions!$C$24)*100","v":0},{"$f":"(Y223/Instructions!$C$25)*100","v":0},{"$f":"(AA223/Instructions!$C$27)*100","v":0},{"$f":"(AC223/Instructions!$C$29)*100","v":0},{"$f":"(V223/Instructions!$C$33)*100","v":0},{"$f":"(U223/Instructions!$C$32)*100","v":0},{"$f":"(W223/Instructions!$C$36)*100","v":{"$error":"#VALUE!"}},"","E","E","E","E","E","E","E","--",null,null,null,null,null,{"$f":"Table_2[[#This Row],[Column51]]&Table_2[[#This Row],[Column52]]&AW225","v":""}]
[223,null,null,null,null,null,null,null,null,null,null,null,null,null,null,null,null,null,null,null,null,null,"--",0,{"$f":"Table_2[[#This Row],[Column20]]+Table_2[[#This Row],[Column56]]","v":0},"",{"$f":"Table_2[[#This Row],[Column20]]+Table_2[[#This Row],[Column56]]","v":0},"",{"$f":"Table_2[[#This Row],[Column57]]+Table_2[[#This Row],[Column16]]+Table_2[[#This Row],[Column15]]","v":0},"",{"$f":"(K224/Instructions!$C$23)*100","v":0},{"$f":"(L224/Instructions!$C$24)*100","v":0},{"$f":"(Y224/Instructions!$C$25)*100","v":0},{"$f":"(AA224/Instructions!$C$27)*100","v":0},{"$f":"(AC224/Instructions!$C$29)*100","v":0},{"$f":"(V224/Instructions!$C$33)*100","v":0},{"$f":"(U224/Instructions!$C$32)*100","v":0},{"$f":"(W224/Instructions!$C$36)*100","v":{"$error":"#VALUE!"}},"","E","E","E","E","E","E","E","--",null,null,null,null,null,{"$f":"Table_2[[#This Row],[Column51]]&Table_2[[#This Row],[Column52]]&AW226","v":""}]
[224,null,null,null,null,null,null,null,null,null,null,null,null,null,null,null,null,null,null,null,null,null,"--",0,{"$f":"Table_2[[#This Row],[Column20]]+Table_2[[#This Row],[Column56]]","v":0},"",{"$f":"Table_2[[#This Row],[Column20]]+Table_2[[#This Row],[Column56]]","v":0},"",{"$f":"Table_2[[#This Row],[Column57]]+Table_2[[#This Row],[Column16]]+Table_2[[#This Row],[Column15]]","v":0},"",{"$f":"(K225/Instructions!$C$23)*100","v":0},{"$f":"(L225/Instructions!$C$24)*100","v":0},{"$f":"(Y225/Instructions!$C$25)*100","v":0},{"$f":"(AA225/Instructions!$C$27)*100","v":0},{"$f":"(AC225/Instructions!$C$29)*100","v":0},{"$f":"(V225/Instructions!$C$33)*100","v":0},{"$f":"(U225/Instructions!$C$32)*100","v":0},{"$f":"(W225/Instructions!$C$36)*100","v":{"$error":"#VALUE!"}},"","E","E","E","E","E","E","E","--",null,null,null,null,null,{"$f":"Table_2[[#This Row],[Column51]]&Table_2[[#This Row],[Column52]]&AW227","v":""}]
[225,null,null,null,null,null,null,null,null,null,null,null,null,null,null,null,null,null,null,null,null,null,"--",0,{"$f":"Table_2[[#This Row],[Column20]]+Table_2[[#This Row],[Column56]]","v":0},"",{"$f":"Table_2[[#This Row],[Column20]]+Table_2[[#This Row],[Column56]]","v":0},"",{"$f":"Table_2[[#This Row],[Column57]]+Table_2[[#This Row],[Column16]]+Table_2[[#This Row],[Column15]]","v":0},"",{"$f":"(K226/Instructions!$C$23)*100","v":0},{"$f":"(L226/Instructions!$C$24)*100","v":0},{"$f":"(Y226/Instructions!$C$25)*100","v":0},{"$f":"(AA226/Instructions!$C$27)*100","v":0},{"$f":"(AC226/Instructions!$C$29)*100","v":0},{"$f":"(V226/Instructions!$C$33)*100","v":0},{"$f":"(U226/Instructions!$C$32)*100","v":0},{"$f":"(W226/Instructions!$C$36)*100","v":{"$error":"#VALUE!"}},"","E","E","E","E","E","E","E","--",null,null,null,null,null,{"$f":"Table_2[[#This Row],[Column51]]&Table_2[[#This Row],[Column52]]&AW228","v":""}]
[226,null,null,null,null,null,null,null,null,null,null,null,null,null,null,null,null,null,null,null,null,null,"--",0,{"$f":"Table_2[[#This Row],[Column20]]+Table_2[[#This Row],[Column56]]","v":0},"",{"$f":"Table_2[[#This Row],[Column20]]+Table_2[[#This Row],[Column56]]","v":0},"",{"$f":"Table_2[[#This Row],[Column57]]+Table_2[[#This Row],[Column16]]+Table_2[[#This Row],[Column15]]","v":0},"",{"$f":"(K227/Instructions!$C$23)*100","v":0},{"$f":"(L227/Instructions!$C$24)*100","v":0},{"$f":"(Y227/Instructions!$C$25)*100","v":0},{"$f":"(AA227/Instructions!$C$27)*100","v":0},{"$f":"(AC227/Instructions!$C$29)*100","v":0},{"$f":"(V227/Instructions!$C$33)*100","v":0},{"$f":"(U227/Instructions!$C$32)*100","v":0},{"$f":"(W227/Instructions!$C$36)*100","v":{"$error":"#VALUE!"}},"","E","E","E","E","E","E","E","--",null,null,null,null,null,{"$f":"Table_2[[#This Row],[Column51]]&Table_2[[#This Row],[Column52]]&AW229","v":""}]
[227,null,null,null,null,null,null,null,null,null,null,null,null,null,null,null,null,null,null,null,null,null,"--",0,{"$f":"Table_2[[#This Row],[Column20]]+Table_2[[#This Row],[Column56]]","v":0},"",{"$f":"Table_2[[#This Row],[Column20]]+Table_2[[#This Row],[Column56]]","v":0},"",{"$f":"Table_2[[#This Row],[Column57]]+Table_2[[#This Row],[Column16]]+Table_2[[#This Row],[Column15]]","v":0},"",{"$f":"(K228/Instructions!$C$23)*100","v":0},{"$f":"(L228/Instructions!$C$24)*100","v":0},{"$f":"(Y228/Instructions!$C$25)*100","v":0},{"$f":"(AA228/Instructions!$C$27)*100","v":0},{"$f":"(AC228/Instructions!$C$29)*100","v":0},{"$f":"(V228/Instructions!$C$33)*100","v":0},{"$f":"(U228/Instructions!$C$32)*100","v":0},{"$f":"(W228/Instructions!$C$36)*100","v":{"$error":"#VALUE!"}},"","E","E","E","E","E","E","E","--",null,null,null,null,null,{"$f":"Table_2[[#This Row],[Column51]]&Table_2[[#This Row],[Column52]]&AW230","v":""}]
[228,null,null,null,null,null,null,null,null,null,null,null,null,null,null,null,null,null,null,null,null,null,"--",0,{"$f":"Table_2[[#This Row],[Column20]]+Table_2[[#This Row],[Column56]]","v":0},"",{"$f":"Table_2[[#This Row],[Column20]]+Table_2[[#This Row],[Column56]]","v":0},"",{"$f":"Table_2[[#This Row],[Column57]]+Table_2[[#This Row],[Column16]]+Table_2[[#This Row],[Column15]]","v":0},"",{"$f":"(K229/Instructions!$C$23)*100","v":0},{"$f":"(L229/Instructions!$C$24)*100","v":0},{"$f":"(Y229/Instructions!$C$25)*100","v":0},{"$f":"(AA229/Instructions!$C$27)*100","v":0},{"$f":"(AC229/Instructions!$C$29)*100","v":0},{"$f":"(V229/Instructions!$C$33)*100","v":0},{"$f":"(U229/Instructions!$C$32)*100","v":0},{"$f":"(W229/Instructions!$C$36)*100","v":{"$error":"#VALUE!"}},"","E","E","E","E","E","E","E","--",null,null,null,null,null,{"$f":"Table_2[[#This Row],[Column51]]&Table_2[[#This Row],[Column52]]&AW231","v":""}]
[229,null,null,null,null,null,null,null,null,null,null,null,null,null,null,null,null,null,null,null,null,null,"--",0,{"$f":"Table_2[[#This Row],[Column20]]+Table_2[[#This Row],[Column56]]","v":0},"",{"$f":"Table_2[[#This Row],[Column20]]+Table_2[[#This Row],[Column56]]","v":0},"",{"$f":"Table_2[[#This Row],[Column57]]+Table_2[[#This Row],[Column16]]+Table_2[[#This Row],[Column15]]","v":0},"",{"$f":"(K230/Instructions!$C$23)*100","v":0},{"$f":"(L230/Instructions!$C$24)*100","v":0},{"$f":"(Y230/Instructions!$C$25)*100","v":0},{"$f":"(AA230/Instructions!$C$27)*100","v":0},{"$f":"(AC230/Instructions!$C$29)*100","v":0},{"$f":"(V230/Instructions!$C$33)*100","v":0},{"$f":"(U230/Instructions!$C$32)*100","v":0},{"$f":"(W230/Instructions!$C$36)*100","v":{"$error":"#VALUE!"}},"","E","E","E","E","E","E","E","--",null,null,null,null,null,{"$f":"Table_2[[#This Row],[Column51]]&Table_2[[#This Row],[Column52]]&AW232","v":""}]
[230,null,null,null,null,null,null,null,null,null,null,null,null,null,null,null,null,null,null,null,null,null,"--",0,{"$f":"Table_2[[#This Row],[Column20]]+Table_2[[#This Row],[Column56]]","v":0},"",{"$f":"Table_2[[#This Row],[Column20]]+Table_2[[#This Row],[Column56]]","v":0},"",{"$f":"Table_2[[#This Row],[Column57]]+Table_2[[#This Row],[Column16]]+Table_2[[#This Row],[Column15]]","v":0},"",{"$f":"(K231/Instructions!$C$23)*100","v":0},{"$f":"(L231/Instructions!$C$24)*100","v":0},{"$f":"(Y231/Instructions!$C$25)*100","v":0},{"$f":"(AA231/Instructions!$C$27)*100","v":0},{"$f":"(AC231/Instructions!$C$29)*100","v":0},{"$f":"(V231/Instructions!$C$33)*100","v":0},{"$f":"(U231/Instructions!$C$32)*100","v":0},{"$f":"(W231/Instructions!$C$36)*100","v":{"$error":"#VALUE!"}},"","E","E","E","E","E","E","E","--",null,null,null,null,null,{"$f":"Table_2[[#This Row],[Column51]]&Table_2[[#This Row],[Column52]]&AW233","v":""}]
[231,null,null,null,null,null,null,null,null,null,null,null,null,null,null,null,null,null,null,null,null,null,"--",0,{"$f":"Table_2[[#This Row],[Column20]]+Table_2[[#This Row],[Column56]]","v":0},"",{"$f":"Table_2[[#This Row],[Column20]]+Table_2[[#This Row],[Column56]]","v":0},"",{"$f":"Table_2[[#This Row],[Column57]]+Table_2[[#This Row],[Column16]]+Table_2[[#This Row],[Column15]]","v":0},"",{"$f":"(K232/Instructions!$C$23)*100","v":0},{"$f":"(L232/Instructions!$C$24)*100","v":0},{"$f":"(Y232/Instructions!$C$25)*100","v":0},{"$f":"(AA232/Instructions!$C$27)*100","v":0},{"$f":"(AC232/Instructions!$C$29)*100","v":0},{"$f":"(V232/Instructions!$C$33)*100","v":0},{"$f":"(U232/Instructions!$C$32)*100","v":0},{"$f":"(W232/Instructions!$C$36)*100","v":{"$error":"#VALUE!"}},"","E","E","E","E","E","E","E","--",null,null,null,null,null,{"$f":"Table_2[[#This Row],[Column51]]&Table_2[[#This Row],[Column52]]&AW234","v":""}]
[232,null,null,null,null,null,null,null,null,null,null,null,null,null,null,null,null,null,null,null,null,null,"--",0,{"$f":"Table_2[[#This Row],[Column20]]+Table_2[[#This Row],[Column56]]","v":0},"",{"$f":"Table_2[[#This Row],[Column20]]+Table_2[[#This Row],[Column56]]","v":0},"",{"$f":"Table_2[[#This Row],[Column57]]+Table_2[[#This Row],[Column16]]+Table_2[[#This Row],[Column15]]","v":0},"",{"$f":"(K233/Instructions!$C$23)*100","v":0},{"$f":"(L233/Instructions!$C$24)*100","v":0},{"$f":"(Y233/Instructions!$C$25)*100","v":0},{"$f":"(AA233/Instructions!$C$27)*100","v":0},{"$f":"(AC233/Instructions!$C$29)*100","v":0},{"$f":"(V233/Instructions!$C$33)*100","v":0},{"$f":"(U233/Instructions!$C$32)*100","v":0},{"$f":"(W233/Instructions!$C$36)*100","v":{"$error":"#VALUE!"}},"","E","E","E","E","E","E","E","--",null,null,null,null,null,{"$f":"Table_2[[#This Row],[Column51]]&Table_2[[#This Row],[Column52]]&AW235","v":""}]
[233,null,null,null,null,null,null,null,null,null,null,null,null,null,null,null,null,null,null,null,null,null,"--",0,{"$f":"Table_2[[#This Row],[Column20]]+Table_2[[#This Row],[Column56]]","v":0},"",{"$f":"Table_2[[#This Row],[Column20]]+Table_2[[#This Row],[Column56]]","v":0},"",{"$f":"Table_2[[#This Row],[Column57]]+Table_2[[#This Row],[Column16]]+Table_2[[#This Row],[Column15]]","v":0},"",{"$f":"(K234/Instructions!$C$23)*100","v":0},{"$f":"(L234/Instructions!$C$24)*100","v":0},{"$f":"(Y234/Instructions!$C$25)*100","v":0},{"$f":"(AA234/Instructions!$C$27)*100","v":0},{"$f":"(AC234/Instructions!$C$29)*100","v":0},{"$f":"(V234/Instructions!$C$33)*100","v":0},{"$f":"(U234/Instructions!$C$32)*100","v":0},{"$f":"(W234/Instructions!$C$36)*100","v":{"$error":"#VALUE!"}},"","E","E","E","E","E","E","E","--",null,null,null,null,null,{"$f":"Table_2[[#This Row],[Column51]]&Table_2[[#This Row],[Column52]]&AW236","v":""}]
[234,null,null,null,null,null,null,null,null,null,null,null,null,null,null,null,null,null,null,null,null,null,"--",0,{"$f":"Table_2[[#This Row],[Column20]]+Table_2[[#This Row],[Column56]]","v":0},"",{"$f":"Table_2[[#This Row],[Column20]]+Table_2[[#This Row],[Column56]]","v":0},"",{"$f":"Table_2[[#This Row],[Column57]]+Table_2[[#This Row],[Column16]]+Table_2[[#This Row],[Column15]]","v":0},"",{"$f":"(K235/Instructions!$C$23)*100","v":0},{"$f":"(L235/Instructions!$C$24)*100","v":0},{"$f":"(Y235/Instructions!$C$25)*100","v":0},{"$f":"(AA235/Instructions!$C$27)*100","v":0},{"$f":"(AC235/Instructions!$C$29)*100","v":0},{"$f":"(V235/Instructions!$C$33)*100","v":0},{"$f":"(U235/Instructions!$C$32)*100","v":0},{"$f":"(W235/Instructions!$C$36)*100","v":{"$error":"#VALUE!"}},"","E","E","E","E","E","E","E","--",null,null,null,null,null,{"$f":"Table_2[[#This Row],[Column51]]&Table_2[[#This Row],[Column52]]&AW237","v":""}]
[235,null,null,null,null,null,null,null,null,null,null,null,null,null,null,null,null,null,null,null,null,null,"--",0,{"$f":"Table_2[[#This Row],[Column20]]+Table_2[[#This Row],[Column56]]","v":0},"",{"$f":"Table_2[[#This Row],[Column20]]+Table_2[[#This Row],[Column56]]","v":0},"",{"$f":"Table_2[[#This Row],[Column57]]+Table_2[[#This Row],[Column16]]+Table_2[[#This Row],[Column15]]","v":0},"",{"$f":"(K236/Instructions!$C$23)*100","v":0},{"$f":"(L236/Instructions!$C$24)*100","v":0},{"$f":"(Y236/Instructions!$C$25)*100","v":0},{"$f":"(AA236/Instructions!$C$27)*100","v":0},{"$f":"(AC236/Instructions!$C$29)*100","v":0},{"$f":"(V236/Instructions!$C$33)*100","v":0},{"$f":"(U236/Instructions!$C$32)*100","v":0},{"$f":"(W236/Instructions!$C$36)*100","v":{"$error":"#VALUE!"}},"","E","E","E","E","E","E","E","--",null,null,null,null,null,{"$f":"Table_2[[#This Row],[Column51]]&Table_2[[#This Row],[Column52]]&AW238","v":""}]
[236,null,null,null,null,null,null,null,null,null,null,null,null,null,null,null,null,null,null,null,null,null,"--",0,{"$f":"Table_2[[#This Row],[Column20]]+Table_2[[#This Row],[Column56]]","v":0},"",{"$f":"Table_2[[#This Row],[Column20]]+Table_2[[#This Row],[Column56]]","v":0},"",{"$f":"Table_2[[#This Row],[Column57]]+Table_2[[#This Row],[Column16]]+Table_2[[#This Row],[Column15]]","v":0},"",{"$f":"(K237/Instructions!$C$23)*100","v":0},{"$f":"(L237/Instructions!$C$24)*100","v":0},{"$f":"(Y237/Instructions!$C$25)*100","v":0},{"$f":"(AA237/Instructions!$C$27)*100","v":0},{"$f":"(AC237/Instructions!$C$29)*100","v":0},{"$f":"(V237/Instructions!$C$33)*100","v":0},{"$f":"(U237/Instructions!$C$32)*100","v":0},{"$f":"(W237/Instructions!$C$36)*100","v":{"$error":"#VALUE!"}},"","E","E","E","E","E","E","E","--",null,null,null,null,null,{"$f":"Table_2[[#This Row],[Column51]]&Table_2[[#This Row],[Column52]]&AW239","v":""}]
[237,null,null,null,null,null,null,null,null,null,null,null,null,null,null,null,null,null,null,null,null,null,"--",0,{"$f":"Table_2[[#This Row],[Column20]]+Table_2[[#This Row],[Column56]]","v":0},"",{"$f":"Table_2[[#This Row],[Column20]]+Table_2[[#This Row],[Column56]]","v":0},"",{"$f":"Table_2[[#This Row],[Column57]]+Table_2[[#This Row],[Column16]]+Table_2[[#This Row],[Column15]]","v":0},"",{"$f":"(K238/Instructions!$C$23)*100","v":0},{"$f":"(L238/Instructions!$C$24)*100","v":0},{"$f":"(Y238/Instructions!$C$25)*100","v":0},{"$f":"(AA238/Instructions!$C$27)*100","v":0},{"$f":"(AC238/Instructions!$C$29)*100","v":0},{"$f":"(V238/Instructions!$C$33)*100","v":0},{"$f":"(U238/Instructions!$C$32)*100","v":0},{"$f":"(W238/Instructions!$C$36)*100","v":{"$error":"#VALUE!"}},"","E","E","E","E","E","E","E","--",null,null,null,null,null,{"$f":"Table_2[[#This Row],[Column51]]&Table_2[[#This Row],[Column52]]&AW240","v":""}]
[238,null,null,null,null,null,null,null,null,null,null,null,null,null,null,null,null,null,null,null,null,null,"--",0,{"$f":"Table_2[[#This Row],[Column20]]+Table_2[[#This Row],[Column56]]","v":0},"",{"$f":"Table_2[[#This Row],[Column20]]+Table_2[[#This Row],[Column56]]","v":0},"",{"$f":"Table_2[[#This Row],[Column57]]+Table_2[[#This Row],[Column16]]+Table_2[[#This Row],[Column15]]","v":0},"",{"$f":"(K239/Instructions!$C$23)*100","v":0},{"$f":"(L239/Instructions!$C$24)*100","v":0},{"$f":"(Y239/Instructions!$C$25)*100","v":0},{"$f":"(AA239/Instructions!$C$27)*100","v":0},{"$f":"(AC239/Instructions!$C$29)*100","v":0},{"$f":"(V239/Instructions!$C$33)*100","v":0},{"$f":"(U239/Instructions!$C$32)*100","v":0},{"$f":"(W239/Instructions!$C$36)*100","v":{"$error":"#VALUE!"}},"","E","E","E","E","E","E","E","--",null,null,null,null,null,{"$f":"Table_2[[#This Row],[Column51]]&Table_2[[#This Row],[Column52]]&AW241","v":""}]
[239,null,null,null,null,null,null,null,null,null,null,null,null,null,null,null,null,null,null,null,null,null,"--",0,{"$f":"Table_2[[#This Row],[Column20]]+Table_2[[#This Row],[Column56]]","v":0},"",{"$f":"Table_2[[#This Row],[Column20]]+Table_2[[#This Row],[Column56]]","v":0},"",{"$f":"Table_2[[#This Row],[Column57]]+Table_2[[#This Row],[Column16]]+Table_2[[#This Row],[Column15]]","v":0},"",{"$f":"(K240/Instructions!$C$23)*100","v":0},{"$f":"(L240/Instructions!$C$24)*100","v":0},{"$f":"(Y240/Instructions!$C$25)*100","v":0},{"$f":"(AA240/Instructions!$C$27)*100","v":0},{"$f":"(AC240/Instructions!$C$29)*100","v":0},{"$f":"(V240/Instructions!$C$33)*100","v":0},{"$f":"(U240/Instructions!$C$32)*100","v":0},{"$f":"(W240/Instructions!$C$36)*100","v":{"$error":"#VALUE!"}},"","E","E","E","E","E","E","E","--",null,null,null,null,null,{"$f":"Table_2[[#This Row],[Column51]]&Table_2[[#This Row],[Column52]]&AW242","v":""}]
[240,null,null,null,null,null,null,null,null,null,null,null,null,null,null,null,null,null,null,null,null,null,"--",0,{"$f":"Table_2[[#This Row],[Column20]]+Table_2[[#This Row],[Column56]]","v":0},"",{"$f":"Table_2[[#This Row],[Column20]]+Table_2[[#This Row],[Column56]]","v":0},"",{"$f":"Table_2[[#This Row],[Column57]]+Table_2[[#This Row],[Column16]]+Table_2[[#This Row],[Column15]]","v":0},"",{"$f":"(K241/Instructions!$C$23)*100","v":0},{"$f":"(L241/Instructions!$C$24)*100","v":0},{"$f":"(Y241/Instructions!$C$25)*100","v":0},{"$f":"(AA241/Instructions!$C$27)*100","v":0},{"$f":"(AC241/Instructions!$C$29)*100","v":0},{"$f":"(V241/Instructions!$C$33)*100","v":0},{"$f":"(U241/Instructions!$C$32)*100","v":0},{"$f":"(W241/Instructions!$C$36)*100","v":{"$error":"#VALUE!"}},"","E","E","E","E","E","E","E","--",null,null,null,null,null,{"$f":"Table_2[[#This Row],[Column51]]&Table_2[[#This Row],[Column52]]&AW243","v":""}]
[241,null,null,null,null,null,null,null,null,null,null,null,null,null,null,null,null,null,null,null,null,null,"--",0,{"$f":"Table_2[[#This Row],[Column20]]+Table_2[[#This Row],[Column56]]","v":0},"",{"$f":"Table_2[[#This Row],[Column20]]+Table_2[[#This Row],[Column56]]","v":0},"",{"$f":"Table_2[[#This Row],[Column57]]+Table_2[[#This Row],[Column16]]+Table_2[[#This Row],[Column15]]","v":0},"",{"$f":"(K242/Instructions!$C$23)*100","v":0},{"$f":"(L242/Instructions!$C$24)*100","v":0},{"$f":"(Y242/Instructions!$C$25)*100","v":0},{"$f":"(AA242/Instructions!$C$27)*100","v":0},{"$f":"(AC242/Instructions!$C$29)*100","v":0},{"$f":"(V242/Instructions!$C$33)*100","v":0},{"$f":"(U242/Instructions!$C$32)*100","v":0},{"$f":"(W242/Instructions!$C$36)*100","v":{"$error":"#VALUE!"}},"","E","E","E","E","E","E","E","--",null,null,null,null,null,{"$f":"Table_2[[#This Row],[Column51]]&Table_2[[#This Row],[Column52]]&AW244","v":""}]
[242,null,null,null,null,null,null,null,null,null,null,null,null,null,null,null,null,null,null,null,null,null,"--",0,{"$f":"Table_2[[#This Row],[Column20]]+Table_2[[#This Row],[Column56]]","v":0},"",{"$f":"Table_2[[#This Row],[Column20]]+Table_2[[#This Row],[Column56]]","v":0},"",{"$f":"Table_2[[#This Row],[Column57]]+Table_2[[#This Row],[Column16]]+Table_2[[#This Row],[Column15]]","v":0},"",{"$f":"(K243/Instructions!$C$23)*100","v":0},{"$f":"(L243/Instructions!$C$24)*100","v":0},{"$f":"(Y243/Instructions!$C$25)*100","v":0},{"$f":"(AA243/Instructions!$C$27)*100","v":0},{"$f":"(AC243/Instructions!$C$29)*100","v":0},{"$f":"(V243/Instructions!$C$33)*100","v":0},{"$f":"(U243/Instructions!$C$32)*100","v":0},{"$f":"(W243/Instructions!$C$36)*100","v":{"$error":"#VALUE!"}},"","E","E","E","E","E","E","E","--",null,null,null,null,null,{"$f":"Table_2[[#This Row],[Column51]]&Table_2[[#This Row],[Column52]]&AW245","v":""}]
[243,null,null,null,null,null,null,null,null,null,null,null,null,null,null,null,null,null,null,null,null,null,"--",0,{"$f":"Table_2[[#This Row],[Column20]]+Table_2[[#This Row],[Column56]]","v":0},"",{"$f":"Table_2[[#This Row],[Column20]]+Table_2[[#This Row],[Column56]]","v":0},"",{"$f":"Table_2[[#This Row],[Column57]]+Table_2[[#This Row],[Column16]]+Table_2[[#This Row],[Column15]]","v":0},"",{"$f":"(K244/Instructions!$C$23)*100","v":0},{"$f":"(L244/Instructions!$C$24)*100","v":0},{"$f":"(Y244/Instructions!$C$25)*100","v":0},{"$f":"(AA244/Instructions!$C$27)*100","v":0},{"$f":"(AC244/Instructions!$C$29)*100","v":0},{"$f":"(V244/Instructions!$C$33)*100","v":0},{"$f":"(U244/Instructions!$C$32)*100","v":0},{"$f":"(W244/Instructions!$C$36)*100","v":{"$error":"#VALUE!"}},"","E","E","E","E","E","E","E","--",null,null,null,null,null,{"$f":"Table_2[[#This Row],[Column51]]&Table_2[[#This Row],[Column52]]&AW246","v":""}]
[244,null,null,null,null,null,null,null,null,null,null,null,null,null,null,null,null,null,null,null,null,null,"--",0,{"$f":"Table_2[[#This Row],[Column20]]+Table_2[[#This Row],[Column56]]","v":0},"",{"$f":"Table_2[[#This Row],[Column20]]+Table_2[[#This Row],[Column56]]","v":0},"",{"$f":"Table_2[[#This Row],[Column57]]+Table_2[[#This Row],[Column16]]+Table_2[[#This Row],[Column15]]","v":0},"",{"$f":"(K245/Instructions!$C$23)*100","v":0},{"$f":"(L245/Instructions!$C$24)*100","v":0},{"$f":"(Y245/Instructions!$C$25)*100","v":0},{"$f":"(AA245/Instructions!$C$27)*100","v":0},{"$f":"(AC245/Instructions!$C$29)*100","v":0},{"$f":"(V245/Instructions!$C$33)*100","v":0},{"$f":"(U245/Instructions!$C$32)*100","v":0},{"$f":"(W245/Instructions!$C$36)*100","v":{"$error":"#VALUE!"}},"","E","E","E","E","E","E","E","--",null,null,null,null,null,{"$f":"Table_2[[#This Row],[Column51]]&Table_2[[#This Row],[Column52]]&AW247","v":""}]
[245,null,null,null,null,null,null,null,null,null,null,null,null,null,null,null,null,null,null,null,null,null,"--",0,{"$f":"Table_2[[#This Row],[Column20]]+Table_2[[#This Row],[Column56]]","v":0},"",{"$f":"Table_2[[#This Row],[Column20]]+Table_2[[#This Row],[Column56]]","v":0},"",{"$f":"Table_2[[#This Row],[Column57]]+Table_2[[#This Row],[Column16]]+Table_2[[#This Row],[Column15]]","v":0},"",{"$f":"(K246/Instructions!$C$23)*100","v":0},{"$f":"(L246/Instructions!$C$24)*100","v":0},{"$f":"(Y246/Instructions!$C$25)*100","v":0},{"$f":"(AA246/Instructions!$C$27)*100","v":0},{"$f":"(AC246/Instructions!$C$29)*100","v":0},{"$f":"(V246/Instructions!$C$33)*100","v":0},{"$f":"(U246/Instructions!$C$32)*100","v":0},{"$f":"(W246/Instructions!$C$36)*100","v":{"$error":"#VALUE!"}},"","E","E","E","E","E","E","E","--",null,null,null,null,null,{"$f":"Table_2[[#This Row],[Column51]]&Table_2[[#This Row],[Column52]]&AW248","v":""}]
[246,null,null,null,null,null,null,null,null,null,null,null,null,null,null,null,null,null,null,null,null,null,"--",0,{"$f":"Table_2[[#This Row],[Column20]]+Table_2[[#This Row],[Column56]]","v":0},"",{"$f":"Table_2[[#This Row],[Column20]]+Table_2[[#This Row],[Column56]]","v":0},"",{"$f":"Table_2[[#This Row],[Column57]]+Table_2[[#This Row],[Column16]]+Table_2[[#This Row],[Column15]]","v":0},"",{"$f":"(K247/Instructions!$C$23)*100","v":0},{"$f":"(L247/Instructions!$C$24)*100","v":0},{"$f":"(Y247/Instructions!$C$25)*100","v":0},{"$f":"(AA247/Instructions!$C$27)*100","v":0},{"$f":"(AC247/Instructions!$C$29)*100","v":0},{"$f":"(V247/Instructions!$C$33)*100","v":0},{"$f":"(U247/Instructions!$C$32)*100","v":0},{"$f":"(W247/Instructions!$C$36)*100","v":{"$error":"#VALUE!"}},"","E","E","E","E","E","E","E","--",null,null,null,null,null,{"$f":"Table_2[[#This Row],[Column51]]&Table_2[[#This Row],[Column52]]&AW249","v":""}]
[247,null,null,null,null,null,null,null,null,null,null,null,null,null,null,null,null,null,null,null,null,null,"--",0,{"$f":"Table_2[[#This Row],[Column20]]+Table_2[[#This Row],[Column56]]","v":0},"",{"$f":"Table_2[[#This Row],[Column20]]+Table_2[[#This Row],[Column56]]","v":0},"",{"$f":"Table_2[[#This Row],[Column57]]+Table_2[[#This Row],[Column16]]+Table_2[[#This Row],[Column15]]","v":0},"",{"$f":"(K248/Instructions!$C$23)*100","v":0},{"$f":"(L248/Instructions!$C$24)*100","v":0},{"$f":"(Y248/Instructions!$C$25)*100","v":0},{"$f":"(AA248/Instructions!$C$27)*100","v":0},{"$f":"(AC248/Instructions!$C$29)*100","v":0},{"$f":"(V248/Instructions!$C$33)*100","v":0},{"$f":"(U248/Instructions!$C$32)*100","v":0},{"$f":"(W248/Instructions!$C$36)*100","v":{"$error":"#VALUE!"}},"","E","E","E","E","E","E","E","--",null,null,null,null,null,{"$f":"Table_2[[#This Row],[Column51]]&Table_2[[#This Row],[Column52]]&AW250","v":""}]
[248,null,null,null,null,null,null,null,null,null,null,null,null,null,null,null,null,null,null,null,null,null,"--",0,{"$f":"Table_2[[#This Row],[Column20]]+Table_2[[#This Row],[Column56]]","v":0},"",{"$f":"Table_2[[#This Row],[Column20]]+Table_2[[#This Row],[Column56]]","v":0},"",{"$f":"Table_2[[#This Row],[Column57]]+Table_2[[#This Row],[Column16]]+Table_2[[#This Row],[Column15]]","v":0},"",{"$f":"(K249/Instructions!$C$23)*100","v":0},{"$f":"(L249/Instructions!$C$24)*100","v":0},{"$f":"(Y249/Instructions!$C$25)*100","v":0},{"$f":"(AA249/Instructions!$C$27)*100","v":0},{"$f":"(AC249/Instructions!$C$29)*100","v":0},{"$f":"(V249/Instructions!$C$33)*100","v":0},{"$f":"(U249/Instructions!$C$32)*100","v":0},{"$f":"(W249/Instructions!$C$36)*100","v":{"$error":"#VALUE!"}},"","E","E","E","E","E","E","E","--",null,null,null,null,null,{"$f":"Table_2[[#This Row],[Column51]]&Table_2[[#This Row],[Column52]]&AW251","v":""}]
[249,null,null,null,null,null,null,null,null,null,null,null,null,null,null,null,null,null,null,null,null,null,"--",0,{"$f":"Table_2[[#This Row],[Column20]]+Table_2[[#This Row],[Column56]]","v":0},"",{"$f":"Table_2[[#This Row],[Column20]]+Table_2[[#This Row],[Column56]]","v":0},"",{"$f":"Table_2[[#This Row],[Column57]]+Table_2[[#This Row],[Column16]]+Table_2[[#This Row],[Column15]]","v":0},"",{"$f":"(K250/Instructions!$C$23)*100","v":0},{"$f":"(L250/Instructions!$C$24)*100","v":0},{"$f":"(Y250/Instructions!$C$25)*100","v":0},{"$f":"(AA250/Instructions!$C$27)*100","v":0},{"$f":"(AC250/Instructions!$C$29)*100","v":0},{"$f":"(V250/Instructions!$C$33)*100","v":0},{"$f":"(U250/Instructions!$C$32)*100","v":0},{"$f":"(W250/Instructions!$C$36)*100","v":{"$error":"#VALUE!"}},"","E","E","E","E","E","E","E","--",null,null,null,null,null,{"$f":"Table_2[[#This Row],[Column51]]&Table_2[[#This Row],[Column52]]&AW252","v":""}]
[250,null,null,null,null,null,null,null,null,null,null,null,null,null,null,null,null,null,null,null,null,null,"--",0,{"$f":"Table_2[[#This Row],[Column20]]+Table_2[[#This Row],[Column56]]","v":0},"",{"$f":"Table_2[[#This Row],[Column20]]+Table_2[[#This Row],[Column56]]","v":0},"",{"$f":"Table_2[[#This Row],[Column57]]+Table_2[[#This Row],[Column16]]+Table_2[[#This Row],[Column15]]","v":0},"",{"$f":"(K251/Instructions!$C$23)*100","v":0},{"$f":"(L251/Instructions!$C$24)*100","v":0},{"$f":"(Y251/Instructions!$C$25)*100","v":0},{"$f":"(AA251/Instructions!$C$27)*100","v":0},{"$f":"(AC251/Instructions!$C$29)*100","v":0},{"$f":"(V251/Instructions!$C$33)*100","v":0},{"$f":"(U251/Instructions!$C$32)*100","v":0},{"$f":"(W251/Instructions!$C$36)*100","v":{"$error":"#VALUE!"}},"","E","E","E","E","E","E","E","--",null,null,null,null,null,{"$f":"Table_2[[#This Row],[Column51]]&Table_2[[#This Row],[Column52]]&AW253","v":""}]
[251,null,null,null,null,null,null,null,null,null,null,null,null,null,null,null,null,null,null,null,null,null,"--",0,{"$f":"Table_2[[#This Row],[Column20]]+Table_2[[#This Row],[Column56]]","v":0},"",{"$f":"Table_2[[#This Row],[Column20]]+Table_2[[#This Row],[Column56]]","v":0},"",{"$f":"Table_2[[#This Row],[Column57]]+Table_2[[#This Row],[Column16]]+Table_2[[#This Row],[Column15]]","v":0},"",{"$f":"(K252/Instructions!$C$23)*100","v":0},{"$f":"(L252/Instructions!$C$24)*100","v":0},{"$f":"(Y252/Instructions!$C$25)*100","v":0},{"$f":"(AA252/Instructions!$C$27)*100","v":0},{"$f":"(AC252/Instructions!$C$29)*100","v":0},{"$f":"(V252/Instructions!$C$33)*100","v":0},{"$f":"(U252/Instructions!$C$32)*100","v":0},{"$f":"(W252/Instructions!$C$36)*100","v":{"$error":"#VALUE!"}},"","E","E","E","E","E","E","E","--",null,null,null,null,null,{"$f":"Table_2[[#This Row],[Column51]]&Table_2[[#This Row],[Column52]]&AW254","v":""}]
[252,null,null,null,null,null,null,null,null,null,null,null,null,null,null,null,null,null,null,null,null,null,"--",0,{"$f":"Table_2[[#This Row],[Column20]]+Table_2[[#This Row],[Column56]]","v":0},"",{"$f":"Table_2[[#This Row],[Column20]]+Table_2[[#This Row],[Column56]]","v":0},"",{"$f":"Table_2[[#This Row],[Column57]]+Table_2[[#This Row],[Column16]]+Table_2[[#This Row],[Column15]]","v":0},"",{"$f":"(K253/Instructions!$C$23)*100","v":0},{"$f":"(L253/Instructions!$C$24)*100","v":0},{"$f":"(Y253/Instructions!$C$25)*100","v":0},{"$f":"(AA253/Instructions!$C$27)*100","v":0},{"$f":"(AC253/Instructions!$C$29)*100","v":0},{"$f":"(V253/Instructions!$C$33)*100","v":0},{"$f":"(U253/Instructions!$C$32)*100","v":0},{"$f":"(W253/Instructions!$C$36)*100","v":{"$error":"#VALUE!"}},"","E","E","E","E","E","E","E","--",null,null,null,null,null,{"$f":"Table_2[[#This Row],[Column51]]&Table_2[[#This Row],[Column52]]&AW255","v":""}]
[253,null,null,null,null,null,null,null,null,null,null,null,null,null,null,null,null,null,null,null,null,null,"--",0,{"$f":"Table_2[[#This Row],[Column20]]+Table_2[[#This Row],[Column56]]","v":0},"",{"$f":"Table_2[[#This Row],[Column20]]+Table_2[[#This Row],[Column56]]","v":0},"",{"$f":"Table_2[[#This Row],[Column57]]+Table_2[[#This Row],[Column16]]+Table_2[[#This Row],[Column15]]","v":0},"",{"$f":"(K254/Instructions!$C$23)*100","v":0},{"$f":"(L254/Instructions!$C$24)*100","v":0},{"$f":"(Y254/Instructions!$C$25)*100","v":0},{"$f":"(AA254/Instructions!$C$27)*100","v":0},{"$f":"(AC254/Instructions!$C$29)*100","v":0},{"$f":"(V254/Instructions!$C$33)*100","v":0},{"$f":"(U254/Instructions!$C$32)*100","v":0},{"$f":"(W254/Instructions!$C$36)*100","v":{"$error":"#VALUE!"}},"","E","E","E","E","E","E","E","--",null,null,null,null,null,{"$f":"Table_2[[#This Row],[Column51]]&Table_2[[#This Row],[Column52]]&AW256","v":""}]
[254,null,null,null,null,null,null,null,null,null,null,null,null,null,null,null,null,null,null,null,null,null,"--",0,{"$f":"Table_2[[#This Row],[Column20]]+Table_2[[#This Row],[Column56]]","v":0},"",{"$f":"Table_2[[#This Row],[Column20]]+Table_2[[#This Row],[Column56]]","v":0},"",{"$f":"Table_2[[#This Row],[Column57]]+Table_2[[#This Row],[Column16]]+Table_2[[#This Row],[Column15]]","v":0},"",{"$f":"(K255/Instructions!$C$23)*100","v":0},{"$f":"(L255/Instructions!$C$24)*100","v":0},{"$f":"(Y255/Instructions!$C$25)*100","v":0},{"$f":"(AA255/Instructions!$C$27)*100","v":0},{"$f":"(AC255/Instructions!$C$29)*100","v":0},{"$f":"(V255/Instructions!$C$33)*100","v":0},{"$f":"(U255/Instructions!$C$32)*100","v":0},{"$f":"(W255/Instructions!$C$36)*100","v":{"$error":"#VALUE!"}},"","E","E","E","E","E","E","E","--",null,null,null,null,null,{"$f":"Table_2[[#This Row],[Column51]]&Table_2[[#This Row],[Column52]]&AW257","v":""}]
[255,null,null,null,null,null,null,null,null,null,null,null,null,null,null,null,null,null,null,null,null,null,"--",0,{"$f":"Table_2[[#This Row],[Column20]]+Table_2[[#This Row],[Column56]]","v":0},"",{"$f":"Table_2[[#This Row],[Column20]]+Table_2[[#This Row],[Column56]]","v":0},"",{"$f":"Table_2[[#This Row],[Column57]]+Table_2[[#This Row],[Column16]]+Table_2[[#This Row],[Column15]]","v":0},"",{"$f":"(K256/Instructions!$C$23)*100","v":0},{"$f":"(L256/Instructions!$C$24)*100","v":0},{"$f":"(Y256/Instructions!$C$25)*100","v":0},{"$f":"(AA256/Instructions!$C$27)*100","v":0},{"$f":"(AC256/Instructions!$C$29)*100","v":0},{"$f":"(V256/Instructions!$C$33)*100","v":0},{"$f":"(U256/Instructions!$C$32)*100","v":0},{"$f":"(W256/Instructions!$C$36)*100","v":{"$error":"#VALUE!"}},"","E","E","E","E","E","E","E","--",null,null,null,null,null,{"$f":"Table_2[[#This Row],[Column51]]&Table_2[[#This Row],[Column52]]&AW258","v":""}]
[256,null,null,null,null,null,null,null,null,null,null,null,null,null,null,null,null,null,null,null,null,null,"--",0,{"$f":"Table_2[[#This Row],[Column20]]+Table_2[[#This Row],[Column56]]","v":0},"",{"$f":"Table_2[[#This Row],[Column20]]+Table_2[[#This Row],[Column56]]","v":0},"",{"$f":"Table_2[[#This Row],[Column57]]+Table_2[[#This Row],[Column16]]+Table_2[[#This Row],[Column15]]","v":0},"",{"$f":"(K257/Instructions!$C$23)*100","v":0},{"$f":"(L257/Instructions!$C$24)*100","v":0},{"$f":"(Y257/Instructions!$C$25)*100","v":0},{"$f":"(AA257/Instructions!$C$27)*100","v":0},{"$f":"(AC257/Instructions!$C$29)*100","v":0},{"$f":"(V257/Instructions!$C$33)*100","v":0},{"$f":"(U257/Instructions!$C$32)*100","v":0},{"$f":"(W257/Instructions!$C$36)*100","v":{"$error":"#VALUE!"}},"","E","E","E","E","E","E","E","--",null,null,null,null,null,{"$f":"Table_2[[#This Row],[Column51]]&Table_2[[#This Row],[Column52]]&AW259","v":""}]
[257,null,null,null,null,null,null,null,null,null,null,null,null,null,null,null,null,null,null,null,null,null,"--",0,{"$f":"Table_2[[#This Row],[Column20]]+Table_2[[#This Row],[Column56]]","v":0},"",{"$f":"Table_2[[#This Row],[Column20]]+Table_2[[#This Row],[Column56]]","v":0},"",{"$f":"Table_2[[#This Row],[Column57]]+Table_2[[#This Row],[Column16]]+Table_2[[#This Row],[Column15]]","v":0},"",{"$f":"(K258/Instructions!$C$23)*100","v":0},{"$f":"(L258/Instructions!$C$24)*100","v":0},{"$f":"(Y258/Instructions!$C$25)*100","v":0},{"$f":"(AA258/Instructions!$C$27)*100","v":0},{"$f":"(AC258/Instructions!$C$29)*100","v":0},{"$f":"(V258/Instructions!$C$33)*100","v":0},{"$f":"(U258/Instructions!$C$32)*100","v":0},{"$f":"(W258/Instructions!$C$36)*100","v":{"$error":"#VALUE!"}},"","E","E","E","E","E","E","E","--",null,null,null,null,null,{"$f":"Table_2[[#This Row],[Column51]]&Table_2[[#This Row],[Column52]]&AW260","v":""}]
[258,null,null,null,null,null,null,null,null,null,null,null,null,null,null,null,null,null,null,null,null,null,{"$f":"IF(MIN(AE259:AI259)>=33,SUM(K259:T259),\"--\")","v":"--"},{"$f":"IF(W259=\"--\",0,W259)","v":0},{"$f":"Table_2[[#This Row],[Column20]]+Table_2[[#This Row],[Column56]]","v":0},{"$f":"IF(N259>0,$N$1,IF(O259>0,$O$1,\"\"))","v":""},{"$f":"Table_2[[#This Row],[Column20]]+Table_2[[#This Row],[Column56]]","v":0},{"$f":"IFERROR(IF(P259>0,$P$1,IF(Q259>0,$Q$1,\"\")),\"\")","v":""},{"$f":"Table_2[[#This Row],[Column57]]+Table_2[[#This Row],[Column16]]+Table_2[[#This Row],[Column15]]","v":0},{"$f":"IFERROR(IF(R259>0,$R$1,IF(S259>0,$S$1,IF(T259>0,$T$1,\"\"))),\"\")","v":""},{"$f":"(K259/Instructions!$C$23)*100","v":0},{"$f":"(L259/Instructions!$C$24)*100","v":0},{"$f":"(Y259/Instructions!$C$25)*100","v":0},{"$f":"(AA259/Instructions!$C$27)*100","v":0},{"$f":"(AC259/Instructions!$C$29)*100","v":0},{"$f":"(V259/Instructions!$C$33)*100","v":0},{"$f":"(U259/Instructions!$C$32)*100","v":0},{"$f":"(W259/Instructions!$C$36)*100","v":{"$error":"#VALUE!"}},{"$f":"IFERROR(IF(AL259>=33,\"PASS\",\"----\"),\"\")","v":""},{"$f":"IFERROR(IF(AE259>90,\"A+\",IF(AE259>80,\"A\",IF(AE259>70,\"B+\",IF(AE259>60,\"B\",IF(AE259>50,\"C+\",IF(AE259>40,\"C\",IF(AE259>=33,\"D\",\"E\"))))))),\"Abs\")","v":"E"},{"$f":"IFERROR(IF(AF259>90,\"A+\",IF(AF259>80,\"A\",IF(AF259>70,\"B+\",IF(AF259>60,\"B\",IF(AF259>50,\"C+\",IF(AF259>40,\"C\",IF(AF259>=33,\"D\",\"E\"))))))),\"Abs\")","v":"E"},{"$f":"IFERROR(IF(AG259>90,\"A+\",IF(AG259>80,\"A\",IF(AG259>70,\"B+\",IF(AG259>60,\"B\",IF(AG259>50,\"C+\",IF(AG259>40,\"C\",IF(AG259>=33,\"D\",\"E\"))))))),\"Abs\")","v":"E"},{"$f":"IFERROR(IF(AH259>90,\"A+\",IF(AH259>80,\"A\",IF(AH259>70,\"B+\",IF(AH259>60,\"B\",IF(AH259>50,\"C+\",IF(AH259>40,\"C\",IF(AH259>=33,\"D\",\"E\"))))))),\"Abs\")","v":"E"},{"$f":"IFERROR(IF(AI259>90,\"A+\",IF(AI259>80,\"A\",IF(AI259>70,\"B+\",IF(AI259>60,\"B\",IF(AI259>50,\"C+\",IF(AI259>40,\"C\",IF(AI259>=33,\"D\",\"E\"))))))),\"Abs\")","v":"E"},{"$f":"IFERROR(IF(AJ259>90,\"A+\",IF(AJ259>80,\"A\",IF(AJ259>70,\"B+\",IF(AJ259>60,\"B\",IF(AJ259>50,\"C+\",IF(AJ259>40,\"C\",IF(AJ259>=33,\"D\",\"E\"))))))),\"Abs\")","v":"E"},{"$f":"IFERROR(IF(AK259>90,\"A+\",IF(AK259>80,\"A\",IF(AK259>70,\"B+\",IF(AK259>60,\"B\",IF(AK259>50,\"C+\",IF(AK259>40,\"C\",IF(AK259>=33,\"D\",\"E\"))))))),\"Abs\")","v":"E"},{"$f":"IFERROR(IF(AL259>90,\"A+\",IF(AL259>80,\"A\",IF(AL259>70,\"B+\",IF(AL259>60,\"B\",IF(AL259>50,\"C+\",IF(AL259>40,\"C\",IF(AL259>=33,\"D\",\"E\"))))))),\"--\")","v":"--"},null,null,null,null,null,{"$f":"Table_2[[#This Row],[Column51]]&Table_2[[#This Row],[Column52]]&AW261","v":""}]
[259,null,null,null,null,null,null,null,null,null,null,null,null,null,null,null,null,null,null,null,null,null,"--",0,{"$f":"Table_2[[#This Row],[Column20]]+Table_2[[#This Row],[Column56]]","v":0},"",{"$f":"Table_2[[#This Row],[Column20]]+Table_2[[#This Row],[Column56]]","v":0},"",{"$f":"Table_2[[#This Row],[Column57]]+Table_2[[#This Row],[Column16]]+Table_2[[#This Row],[Column15]]","v":0},"",{"$f":"(K260/Instructions!$C$23)*100","v":0},{"$f":"(L260/Instructions!$C$24)*100","v":0},{"$f":"(Y260/Instructions!$C$25)*100","v":0},{"$f":"(AA260/Instructions!$C$27)*100","v":0},{"$f":"(AC260/Instructions!$C$29)*100","v":0},{"$f":"(V260/Instructions!$C$33)*100","v":0},{"$f":"(U260/Instructions!$C$32)*100","v":0},{"$f":"(W260/Instructions!$C$36)*100","v":{"$error":"#VALUE!"}},"","E","E","E","E","E","E","E","--",null,null,null,null,null,{"$f":"Table_2[[#This Row],[Column51]]&Table_2[[#This Row],[Column52]]&AW262","v":""}]
[260,null,null,null,null,null,null,null,null,null,null,null,null,null,null,null,null,null,null,null,null,null,"--",0,{"$f":"Table_2[[#This Row],[Column20]]+Table_2[[#This Row],[Column56]]","v":0},"",{"$f":"Table_2[[#This Row],[Column20]]+Table_2[[#This Row],[Column56]]","v":0},"",{"$f":"Table_2[[#This Row],[Column57]]+Table_2[[#This Row],[Column16]]+Table_2[[#This Row],[Column15]]","v":0},"",{"$f":"(K261/Instructions!$C$23)*100","v":0},{"$f":"(L261/Instructions!$C$24)*100","v":0},{"$f":"(Y261/Instructions!$C$25)*100","v":0},{"$f":"(AA261/Instructions!$C$27)*100","v":0},{"$f":"(AC261/Instructions!$C$29)*100","v":0},{"$f":"(V261/Instructions!$C$33)*100","v":0},{"$f":"(U261/Instructions!$C$32)*100","v":0},{"$f":"(W261/Instructions!$C$36)*100","v":{"$error":"#VALUE!"}},"","E","E","E","E","E","E","E","--",null,null,null,null,null,{"$f":"Table_2[[#This Row],[Column51]]&Table_2[[#This Row],[Column52]]&AW263","v":""}]
[261,null,null,null,null,null,null,null,null,null,null,null,null,null,null,null,null,null,null,null,null,null,"--",0,{"$f":"Table_2[[#This Row],[Column20]]+Table_2[[#This Row],[Column56]]","v":0},"",{"$f":"Table_2[[#This Row],[Column20]]+Table_2[[#This Row],[Column56]]","v":0},"",{"$f":"Table_2[[#This Row],[Column57]]+Table_2[[#This Row],[Column16]]+Table_2[[#This Row],[Column15]]","v":0},"",{"$f":"(K262/Instructions!$C$23)*100","v":0},{"$f":"(L262/Instructions!$C$24)*100","v":0},{"$f":"(Y262/Instructions!$C$25)*100","v":0},{"$f":"(AA262/Instructions!$C$27)*100","v":0},{"$f":"(AC262/Instructions!$C$29)*100","v":0},{"$f":"(V262/Instructions!$C$33)*100","v":0},{"$f":"(U262/Instructions!$C$32)*100","v":0},{"$f":"(W262/Instructions!$C$36)*100","v":{"$error":"#VALUE!"}},"","E","E","E","E","E","E","E","--",null,null,null,null,null,{"$f":"Table_2[[#This Row],[Column51]]&Table_2[[#This Row],[Column52]]&AW264","v":""}]
[262,null,null,null,null,null,null,null,null,null,null,null,null,null,null,null,null,null,null,null,null,null,"--",0,{"$f":"Table_2[[#This Row],[Column20]]+Table_2[[#This Row],[Column56]]","v":0},"",{"$f":"Table_2[[#This Row],[Column20]]+Table_2[[#This Row],[Column56]]","v":0},"",{"$f":"Table_2[[#This Row],[Column57]]+Table_2[[#This Row],[Column16]]+Table_2[[#This Row],[Column15]]","v":0},"",{"$f":"(K263/Instructions!$C$23)*100","v":0},{"$f":"(L263/Instructions!$C$24)*100","v":0},{"$f":"(Y263/Instructions!$C$25)*100","v":0},{"$f":"(AA263/Instructions!$C$27)*100","v":0},{"$f":"(AC263/Instructions!$C$29)*100","v":0},{"$f":"(V263/Instructions!$C$33)*100","v":0},{"$f":"(U263/Instructions!$C$32)*100","v":0},{"$f":"(W263/Instructions!$C$36)*100","v":{"$error":"#VALUE!"}},"","E","E","E","E","E","E","E","--",null,null,null,null,null,{"$f":"Table_2[[#This Row],[Column51]]&Table_2[[#This Row],[Column52]]&AW265","v":""}]
[263,null,null,null,null,null,null,null,null,null,null,null,null,null,null,null,null,null,null,null,null,null,"--",0,{"$f":"Table_2[[#This Row],[Column20]]+Table_2[[#This Row],[Column56]]","v":0},"",{"$f":"Table_2[[#This Row],[Column20]]+Table_2[[#This Row],[Column56]]","v":0},"",{"$f":"Table_2[[#This Row],[Column57]]+Table_2[[#This Row],[Column16]]+Table_2[[#This Row],[Column15]]","v":0},"",{"$f":"(K264/Instructions!$C$23)*100","v":0},{"$f":"(L264/Instructions!$C$24)*100","v":0},{"$f":"(Y264/Instructions!$C$25)*100","v":0},{"$f":"(AA264/Instructions!$C$27)*100","v":0},{"$f":"(AC264/Instructions!$C$29)*100","v":0},{"$f":"(V264/Instructions!$C$33)*100","v":0},{"$f":"(U264/Instructions!$C$32)*100","v":0},{"$f":"(W264/Instructions!$C$36)*100","v":{"$error":"#VALUE!"}},"","E","E","E","E","E","E","E","--",null,null,null,null,null,{"$f":"Table_2[[#This Row],[Column51]]&Table_2[[#This Row],[Column52]]&AW266","v":""}]
[264,null,null,null,null,null,null,null,null,null,null,null,null,null,null,null,null,null,null,null,null,null,"--",0,{"$f":"Table_2[[#This Row],[Column20]]+Table_2[[#This Row],[Column56]]","v":0},"",{"$f":"Table_2[[#This Row],[Column20]]+Table_2[[#This Row],[Column56]]","v":0},"",{"$f":"Table_2[[#This Row],[Column57]]+Table_2[[#This Row],[Column16]]+Table_2[[#This Row],[Column15]]","v":0},"",{"$f":"(K265/Instructions!$C$23)*100","v":0},{"$f":"(L265/Instructions!$C$24)*100","v":0},{"$f":"(Y265/Instructions!$C$25)*100","v":0},{"$f":"(AA265/Instructions!$C$27)*100","v":0},{"$f":"(AC265/Instructions!$C$29)*100","v":0},{"$f":"(V265/Instructions!$C$33)*100","v":0},{"$f":"(U265/Instructions!$C$32)*100","v":0},{"$f":"(W265/Instructions!$C$36)*100","v":{"$error":"#VALUE!"}},"","E","E","E","E","E","E","E","--",null,null,null,null,null,{"$f":"Table_2[[#This Row],[Column51]]&Table_2[[#This Row],[Column52]]&AW267","v":""}]
[265,null,null,null,null,null,null,null,null,null,null,null,null,null,null,null,null,null,null,null,null,null,"--",0,{"$f":"Table_2[[#This Row],[Column20]]+Table_2[[#This Row],[Column56]]","v":0},"",{"$f":"Table_2[[#This Row],[Column20]]+Table_2[[#This Row],[Column56]]","v":0},"",{"$f":"Table_2[[#This Row],[Column57]]+Table_2[[#This Row],[Column16]]+Table_2[[#This Row],[Column15]]","v":0},"",{"$f":"(K266/Instructions!$C$23)*100","v":0},{"$f":"(L266/Instructions!$C$24)*100","v":0},{"$f":"(Y266/Instructions!$C$25)*100","v":0},{"$f":"(AA266/Instructions!$C$27)*100","v":0},{"$f":"(AC266/Instructions!$C$29)*100","v":0},{"$f":"(V266/Instructions!$C$33)*100","v":0},{"$f":"(U266/Instructions!$C$32)*100","v":0},{"$f":"(W266/Instructions!$C$36)*100","v":{"$error":"#VALUE!"}},"","E","E","E","E","E","E","E","--",null,null,null,null,null,{"$f":"Table_2[[#This Row],[Column51]]&Table_2[[#This Row],[Column52]]&AW268","v":""}]
[266,null,null,null,null,null,null,null,null,null,null,null,null,null,null,null,null,null,null,null,null,null,"--",0,{"$f":"Table_2[[#This Row],[Column20]]+Table_2[[#This Row],[Column56]]","v":0},"",{"$f":"Table_2[[#This Row],[Column20]]+Table_2[[#This Row],[Column56]]","v":0},"",{"$f":"Table_2[[#This Row],[Column57]]+Table_2[[#This Row],[Column16]]+Table_2[[#This Row],[Column15]]","v":0},"",{"$f":"(K267/Instructions!$C$23)*100","v":0},{"$f":"(L267/Instructions!$C$24)*100","v":0},{"$f":"(Y267/Instructions!$C$25)*100","v":0},{"$f":"(AA267/Instructions!$C$27)*100","v":0},{"$f":"(AC267/Instructions!$C$29)*100","v":0},{"$f":"(V267/Instructions!$C$33)*100","v":0},{"$f":"(U267/Instructions!$C$32)*100","v":0},{"$f":"(W267/Instructions!$C$36)*100","v":{"$error":"#VALUE!"}},"","E","E","E","E","E","E","E","--",null,null,null,null,null,{"$f":"Table_2[[#This Row],[Column51]]&Table_2[[#This Row],[Column52]]&AW269","v":""}]
[267,null,null,null,null,null,null,null,null,null,null,null,null,null,null,null,null,null,null,null,null,null,"--",0,{"$f":"Table_2[[#This Row],[Column20]]+Table_2[[#This Row],[Column56]]","v":0},"",{"$f":"Table_2[[#This Row],[Column20]]+Table_2[[#This Row],[Column56]]","v":0},"",{"$f":"Table_2[[#This Row],[Column57]]+Table_2[[#This Row],[Column16]]+Table_2[[#This Row],[Column15]]","v":0},"",{"$f":"(K268/Instructions!$C$23)*100","v":0},{"$f":"(L268/Instructions!$C$24)*100","v":0},{"$f":"(Y268/Instructions!$C$25)*100","v":0},{"$f":"(AA268/Instructions!$C$27)*100","v":0},{"$f":"(AC268/Instructions!$C$29)*100","v":0},{"$f":"(V268/Instructions!$C$33)*100","v":0},{"$f":"(U268/Instructions!$C$32)*100","v":0},{"$f":"(W268/Instructions!$C$36)*100","v":{"$error":"#VALUE!"}},"","E","E","E","E","E","E","E","--",null,null,null,null,null,{"$f":"Table_2[[#This Row],[Column51]]&Table_2[[#This Row],[Column52]]&AW270","v":""}]
[268,null,null,null,null,null,null,null,null,null,null,null,null,null,null,null,null,null,null,null,null,null,"--",0,{"$f":"Table_2[[#This Row],[Column20]]+Table_2[[#This Row],[Column56]]","v":0},"",{"$f":"Table_2[[#This Row],[Column20]]+Table_2[[#This Row],[Column56]]","v":0},"",{"$f":"Table_2[[#This Row],[Column57]]+Table_2[[#This Row],[Column16]]+Table_2[[#This Row],[Column15]]","v":0},"",{"$f":"(K269/Instructions!$C$23)*100","v":0},{"$f":"(L269/Instructions!$C$24)*100","v":0},{"$f":"(Y269/Instructions!$C$25)*100","v":0},{"$f":"(AA269/Instructions!$C$27)*100","v":0},{"$f":"(AC269/Instructions!$C$29)*100","v":0},{"$f":"(V269/Instructions!$C$33)*100","v":0},{"$f":"(U269/Instructions!$C$32)*100","v":0},{"$f":"(W269/Instructions!$C$36)*100","v":{"$error":"#VALUE!"}},"","E","E","E","E","E","E","E","--",null,null,null,null,null,{"$f":"Table_2[[#This Row],[Column51]]&Table_2[[#This Row],[Column52]]&AW271","v":""}]
[269,null,null,null,null,null,null,null,null,null,null,null,null,null,null,null,null,null,null,null,null,null,"--",0,{"$f":"Table_2[[#This Row],[Column20]]+Table_2[[#This Row],[Column56]]","v":0},"",{"$f":"Table_2[[#This Row],[Column20]]+Table_2[[#This Row],[Column56]]","v":0},"",{"$f":"Table_2[[#This Row],[Column57]]+Table_2[[#This Row],[Column16]]+Table_2[[#This Row],[Column15]]","v":0},"",{"$f":"(K270/Instructions!$C$23)*100","v":0},{"$f":"(L270/Instructions!$C$24)*100","v":0},{"$f":"(Y270/Instructions!$C$25)*100","v":0},{"$f":"(AA270/Instructions!$C$27)*100","v":0},{"$f":"(AC270/Instructions!$C$29)*100","v":0},{"$f":"(V270/Instructions!$C$33)*100","v":0},{"$f":"(U270/Instructions!$C$32)*100","v":0},{"$f":"(W270/Instructions!$C$36)*100","v":{"$error":"#VALUE!"}},"","E","E","E","E","E","E","E","--",null,null,null,null,null,{"$f":"Table_2[[#This Row],[Column51]]&Table_2[[#This Row],[Column52]]&AW272","v":""}]
[270,null,null,null,null,null,null,null,null,null,null,null,null,null,null,null,null,null,null,null,null,null,"--",0,{"$f":"Table_2[[#This Row],[Column20]]+Table_2[[#This Row],[Column56]]","v":0},"",{"$f":"Table_2[[#This Row],[Column20]]+Table_2[[#This Row],[Column56]]","v":0},"",{"$f":"Table_2[[#This Row],[Column57]]+Table_2[[#This Row],[Column16]]+Table_2[[#This Row],[Column15]]","v":0},"",{"$f":"(K271/Instructions!$C$23)*100","v":0},{"$f":"(L271/Instructions!$C$24)*100","v":0},{"$f":"(Y271/Instructions!$C$25)*100","v":0},{"$f":"(AA271/Instructions!$C$27)*100","v":0},{"$f":"(AC271/Instructions!$C$29)*100","v":0},{"$f":"(V271/Instructions!$C$33)*100","v":0},{"$f":"(U271/Instructions!$C$32)*100","v":0},{"$f":"(W271/Instructions!$C$36)*100","v":{"$error":"#VALUE!"}},"","E","E","E","E","E","E","E","--",null,null,null,null,null,{"$f":"Table_2[[#This Row],[Column51]]&Table_2[[#This Row],[Column52]]&AW273","v":""}]
[271,null,null,null,null,null,null,null,null,null,null,null,null,null,null,null,null,null,null,null,null,null,"--",0,{"$f":"Table_2[[#This Row],[Column20]]+Table_2[[#This Row],[Column56]]","v":0},"",{"$f":"Table_2[[#This Row],[Column20]]+Table_2[[#This Row],[Column56]]","v":0},"",{"$f":"Table_2[[#This Row],[Column57]]+Table_2[[#This Row],[Column16]]+Table_2[[#This Row],[Column15]]","v":0},"",{"$f":"(K272/Instructions!$C$23)*100","v":0},{"$f":"(L272/Instructions!$C$24)*100","v":0},{"$f":"(Y272/Instructions!$C$25)*100","v":0},{"$f":"(AA272/Instructions!$C$27)*100","v":0},{"$f":"(AC272/Instructions!$C$29)*100","v":0},{"$f":"(V272/Instructions!$C$33)*100","v":0},{"$f":"(U272/Instructions!$C$32)*100","v":0},{"$f":"(W272/Instructions!$C$36)*100","v":{"$error":"#VALUE!"}},"","E","E","E","E","E","E","E","--",null,null,null,null,null,{"$f":"Table_2[[#This Row],[Column51]]&Table_2[[#This Row],[Column52]]&AW274","v":""}]
[272,null,null,null,null,null,null,null,null,null,null,null,null,null,null,null,null,null,null,null,null,null,"--",0,{"$f":"Table_2[[#This Row],[Column20]]+Table_2[[#This Row],[Column56]]","v":0},"",{"$f":"Table_2[[#This Row],[Column20]]+Table_2[[#This Row],[Column56]]","v":0},"",{"$f":"Table_2[[#This Row],[Column57]]+Table_2[[#This Row],[Column16]]+Table_2[[#This Row],[Column15]]","v":0},"",{"$f":"(K273/Instructions!$C$23)*100","v":0},{"$f":"(L273/Instructions!$C$24)*100","v":0},{"$f":"(Y273/Instructions!$C$25)*100","v":0},{"$f":"(AA273/Instructions!$C$27)*100","v":0},{"$f":"(AC273/Instructions!$C$29)*100","v":0},{"$f":"(V273/Instructions!$C$33)*100","v":0},{"$f":"(U273/Instructions!$C$32)*100","v":0},{"$f":"(W273/Instructions!$C$36)*100","v":{"$error":"#VALUE!"}},"","E","E","E","E","E","E","E","--",null,null,null,null,null,{"$f":"Table_2[[#This Row],[Column51]]&Table_2[[#This Row],[Column52]]&AW275","v":""}]
[273,null,null,null,null,null,null,null,null,null,null,null,null,null,null,null,null,null,null,null,null,null,"--",0,{"$f":"Table_2[[#This Row],[Column20]]+Table_2[[#This Row],[Column56]]","v":0},"",{"$f":"Table_2[[#This Row],[Column20]]+Table_2[[#This Row],[Column56]]","v":0},"",{"$f":"Table_2[[#This Row],[Column57]]+Table_2[[#This Row],[Column16]]+Table_2[[#This Row],[Column15]]","v":0},"",{"$f":"(K274/Instructions!$C$23)*100","v":0},{"$f":"(L274/Instructions!$C$24)*100","v":0},{"$f":"(Y274/Instructions!$C$25)*100","v":0},{"$f":"(AA274/Instructions!$C$27)*100","v":0},{"$f":"(AC274/Instructions!$C$29)*100","v":0},{"$f":"(V274/Instructions!$C$33)*100","v":0},{"$f":"(U274/Instructions!$C$32)*100","v":0},{"$f":"(W274/Instructions!$C$36)*100","v":{"$error":"#VALUE!"}},"","E","E","E","E","E","E","E","--",null,null,null,null,null,{"$f":"Table_2[[#This Row],[Column51]]&Table_2[[#This Row],[Column52]]&AW276","v":""}]
[274,null,null,null,null,null,null,null,null,null,null,null,null,null,null,null,null,null,null,null,null,null,"--",0,{"$f":"Table_2[[#This Row],[Column20]]+Table_2[[#This Row],[Column56]]","v":0},"",{"$f":"Table_2[[#This Row],[Column20]]+Table_2[[#This Row],[Column56]]","v":0},"",{"$f":"Table_2[[#This Row],[Column57]]+Table_2[[#This Row],[Column16]]+Table_2[[#This Row],[Column15]]","v":0},"",{"$f":"(K275/Instructions!$C$23)*100","v":0},{"$f":"(L275/Instructions!$C$24)*100","v":0},{"$f":"(Y275/Instructions!$C$25)*100","v":0},{"$f":"(AA275/Instructions!$C$27)*100","v":0},{"$f":"(AC275/Instructions!$C$29)*100","v":0},{"$f":"(V275/Instructions!$C$33)*100","v":0},{"$f":"(U275/Instructions!$C$32)*100","v":0},{"$f":"(W275/Instructions!$C$36)*100","v":{"$error":"#VALUE!"}},"","E","E","E","E","E","E","E","--",null,null,null,null,null,{"$f":"Table_2[[#This Row],[Column51]]&Table_2[[#This Row],[Column52]]&AW277","v":""}]
[275,null,null,null,null,null,null,null,null,null,null,null,null,null,null,null,null,null,null,null,null,null,"--",0,{"$f":"Table_2[[#This Row],[Column20]]+Table_2[[#This Row],[Column56]]","v":0},"",{"$f":"Table_2[[#This Row],[Column20]]+Table_2[[#This Row],[Column56]]","v":0},"",{"$f":"Table_2[[#This Row],[Column57]]+Table_2[[#This Row],[Column16]]+Table_2[[#This Row],[Column15]]","v":0},"",{"$f":"(K276/Instructions!$C$23)*100","v":0},{"$f":"(L276/Instructions!$C$24)*100","v":0},{"$f":"(Y276/Instructions!$C$25)*100","v":0},{"$f":"(AA276/Instructions!$C$27)*100","v":0},{"$f":"(AC276/Instructions!$C$29)*100","v":0},{"$f":"(V276/Instructions!$C$33)*100","v":0},{"$f":"(U276/Instructions!$C$32)*100","v":0},{"$f":"(W276/Instructions!$C$36)*100","v":{"$error":"#VALUE!"}},"","E","E","E","E","E","E","E","--",null,null,null,null,null,{"$f":"Table_2[[#This Row],[Column51]]&Table_2[[#This Row],[Column52]]&AW278","v":""}]
[276,null,null,null,null,null,null,null,null,null,null,null,null,null,null,null,null,null,null,null,null,null,"--",0,{"$f":"Table_2[[#This Row],[Column20]]+Table_2[[#This Row],[Column56]]","v":0},"",{"$f":"Table_2[[#This Row],[Column20]]+Table_2[[#This Row],[Column56]]","v":0},"",{"$f":"Table_2[[#This Row],[Column57]]+Table_2[[#This Row],[Column16]]+Table_2[[#This Row],[Column15]]","v":0},"",{"$f":"(K277/Instructions!$C$23)*100","v":0},{"$f":"(L277/Instructions!$C$24)*100","v":0},{"$f":"(Y277/Instructions!$C$25)*100","v":0},{"$f":"(AA277/Instructions!$C$27)*100","v":0},{"$f":"(AC277/Instructions!$C$29)*100","v":0},{"$f":"(V277/Instructions!$C$33)*100","v":0},{"$f":"(U277/Instructions!$C$32)*100","v":0},{"$f":"(W277/Instructions!$C$36)*100","v":{"$error":"#VALUE!"}},"","E","E","E","E","E","E","E","--",null,null,null,null,null,{"$f":"Table_2[[#This Row],[Column51]]&Table_2[[#This Row],[Column52]]&AW279","v":""}]
[277,null,null,null,null,null,null,null,null,null,null,null,null,null,null,null,null,null,null,null,null,null,"--",0,{"$f":"Table_2[[#This Row],[Column20]]+Table_2[[#This Row],[Column56]]","v":0},"",{"$f":"Table_2[[#This Row],[Column20]]+Table_2[[#This Row],[Column56]]","v":0},"",{"$f":"Table_2[[#This Row],[Column57]]+Table_2[[#This Row],[Column16]]+Table_2[[#This Row],[Column15]]","v":0},"",{"$f":"(K278/Instructions!$C$23)*100","v":0},{"$f":"(L278/Instructions!$C$24)*100","v":0},{"$f":"(Y278/Instructions!$C$25)*100","v":0},{"$f":"(AA278/Instructions!$C$27)*100","v":0},{"$f":"(AC278/Instructions!$C$29)*100","v":0},{"$f":"(V278/Instructions!$C$33)*100","v":0},{"$f":"(U278/Instructions!$C$32)*100","v":0},{"$f":"(W278/Instructions!$C$36)*100","v":{"$error":"#VALUE!"}},"","E","E","E","E","E","E","E","--",null,null,null,null,null,{"$f":"Table_2[[#This Row],[Column51]]&Table_2[[#This Row],[Column52]]&AW280","v":""}]
[278,null,null,null,null,null,null,null,null,null,null,null,null,null,null,null,null,null,null,null,null,null,"--",0,{"$f":"Table_2[[#This Row],[Column20]]+Table_2[[#This Row],[Column56]]","v":0},"",{"$f":"Table_2[[#This Row],[Column20]]+Table_2[[#This Row],[Column56]]","v":0},"",{"$f":"Table_2[[#This Row],[Column57]]+Table_2[[#This Row],[Column16]]+Table_2[[#This Row],[Column15]]","v":0},"",{"$f":"(K279/Instructions!$C$23)*100","v":0},{"$f":"(L279/Instructions!$C$24)*100","v":0},{"$f":"(Y279/Instructions!$C$25)*100","v":0},{"$f":"(AA279/Instructions!$C$27)*100","v":0},{"$f":"(AC279/Instructions!$C$29)*100","v":0},{"$f":"(V279/Instructions!$C$33)*100","v":0},{"$f":"(U279/Instructions!$C$32)*100","v":0},{"$f":"(W279/Instructions!$C$36)*100","v":{"$error":"#VALUE!"}},"","E","E","E","E","E","E","E","--",null,null,null,null,null,{"$f":"Table_2[[#This Row],[Column51]]&Table_2[[#This Row],[Column52]]&AW281","v":""}]
[279,null,null,null,null,null,null,null,null,null,null,null,null,null,null,null,null,null,null,null,null,null,"--",0,{"$f":"Table_2[[#This Row],[Column20]]+Table_2[[#This Row],[Column56]]","v":0},"",{"$f":"Table_2[[#This Row],[Column20]]+Table_2[[#This Row],[Column56]]","v":0},"",{"$f":"Table_2[[#This Row],[Column57]]+Table_2[[#This Row],[Column16]]+Table_2[[#This Row],[Column15]]","v":0},"",{"$f":"(K280/Instructions!$C$23)*100","v":0},{"$f":"(L280/Instructions!$C$24)*100","v":0},{"$f":"(Y280/Instructions!$C$25)*100","v":0},{"$f":"(AA280/Instructions!$C$27)*100","v":0},{"$f":"(AC280/Instructions!$C$29)*100","v":0},{"$f":"(V280/Instructions!$C$33)*100","v":0},{"$f":"(U280/Instructions!$C$32)*100","v":0},{"$f":"(W280/Instructions!$C$36)*100","v":{"$error":"#VALUE!"}},"","E","E","E","E","E","E","E","--",null,null,null,null,null,{"$f":"Table_2[[#This Row],[Column51]]&Table_2[[#This Row],[Column52]]&AW282","v":""}]
[280,null,null,null,null,null,null,null,null,null,null,null,null,null,null,null,null,null,null,null,null,null,"--",0,{"$f":"Table_2[[#This Row],[Column20]]+Table_2[[#This Row],[Column56]]","v":0},"",{"$f":"Table_2[[#This Row],[Column20]]+Table_2[[#This Row],[Column56]]","v":0},"",{"$f":"Table_2[[#This Row],[Column57]]+Table_2[[#This Row],[Column16]]+Table_2[[#This Row],[Column15]]","v":0},"",{"$f":"(K281/Instructions!$C$23)*100","v":0},{"$f":"(L281/Instructions!$C$24)*100","v":0},{"$f":"(Y281/Instructions!$C$25)*100","v":0},{"$f":"(AA281/Instructions!$C$27)*100","v":0},{"$f":"(AC281/Instructions!$C$29)*100","v":0},{"$f":"(V281/Instructions!$C$33)*100","v":0},{"$f":"(U281/Instructions!$C$32)*100","v":0},{"$f":"(W281/Instructions!$C$36)*100","v":{"$error":"#VALUE!"}},"","E","E","E","E","E","E","E","--",null,null,null,null,null,{"$f":"Table_2[[#This Row],[Column51]]&Table_2[[#This Row],[Column52]]&AW283","v":""}]
[281,null,null,null,null,null,null,null,null,null,null,null,null,null,null,null,null,null,null,null,null,null,"--",0,{"$f":"Table_2[[#This Row],[Column20]]+Table_2[[#This Row],[Column56]]","v":0},"",{"$f":"Table_2[[#This Row],[Column20]]+Table_2[[#This Row],[Column56]]","v":0},"",{"$f":"Table_2[[#This Row],[Column57]]+Table_2[[#This Row],[Column16]]+Table_2[[#This Row],[Column15]]","v":0},"",{"$f":"(K282/Instructions!$C$23)*100","v":0},{"$f":"(L282/Instructions!$C$24)*100","v":0},{"$f":"(Y282/Instructions!$C$25)*100","v":0},{"$f":"(AA282/Instructions!$C$27)*100","v":0},{"$f":"(AC282/Instructions!$C$29)*100","v":0},{"$f":"(V282/Instructions!$C$33)*100","v":0},{"$f":"(U282/Instructions!$C$32)*100","v":0},{"$f":"(W282/Instructions!$C$36)*100","v":{"$error":"#VALUE!"}},"","E","E","E","E","E","E","E","--",null,null,null,null,null,{"$f":"Table_2[[#This Row],[Column51]]&Table_2[[#This Row],[Column52]]&AW284","v":""}]
[282,null,null,null,null,null,null,null,null,null,null,null,null,null,null,null,null,null,null,null,null,null,"--",0,{"$f":"Table_2[[#This Row],[Column20]]+Table_2[[#This Row],[Column56]]","v":0},"",{"$f":"Table_2[[#This Row],[Column20]]+Table_2[[#This Row],[Column56]]","v":0},"",{"$f":"Table_2[[#This Row],[Column57]]+Table_2[[#This Row],[Column16]]+Table_2[[#This Row],[Column15]]","v":0},"",{"$f":"(K283/Instructions!$C$23)*100","v":0},{"$f":"(L283/Instructions!$C$24)*100","v":0},{"$f":"(Y283/Instructions!$C$25)*100","v":0},{"$f":"(AA283/Instructions!$C$27)*100","v":0},{"$f":"(AC283/Instructions!$C$29)*100","v":0},{"$f":"(V283/Instructions!$C$33)*100","v":0},{"$f":"(U283/Instructions!$C$32)*100","v":0},{"$f":"(W283/Instructions!$C$36)*100","v":{"$error":"#VALUE!"}},"","E","E","E","E","E","E","E","--",null,null,null,null,null,{"$f":"Table_2[[#This Row],[Column51]]&Table_2[[#This Row],[Column52]]&AW285","v":""}]
[283,null,null,null,null,null,null,null,null,null,null,null,null,null,null,null,null,null,null,null,null,null,"--",0,{"$f":"Table_2[[#This Row],[Column20]]+Table_2[[#This Row],[Column56]]","v":0},"",{"$f":"Table_2[[#This Row],[Column20]]+Table_2[[#This Row],[Column56]]","v":0},"",{"$f":"Table_2[[#This Row],[Column57]]+Table_2[[#This Row],[Column16]]+Table_2[[#This Row],[Column15]]","v":0},"",{"$f":"(K284/Instructions!$C$23)*100","v":0},{"$f":"(L284/Instructions!$C$24)*100","v":0},{"$f":"(Y284/Instructions!$C$25)*100","v":0},{"$f":"(AA284/Instructions!$C$27)*100","v":0},{"$f":"(AC284/Instructions!$C$29)*100","v":0},{"$f":"(V284/Instructions!$C$33)*100","v":0},{"$f":"(U284/Instructions!$C$32)*100","v":0},{"$f":"(W284/Instructions!$C$36)*100","v":{"$error":"#VALUE!"}},"","E","E","E","E","E","E","E","--",null,null,null,null,null,{"$f":"Table_2[[#This Row],[Column51]]&Table_2[[#This Row],[Column52]]&AW286","v":""}]
[284,null,null,null,null,null,null,null,null,null,null,null,null,null,null,null,null,null,null,null,null,null,"--",0,{"$f":"Table_2[[#This Row],[Column20]]+Table_2[[#This Row],[Column56]]","v":0},"",{"$f":"Table_2[[#This Row],[Column20]]+Table_2[[#This Row],[Column56]]","v":0},"",{"$f":"Table_2[[#This Row],[Column57]]+Table_2[[#This Row],[Column16]]+Table_2[[#This Row],[Column15]]","v":0},"",{"$f":"(K285/Instructions!$C$23)*100","v":0},{"$f":"(L285/Instructions!$C$24)*100","v":0},{"$f":"(Y285/Instructions!$C$25)*100","v":0},{"$f":"(AA285/Instructions!$C$27)*100","v":0},{"$f":"(AC285/Instructions!$C$29)*100","v":0},{"$f":"(V285/Instructions!$C$33)*100","v":0},{"$f":"(U285/Instructions!$C$32)*100","v":0},{"$f":"(W285/Instructions!$C$36)*100","v":{"$error":"#VALUE!"}},"","E","E","E","E","E","E","E","--",null,null,null,null,null,{"$f":"Table_2[[#This Row],[Column51]]&Table_2[[#This Row],[Column52]]&AW287","v":""}]
[285,null,null,null,null,null,null,null,null,null,null,null,null,null,null,null,null,null,null,null,null,null,"--",0,{"$f":"Table_2[[#This Row],[Column20]]+Table_2[[#This Row],[Column56]]","v":0},"",{"$f":"Table_2[[#This Row],[Column20]]+Table_2[[#This Row],[Column56]]","v":0},"",{"$f":"Table_2[[#This Row],[Column57]]+Table_2[[#This Row],[Column16]]+Table_2[[#This Row],[Column15]]","v":0},"",{"$f":"(K286/Instructions!$C$23)*100","v":0},{"$f":"(L286/Instructions!$C$24)*100","v":0},{"$f":"(Y286/Instructions!$C$25)*100","v":0},{"$f":"(AA286/Instructions!$C$27)*100","v":0},{"$f":"(AC286/Instructions!$C$29)*100","v":0},{"$f":"(V286/Instructions!$C$33)*100","v":0},{"$f":"(U286/Instructions!$C$32)*100","v":0},{"$f":"(W286/Instructions!$C$36)*100","v":{"$error":"#VALUE!"}},"","E","E","E","E","E","E","E","--",null,null,null,null,null,{"$f":"Table_2[[#This Row],[Column51]]&Table_2[[#This Row],[Column52]]&AW288","v":""}]
[286,null,null,null,null,null,null,null,null,null,null,null,null,null,null,null,null,null,null,null,null,null,"--",0,{"$f":"Table_2[[#This Row],[Column20]]+Table_2[[#This Row],[Column56]]","v":0},"",{"$f":"Table_2[[#This Row],[Column20]]+Table_2[[#This Row],[Column56]]","v":0},"",{"$f":"Table_2[[#This Row],[Column57]]+Table_2[[#This Row],[Column16]]+Table_2[[#This Row],[Column15]]","v":0},"",{"$f":"(K287/Instructions!$C$23)*100","v":0},{"$f":"(L287/Instructions!$C$24)*100","v":0},{"$f":"(Y287/Instructions!$C$25)*100","v":0},{"$f":"(AA287/Instructions!$C$27)*100","v":0},{"$f":"(AC287/Instructions!$C$29)*100","v":0},{"$f":"(V287/Instructions!$C$33)*100","v":0},{"$f":"(U287/Instructions!$C$32)*100","v":0},{"$f":"(W287/Instructions!$C$36)*100","v":{"$error":"#VALUE!"}},"","E","E","E","E","E","E","E","--",null,null,null,null,null,{"$f":"Table_2[[#This Row],[Column51]]&Table_2[[#This Row],[Column52]]&AW289","v":""}]
[287,null,null,null,null,null,null,null,null,null,null,null,null,null,null,null,null,null,null,null,null,null,"--",0,{"$f":"Table_2[[#This Row],[Column20]]+Table_2[[#This Row],[Column56]]","v":0},"",{"$f":"Table_2[[#This Row],[Column20]]+Table_2[[#This Row],[Column56]]","v":0},"",{"$f":"Table_2[[#This Row],[Column57]]+Table_2[[#This Row],[Column16]]+Table_2[[#This Row],[Column15]]","v":0},"",{"$f":"(K288/Instructions!$C$23)*100","v":0},{"$f":"(L288/Instructions!$C$24)*100","v":0},{"$f":"(Y288/Instructions!$C$25)*100","v":0},{"$f":"(AA288/Instructions!$C$27)*100","v":0},{"$f":"(AC288/Instructions!$C$29)*100","v":0},{"$f":"(V288/Instructions!$C$33)*100","v":0},{"$f":"(U288/Instructions!$C$32)*100","v":0},{"$f":"(W288/Instructions!$C$36)*100","v":{"$error":"#VALUE!"}},"","E","E","E","E","E","E","E","--",null,null,null,null,null,{"$f":"Table_2[[#This Row],[Column51]]&Table_2[[#This Row],[Column52]]&AW290","v":""}]
[288,null,null,null,null,null,null,null,null,null,null,null,null,null,null,null,null,null,null,null,null,null,"--",0,{"$f":"Table_2[[#This Row],[Column20]]+Table_2[[#This Row],[Column56]]","v":0},"",{"$f":"Table_2[[#This Row],[Column20]]+Table_2[[#This Row],[Column56]]","v":0},"",{"$f":"Table_2[[#This Row],[Column57]]+Table_2[[#This Row],[Column16]]+Table_2[[#This Row],[Column15]]","v":0},"",{"$f":"(K289/Instructions!$C$23)*100","v":0},{"$f":"(L289/Instructions!$C$24)*100","v":0},{"$f":"(Y289/Instructions!$C$25)*100","v":0},{"$f":"(AA289/Instructions!$C$27)*100","v":0},{"$f":"(AC289/Instructions!$C$29)*100","v":0},{"$f":"(V289/Instructions!$C$33)*100","v":0},{"$f":"(U289/Instructions!$C$32)*100","v":0},{"$f":"(W289/Instructions!$C$36)*100","v":{"$error":"#VALUE!"}},"","E","E","E","E","E","E","E","--",null,null,null,null,null,{"$f":"Table_2[[#This Row],[Column51]]&Table_2[[#This Row],[Column52]]&AW291","v":""}]
[289,null,null,null,null,null,null,null,null,null,null,null,null,null,null,null,null,null,null,null,null,null,"--",0,{"$f":"Table_2[[#This Row],[Column20]]+Table_2[[#This Row],[Column56]]","v":0},"",{"$f":"Table_2[[#This Row],[Column20]]+Table_2[[#This Row],[Column56]]","v":0},"",{"$f":"Table_2[[#This Row],[Column57]]+Table_2[[#This Row],[Column16]]+Table_2[[#This Row],[Column15]]","v":0},"",{"$f":"(K290/Instructions!$C$23)*100","v":0},{"$f":"(L290/Instructions!$C$24)*100","v":0},{"$f":"(Y290/Instructions!$C$25)*100","v":0},{"$f":"(AA290/Instructions!$C$27)*100","v":0},{"$f":"(AC290/Instructions!$C$29)*100","v":0},{"$f":"(V290/Instructions!$C$33)*100","v":0},{"$f":"(U290/Instructions!$C$32)*100","v":0},{"$f":"(W290/Instructions!$C$36)*100","v":{"$error":"#VALUE!"}},"","E","E","E","E","E","E","E","--",null,null,null,null,null,{"$f":"Table_2[[#This Row],[Column51]]&Table_2[[#This Row],[Column52]]&AW292","v":""}]
[290,null,null,null,null,null,null,null,null,null,null,null,null,null,null,null,null,null,null,null,null,null,"--",0,{"$f":"Table_2[[#This Row],[Column20]]+Table_2[[#This Row],[Column56]]","v":0},"",{"$f":"Table_2[[#This Row],[Column20]]+Table_2[[#This Row],[Column56]]","v":0},"",{"$f":"Table_2[[#This Row],[Column57]]+Table_2[[#This Row],[Column16]]+Table_2[[#This Row],[Column15]]","v":0},"",{"$f":"(K291/Instructions!$C$23)*100","v":0},{"$f":"(L291/Instructions!$C$24)*100","v":0},{"$f":"(Y291/Instructions!$C$25)*100","v":0},{"$f":"(AA291/Instructions!$C$27)*100","v":0},{"$f":"(AC291/Instructions!$C$29)*100","v":0},{"$f":"(V291/Instructions!$C$33)*100","v":0},{"$f":"(U291/Instructions!$C$32)*100","v":0},{"$f":"(W291/Instructions!$C$36)*100","v":{"$error":"#VALUE!"}},"","E","E","E","E","E","E","E","--",null,null,null,null,null,{"$f":"Table_2[[#This Row],[Column51]]&Table_2[[#This Row],[Column52]]&AW293","v":""}]
[291,null,null,null,null,null,null,null,null,null,null,null,null,null,null,null,null,null,null,null,null,null,"--",0,{"$f":"Table_2[[#This Row],[Column20]]+Table_2[[#This Row],[Column56]]","v":0},"",{"$f":"Table_2[[#This Row],[Column20]]+Table_2[[#This Row],[Column56]]","v":0},"",{"$f":"Table_2[[#This Row],[Column57]]+Table_2[[#This Row],[Column16]]+Table_2[[#This Row],[Column15]]","v":0},"",{"$f":"(K292/Instructions!$C$23)*100","v":0},{"$f":"(L292/Instructions!$C$24)*100","v":0},{"$f":"(Y292/Instructions!$C$25)*100","v":0},{"$f":"(AA292/Instructions!$C$27)*100","v":0},{"$f":"(AC292/Instructions!$C$29)*100","v":0},{"$f":"(V292/Instructions!$C$33)*100","v":0},{"$f":"(U292/Instructions!$C$32)*100","v":0},{"$f":"(W292/Instructions!$C$36)*100","v":{"$error":"#VALUE!"}},"","E","E","E","E","E","E","E","--",null,null,null,null,null,{"$f":"Table_2[[#This Row],[Column51]]&Table_2[[#This Row],[Column52]]&AW294","v":""}]
[292,null,null,null,null,null,null,null,null,null,null,null,null,null,null,null,null,null,null,null,null,null,"--",0,{"$f":"Table_2[[#This Row],[Column20]]+Table_2[[#This Row],[Column56]]","v":0},"",{"$f":"Table_2[[#This Row],[Column20]]+Table_2[[#This Row],[Column56]]","v":0},"",{"$f":"Table_2[[#This Row],[Column57]]+Table_2[[#This Row],[Column16]]+Table_2[[#This Row],[Column15]]","v":0},"",{"$f":"(K293/Instructions!$C$23)*100","v":0},{"$f":"(L293/Instructions!$C$24)*100","v":0},{"$f":"(Y293/Instructions!$C$25)*100","v":0},{"$f":"(AA293/Instructions!$C$27)*100","v":0},{"$f":"(AC293/Instructions!$C$29)*100","v":0},{"$f":"(V293/Instructions!$C$33)*100","v":0},{"$f":"(U293/Instructions!$C$32)*100","v":0},{"$f":"(W293/Instructions!$C$36)*100","v":{"$error":"#VALUE!"}},"","E","E","E","E","E","E","E","--",null,null,null,null,null,{"$f":"Table_2[[#This Row],[Column51]]&Table_2[[#This Row],[Column52]]&AW295","v":""}]
[293,null,null,null,null,null,null,null,null,null,null,null,null,null,null,null,null,null,null,null,null,null,"--",0,{"$f":"Table_2[[#This Row],[Column20]]+Table_2[[#This Row],[Column56]]","v":0},"",{"$f":"Table_2[[#This Row],[Column20]]+Table_2[[#This Row],[Column56]]","v":0},"",{"$f":"Table_2[[#This Row],[Column57]]+Table_2[[#This Row],[Column16]]+Table_2[[#This Row],[Column15]]","v":0},"",{"$f":"(K294/Instructions!$C$23)*100","v":0},{"$f":"(L294/Instructions!$C$24)*100","v":0},{"$f":"(Y294/Instructions!$C$25)*100","v":0},{"$f":"(AA294/Instructions!$C$27)*100","v":0},{"$f":"(AC294/Instructions!$C$29)*100","v":0},{"$f":"(V294/Instructions!$C$33)*100","v":0},{"$f":"(U294/Instructions!$C$32)*100","v":0},{"$f":"(W294/Instructions!$C$36)*100","v":{"$error":"#VALUE!"}},"","E","E","E","E","E","E","E","--",null,null,null,null,null,{"$f":"Table_2[[#This Row],[Column51]]&Table_2[[#This Row],[Column52]]&AW296","v":""}]
[294,null,null,null,null,null,null,null,null,null,null,null,null,null,null,null,null,null,null,null,null,null,"--",0,{"$f":"Table_2[[#This Row],[Column20]]+Table_2[[#This Row],[Column56]]","v":0},"",{"$f":"Table_2[[#This Row],[Column20]]+Table_2[[#This Row],[Column56]]","v":0},"",{"$f":"Table_2[[#This Row],[Column57]]+Table_2[[#This Row],[Column16]]+Table_2[[#This Row],[Column15]]","v":0},"",{"$f":"(K295/Instructions!$C$23)*100","v":0},{"$f":"(L295/Instructions!$C$24)*100","v":0},{"$f":"(Y295/Instructions!$C$25)*100","v":0},{"$f":"(AA295/Instructions!$C$27)*100","v":0},{"$f":"(AC295/Instructions!$C$29)*100","v":0},{"$f":"(V295/Instructions!$C$33)*100","v":0},{"$f":"(U295/Instructions!$C$32)*100","v":0},{"$f":"(W295/Instructions!$C$36)*100","v":{"$error":"#VALUE!"}},"","E","E","E","E","E","E","E","--",null,null,null,null,null,{"$f":"Table_2[[#This Row],[Column51]]&Table_2[[#This Row],[Column52]]&AW297","v":""}]
[295,null,null,null,null,null,null,null,null,null,null,null,null,null,null,null,null,null,null,null,null,null,"--",0,{"$f":"Table_2[[#This Row],[Column20]]+Table_2[[#This Row],[Column56]]","v":0},"",{"$f":"Table_2[[#This Row],[Column20]]+Table_2[[#This Row],[Column56]]","v":0},"",{"$f":"Table_2[[#This Row],[Column57]]+Table_2[[#This Row],[Column16]]+Table_2[[#This Row],[Column15]]","v":0},"",{"$f":"(K296/Instructions!$C$23)*100","v":0},{"$f":"(L296/Instructions!$C$24)*100","v":0},{"$f":"(Y296/Instructions!$C$25)*100","v":0},{"$f":"(AA296/Instructions!$C$27)*100","v":0},{"$f":"(AC296/Instructions!$C$29)*100","v":0},{"$f":"(V296/Instructions!$C$33)*100","v":0},{"$f":"(U296/Instructions!$C$32)*100","v":0},{"$f":"(W296/Instructions!$C$36)*100","v":{"$error":"#VALUE!"}},"","E","E","E","E","E","E","E","--",null,null,null,null,null,{"$f":"Table_2[[#This Row],[Column51]]&Table_2[[#This Row],[Column52]]&AW298","v":""}]
[296,null,null,null,null,null,null,null,null,null,null,null,null,null,null,null,null,null,null,null,null,null,"--",0,{"$f":"Table_2[[#This Row],[Column20]]+Table_2[[#This Row],[Column56]]","v":0},"",{"$f":"Table_2[[#This Row],[Column20]]+Table_2[[#This Row],[Column56]]","v":0},"",{"$f":"Table_2[[#This Row],[Column57]]+Table_2[[#This Row],[Column16]]+Table_2[[#This Row],[Column15]]","v":0},"",{"$f":"(K297/Instructions!$C$23)*100","v":0},{"$f":"(L297/Instructions!$C$24)*100","v":0},{"$f":"(Y297/Instructions!$C$25)*100","v":0},{"$f":"(AA297/Instructions!$C$27)*100","v":0},{"$f":"(AC297/Instructions!$C$29)*100","v":0},{"$f":"(V297/Instructions!$C$33)*100","v":0},{"$f":"(U297/Instructions!$C$32)*100","v":0},{"$f":"(W297/Instructions!$C$36)*100","v":{"$error":"#VALUE!"}},"","E","E","E","E","E","E","E","--",null,null,null,null,null,{"$f":"Table_2[[#This Row],[Column51]]&Table_2[[#This Row],[Column52]]&AW299","v":""}]
[297,null,null,null,null,null,null,null,null,null,null,null,null,null,null,null,null,null,null,null,null,null,"--",0,{"$f":"Table_2[[#This Row],[Column20]]+Table_2[[#This Row],[Column56]]","v":0},"",{"$f":"Table_2[[#This Row],[Column20]]+Table_2[[#This Row],[Column56]]","v":0},"",{"$f":"Table_2[[#This Row],[Column57]]+Table_2[[#This Row],[Column16]]+Table_2[[#This Row],[Column15]]","v":0},"",{"$f":"(K298/Instructions!$C$23)*100","v":0},{"$f":"(L298/Instructions!$C$24)*100","v":0},{"$f":"(Y298/Instructions!$C$25)*100","v":0},{"$f":"(AA298/Instructions!$C$27)*100","v":0},{"$f":"(AC298/Instructions!$C$29)*100","v":0},{"$f":"(V298/Instructions!$C$33)*100","v":0},{"$f":"(U298/Instructions!$C$32)*100","v":0},{"$f":"(W298/Instructions!$C$36)*100","v":{"$error":"#VALUE!"}},"","E","E","E","E","E","E","E","--",null,null,null,null,null,{"$f":"Table_2[[#This Row],[Column51]]&Table_2[[#This Row],[Column52]]&AW300","v":""}]
[298,null,null,null,null,null,null,null,null,null,null,null,null,null,null,null,null,null,null,null,null,null,"--",0,{"$f":"Table_2[[#This Row],[Column20]]+Table_2[[#This Row],[Column56]]","v":0},"",{"$f":"Table_2[[#This Row],[Column20]]+Table_2[[#This Row],[Column56]]","v":0},"",{"$f":"Table_2[[#This Row],[Column57]]+Table_2[[#This Row],[Column16]]+Table_2[[#This Row],[Column15]]","v":0},"",{"$f":"(K299/Instructions!$C$23)*100","v":0},{"$f":"(L299/Instructions!$C$24)*100","v":0},{"$f":"(Y299/Instructions!$C$25)*100","v":0},{"$f":"(AA299/Instructions!$C$27)*100","v":0},{"$f":"(AC299/Instructions!$C$29)*100","v":0},{"$f":"(V299/Instructions!$C$33)*100","v":0},{"$f":"(U299/Instructions!$C$32)*100","v":0},{"$f":"(W299/Instructions!$C$36)*100","v":{"$error":"#VALUE!"}},"","E","E","E","E","E","E","E","--",null,null,null,null,null,{"$f":"Table_2[[#This Row],[Column51]]&Table_2[[#This Row],[Column52]]&AW301","v":""}]
[299,null,null,null,null,null,null,null,null,null,null,null,null,null,null,null,null,null,null,null,null,null,"--",0,{"$f":"Table_2[[#This Row],[Column20]]+Table_2[[#This Row],[Column56]]","v":0},"",{"$f":"Table_2[[#This Row],[Column20]]+Table_2[[#This Row],[Column56]]","v":0},"",{"$f":"Table_2[[#This Row],[Column57]]+Table_2[[#This Row],[Column16]]+Table_2[[#This Row],[Column15]]","v":0},"",{"$f":"(K300/Instructions!$C$23)*100","v":0},{"$f":"(L300/Instructions!$C$24)*100","v":0},{"$f":"(Y300/Instructions!$C$25)*100","v":0},{"$f":"(AA300/Instructions!$C$27)*100","v":0},{"$f":"(AC300/Instructions!$C$29)*100","v":0},{"$f":"(V300/Instructions!$C$33)*100","v":0},{"$f":"(U300/Instructions!$C$32)*100","v":0},{"$f":"(W300/Instructions!$C$36)*100","v":{"$error":"#VALUE!"}},"","E","E","E","E","E","E","E","--",null,null,null,null,null,{"$f":"Table_2[[#This Row],[Column51]]&Table_2[[#This Row],[Column52]]&AW302","v":""}]
[300,null,null,null,null,null,null,null,null,null,null,null,null,null,null,null,null,null,null,null,null,null,"--",0,{"$f":"Table_2[[#This Row],[Column20]]+Table_2[[#This Row],[Column56]]","v":0},"",{"$f":"Table_2[[#This Row],[Column20]]+Table_2[[#This Row],[Column56]]","v":0},"",{"$f":"Table_2[[#This Row],[Column57]]+Table_2[[#This Row],[Column16]]+Table_2[[#This Row],[Column15]]","v":0},"",{"$f":"(K301/Instructions!$C$23)*100","v":0},{"$f":"(L301/Instructions!$C$24)*100","v":0},{"$f":"(Y301/Instructions!$C$25)*100","v":0},{"$f":"(AA301/Instructions!$C$27)*100","v":0},{"$f":"(AC301/Instructions!$C$29)*100","v":0},{"$f":"(V301/Instructions!$C$33)*100","v":0},{"$f":"(U301/Instructions!$C$32)*100","v":0},{"$f":"(W301/Instructions!$C$36)*100","v":{"$error":"#VALUE!"}},"","E","E","E","E","E","E","E","--",null,null,null,null,null,{"$f":"Table_2[[#This Row],[Column51]]&Table_2[[#This Row],[Column52]]&AW303","v":""}]
[301,null,null,null,null,null,null,null,null,null,null,null,null,null,null,null,null,null,null,null,null,null,"--",0,{"$f":"Table_2[[#This Row],[Column20]]+Table_2[[#This Row],[Column56]]","v":0},"",{"$f":"Table_2[[#This Row],[Column20]]+Table_2[[#This Row],[Column56]]","v":0},"",{"$f":"Table_2[[#This Row],[Column57]]+Table_2[[#This Row],[Column16]]+Table_2[[#This Row],[Column15]]","v":0},"",{"$f":"(K302/Instructions!$C$23)*100","v":0},{"$f":"(L302/Instructions!$C$24)*100","v":0},{"$f":"(Y302/Instructions!$C$25)*100","v":0},{"$f":"(AA302/Instructions!$C$27)*100","v":0},{"$f":"(AC302/Instructions!$C$29)*100","v":0},{"$f":"(V302/Instructions!$C$33)*100","v":0},{"$f":"(U302/Instructions!$C$32)*100","v":0},{"$f":"(W302/Instructions!$C$36)*100","v":{"$error":"#VALUE!"}},"","E","E","E","E","E","E","E","--",null,null,null,null,null,{"$f":"Table_2[[#This Row],[Column51]]&Table_2[[#This Row],[Column52]]&AW304","v":""}]
[302,null,null,null,null,null,null,null,null,null,null,null,null,null,null,null,null,null,null,null,null,null,"--",0,{"$f":"Table_2[[#This Row],[Column20]]+Table_2[[#This Row],[Column56]]","v":0},"",{"$f":"Table_2[[#This Row],[Column20]]+Table_2[[#This Row],[Column56]]","v":0},"",{"$f":"Table_2[[#This Row],[Column57]]+Table_2[[#This Row],[Column16]]+Table_2[[#This Row],[Column15]]","v":0},"",{"$f":"(K303/Instructions!$C$23)*100","v":0},{"$f":"(L303/Instructions!$C$24)*100","v":0},{"$f":"(Y303/Instructions!$C$25)*100","v":0},{"$f":"(AA303/Instructions!$C$27)*100","v":0},{"$f":"(AC303/Instructions!$C$29)*100","v":0},{"$f":"(V303/Instructions!$C$33)*100","v":0},{"$f":"(U303/Instructions!$C$32)*100","v":0},{"$f":"(W303/Instructions!$C$36)*100","v":{"$error":"#VALUE!"}},"","E","E","E","E","E","E","E","--",null,null,null,null,null,{"$f":"Table_2[[#This Row],[Column51]]&Table_2[[#This Row],[Column52]]&AW305","v":""}]
[303,null,null,null,null,null,null,null,null,null,null,null,null,null,null,null,null,null,null,null,null,null,"--",0,{"$f":"Table_2[[#This Row],[Column20]]+Table_2[[#This Row],[Column56]]","v":0},"",{"$f":"Table_2[[#This Row],[Column20]]+Table_2[[#This Row],[Column56]]","v":0},"",{"$f":"Table_2[[#This Row],[Column57]]+Table_2[[#This Row],[Column16]]+Table_2[[#This Row],[Column15]]","v":0},"",{"$f":"(K304/Instructions!$C$23)*100","v":0},{"$f":"(L304/Instructions!$C$24)*100","v":0},{"$f":"(Y304/Instructions!$C$25)*100","v":0},{"$f":"(AA304/Instructions!$C$27)*100","v":0},{"$f":"(AC304/Instructions!$C$29)*100","v":0},{"$f":"(V304/Instructions!$C$33)*100","v":0},{"$f":"(U304/Instructions!$C$32)*100","v":0},{"$f":"(W304/Instructions!$C$36)*100","v":{"$error":"#VALUE!"}},"","E","E","E","E","E","E","E","--",null,null,null,null,null,{"$f":"Table_2[[#This Row],[Column51]]&Table_2[[#This Row],[Column52]]&AW306","v":""}]
[304,null,null,null,null,null,null,null,null,null,null,null,null,null,null,null,null,null,null,null,null,null,"--",0,{"$f":"Table_2[[#This Row],[Column20]]+Table_2[[#This Row],[Column56]]","v":0},"",{"$f":"Table_2[[#This Row],[Column20]]+Table_2[[#This Row],[Column56]]","v":0},"",{"$f":"Table_2[[#This Row],[Column57]]+Table_2[[#This Row],[Column16]]+Table_2[[#This Row],[Column15]]","v":0},"",{"$f":"(K305/Instructions!$C$23)*100","v":0},{"$f":"(L305/Instructions!$C$24)*100","v":0},{"$f":"(Y305/Instructions!$C$25)*100","v":0},{"$f":"(AA305/Instructions!$C$27)*100","v":0},{"$f":"(AC305/Instructions!$C$29)*100","v":0},{"$f":"(V305/Instructions!$C$33)*100","v":0},{"$f":"(U305/Instructions!$C$32)*100","v":0},{"$f":"(W305/Instructions!$C$36)*100","v":{"$error":"#VALUE!"}},"","E","E","E","E","E","E","E","--",null,null,null,null,null,{"$f":"Table_2[[#This Row],[Column51]]&Table_2[[#This Row],[Column52]]&AW307","v":""}]
[305,null,null,null,null,null,null,null,null,null,null,null,null,null,null,null,null,null,null,null,null,null,"--",0,{"$f":"Table_2[[#This Row],[Column20]]+Table_2[[#This Row],[Column56]]","v":0},"",{"$f":"Table_2[[#This Row],[Column20]]+Table_2[[#This Row],[Column56]]","v":0},"",{"$f":"Table_2[[#This Row],[Column57]]+Table_2[[#This Row],[Column16]]+Table_2[[#This Row],[Column15]]","v":0},"",{"$f":"(K306/Instructions!$C$23)*100","v":0},{"$f":"(L306/Instructions!$C$24)*100","v":0},{"$f":"(Y306/Instructions!$C$25)*100","v":0},{"$f":"(AA306/Instructions!$C$27)*100","v":0},{"$f":"(AC306/Instructions!$C$29)*100","v":0},{"$f":"(V306/Instructions!$C$33)*100","v":0},{"$f":"(U306/Instructions!$C$32)*100","v":0},{"$f":"(W306/Instructions!$C$36)*100","v":{"$error":"#VALUE!"}},"","E","E","E","E","E","E","E","--",null,null,null,null,null,{"$f":"Table_2[[#This Row],[Column51]]&Table_2[[#This Row],[Column52]]&AW308","v":""}]
[306,null,null,null,null,null,null,null,null,null,null,null,null,null,null,null,null,null,null,null,null,null,"--",0,{"$f":"Table_2[[#This Row],[Column20]]+Table_2[[#This Row],[Column56]]","v":0},"",{"$f":"Table_2[[#This Row],[Column20]]+Table_2[[#This Row],[Column56]]","v":0},"",{"$f":"Table_2[[#This Row],[Column57]]+Table_2[[#This Row],[Column16]]+Table_2[[#This Row],[Column15]]","v":0},"",{"$f":"(K307/Instructions!$C$23)*100","v":0},{"$f":"(L307/Instructions!$C$24)*100","v":0},{"$f":"(Y307/Instructions!$C$25)*100","v":0},{"$f":"(AA307/Instructions!$C$27)*100","v":0},{"$f":"(AC307/Instructions!$C$29)*100","v":0},{"$f":"(V307/Instructions!$C$33)*100","v":0},{"$f":"(U307/Instructions!$C$32)*100","v":0},{"$f":"(W307/Instructions!$C$36)*100","v":{"$error":"#VALUE!"}},"","E","E","E","E","E","E","E","--",null,null,null,null,null,{"$f":"Table_2[[#This Row],[Column51]]&Table_2[[#This Row],[Column52]]&AW309","v":""}]
[307,null,null,null,null,null,null,null,null,null,null,null,null,null,null,null,null,null,null,null,null,null,"--",0,{"$f":"Table_2[[#This Row],[Column20]]+Table_2[[#This Row],[Column56]]","v":0},"",{"$f":"Table_2[[#This Row],[Column20]]+Table_2[[#This Row],[Column56]]","v":0},"",{"$f":"Table_2[[#This Row],[Column57]]+Table_2[[#This Row],[Column16]]+Table_2[[#This Row],[Column15]]","v":0},"",{"$f":"(K308/Instructions!$C$23)*100","v":0},{"$f":"(L308/Instructions!$C$24)*100","v":0},{"$f":"(Y308/Instructions!$C$25)*100","v":0},{"$f":"(AA308/Instructions!$C$27)*100","v":0},{"$f":"(AC308/Instructions!$C$29)*100","v":0},{"$f":"(V308/Instructions!$C$33)*100","v":0},{"$f":"(U308/Instructions!$C$32)*100","v":0},{"$f":"(W308/Instructions!$C$36)*100","v":{"$error":"#VALUE!"}},"","E","E","E","E","E","E","E","--",null,null,null,null,null,{"$f":"Table_2[[#This Row],[Column51]]&Table_2[[#This Row],[Column52]]&AW310","v":""}]
[308,null,null,null,null,null,null,null,null,null,null,null,null,null,null,null,null,null,null,null,null,null,"--",0,{"$f":"Table_2[[#This Row],[Column20]]+Table_2[[#This Row],[Column56]]","v":0},"",{"$f":"Table_2[[#This Row],[Column20]]+Table_2[[#This Row],[Column56]]","v":0},"",{"$f":"Table_2[[#This Row],[Column57]]+Table_2[[#This Row],[Column16]]+Table_2[[#This Row],[Column15]]","v":0},"",{"$f":"(K309/Instructions!$C$23)*100","v":0},{"$f":"(L309/Instructions!$C$24)*100","v":0},{"$f":"(Y309/Instructions!$C$25)*100","v":0},{"$f":"(AA309/Instructions!$C$27)*100","v":0},{"$f":"(AC309/Instructions!$C$29)*100","v":0},{"$f":"(V309/Instructions!$C$33)*100","v":0},{"$f":"(U309/Instructions!$C$32)*100","v":0},{"$f":"(W309/Instructions!$C$36)*100","v":{"$error":"#VALUE!"}},"","E","E","E","E","E","E","E","--",null,null,null,null,null,{"$f":"Table_2[[#This Row],[Column51]]&Table_2[[#This Row],[Column52]]&AW311","v":""}]
[309,null,null,null,null,null,null,null,null,null,null,null,null,null,null,null,null,null,null,null,null,null,"--",0,{"$f":"Table_2[[#This Row],[Column20]]+Table_2[[#This Row],[Column56]]","v":0},"",{"$f":"Table_2[[#This Row],[Column20]]+Table_2[[#This Row],[Column56]]","v":0},"",{"$f":"Table_2[[#This Row],[Column57]]+Table_2[[#This Row],[Column16]]+Table_2[[#This Row],[Column15]]","v":0},"",{"$f":"(K310/Instructions!$C$23)*100","v":0},{"$f":"(L310/Instructions!$C$24)*100","v":0},{"$f":"(Y310/Instructions!$C$25)*100","v":0},{"$f":"(AA310/Instructions!$C$27)*100","v":0},{"$f":"(AC310/Instructions!$C$29)*100","v":0},{"$f":"(V310/Instructions!$C$33)*100","v":0},{"$f":"(U310/Instructions!$C$32)*100","v":0},{"$f":"(W310/Instructions!$C$36)*100","v":{"$error":"#VALUE!"}},"","E","E","E","E","E","E","E","--",null,null,null,null,null,{"$f":"Table_2[[#This Row],[Column51]]&Table_2[[#This Row],[Column52]]&AW312","v":""}]
[310,null,null,null,null,null,null,null,null,null,null,null,null,null,null,null,null,null,null,null,null,null,"--",0,{"$f":"Table_2[[#This Row],[Column20]]+Table_2[[#This Row],[Column56]]","v":0},"",{"$f":"Table_2[[#This Row],[Column20]]+Table_2[[#This Row],[Column56]]","v":0},"",{"$f":"Table_2[[#This Row],[Column57]]+Table_2[[#This Row],[Column16]]+Table_2[[#This Row],[Column15]]","v":0},"",{"$f":"(K311/Instructions!$C$23)*100","v":0},{"$f":"(L311/Instructions!$C$24)*100","v":0},{"$f":"(Y311/Instructions!$C$25)*100","v":0},{"$f":"(AA311/Instructions!$C$27)*100","v":0},{"$f":"(AC311/Instructions!$C$29)*100","v":0},{"$f":"(V311/Instructions!$C$33)*100","v":0},{"$f":"(U311/Instructions!$C$32)*100","v":0},{"$f":"(W311/Instructions!$C$36)*100","v":{"$error":"#VALUE!"}},"","E","E","E","E","E","E","E","--",null,null,null,null,null,{"$f":"Table_2[[#This Row],[Column51]]&Table_2[[#This Row],[Column52]]&AW313","v":""}]
[311,null,null,null,null,null,null,null,null,null,null,null,null,null,null,null,null,null,null,null,null,null,"--",0,{"$f":"Table_2[[#This Row],[Column20]]+Table_2[[#This Row],[Column56]]","v":0},"",{"$f":"Table_2[[#This Row],[Column20]]+Table_2[[#This Row],[Column56]]","v":0},"",{"$f":"Table_2[[#This Row],[Column57]]+Table_2[[#This Row],[Column16]]+Table_2[[#This Row],[Column15]]","v":0},"",{"$f":"(K312/Instructions!$C$23)*100","v":0},{"$f":"(L312/Instructions!$C$24)*100","v":0},{"$f":"(Y312/Instructions!$C$25)*100","v":0},{"$f":"(AA312/Instructions!$C$27)*100","v":0},{"$f":"(AC312/Instructions!$C$29)*100","v":0},{"$f":"(V312/Instructions!$C$33)*100","v":0},{"$f":"(U312/Instructions!$C$32)*100","v":0},{"$f":"(W312/Instructions!$C$36)*100","v":{"$error":"#VALUE!"}},"","E","E","E","E","E","E","E","--",null,null,null,null,null,{"$f":"Table_2[[#This Row],[Column51]]&Table_2[[#This Row],[Column52]]&AW314","v":""}]
[312,null,null,null,null,null,null,null,null,null,null,null,null,null,null,null,null,null,null,null,null,null,"--",0,{"$f":"Table_2[[#This Row],[Column20]]+Table_2[[#This Row],[Column56]]","v":0},"",{"$f":"Table_2[[#This Row],[Column20]]+Table_2[[#This Row],[Column56]]","v":0},"",{"$f":"Table_2[[#This Row],[Column57]]+Table_2[[#This Row],[Column16]]+Table_2[[#This Row],[Column15]]","v":0},"",{"$f":"(K313/Instructions!$C$23)*100","v":0},{"$f":"(L313/Instructions!$C$24)*100","v":0},{"$f":"(Y313/Instructions!$C$25)*100","v":0},{"$f":"(AA313/Instructions!$C$27)*100","v":0},{"$f":"(AC313/Instructions!$C$29)*100","v":0},{"$f":"(V313/Instructions!$C$33)*100","v":0},{"$f":"(U313/Instructions!$C$32)*100","v":0},{"$f":"(W313/Instructions!$C$36)*100","v":{"$error":"#VALUE!"}},"","E","E","E","E","E","E","E","--",null,null,null,null,null,{"$f":"Table_2[[#This Row],[Column51]]&Table_2[[#This Row],[Column52]]&AW315","v":""}]
[313,null,null,null,null,null,null,null,null,null,null,null,null,null,null,null,null,null,null,null,null,null,"--",0,{"$f":"Table_2[[#This Row],[Column20]]+Table_2[[#This Row],[Column56]]","v":0},"",{"$f":"Table_2[[#This Row],[Column20]]+Table_2[[#This Row],[Column56]]","v":0},"",{"$f":"Table_2[[#This Row],[Column57]]+Table_2[[#This Row],[Column16]]+Table_2[[#This Row],[Column15]]","v":0},"",{"$f":"(K314/Instructions!$C$23)*100","v":0},{"$f":"(L314/Instructions!$C$24)*100","v":0},{"$f":"(Y314/Instructions!$C$25)*100","v":0},{"$f":"(AA314/Instructions!$C$27)*100","v":0},{"$f":"(AC314/Instructions!$C$29)*100","v":0},{"$f":"(V314/Instructions!$C$33)*100","v":0},{"$f":"(U314/Instructions!$C$32)*100","v":0},{"$f":"(W314/Instructions!$C$36)*100","v":{"$error":"#VALUE!"}},"","E","E","E","E","E","E","E","--",null,null,null,null,null,{"$f":"Table_2[[#This Row],[Column51]]&Table_2[[#This Row],[Column52]]&AW316","v":""}]
[314,null,null,null,null,null,null,null,null,null,null,null,null,null,null,null,null,null,null,null,null,null,"--",0,{"$f":"Table_2[[#This Row],[Column20]]+Table_2[[#This Row],[Column56]]","v":0},"",{"$f":"Table_2[[#This Row],[Column20]]+Table_2[[#This Row],[Column56]]","v":0},"",{"$f":"Table_2[[#This Row],[Column57]]+Table_2[[#This Row],[Column16]]+Table_2[[#This Row],[Column15]]","v":0},"",{"$f":"(K315/Instructions!$C$23)*100","v":0},{"$f":"(L315/Instructions!$C$24)*100","v":0},{"$f":"(Y315/Instructions!$C$25)*100","v":0},{"$f":"(AA315/Instructions!$C$27)*100","v":0},{"$f":"(AC315/Instructions!$C$29)*100","v":0},{"$f":"(V315/Instructions!$C$33)*100","v":0},{"$f":"(U315/Instructions!$C$32)*100","v":0},{"$f":"(W315/Instructions!$C$36)*100","v":{"$error":"#VALUE!"}},"","E","E","E","E","E","E","E","--",null,null,null,null,null,{"$f":"Table_2[[#This Row],[Column51]]&Table_2[[#This Row],[Column52]]&AW317","v":""}]
[315,null,null,null,null,null,null,null,null,null,null,null,null,null,null,null,null,null,null,null,null,null,"--",0,{"$f":"Table_2[[#This Row],[Column20]]+Table_2[[#This Row],[Column56]]","v":0},"",{"$f":"Table_2[[#This Row],[Column20]]+Table_2[[#This Row],[Column56]]","v":0},"",{"$f":"Table_2[[#This Row],[Column57]]+Table_2[[#This Row],[Column16]]+Table_2[[#This Row],[Column15]]","v":0},"",{"$f":"(K316/Instructions!$C$23)*100","v":0},{"$f":"(L316/Instructions!$C$24)*100","v":0},{"$f":"(Y316/Instructions!$C$25)*100","v":0},{"$f":"(AA316/Instructions!$C$27)*100","v":0},{"$f":"(AC316/Instructions!$C$29)*100","v":0},{"$f":"(V316/Instructions!$C$33)*100","v":0},{"$f":"(U316/Instructions!$C$32)*100","v":0},{"$f":"(W316/Instructions!$C$36)*100","v":{"$error":"#VALUE!"}},"","E","E","E","E","E","E","E","--",null,null,null,null,null,{"$f":"Table_2[[#This Row],[Column51]]&Table_2[[#This Row],[Column52]]&AW318","v":""}]
[316,null,null,null,null,null,null,null,null,null,null,null,null,null,null,null,null,null,null,null,null,null,"--",0,{"$f":"Table_2[[#This Row],[Column20]]+Table_2[[#This Row],[Column56]]","v":0},"",{"$f":"Table_2[[#This Row],[Column20]]+Table_2[[#This Row],[Column56]]","v":0},"",{"$f":"Table_2[[#This Row],[Column57]]+Table_2[[#This Row],[Column16]]+Table_2[[#This Row],[Column15]]","v":0},"",{"$f":"(K317/Instructions!$C$23)*100","v":0},{"$f":"(L317/Instructions!$C$24)*100","v":0},{"$f":"(Y317/Instructions!$C$25)*100","v":0},{"$f":"(AA317/Instructions!$C$27)*100","v":0},{"$f":"(AC317/Instructions!$C$29)*100","v":0},{"$f":"(V317/Instructions!$C$33)*100","v":0},{"$f":"(U317/Instructions!$C$32)*100","v":0},{"$f":"(W317/Instructions!$C$36)*100","v":{"$error":"#VALUE!"}},"","E","E","E","E","E","E","E","--",null,null,null,null,null,{"$f":"Table_2[[#This Row],[Column51]]&Table_2[[#This Row],[Column52]]&AW319","v":""}]
[317,null,null,null,null,null,null,null,null,null,null,null,null,null,null,null,null,null,null,null,null,null,"--",0,{"$f":"Table_2[[#This Row],[Column20]]+Table_2[[#This Row],[Column56]]","v":0},"",{"$f":"Table_2[[#This Row],[Column20]]+Table_2[[#This Row],[Column56]]","v":0},"",{"$f":"Table_2[[#This Row],[Column57]]+Table_2[[#This Row],[Column16]]+Table_2[[#This Row],[Column15]]","v":0},"",{"$f":"(K318/Instructions!$C$23)*100","v":0},{"$f":"(L318/Instructions!$C$24)*100","v":0},{"$f":"(Y318/Instructions!$C$25)*100","v":0},{"$f":"(AA318/Instructions!$C$27)*100","v":0},{"$f":"(AC318/Instructions!$C$29)*100","v":0},{"$f":"(V318/Instructions!$C$33)*100","v":0},{"$f":"(U318/Instructions!$C$32)*100","v":0},{"$f":"(W318/Instructions!$C$36)*100","v":{"$error":"#VALUE!"}},"","E","E","E","E","E","E","E","--",null,null,null,null,null,{"$f":"Table_2[[#This Row],[Column51]]&Table_2[[#This Row],[Column52]]&AW320","v":""}]
[318,null,null,null,null,null,null,null,null,null,null,null,null,null,null,null,null,null,null,null,null,null,"--",0,{"$f":"Table_2[[#This Row],[Column20]]+Table_2[[#This Row],[Column56]]","v":0},"",{"$f":"Table_2[[#This Row],[Column20]]+Table_2[[#This Row],[Column56]]","v":0},"",{"$f":"Table_2[[#This Row],[Column57]]+Table_2[[#This Row],[Column16]]+Table_2[[#This Row],[Column15]]","v":0},"",{"$f":"(K319/Instructions!$C$23)*100","v":0},{"$f":"(L319/Instructions!$C$24)*100","v":0},{"$f":"(Y319/Instructions!$C$25)*100","v":0},{"$f":"(AA319/Instructions!$C$27)*100","v":0},{"$f":"(AC319/Instructions!$C$29)*100","v":0},{"$f":"(V319/Instructions!$C$33)*100","v":0},{"$f":"(U319/Instructions!$C$32)*100","v":0},{"$f":"(W319/Instructions!$C$36)*100","v":{"$error":"#VALUE!"}},"","E","E","E","E","E","E","E","--",null,null,null,null,null,{"$f":"Table_2[[#This Row],[Column51]]&Table_2[[#This Row],[Column52]]&AW321","v":""}]
[319,null,null,null,null,null,null,null,null,null,null,null,null,null,null,null,null,null,null,null,null,null,"--",0,{"$f":"Table_2[[#This Row],[Column20]]+Table_2[[#This Row],[Column56]]","v":0},"",{"$f":"Table_2[[#This Row],[Column20]]+Table_2[[#This Row],[Column56]]","v":0},"",{"$f":"Table_2[[#This Row],[Column57]]+Table_2[[#This Row],[Column16]]+Table_2[[#This Row],[Column15]]","v":0},"",{"$f":"(K320/Instructions!$C$23)*100","v":0},{"$f":"(L320/Instructions!$C$24)*100","v":0},{"$f":"(Y320/Instructions!$C$25)*100","v":0},{"$f":"(AA320/Instructions!$C$27)*100","v":0},{"$f":"(AC320/Instructions!$C$29)*100","v":0},{"$f":"(V320/Instructions!$C$33)*100","v":0},{"$f":"(U320/Instructions!$C$32)*100","v":0},{"$f":"(W320/Instructions!$C$36)*100","v":{"$error":"#VALUE!"}},"","E","E","E","E","E","E","E","--",null,null,null,null,null,{"$f":"Table_2[[#This Row],[Column51]]&Table_2[[#This Row],[Column52]]&AW322","v":""}]
[320,null,null,null,null,null,null,null,null,null,null,null,null,null,null,null,null,null,null,null,null,null,"--",0,{"$f":"Table_2[[#This Row],[Column20]]+Table_2[[#This Row],[Column56]]","v":0},"",{"$f":"Table_2[[#This Row],[Column20]]+Table_2[[#This Row],[Column56]]","v":0},"",{"$f":"Table_2[[#This Row],[Column57]]+Table_2[[#This Row],[Column16]]+Table_2[[#This Row],[Column15]]","v":0},"",{"$f":"(K321/Instructions!$C$23)*100","v":0},{"$f":"(L321/Instructions!$C$24)*100","v":0},{"$f":"(Y321/Instructions!$C$25)*100","v":0},{"$f":"(AA321/Instructions!$C$27)*100","v":0},{"$f":"(AC321/Instructions!$C$29)*100","v":0},{"$f":"(V321/Instructions!$C$33)*100","v":0},{"$f":"(U321/Instructions!$C$32)*100","v":0},{"$f":"(W321/Instructions!$C$36)*100","v":{"$error":"#VALUE!"}},"","E","E","E","E","E","E","E","--",null,null,null,null,null,{"$f":"Table_2[[#This Row],[Column51]]&Table_2[[#This Row],[Column52]]&AW323","v":""}]
[321,null,null,null,null,null,null,null,null,null,null,null,null,null,null,null,null,null,null,null,null,null,"--",0,{"$f":"Table_2[[#This Row],[Column20]]+Table_2[[#This Row],[Column56]]","v":0},"",{"$f":"Table_2[[#This Row],[Column20]]+Table_2[[#This Row],[Column56]]","v":0},"",{"$f":"Table_2[[#This Row],[Column57]]+Table_2[[#This Row],[Column16]]+Table_2[[#This Row],[Column15]]","v":0},"",{"$f":"(K322/Instructions!$C$23)*100","v":0},{"$f":"(L322/Instructions!$C$24)*100","v":0},{"$f":"(Y322/Instructions!$C$25)*100","v":0},{"$f":"(AA322/Instructions!$C$27)*100","v":0},{"$f":"(AC322/Instructions!$C$29)*100","v":0},{"$f":"(V322/Instructions!$C$33)*100","v":0},{"$f":"(U322/Instructions!$C$32)*100","v":0},{"$f":"(W322/Instructions!$C$36)*100","v":{"$error":"#VALUE!"}},"","E","E","E","E","E","E","E","--",null,null,null,null,null,{"$f":"Table_2[[#This Row],[Column51]]&Table_2[[#This Row],[Column52]]&AW324","v":""}]
[322,null,null,null,null,null,null,null,null,null,null,null,null,null,null,null,null,null,null,null,null,null,{"$f":"IF(MIN(AE323:AI323)>=33,SUM(K323:T323),\"--\")","v":"--"},{"$f":"IF(W323=\"--\",0,W323)","v":0},{"$f":"Table_2[[#This Row],[Column20]]+Table_2[[#This Row],[Column56]]","v":0},{"$f":"IF(N323>0,$N$1,IF(O323>0,$O$1,\"\"))","v":""},{"$f":"Table_2[[#This Row],[Column20]]+Table_2[[#This Row],[Column56]]","v":0},{"$f":"IFERROR(IF(P323>0,$P$1,IF(Q323>0,$Q$1,\"\")),\"\")","v":""},{"$f":"Table_2[[#This Row],[Column57]]+Table_2[[#This Row],[Column16]]+Table_2[[#This Row],[Column15]]","v":0},{"$f":"IFERROR(IF(R323>0,$R$1,IF(S323>0,$S$1,IF(T323>0,$T$1,\"\"))),\"\")","v":""},{"$f":"(K323/Instructions!$C$23)*100","v":0},{"$f":"(L323/Instructions!$C$24)*100","v":0},{"$f":"(Y323/Instructions!$C$25)*100","v":0},{"$f":"(AA323/Instructions!$C$27)*100","v":0},{"$f":"(AC323/Instructions!$C$29)*100","v":0},{"$f":"(V323/Instructions!$C$33)*100","v":0},{"$f":"(U323/Instructions!$C$32)*100","v":0},{"$f":"(W323/Instructions!$C$36)*100","v":{"$error":"#VALUE!"}},{"$f":"IFERROR(IF(AL323>=33,\"PASS\",\"----\"),\"\")","v":""},{"$f":"IFERROR(IF(AE323>90,\"A+\",IF(AE323>80,\"A\",IF(AE323>70,\"B+\",IF(AE323>60,\"B\",IF(AE323>50,\"C+\",IF(AE323>40,\"C\",IF(AE323>=33,\"D\",\"E\"))))))),\"Abs\")","v":"E"},{"$f":"IFERROR(IF(AF323>90,\"A+\",IF(AF323>80,\"A\",IF(AF323>70,\"B+\",IF(AF323>60,\"B\",IF(AF323>50,\"C+\",IF(AF323>40,\"C\",IF(AF323>=33,\"D\",\"E\"))))))),\"Abs\")","v":"E"},{"$f":"IFERROR(IF(AG323>90,\"A+\",IF(AG323>80,\"A\",IF(AG323>70,\"B+\",IF(AG323>60,\"B\",IF(AG323>50,\"C+\",IF(AG323>40,\"C\",IF(AG323>=33,\"D\",\"E\"))))))),\"Abs\")","v":"E"},{"$f":"IFERROR(IF(AH323>90,\"A+\",IF(AH323>80,\"A\",IF(AH323>70,\"B+\",IF(AH323>60,\"B\",IF(AH323>50,\"C+\",IF(AH323>40,\"C\",IF(AH323>=33,\"D\",\"E\"))))))),\"Abs\")","v":"E"},{"$f":"IFERROR(IF(AI323>90,\"A+\",IF(AI323>80,\"A\",IF(AI323>70,\"B+\",IF(AI323>60,\"B\",IF(AI323>50,\"C+\",IF(AI323>40,\"C\",IF(AI323>=33,\"D\",\"E\"))))))),\"Abs\")","v":"E"},{"$f":"IFERROR(IF(AJ323>90,\"A+\",IF(AJ323>80,\"A\",IF(AJ323>70,\"B+\",IF(AJ323>60,\"B\",IF(AJ323>50,\"C+\",IF(AJ323>40,\"C\",IF(AJ323>=33,\"D\",\"E\"))))))),\"Abs\")","v":"E"},{"$f":"IFERROR(IF(AK323>90,\"A+\",IF(AK323>80,\"A\",IF(AK323>70,\"B+\",IF(AK323>60,\"B\",IF(AK323>50,\"C+\",IF(AK323>40,\"C\",IF(AK323>=33,\"D\",\"E\"))))))),\"Abs\")","v":"E"},{"$f":"IFERROR(IF(AL323>90,\"A+\",IF(AL323>80,\"A\",IF(AL323>70,\"B+\",IF(AL323>60,\"B\",IF(AL323>50,\"C+\",IF(AL323>40,\"C\",IF(AL323>=33,\"D\",\"E\"))))))),\"--\")","v":"--"},null,null,null,null,null,{"$f":"Table_2[[#This Row],[Column51]]&Table_2[[#This Row],[Column52]]&AW325","v":""}]
[323,null,null,null,null,null,null,null,null,null,null,null,null,null,null,null,null,null,null,null,null,null,"--",0,{"$f":"Table_2[[#This Row],[Column20]]+Table_2[[#This Row],[Column56]]","v":0},"",{"$f":"Table_2[[#This Row],[Column20]]+Table_2[[#This Row],[Column56]]","v":0},"",{"$f":"Table_2[[#This Row],[Column57]]+Table_2[[#This Row],[Column16]]+Table_2[[#This Row],[Column15]]","v":0},"",{"$f":"(K324/Instructions!$C$23)*100","v":0},{"$f":"(L324/Instructions!$C$24)*100","v":0},{"$f":"(Y324/Instructions!$C$25)*100","v":0},{"$f":"(AA324/Instructions!$C$27)*100","v":0},{"$f":"(AC324/Instructions!$C$29)*100","v":0},{"$f":"(V324/Instructions!$C$33)*100","v":0},{"$f":"(U324/Instructions!$C$32)*100","v":0},{"$f":"(W324/Instructions!$C$36)*100","v":{"$error":"#VALUE!"}},"","E","E","E","E","E","E","E","--",null,null,null,null,null,{"$f":"Table_2[[#This Row],[Column51]]&Table_2[[#This Row],[Column52]]&AW326","v":""}]
[324,null,null,null,null,null,null,null,null,null,null,null,null,null,null,null,null,null,null,null,null,null,"--",0,{"$f":"Table_2[[#This Row],[Column20]]+Table_2[[#This Row],[Column56]]","v":0},"",{"$f":"Table_2[[#This Row],[Column20]]+Table_2[[#This Row],[Column56]]","v":0},"",{"$f":"Table_2[[#This Row],[Column57]]+Table_2[[#This Row],[Column16]]+Table_2[[#This Row],[Column15]]","v":0},"",{"$f":"(K325/Instructions!$C$23)*100","v":0},{"$f":"(L325/Instructions!$C$24)*100","v":0},{"$f":"(Y325/Instructions!$C$25)*100","v":0},{"$f":"(AA325/Instructions!$C$27)*100","v":0},{"$f":"(AC325/Instructions!$C$29)*100","v":0},{"$f":"(V325/Instructions!$C$33)*100","v":0},{"$f":"(U325/Instructions!$C$32)*100","v":0},{"$f":"(W325/Instructions!$C$36)*100","v":{"$error":"#VALUE!"}},"","E","E","E","E","E","E","E","--",null,null,null,null,null,{"$f":"Table_2[[#This Row],[Column51]]&Table_2[[#This Row],[Column52]]&AW327","v":""}]
[325,null,null,null,null,null,null,null,null,null,null,null,null,null,null,null,null,null,null,null,null,null,"--",0,{"$f":"Table_2[[#This Row],[Column20]]+Table_2[[#This Row],[Column56]]","v":0},"",{"$f":"Table_2[[#This Row],[Column20]]+Table_2[[#This Row],[Column56]]","v":0},"",{"$f":"Table_2[[#This Row],[Column57]]+Table_2[[#This Row],[Column16]]+Table_2[[#This Row],[Column15]]","v":0},"",{"$f":"(K326/Instructions!$C$23)*100","v":0},{"$f":"(L326/Instructions!$C$24)*100","v":0},{"$f":"(Y326/Instructions!$C$25)*100","v":0},{"$f":"(AA326/Instructions!$C$27)*100","v":0},{"$f":"(AC326/Instructions!$C$29)*100","v":0},{"$f":"(V326/Instructions!$C$33)*100","v":0},{"$f":"(U326/Instructions!$C$32)*100","v":0},{"$f":"(W326/Instructions!$C$36)*100","v":{"$error":"#VALUE!"}},"","E","E","E","E","E","E","E","--",null,null,null,null,null,{"$f":"Table_2[[#This Row],[Column51]]&Table_2[[#This Row],[Column52]]&AW328","v":""}]
[326,null,null,null,null,null,null,null,null,null,null,null,null,null,null,null,null,null,null,null,null,null,"--",0,{"$f":"Table_2[[#This Row],[Column20]]+Table_2[[#This Row],[Column56]]","v":0},"",{"$f":"Table_2[[#This Row],[Column20]]+Table_2[[#This Row],[Column56]]","v":0},"",{"$f":"Table_2[[#This Row],[Column57]]+Table_2[[#This Row],[Column16]]+Table_2[[#This Row],[Column15]]","v":0},"",{"$f":"(K327/Instructions!$C$23)*100","v":0},{"$f":"(L327/Instructions!$C$24)*100","v":0},{"$f":"(Y327/Instructions!$C$25)*100","v":0},{"$f":"(AA327/Instructions!$C$27)*100","v":0},{"$f":"(AC327/Instructions!$C$29)*100","v":0},{"$f":"(V327/Instructions!$C$33)*100","v":0},{"$f":"(U327/Instructions!$C$32)*100","v":0},{"$f":"(W327/Instructions!$C$36)*100","v":{"$error":"#VALUE!"}},"","E","E","E","E","E","E","E","--",null,null,null,null,null,{"$f":"Table_2[[#This Row],[Column51]]&Table_2[[#This Row],[Column52]]&AW329","v":""}]
[327,null,null,null,null,null,null,null,null,null,null,null,null,null,null,null,null,null,null,null,null,null,"--",0,{"$f":"Table_2[[#This Row],[Column20]]+Table_2[[#This Row],[Column56]]","v":0},"",{"$f":"Table_2[[#This Row],[Column20]]+Table_2[[#This Row],[Column56]]","v":0},"",{"$f":"Table_2[[#This Row],[Column57]]+Table_2[[#This Row],[Column16]]+Table_2[[#This Row],[Column15]]","v":0},"",{"$f":"(K328/Instructions!$C$23)*100","v":0},{"$f":"(L328/Instructions!$C$24)*100","v":0},{"$f":"(Y328/Instructions!$C$25)*100","v":0},{"$f":"(AA328/Instructions!$C$27)*100","v":0},{"$f":"(AC328/Instructions!$C$29)*100","v":0},{"$f":"(V328/Instructions!$C$33)*100","v":0},{"$f":"(U328/Instructions!$C$32)*100","v":0},{"$f":"(W328/Instructions!$C$36)*100","v":{"$error":"#VALUE!"}},"","E","E","E","E","E","E","E","--",null,null,null,null,null,{"$f":"Table_2[[#This Row],[Column51]]&Table_2[[#This Row],[Column52]]&AW330","v":""}]
[328,null,null,null,null,null,null,null,null,null,null,null,null,null,null,null,null,null,null,null,null,null,"--",0,{"$f":"Table_2[[#This Row],[Column20]]+Table_2[[#This Row],[Column56]]","v":0},"",{"$f":"Table_2[[#This Row],[Column20]]+Table_2[[#This Row],[Column56]]","v":0},"",{"$f":"Table_2[[#This Row],[Column57]]+Table_2[[#This Row],[Column16]]+Table_2[[#This Row],[Column15]]","v":0},"",{"$f":"(K329/Instructions!$C$23)*100","v":0},{"$f":"(L329/Instructions!$C$24)*100","v":0},{"$f":"(Y329/Instructions!$C$25)*100","v":0},{"$f":"(AA329/Instructions!$C$27)*100","v":0},{"$f":"(AC329/Instructions!$C$29)*100","v":0},{"$f":"(V329/Instructions!$C$33)*100","v":0},{"$f":"(U329/Instructions!$C$32)*100","v":0},{"$f":"(W329/Instructions!$C$36)*100","v":{"$error":"#VALUE!"}},"","E","E","E","E","E","E","E","--",null,null,null,null,null,{"$f":"Table_2[[#This Row],[Column51]]&Table_2[[#This Row],[Column52]]&AW331","v":""}]
[329,null,null,null,null,null,null,null,null,null,null,null,null,null,null,null,null,null,null,null,null,null,"--",0,{"$f":"Table_2[[#This Row],[Column20]]+Table_2[[#This Row],[Column56]]","v":0},"",{"$f":"Table_2[[#This Row],[Column20]]+Table_2[[#This Row],[Column56]]","v":0},"",{"$f":"Table_2[[#This Row],[Column57]]+Table_2[[#This Row],[Column16]]+Table_2[[#This Row],[Column15]]","v":0},"",{"$f":"(K330/Instructions!$C$23)*100","v":0},{"$f":"(L330/Instructions!$C$24)*100","v":0},{"$f":"(Y330/Instructions!$C$25)*100","v":0},{"$f":"(AA330/Instructions!$C$27)*100","v":0},{"$f":"(AC330/Instructions!$C$29)*100","v":0},{"$f":"(V330/Instructions!$C$33)*100","v":0},{"$f":"(U330/Instructions!$C$32)*100","v":0},{"$f":"(W330/Instructions!$C$36)*100","v":{"$error":"#VALUE!"}},"","E","E","E","E","E","E","E","--",null,null,null,null,null,{"$f":"Table_2[[#This Row],[Column51]]&Table_2[[#This Row],[Column52]]&AW332","v":""}]
[330,null,null,null,null,null,null,null,null,null,null,null,null,null,null,null,null,null,null,null,null,null,"--",0,{"$f":"Table_2[[#This Row],[Column20]]+Table_2[[#This Row],[Column56]]","v":0},"",{"$f":"Table_2[[#This Row],[Column20]]+Table_2[[#This Row],[Column56]]","v":0},"",{"$f":"Table_2[[#This Row],[Column57]]+Table_2[[#This Row],[Column16]]+Table_2[[#This Row],[Column15]]","v":0},"",{"$f":"(K331/Instructions!$C$23)*100","v":0},{"$f":"(L331/Instructions!$C$24)*100","v":0},{"$f":"(Y331/Instructions!$C$25)*100","v":0},{"$f":"(AA331/Instructions!$C$27)*100","v":0},{"$f":"(AC331/Instructions!$C$29)*100","v":0},{"$f":"(V331/Instructions!$C$33)*100","v":0},{"$f":"(U331/Instructions!$C$32)*100","v":0},{"$f":"(W331/Instructions!$C$36)*100","v":{"$error":"#VALUE!"}},"","E","E","E","E","E","E","E","--",null,null,null,null,null,{"$f":"Table_2[[#This Row],[Column51]]&Table_2[[#This Row],[Column52]]&AW333","v":""}]
[331,null,null,null,null,null,null,null,null,null,null,null,null,null,null,null,null,null,null,null,null,null,"--",0,{"$f":"Table_2[[#This Row],[Column20]]+Table_2[[#This Row],[Column56]]","v":0},"",{"$f":"Table_2[[#This Row],[Column20]]+Table_2[[#This Row],[Column56]]","v":0},"",{"$f":"Table_2[[#This Row],[Column57]]+Table_2[[#This Row],[Column16]]+Table_2[[#This Row],[Column15]]","v":0},"",{"$f":"(K332/Instructions!$C$23)*100","v":0},{"$f":"(L332/Instructions!$C$24)*100","v":0},{"$f":"(Y332/Instructions!$C$25)*100","v":0},{"$f":"(AA332/Instructions!$C$27)*100","v":0},{"$f":"(AC332/Instructions!$C$29)*100","v":0},{"$f":"(V332/Instructions!$C$33)*100","v":0},{"$f":"(U332/Instructions!$C$32)*100","v":0},{"$f":"(W332/Instructions!$C$36)*100","v":{"$error":"#VALUE!"}},"","E","E","E","E","E","E","E","--",null,null,null,null,null,{"$f":"Table_2[[#This Row],[Column51]]&Table_2[[#This Row],[Column52]]&AW334","v":""}]
[332,null,null,null,null,null,null,null,null,null,null,null,null,null,null,null,null,null,null,null,null,null,"--",0,{"$f":"Table_2[[#This Row],[Column20]]+Table_2[[#This Row],[Column56]]","v":0},"",{"$f":"Table_2[[#This Row],[Column20]]+Table_2[[#This Row],[Column56]]","v":0},"",{"$f":"Table_2[[#This Row],[Column57]]+Table_2[[#This Row],[Column16]]+Table_2[[#This Row],[Column15]]","v":0},"",{"$f":"(K333/Instructions!$C$23)*100","v":0},{"$f":"(L333/Instructions!$C$24)*100","v":0},{"$f":"(Y333/Instructions!$C$25)*100","v":0},{"$f":"(AA333/Instructions!$C$27)*100","v":0},{"$f":"(AC333/Instructions!$C$29)*100","v":0},{"$f":"(V333/Instructions!$C$33)*100","v":0},{"$f":"(U333/Instructions!$C$32)*100","v":0},{"$f":"(W333/Instructions!$C$36)*100","v":{"$error":"#VALUE!"}},"","E","E","E","E","E","E","E","--",null,null,null,null,null,{"$f":"Table_2[[#This Row],[Column51]]&Table_2[[#This Row],[Column52]]&AW335","v":""}]
[333,null,null,null,null,null,null,null,null,null,null,null,null,null,null,null,null,null,null,null,null,null,"--",0,{"$f":"Table_2[[#This Row],[Column20]]+Table_2[[#This Row],[Column56]]","v":0},"",{"$f":"Table_2[[#This Row],[Column20]]+Table_2[[#This Row],[Column56]]","v":0},"",{"$f":"Table_2[[#This Row],[Column57]]+Table_2[[#This Row],[Column16]]+Table_2[[#This Row],[Column15]]","v":0},"",{"$f":"(K334/Instructions!$C$23)*100","v":0},{"$f":"(L334/Instructions!$C$24)*100","v":0},{"$f":"(Y334/Instructions!$C$25)*100","v":0},{"$f":"(AA334/Instructions!$C$27)*100","v":0},{"$f":"(AC334/Instructions!$C$29)*100","v":0},{"$f":"(V334/Instructions!$C$33)*100","v":0},{"$f":"(U334/Instructions!$C$32)*100","v":0},{"$f":"(W334/Instructions!$C$36)*100","v":{"$error":"#VALUE!"}},"","E","E","E","E","E","E","E","--",null,null,null,null,null,{"$f":"Table_2[[#This Row],[Column51]]&Table_2[[#This Row],[Column52]]&AW336","v":""}]
[334,null,null,null,null,null,null,null,null,null,null,null,null,null,null,null,null,null,null,null,null,null,"--",0,{"$f":"Table_2[[#This Row],[Column20]]+Table_2[[#This Row],[Column56]]","v":0},"",{"$f":"Table_2[[#This Row],[Column20]]+Table_2[[#This Row],[Column56]]","v":0},"",{"$f":"Table_2[[#This Row],[Column57]]+Table_2[[#This Row],[Column16]]+Table_2[[#This Row],[Column15]]","v":0},"",{"$f":"(K335/Instructions!$C$23)*100","v":0},{"$f":"(L335/Instructions!$C$24)*100","v":0},{"$f":"(Y335/Instructions!$C$25)*100","v":0},{"$f":"(AA335/Instructions!$C$27)*100","v":0},{"$f":"(AC335/Instructions!$C$29)*100","v":0},{"$f":"(V335/Instructions!$C$33)*100","v":0},{"$f":"(U335/Instructions!$C$32)*100","v":0},{"$f":"(W335/Instructions!$C$36)*100","v":{"$error":"#VALUE!"}},"","E","E","E","E","E","E","E","--",null,null,null,null,null,{"$f":"Table_2[[#This Row],[Column51]]&Table_2[[#This Row],[Column52]]&AW337","v":""}]
[335,null,null,null,null,null,null,null,null,null,null,null,null,null,null,null,null,null,null,null,null,null,"--",0,{"$f":"Table_2[[#This Row],[Column20]]+Table_2[[#This Row],[Column56]]","v":0},"",{"$f":"Table_2[[#This Row],[Column20]]+Table_2[[#This Row],[Column56]]","v":0},"",{"$f":"Table_2[[#This Row],[Column57]]+Table_2[[#This Row],[Column16]]+Table_2[[#This Row],[Column15]]","v":0},"",{"$f":"(K336/Instructions!$C$23)*100","v":0},{"$f":"(L336/Instructions!$C$24)*100","v":0},{"$f":"(Y336/Instructions!$C$25)*100","v":0},{"$f":"(AA336/Instructions!$C$27)*100","v":0},{"$f":"(AC336/Instructions!$C$29)*100","v":0},{"$f":"(V336/Instructions!$C$33)*100","v":0},{"$f":"(U336/Instructions!$C$32)*100","v":0},{"$f":"(W336/Instructions!$C$36)*100","v":{"$error":"#VALUE!"}},"","E","E","E","E","E","E","E","--",null,null,null,null,null,{"$f":"Table_2[[#This Row],[Column51]]&Table_2[[#This Row],[Column52]]&AW338","v":""}]
[336,null,null,null,null,null,null,null,null,null,null,null,null,null,null,null,null,null,null,null,null,null,"--",0,{"$f":"Table_2[[#This Row],[Column20]]+Table_2[[#This Row],[Column56]]","v":0},"",{"$f":"Table_2[[#This Row],[Column20]]+Table_2[[#This Row],[Column56]]","v":0},"",{"$f":"Table_2[[#This Row],[Column57]]+Table_2[[#This Row],[Column16]]+Table_2[[#This Row],[Column15]]","v":0},"",{"$f":"(K337/Instructions!$C$23)*100","v":0},{"$f":"(L337/Instructions!$C$24)*100","v":0},{"$f":"(Y337/Instructions!$C$25)*100","v":0},{"$f":"(AA337/Instructions!$C$27)*100","v":0},{"$f":"(AC337/Instructions!$C$29)*100","v":0},{"$f":"(V337/Instructions!$C$33)*100","v":0},{"$f":"(U337/Instructions!$C$32)*100","v":0},{"$f":"(W337/Instructions!$C$36)*100","v":{"$error":"#VALUE!"}},"","E","E","E","E","E","E","E","--",null,null,null,null,null,{"$f":"Table_2[[#This Row],[Column51]]&Table_2[[#This Row],[Column52]]&AW339","v":""}]
[337,null,null,null,null,null,null,null,null,null,null,null,null,null,null,null,null,null,null,null,null,null,"--",0,{"$f":"Table_2[[#This Row],[Column20]]+Table_2[[#This Row],[Column56]]","v":0},"",{"$f":"Table_2[[#This Row],[Column20]]+Table_2[[#This Row],[Column56]]","v":0},"",{"$f":"Table_2[[#This Row],[Column57]]+Table_2[[#This Row],[Column16]]+Table_2[[#This Row],[Column15]]","v":0},"",{"$f":"(K338/Instructions!$C$23)*100","v":0},{"$f":"(L338/Instructions!$C$24)*100","v":0},{"$f":"(Y338/Instructions!$C$25)*100","v":0},{"$f":"(AA338/Instructions!$C$27)*100","v":0},{"$f":"(AC338/Instructions!$C$29)*100","v":0},{"$f":"(V338/Instructions!$C$33)*100","v":0},{"$f":"(U338/Instructions!$C$32)*100","v":0},{"$f":"(W338/Instructions!$C$36)*100","v":{"$error":"#VALUE!"}},"","E","E","E","E","E","E","E","--",null,null,null,null,null,{"$f":"Table_2[[#This Row],[Column51]]&Table_2[[#This Row],[Column52]]&AW340","v":""}]
[338,null,null,null,null,null,null,null,null,null,null,null,null,null,null,null,null,null,null,null,null,null,"--",0,{"$f":"Table_2[[#This Row],[Column20]]+Table_2[[#This Row],[Column56]]","v":0},"",{"$f":"Table_2[[#This Row],[Column20]]+Table_2[[#This Row],[Column56]]","v":0},"",{"$f":"Table_2[[#This Row],[Column57]]+Table_2[[#This Row],[Column16]]+Table_2[[#This Row],[Column15]]","v":0},"",{"$f":"(K339/Instructions!$C$23)*100","v":0},{"$f":"(L339/Instructions!$C$24)*100","v":0},{"$f":"(Y339/Instructions!$C$25)*100","v":0},{"$f":"(AA339/Instructions!$C$27)*100","v":0},{"$f":"(AC339/Instructions!$C$29)*100","v":0},{"$f":"(V339/Instructions!$C$33)*100","v":0},{"$f":"(U339/Instructions!$C$32)*100","v":0},{"$f":"(W339/Instructions!$C$36)*100","v":{"$error":"#VALUE!"}},"","E","E","E","E","E","E","E","--",null,null,null,null,null,{"$f":"Table_2[[#This Row],[Column51]]&Table_2[[#This Row],[Column52]]&AW341","v":""}]
[339,null,null,null,null,null,null,null,null,null,null,null,null,null,null,null,null,null,null,null,null,null,"--",0,{"$f":"Table_2[[#This Row],[Column20]]+Table_2[[#This Row],[Column56]]","v":0},"",{"$f":"Table_2[[#This Row],[Column20]]+Table_2[[#This Row],[Column56]]","v":0},"",{"$f":"Table_2[[#This Row],[Column57]]+Table_2[[#This Row],[Column16]]+Table_2[[#This Row],[Column15]]","v":0},"",{"$f":"(K340/Instructions!$C$23)*100","v":0},{"$f":"(L340/Instructions!$C$24)*100","v":0},{"$f":"(Y340/Instructions!$C$25)*100","v":0},{"$f":"(AA340/Instructions!$C$27)*100","v":0},{"$f":"(AC340/Instructions!$C$29)*100","v":0},{"$f":"(V340/Instructions!$C$33)*100","v":0},{"$f":"(U340/Instructions!$C$32)*100","v":0},{"$f":"(W340/Instructions!$C$36)*100","v":{"$error":"#VALUE!"}},"","E","E","E","E","E","E","E","--",null,null,null,null,null,{"$f":"Table_2[[#This Row],[Column51]]&Table_2[[#This Row],[Column52]]&AW342","v":""}]
[340,null,null,null,null,null,null,null,null,null,null,null,null,null,null,null,null,null,null,null,null,null,"--",0,{"$f":"Table_2[[#This Row],[Column20]]+Table_2[[#This Row],[Column56]]","v":0},"",{"$f":"Table_2[[#This Row],[Column20]]+Table_2[[#This Row],[Column56]]","v":0},"",{"$f":"Table_2[[#This Row],[Column57]]+Table_2[[#This Row],[Column16]]+Table_2[[#This Row],[Column15]]","v":0},"",{"$f":"(K341/Instructions!$C$23)*100","v":0},{"$f":"(L341/Instructions!$C$24)*100","v":0},{"$f":"(Y341/Instructions!$C$25)*100","v":0},{"$f":"(AA341/Instructions!$C$27)*100","v":0},{"$f":"(AC341/Instructions!$C$29)*100","v":0},{"$f":"(V341/Instructions!$C$33)*100","v":0},{"$f":"(U341/Instructions!$C$32)*100","v":0},{"$f":"(W341/Instructions!$C$36)*100","v":{"$error":"#VALUE!"}},"","E","E","E","E","E","E","E","--",null,null,null,null,null,{"$f":"Table_2[[#This Row],[Column51]]&Table_2[[#This Row],[Column52]]&AW343","v":""}]
[341,null,null,null,null,null,null,null,null,null,null,null,null,null,null,null,null,null,null,null,null,null,"--",0,{"$f":"Table_2[[#This Row],[Column20]]+Table_2[[#This Row],[Column56]]","v":0},"",{"$f":"Table_2[[#This Row],[Column20]]+Table_2[[#This Row],[Column56]]","v":0},"",{"$f":"Table_2[[#This Row],[Column57]]+Table_2[[#This Row],[Column16]]+Table_2[[#This Row],[Column15]]","v":0},"",{"$f":"(K342/Instructions!$C$23)*100","v":0},{"$f":"(L342/Instructions!$C$24)*100","v":0},{"$f":"(Y342/Instructions!$C$25)*100","v":0},{"$f":"(AA342/Instructions!$C$27)*100","v":0},{"$f":"(AC342/Instructions!$C$29)*100","v":0},{"$f":"(V342/Instructions!$C$33)*100","v":0},{"$f":"(U342/Instructions!$C$32)*100","v":0},{"$f":"(W342/Instructions!$C$36)*100","v":{"$error":"#VALUE!"}},"","E","E","E","E","E","E","E","--",null,null,null,null,null,{"$f":"Table_2[[#This Row],[Column51]]&Table_2[[#This Row],[Column52]]&AW344","v":""}]
[342,null,null,null,null,null,null,null,null,null,null,null,null,null,null,null,null,null,null,null,null,null,"--",0,{"$f":"Table_2[[#This Row],[Column20]]+Table_2[[#This Row],[Column56]]","v":0},"",{"$f":"Table_2[[#This Row],[Column20]]+Table_2[[#This Row],[Column56]]","v":0},"",{"$f":"Table_2[[#This Row],[Column57]]+Table_2[[#This Row],[Column16]]+Table_2[[#This Row],[Column15]]","v":0},"",{"$f":"(K343/Instructions!$C$23)*100","v":0},{"$f":"(L343/Instructions!$C$24)*100","v":0},{"$f":"(Y343/Instructions!$C$25)*100","v":0},{"$f":"(AA343/Instructions!$C$27)*100","v":0},{"$f":"(AC343/Instructions!$C$29)*100","v":0},{"$f":"(V343/Instructions!$C$33)*100","v":0},{"$f":"(U343/Instructions!$C$32)*100","v":0},{"$f":"(W343/Instructions!$C$36)*100","v":{"$error":"#VALUE!"}},"","E","E","E","E","E","E","E","--",null,null,null,null,null,{"$f":"Table_2[[#This Row],[Column51]]&Table_2[[#This Row],[Column52]]&AW345","v":""}]
[343,null,null,null,null,null,null,null,null,null,null,null,null,null,null,null,null,null,null,null,null,null,"--",0,{"$f":"Table_2[[#This Row],[Column20]]+Table_2[[#This Row],[Column56]]","v":0},"",{"$f":"Table_2[[#This Row],[Column20]]+Table_2[[#This Row],[Column56]]","v":0},"",{"$f":"Table_2[[#This Row],[Column57]]+Table_2[[#This Row],[Column16]]+Table_2[[#This Row],[Column15]]","v":0},"",{"$f":"(K344/Instructions!$C$23)*100","v":0},{"$f":"(L344/Instructions!$C$24)*100","v":0},{"$f":"(Y344/Instructions!$C$25)*100","v":0},{"$f":"(AA344/Instructions!$C$27)*100","v":0},{"$f":"(AC344/Instructions!$C$29)*100","v":0},{"$f":"(V344/Instructions!$C$33)*100","v":0},{"$f":"(U344/Instructions!$C$32)*100","v":0},{"$f":"(W344/Instructions!$C$36)*100","v":{"$error":"#VALUE!"}},"","E","E","E","E","E","E","E","--",null,null,null,null,null,{"$f":"Table_2[[#This Row],[Column51]]&Table_2[[#This Row],[Column52]]&AW346","v":""}]
[344,null,null,null,null,null,null,null,null,null,null,null,null,null,null,null,null,null,null,null,null,null,"--",0,{"$f":"Table_2[[#This Row],[Column20]]+Table_2[[#This Row],[Column56]]","v":0},"",{"$f":"Table_2[[#This Row],[Column20]]+Table_2[[#This Row],[Column56]]","v":0},"",{"$f":"Table_2[[#This Row],[Column57]]+Table_2[[#This Row],[Column16]]+Table_2[[#This Row],[Column15]]","v":0},"",{"$f":"(K345/Instructions!$C$23)*100","v":0},{"$f":"(L345/Instructions!$C$24)*100","v":0},{"$f":"(Y345/Instructions!$C$25)*100","v":0},{"$f":"(AA345/Instructions!$C$27)*100","v":0},{"$f":"(AC345/Instructions!$C$29)*100","v":0},{"$f":"(V345/Instructions!$C$33)*100","v":0},{"$f":"(U345/Instructions!$C$32)*100","v":0},{"$f":"(W345/Instructions!$C$36)*100","v":{"$error":"#VALUE!"}},"","E","E","E","E","E","E","E","--",null,null,null,null,null,{"$f":"Table_2[[#This Row],[Column51]]&Table_2[[#This Row],[Column52]]&AW347","v":""}]
[345,null,null,null,null,null,null,null,null,null,null,null,null,null,null,null,null,null,null,null,null,null,"--",0,{"$f":"Table_2[[#This Row],[Column20]]+Table_2[[#This Row],[Column56]]","v":0},"",{"$f":"Table_2[[#This Row],[Column20]]+Table_2[[#This Row],[Column56]]","v":0},"",{"$f":"Table_2[[#This Row],[Column57]]+Table_2[[#This Row],[Column16]]+Table_2[[#This Row],[Column15]]","v":0},"",{"$f":"(K346/Instructions!$C$23)*100","v":0},{"$f":"(L346/Instructions!$C$24)*100","v":0},{"$f":"(Y346/Instructions!$C$25)*100","v":0},{"$f":"(AA346/Instructions!$C$27)*100","v":0},{"$f":"(AC346/Instructions!$C$29)*100","v":0},{"$f":"(V346/Instructions!$C$33)*100","v":0},{"$f":"(U346/Instructions!$C$32)*100","v":0},{"$f":"(W346/Instructions!$C$36)*100","v":{"$error":"#VALUE!"}},"","E","E","E","E","E","E","E","--",null,null,null,null,null,{"$f":"Table_2[[#This Row],[Column51]]&Table_2[[#This Row],[Column52]]&AW348","v":""}]
[346,null,null,null,null,null,null,null,null,null,null,null,null,null,null,null,null,null,null,null,null,null,"--",0,{"$f":"Table_2[[#This Row],[Column20]]+Table_2[[#This Row],[Column56]]","v":0},"",{"$f":"Table_2[[#This Row],[Column20]]+Table_2[[#This Row],[Column56]]","v":0},"",{"$f":"Table_2[[#This Row],[Column57]]+Table_2[[#This Row],[Column16]]+Table_2[[#This Row],[Column15]]","v":0},"",{"$f":"(K347/Instructions!$C$23)*100","v":0},{"$f":"(L347/Instructions!$C$24)*100","v":0},{"$f":"(Y347/Instructions!$C$25)*100","v":0},{"$f":"(AA347/Instructions!$C$27)*100","v":0},{"$f":"(AC347/Instructions!$C$29)*100","v":0},{"$f":"(V347/Instructions!$C$33)*100","v":0},{"$f":"(U347/Instructions!$C$32)*100","v":0},{"$f":"(W347/Instructions!$C$36)*100","v":{"$error":"#VALUE!"}},"","E","E","E","E","E","E","E","--",null,null,null,null,null,{"$f":"Table_2[[#This Row],[Column51]]&Table_2[[#This Row],[Column52]]&AW349","v":""}]
[347,null,null,null,null,null,null,null,null,null,null,null,null,null,null,null,null,null,null,null,null,null,"--",0,{"$f":"Table_2[[#This Row],[Column20]]+Table_2[[#This Row],[Column56]]","v":0},"",{"$f":"Table_2[[#This Row],[Column20]]+Table_2[[#This Row],[Column56]]","v":0},"",{"$f":"Table_2[[#This Row],[Column57]]+Table_2[[#This Row],[Column16]]+Table_2[[#This Row],[Column15]]","v":0},"",{"$f":"(K348/Instructions!$C$23)*100","v":0},{"$f":"(L348/Instructions!$C$24)*100","v":0},{"$f":"(Y348/Instructions!$C$25)*100","v":0},{"$f":"(AA348/Instructions!$C$27)*100","v":0},{"$f":"(AC348/Instructions!$C$29)*100","v":0},{"$f":"(V348/Instructions!$C$33)*100","v":0},{"$f":"(U348/Instructions!$C$32)*100","v":0},{"$f":"(W348/Instructions!$C$36)*100","v":{"$error":"#VALUE!"}},"","E","E","E","E","E","E","E","--",null,null,null,null,null,{"$f":"Table_2[[#This Row],[Column51]]&Table_2[[#This Row],[Column52]]&AW350","v":""}]
[348,null,null,null,null,null,null,null,null,null,null,null,null,null,null,null,null,null,null,null,null,null,"--",0,{"$f":"Table_2[[#This Row],[Column20]]+Table_2[[#This Row],[Column56]]","v":0},"",{"$f":"Table_2[[#This Row],[Column20]]+Table_2[[#This Row],[Column56]]","v":0},"",{"$f":"Table_2[[#This Row],[Column57]]+Table_2[[#This Row],[Column16]]+Table_2[[#This Row],[Column15]]","v":0},"",{"$f":"(K349/Instructions!$C$23)*100","v":0},{"$f":"(L349/Instructions!$C$24)*100","v":0},{"$f":"(Y349/Instructions!$C$25)*100","v":0},{"$f":"(AA349/Instructions!$C$27)*100","v":0},{"$f":"(AC349/Instructions!$C$29)*100","v":0},{"$f":"(V349/Instructions!$C$33)*100","v":0},{"$f":"(U349/Instructions!$C$32)*100","v":0},{"$f":"(W349/Instructions!$C$36)*100","v":{"$error":"#VALUE!"}},"","E","E","E","E","E","E","E","--",null,null,null,null,null,{"$f":"Table_2[[#This Row],[Column51]]&Table_2[[#This Row],[Column52]]&AW351","v":""}]
[349,null,null,null,null,null,null,null,null,null,null,null,null,null,null,null,null,null,null,null,null,null,"--",0,{"$f":"Table_2[[#This Row],[Column20]]+Table_2[[#This Row],[Column56]]","v":0},"",{"$f":"Table_2[[#This Row],[Column20]]+Table_2[[#This Row],[Column56]]","v":0},"",{"$f":"Table_2[[#This Row],[Column57]]+Table_2[[#This Row],[Column16]]+Table_2[[#This Row],[Column15]]","v":0},"",{"$f":"(K350/Instructions!$C$23)*100","v":0},{"$f":"(L350/Instructions!$C$24)*100","v":0},{"$f":"(Y350/Instructions!$C$25)*100","v":0},{"$f":"(AA350/Instructions!$C$27)*100","v":0},{"$f":"(AC350/Instructions!$C$29)*100","v":0},{"$f":"(V350/Instructions!$C$33)*100","v":0},{"$f":"(U350/Instructions!$C$32)*100","v":0},{"$f":"(W350/Instructions!$C$36)*100","v":{"$error":"#VALUE!"}},"","E","E","E","E","E","E","E","--",null,null,null,null,null,{"$f":"Table_2[[#This Row],[Column51]]&Table_2[[#This Row],[Column52]]&AW352","v":""}]
[350,null,null,null,null,null,null,null,null,null,null,null,null,null,null,null,null,null,null,null,null,null,"--",0,{"$f":"Table_2[[#This Row],[Column20]]+Table_2[[#This Row],[Column56]]","v":0},"",{"$f":"Table_2[[#This Row],[Column20]]+Table_2[[#This Row],[Column56]]","v":0},"",{"$f":"Table_2[[#This Row],[Column57]]+Table_2[[#This Row],[Column16]]+Table_2[[#This Row],[Column15]]","v":0},"",{"$f":"(K351/Instructions!$C$23)*100","v":0},{"$f":"(L351/Instructions!$C$24)*100","v":0},{"$f":"(Y351/Instructions!$C$25)*100","v":0},{"$f":"(AA351/Instructions!$C$27)*100","v":0},{"$f":"(AC351/Instructions!$C$29)*100","v":0},{"$f":"(V351/Instructions!$C$33)*100","v":0},{"$f":"(U351/Instructions!$C$32)*100","v":0},{"$f":"(W351/Instructions!$C$36)*100","v":{"$error":"#VALUE!"}},"","E","E","E","E","E","E","E","--",null,null,null,null,null,{"$f":"Table_2[[#This Row],[Column51]]&Table_2[[#This Row],[Column52]]&AW353","v":""}]
[351,null,null,null,null,null,null,null,null,null,null,null,null,null,null,null,null,null,null,null,null,null,"--",0,{"$f":"Table_2[[#This Row],[Column20]]+Table_2[[#This Row],[Column56]]","v":0},"",{"$f":"Table_2[[#This Row],[Column20]]+Table_2[[#This Row],[Column56]]","v":0},"",{"$f":"Table_2[[#This Row],[Column57]]+Table_2[[#This Row],[Column16]]+Table_2[[#This Row],[Column15]]","v":0},"",{"$f":"(K352/Instructions!$C$23)*100","v":0},{"$f":"(L352/Instructions!$C$24)*100","v":0},{"$f":"(Y352/Instructions!$C$25)*100","v":0},{"$f":"(AA352/Instructions!$C$27)*100","v":0},{"$f":"(AC352/Instructions!$C$29)*100","v":0},{"$f":"(V352/Instructions!$C$33)*100","v":0},{"$f":"(U352/Instructions!$C$32)*100","v":0},{"$f":"(W352/Instructions!$C$36)*100","v":{"$error":"#VALUE!"}},"","E","E","E","E","E","E","E","--",null,null,null,null,null,{"$f":"Table_2[[#This Row],[Column51]]&Table_2[[#This Row],[Column52]]&AW354","v":""}]
[352,null,null,null,null,null,null,null,null,null,null,null,null,null,null,null,null,null,null,null,null,null,"--",0,{"$f":"Table_2[[#This Row],[Column20]]+Table_2[[#This Row],[Column56]]","v":0},"",{"$f":"Table_2[[#This Row],[Column20]]+Table_2[[#This Row],[Column56]]","v":0},"",{"$f":"Table_2[[#This Row],[Column57]]+Table_2[[#This Row],[Column16]]+Table_2[[#This Row],[Column15]]","v":0},"",{"$f":"(K353/Instructions!$C$23)*100","v":0},{"$f":"(L353/Instructions!$C$24)*100","v":0},{"$f":"(Y353/Instructions!$C$25)*100","v":0},{"$f":"(AA353/Instructions!$C$27)*100","v":0},{"$f":"(AC353/Instructions!$C$29)*100","v":0},{"$f":"(V353/Instructions!$C$33)*100","v":0},{"$f":"(U353/Instructions!$C$32)*100","v":0},{"$f":"(W353/Instructions!$C$36)*100","v":{"$error":"#VALUE!"}},"","E","E","E","E","E","E","E","--",null,null,null,null,null,{"$f":"Table_2[[#This Row],[Column51]]&Table_2[[#This Row],[Column52]]&AW355","v":""}]
[353,null,null,null,null,null,null,null,null,null,null,null,null,null,null,null,null,null,null,null,null,null,"--",0,{"$f":"Table_2[[#This Row],[Column20]]+Table_2[[#This Row],[Column56]]","v":0},"",{"$f":"Table_2[[#This Row],[Column20]]+Table_2[[#This Row],[Column56]]","v":0},"",{"$f":"Table_2[[#This Row],[Column57]]+Table_2[[#This Row],[Column16]]+Table_2[[#This Row],[Column15]]","v":0},"",{"$f":"(K354/Instructions!$C$23)*100","v":0},{"$f":"(L354/Instructions!$C$24)*100","v":0},{"$f":"(Y354/Instructions!$C$25)*100","v":0},{"$f":"(AA354/Instructions!$C$27)*100","v":0},{"$f":"(AC354/Instructions!$C$29)*100","v":0},{"$f":"(V354/Instructions!$C$33)*100","v":0},{"$f":"(U354/Instructions!$C$32)*100","v":0},{"$f":"(W354/Instructions!$C$36)*100","v":{"$error":"#VALUE!"}},"","E","E","E","E","E","E","E","--",null,null,null,null,null,{"$f":"Table_2[[#This Row],[Column51]]&Table_2[[#This Row],[Column52]]&AW356","v":""}]
[354,null,null,null,null,null,null,null,null,null,null,null,null,null,null,null,null,null,null,null,null,null,"--",0,{"$f":"Table_2[[#This Row],[Column20]]+Table_2[[#This Row],[Column56]]","v":0},"",{"$f":"Table_2[[#This Row],[Column20]]+Table_2[[#This Row],[Column56]]","v":0},"",{"$f":"Table_2[[#This Row],[Column57]]+Table_2[[#This Row],[Column16]]+Table_2[[#This Row],[Column15]]","v":0},"",{"$f":"(K355/Instructions!$C$23)*100","v":0},{"$f":"(L355/Instructions!$C$24)*100","v":0},{"$f":"(Y355/Instructions!$C$25)*100","v":0},{"$f":"(AA355/Instructions!$C$27)*100","v":0},{"$f":"(AC355/Instructions!$C$29)*100","v":0},{"$f":"(V355/Instructions!$C$33)*100","v":0},{"$f":"(U355/Instructions!$C$32)*100","v":0},{"$f":"(W355/Instructions!$C$36)*100","v":{"$error":"#VALUE!"}},"","E","E","E","E","E","E","E","--",null,null,null,null,null,{"$f":"Table_2[[#This Row],[Column51]]&Table_2[[#This Row],[Column52]]&AW357","v":""}]
[355,null,null,null,null,null,null,null,null,null,null,null,null,null,null,null,null,null,null,null,null,null,"--",0,{"$f":"Table_2[[#This Row],[Column20]]+Table_2[[#This Row],[Column56]]","v":0},"",{"$f":"Table_2[[#This Row],[Column20]]+Table_2[[#This Row],[Column56]]","v":0},"",{"$f":"Table_2[[#This Row],[Column57]]+Table_2[[#This Row],[Column16]]+Table_2[[#This Row],[Column15]]","v":0},"",{"$f":"(K356/Instructions!$C$23)*100","v":0},{"$f":"(L356/Instructions!$C$24)*100","v":0},{"$f":"(Y356/Instructions!$C$25)*100","v":0},{"$f":"(AA356/Instructions!$C$27)*100","v":0},{"$f":"(AC356/Instructions!$C$29)*100","v":0},{"$f":"(V356/Instructions!$C$33)*100","v":0},{"$f":"(U356/Instructions!$C$32)*100","v":0},{"$f":"(W356/Instructions!$C$36)*100","v":{"$error":"#VALUE!"}},"","E","E","E","E","E","E","E","--",null,null,null,null,null,{"$f":"Table_2[[#This Row],[Column51]]&Table_2[[#This Row],[Column52]]&AW358","v":""}]
[356,null,null,null,null,null,null,null,null,null,null,null,null,null,null,null,null,null,null,null,null,null,"--",0,{"$f":"Table_2[[#This Row],[Column20]]+Table_2[[#This Row],[Column56]]","v":0},"",{"$f":"Table_2[[#This Row],[Column20]]+Table_2[[#This Row],[Column56]]","v":0},"",{"$f":"Table_2[[#This Row],[Column57]]+Table_2[[#This Row],[Column16]]+Table_2[[#This Row],[Column15]]","v":0},"",{"$f":"(K357/Instructions!$C$23)*100","v":0},{"$f":"(L357/Instructions!$C$24)*100","v":0},{"$f":"(Y357/Instructions!$C$25)*100","v":0},{"$f":"(AA357/Instructions!$C$27)*100","v":0},{"$f":"(AC357/Instructions!$C$29)*100","v":0},{"$f":"(V357/Instructions!$C$33)*100","v":0},{"$f":"(U357/Instructions!$C$32)*100","v":0},{"$f":"(W357/Instructions!$C$36)*100","v":{"$error":"#VALUE!"}},"","E","E","E","E","E","E","E","--",null,null,null,null,null,{"$f":"Table_2[[#This Row],[Column51]]&Table_2[[#This Row],[Column52]]&AW359","v":""}]
[357,null,null,null,null,null,null,null,null,null,null,null,null,null,null,null,null,null,null,null,null,null,"--",0,{"$f":"Table_2[[#This Row],[Column20]]+Table_2[[#This Row],[Column56]]","v":0},"",{"$f":"Table_2[[#This Row],[Column20]]+Table_2[[#This Row],[Column56]]","v":0},"",{"$f":"Table_2[[#This Row],[Column57]]+Table_2[[#This Row],[Column16]]+Table_2[[#This Row],[Column15]]","v":0},"",{"$f":"(K358/Instructions!$C$23)*100","v":0},{"$f":"(L358/Instructions!$C$24)*100","v":0},{"$f":"(Y358/Instructions!$C$25)*100","v":0},{"$f":"(AA358/Instructions!$C$27)*100","v":0},{"$f":"(AC358/Instructions!$C$29)*100","v":0},{"$f":"(V358/Instructions!$C$33)*100","v":0},{"$f":"(U358/Instructions!$C$32)*100","v":0},{"$f":"(W358/Instructions!$C$36)*100","v":{"$error":"#VALUE!"}},"","E","E","E","E","E","E","E","--",null,null,null,null,null,{"$f":"Table_2[[#This Row],[Column51]]&Table_2[[#This Row],[Column52]]&AW360","v":""}]
[358,null,null,null,null,null,null,null,null,null,null,null,null,null,null,null,null,null,null,null,null,null,"--",0,{"$f":"Table_2[[#This Row],[Column20]]+Table_2[[#This Row],[Column56]]","v":0},"",{"$f":"Table_2[[#This Row],[Column20]]+Table_2[[#This Row],[Column56]]","v":0},"",{"$f":"Table_2[[#This Row],[Column57]]+Table_2[[#This Row],[Column16]]+Table_2[[#This Row],[Column15]]","v":0},"",{"$f":"(K359/Instructions!$C$23)*100","v":0},{"$f":"(L359/Instructions!$C$24)*100","v":0},{"$f":"(Y359/Instructions!$C$25)*100","v":0},{"$f":"(AA359/Instructions!$C$27)*100","v":0},{"$f":"(AC359/Instructions!$C$29)*100","v":0},{"$f":"(V359/Instructions!$C$33)*100","v":0},{"$f":"(U359/Instructions!$C$32)*100","v":0},{"$f":"(W359/Instructions!$C$36)*100","v":{"$error":"#VALUE!"}},"","E","E","E","E","E","E","E","--",null,null,null,null,null,{"$f":"Table_2[[#This Row],[Column51]]&Table_2[[#This Row],[Column52]]&AW361","v":""}]
[359,null,null,null,null,null,null,null,null,null,null,null,null,null,null,null,null,null,null,null,null,null,"--",0,{"$f":"Table_2[[#This Row],[Column20]]+Table_2[[#This Row],[Column56]]","v":0},"",{"$f":"Table_2[[#This Row],[Column20]]+Table_2[[#This Row],[Column56]]","v":0},"",{"$f":"Table_2[[#This Row],[Column57]]+Table_2[[#This Row],[Column16]]+Table_2[[#This Row],[Column15]]","v":0},"",{"$f":"(K360/Instructions!$C$23)*100","v":0},{"$f":"(L360/Instructions!$C$24)*100","v":0},{"$f":"(Y360/Instructions!$C$25)*100","v":0},{"$f":"(AA360/Instructions!$C$27)*100","v":0},{"$f":"(AC360/Instructions!$C$29)*100","v":0},{"$f":"(V360/Instructions!$C$33)*100","v":0},{"$f":"(U360/Instructions!$C$32)*100","v":0},{"$f":"(W360/Instructions!$C$36)*100","v":{"$error":"#VALUE!"}},"","E","E","E","E","E","E","E","--",null,null,null,null,null,{"$f":"Table_2[[#This Row],[Column51]]&Table_2[[#This Row],[Column52]]&AW362","v":""}]
[360,null,null,null,null,null,null,null,null,null,null,null,null,null,null,null,null,null,null,null,null,null,"--",0,{"$f":"Table_2[[#This Row],[Column20]]+Table_2[[#This Row],[Column56]]","v":0},"",{"$f":"Table_2[[#This Row],[Column20]]+Table_2[[#This Row],[Column56]]","v":0},"",{"$f":"Table_2[[#This Row],[Column57]]+Table_2[[#This Row],[Column16]]+Table_2[[#This Row],[Column15]]","v":0},"",{"$f":"(K361/Instructions!$C$23)*100","v":0},{"$f":"(L361/Instructions!$C$24)*100","v":0},{"$f":"(Y361/Instructions!$C$25)*100","v":0},{"$f":"(AA361/Instructions!$C$27)*100","v":0},{"$f":"(AC361/Instructions!$C$29)*100","v":0},{"$f":"(V361/Instructions!$C$33)*100","v":0},{"$f":"(U361/Instructions!$C$32)*100","v":0},{"$f":"(W361/Instructions!$C$36)*100","v":{"$error":"#VALUE!"}},"","E","E","E","E","E","E","E","--",null,null,null,null,null,{"$f":"Table_2[[#This Row],[Column51]]&Table_2[[#This Row],[Column52]]&AW363","v":""}]
[361,null,null,null,null,null,null,null,null,null,null,null,null,null,null,null,null,null,null,null,null,null,"--",0,{"$f":"Table_2[[#This Row],[Column20]]+Table_2[[#This Row],[Column56]]","v":0},"",{"$f":"Table_2[[#This Row],[Column20]]+Table_2[[#This Row],[Column56]]","v":0},"",{"$f":"Table_2[[#This Row],[Column57]]+Table_2[[#This Row],[Column16]]+Table_2[[#This Row],[Column15]]","v":0},"",{"$f":"(K362/Instructions!$C$23)*100","v":0},{"$f":"(L362/Instructions!$C$24)*100","v":0},{"$f":"(Y362/Instructions!$C$25)*100","v":0},{"$f":"(AA362/Instructions!$C$27)*100","v":0},{"$f":"(AC362/Instructions!$C$29)*100","v":0},{"$f":"(V362/Instructions!$C$33)*100","v":0},{"$f":"(U362/Instructions!$C$32)*100","v":0},{"$f":"(W362/Instructions!$C$36)*100","v":{"$error":"#VALUE!"}},"","E","E","E","E","E","E","E","--",null,null,null,null,null,{"$f":"Table_2[[#This Row],[Column51]]&Table_2[[#This Row],[Column52]]&AW364","v":""}]
[362,null,null,null,null,null,null,null,null,null,null,null,null,null,null,null,null,null,null,null,null,null,"--",0,{"$f":"Table_2[[#This Row],[Column20]]+Table_2[[#This Row],[Column56]]","v":0},"",{"$f":"Table_2[[#This Row],[Column20]]+Table_2[[#This Row],[Column56]]","v":0},"",{"$f":"Table_2[[#This Row],[Column57]]+Table_2[[#This Row],[Column16]]+Table_2[[#This Row],[Column15]]","v":0},"",{"$f":"(K363/Instructions!$C$23)*100","v":0},{"$f":"(L363/Instructions!$C$24)*100","v":0},{"$f":"(Y363/Instructions!$C$25)*100","v":0},{"$f":"(AA363/Instructions!$C$27)*100","v":0},{"$f":"(AC363/Instructions!$C$29)*100","v":0},{"$f":"(V363/Instructions!$C$33)*100","v":0},{"$f":"(U363/Instructions!$C$32)*100","v":0},{"$f":"(W363/Instructions!$C$36)*100","v":{"$error":"#VALUE!"}},"","E","E","E","E","E","E","E","--",null,null,null,null,null,{"$f":"Table_2[[#This Row],[Column51]]&Table_2[[#This Row],[Column52]]&AW365","v":""}]
[363,null,null,null,null,null,null,null,null,null,null,null,null,null,null,null,null,null,null,null,null,null,"--",0,{"$f":"Table_2[[#This Row],[Column20]]+Table_2[[#This Row],[Column56]]","v":0},"",{"$f":"Table_2[[#This Row],[Column20]]+Table_2[[#This Row],[Column56]]","v":0},"",{"$f":"Table_2[[#This Row],[Column57]]+Table_2[[#This Row],[Column16]]+Table_2[[#This Row],[Column15]]","v":0},"",{"$f":"(K364/Instructions!$C$23)*100","v":0},{"$f":"(L364/Instructions!$C$24)*100","v":0},{"$f":"(Y364/Instructions!$C$25)*100","v":0},{"$f":"(AA364/Instructions!$C$27)*100","v":0},{"$f":"(AC364/Instructions!$C$29)*100","v":0},{"$f":"(V364/Instructions!$C$33)*100","v":0},{"$f":"(U364/Instructions!$C$32)*100","v":0},{"$f":"(W364/Instructions!$C$36)*100","v":{"$error":"#VALUE!"}},"","E","E","E","E","E","E","E","--",null,null,null,null,null,{"$f":"Table_2[[#This Row],[Column51]]&Table_2[[#This Row],[Column52]]&AW366","v":""}]
[364,null,null,null,null,null,null,null,null,null,null,null,null,null,null,null,null,null,null,null,null,null,"--",0,{"$f":"Table_2[[#This Row],[Column20]]+Table_2[[#This Row],[Column56]]","v":0},"",{"$f":"Table_2[[#This Row],[Column20]]+Table_2[[#This Row],[Column56]]","v":0},"",{"$f":"Table_2[[#This Row],[Column57]]+Table_2[[#This Row],[Column16]]+Table_2[[#This Row],[Column15]]","v":0},"",{"$f":"(K365/Instructions!$C$23)*100","v":0},{"$f":"(L365/Instructions!$C$24)*100","v":0},{"$f":"(Y365/Instructions!$C$25)*100","v":0},{"$f":"(AA365/Instructions!$C$27)*100","v":0},{"$f":"(AC365/Instructions!$C$29)*100","v":0},{"$f":"(V365/Instructions!$C$33)*100","v":0},{"$f":"(U365/Instructions!$C$32)*100","v":0},{"$f":"(W365/Instructions!$C$36)*100","v":{"$error":"#VALUE!"}},"","E","E","E","E","E","E","E","--",null,null,null,null,null,{"$f":"Table_2[[#This Row],[Column51]]&Table_2[[#This Row],[Column52]]&AW367","v":""}]
[365,null,null,null,null,null,null,null,null,null,null,null,null,null,null,null,null,null,null,null,null,null,"--",0,{"$f":"Table_2[[#This Row],[Column20]]+Table_2[[#This Row],[Column56]]","v":0},"",{"$f":"Table_2[[#This Row],[Column20]]+Table_2[[#This Row],[Column56]]","v":0},"",{"$f":"Table_2[[#This Row],[Column57]]+Table_2[[#This Row],[Column16]]+Table_2[[#This Row],[Column15]]","v":0},"",{"$f":"(K366/Instructions!$C$23)*100","v":0},{"$f":"(L366/Instructions!$C$24)*100","v":0},{"$f":"(Y366/Instructions!$C$25)*100","v":0},{"$f":"(AA366/Instructions!$C$27)*100","v":0},{"$f":"(AC366/Instructions!$C$29)*100","v":0},{"$f":"(V366/Instructions!$C$33)*100","v":0},{"$f":"(U366/Instructions!$C$32)*100","v":0},{"$f":"(W366/Instructions!$C$36)*100","v":{"$error":"#VALUE!"}},"","E","E","E","E","E","E","E","--",null,null,null,null,null,{"$f":"Table_2[[#This Row],[Column51]]&Table_2[[#This Row],[Column52]]&AW368","v":""}]
[366,null,null,null,null,null,null,null,null,null,null,null,null,null,null,null,null,null,null,null,null,null,"--",0,{"$f":"Table_2[[#This Row],[Column20]]+Table_2[[#This Row],[Column56]]","v":0},"",{"$f":"Table_2[[#This Row],[Column20]]+Table_2[[#This Row],[Column56]]","v":0},"",{"$f":"Table_2[[#This Row],[Column57]]+Table_2[[#This Row],[Column16]]+Table_2[[#This Row],[Column15]]","v":0},"",{"$f":"(K367/Instructions!$C$23)*100","v":0},{"$f":"(L367/Instructions!$C$24)*100","v":0},{"$f":"(Y367/Instructions!$C$25)*100","v":0},{"$f":"(AA367/Instructions!$C$27)*100","v":0},{"$f":"(AC367/Instructions!$C$29)*100","v":0},{"$f":"(V367/Instructions!$C$33)*100","v":0},{"$f":"(U367/Instructions!$C$32)*100","v":0},{"$f":"(W367/Instructions!$C$36)*100","v":{"$error":"#VALUE!"}},"","E","E","E","E","E","E","E","--",null,null,null,null,null,{"$f":"Table_2[[#This Row],[Column51]]&Table_2[[#This Row],[Column52]]&AW369","v":""}]
[367,null,null,null,null,null,null,null,null,null,null,null,null,null,null,null,null,null,null,null,null,null,"--",0,{"$f":"Table_2[[#This Row],[Column20]]+Table_2[[#This Row],[Column56]]","v":0},"",{"$f":"Table_2[[#This Row],[Column20]]+Table_2[[#This Row],[Column56]]","v":0},"",{"$f":"Table_2[[#This Row],[Column57]]+Table_2[[#This Row],[Column16]]+Table_2[[#This Row],[Column15]]","v":0},"",{"$f":"(K368/Instructions!$C$23)*100","v":0},{"$f":"(L368/Instructions!$C$24)*100","v":0},{"$f":"(Y368/Instructions!$C$25)*100","v":0},{"$f":"(AA368/Instructions!$C$27)*100","v":0},{"$f":"(AC368/Instructions!$C$29)*100","v":0},{"$f":"(V368/Instructions!$C$33)*100","v":0},{"$f":"(U368/Instructions!$C$32)*100","v":0},{"$f":"(W368/Instructions!$C$36)*100","v":{"$error":"#VALUE!"}},"","E","E","E","E","E","E","E","--",null,null,null,null,null,{"$f":"Table_2[[#This Row],[Column51]]&Table_2[[#This Row],[Column52]]&AW370","v":""}]
[368,null,null,null,null,null,null,null,null,null,null,null,null,null,null,null,null,null,null,null,null,null,"--",0,{"$f":"Table_2[[#This Row],[Column20]]+Table_2[[#This Row],[Column56]]","v":0},"",{"$f":"Table_2[[#This Row],[Column20]]+Table_2[[#This Row],[Column56]]","v":0},"",{"$f":"Table_2[[#This Row],[Column57]]+Table_2[[#This Row],[Column16]]+Table_2[[#This Row],[Column15]]","v":0},"",{"$f":"(K369/Instructions!$C$23)*100","v":0},{"$f":"(L369/Instructions!$C$24)*100","v":0},{"$f":"(Y369/Instructions!$C$25)*100","v":0},{"$f":"(AA369/Instructions!$C$27)*100","v":0},{"$f":"(AC369/Instructions!$C$29)*100","v":0},{"$f":"(V369/Instructions!$C$33)*100","v":0},{"$f":"(U369/Instructions!$C$32)*100","v":0},{"$f":"(W369/Instructions!$C$36)*100","v":{"$error":"#VALUE!"}},"","E","E","E","E","E","E","E","--",null,null,null,null,null,{"$f":"Table_2[[#This Row],[Column51]]&Table_2[[#This Row],[Column52]]&AW371","v":""}]
[369,null,null,null,null,null,null,null,null,null,null,null,null,null,null,null,null,null,null,null,null,null,"--",0,{"$f":"Table_2[[#This Row],[Column20]]+Table_2[[#This Row],[Column56]]","v":0},"",{"$f":"Table_2[[#This Row],[Column20]]+Table_2[[#This Row],[Column56]]","v":0},"",{"$f":"Table_2[[#This Row],[Column57]]+Table_2[[#This Row],[Column16]]+Table_2[[#This Row],[Column15]]","v":0},"",{"$f":"(K370/Instructions!$C$23)*100","v":0},{"$f":"(L370/Instructions!$C$24)*100","v":0},{"$f":"(Y370/Instructions!$C$25)*100","v":0},{"$f":"(AA370/Instructions!$C$27)*100","v":0},{"$f":"(AC370/Instructions!$C$29)*100","v":0},{"$f":"(V370/Instructions!$C$33)*100","v":0},{"$f":"(U370/Instructions!$C$32)*100","v":0},{"$f":"(W370/Instructions!$C$36)*100","v":{"$error":"#VALUE!"}},"","E","E","E","E","E","E","E","--",null,null,null,null,null,{"$f":"Table_2[[#This Row],[Column51]]&Table_2[[#This Row],[Column52]]&AW372","v":""}]
[370,null,null,null,null,null,null,null,null,null,null,null,null,null,null,null,null,null,null,null,null,null,"--",0,{"$f":"Table_2[[#This Row],[Column20]]+Table_2[[#This Row],[Column56]]","v":0},"",{"$f":"Table_2[[#This Row],[Column20]]+Table_2[[#This Row],[Column56]]","v":0},"",{"$f":"Table_2[[#This Row],[Column57]]+Table_2[[#This Row],[Column16]]+Table_2[[#This Row],[Column15]]","v":0},"",{"$f":"(K371/Instructions!$C$23)*100","v":0},{"$f":"(L371/Instructions!$C$24)*100","v":0},{"$f":"(Y371/Instructions!$C$25)*100","v":0},{"$f":"(AA371/Instructions!$C$27)*100","v":0},{"$f":"(AC371/Instructions!$C$29)*100","v":0},{"$f":"(V371/Instructions!$C$33)*100","v":0},{"$f":"(U371/Instructions!$C$32)*100","v":0},{"$f":"(W371/Instructions!$C$36)*100","v":{"$error":"#VALUE!"}},"","E","E","E","E","E","E","E","--",null,null,null,null,null,{"$f":"Table_2[[#This Row],[Column51]]&Table_2[[#This Row],[Column52]]&AW373","v":""}]
[371,null,null,null,null,null,null,null,null,null,null,null,null,null,null,null,null,null,null,null,null,null,"--",0,{"$f":"Table_2[[#This Row],[Column20]]+Table_2[[#This Row],[Column56]]","v":0},"",{"$f":"Table_2[[#This Row],[Column20]]+Table_2[[#This Row],[Column56]]","v":0},"",{"$f":"Table_2[[#This Row],[Column57]]+Table_2[[#This Row],[Column16]]+Table_2[[#This Row],[Column15]]","v":0},"",{"$f":"(K372/Instructions!$C$23)*100","v":0},{"$f":"(L372/Instructions!$C$24)*100","v":0},{"$f":"(Y372/Instructions!$C$25)*100","v":0},{"$f":"(AA372/Instructions!$C$27)*100","v":0},{"$f":"(AC372/Instructions!$C$29)*100","v":0},{"$f":"(V372/Instructions!$C$33)*100","v":0},{"$f":"(U372/Instructions!$C$32)*100","v":0},{"$f":"(W372/Instructions!$C$36)*100","v":{"$error":"#VALUE!"}},"","E","E","E","E","E","E","E","--",null,null,null,null,null,{"$f":"Table_2[[#This Row],[Column51]]&Table_2[[#This Row],[Column52]]&AW374","v":""}]
[372,null,null,null,null,null,null,null,null,null,null,null,null,null,null,null,null,null,null,null,null,null,"--",0,{"$f":"Table_2[[#This Row],[Column20]]+Table_2[[#This Row],[Column56]]","v":0},"",{"$f":"Table_2[[#This Row],[Column20]]+Table_2[[#This Row],[Column56]]","v":0},"",{"$f":"Table_2[[#This Row],[Column57]]+Table_2[[#This Row],[Column16]]+Table_2[[#This Row],[Column15]]","v":0},"",{"$f":"(K373/Instructions!$C$23)*100","v":0},{"$f":"(L373/Instructions!$C$24)*100","v":0},{"$f":"(Y373/Instructions!$C$25)*100","v":0},{"$f":"(AA373/Instructions!$C$27)*100","v":0},{"$f":"(AC373/Instructions!$C$29)*100","v":0},{"$f":"(V373/Instructions!$C$33)*100","v":0},{"$f":"(U373/Instructions!$C$32)*100","v":0},{"$f":"(W373/Instructions!$C$36)*100","v":{"$error":"#VALUE!"}},"","E","E","E","E","E","E","E","--",null,null,null,null,null,{"$f":"Table_2[[#This Row],[Column51]]&Table_2[[#This Row],[Column52]]&AW375","v":""}]
[373,null,null,null,null,null,null,null,null,null,null,null,null,null,null,null,null,null,null,null,null,null,"--",0,{"$f":"Table_2[[#This Row],[Column20]]+Table_2[[#This Row],[Column56]]","v":0},"",{"$f":"Table_2[[#This Row],[Column20]]+Table_2[[#This Row],[Column56]]","v":0},"",{"$f":"Table_2[[#This Row],[Column57]]+Table_2[[#This Row],[Column16]]+Table_2[[#This Row],[Column15]]","v":0},"",{"$f":"(K374/Instructions!$C$23)*100","v":0},{"$f":"(L374/Instructions!$C$24)*100","v":0},{"$f":"(Y374/Instructions!$C$25)*100","v":0},{"$f":"(AA374/Instructions!$C$27)*100","v":0},{"$f":"(AC374/Instructions!$C$29)*100","v":0},{"$f":"(V374/Instructions!$C$33)*100","v":0},{"$f":"(U374/Instructions!$C$32)*100","v":0},{"$f":"(W374/Instructions!$C$36)*100","v":{"$error":"#VALUE!"}},"","E","E","E","E","E","E","E","--",null,null,null,null,null,{"$f":"Table_2[[#This Row],[Column51]]&Table_2[[#This Row],[Column52]]&AW376","v":""}]
[374,null,null,null,null,null,null,null,null,null,null,null,null,null,null,null,null,null,null,null,null,null,"--",0,{"$f":"Table_2[[#This Row],[Column20]]+Table_2[[#This Row],[Column56]]","v":0},"",{"$f":"Table_2[[#This Row],[Column20]]+Table_2[[#This Row],[Column56]]","v":0},"",{"$f":"Table_2[[#This Row],[Column57]]+Table_2[[#This Row],[Column16]]+Table_2[[#This Row],[Column15]]","v":0},"",{"$f":"(K375/Instructions!$C$23)*100","v":0},{"$f":"(L375/Instructions!$C$24)*100","v":0},{"$f":"(Y375/Instructions!$C$25)*100","v":0},{"$f":"(AA375/Instructions!$C$27)*100","v":0},{"$f":"(AC375/Instructions!$C$29)*100","v":0},{"$f":"(V375/Instructions!$C$33)*100","v":0},{"$f":"(U375/Instructions!$C$32)*100","v":0},{"$f":"(W375/Instructions!$C$36)*100","v":{"$error":"#VALUE!"}},"","E","E","E","E","E","E","E","--",null,null,null,null,null,{"$f":"Table_2[[#This Row],[Column51]]&Table_2[[#This Row],[Column52]]&AW377","v":""}]
[375,null,null,null,null,null,null,null,null,null,null,null,null,null,null,null,null,null,null,null,null,null,"--",0,{"$f":"Table_2[[#This Row],[Column20]]+Table_2[[#This Row],[Column56]]","v":0},"",{"$f":"Table_2[[#This Row],[Column20]]+Table_2[[#This Row],[Column56]]","v":0},"",{"$f":"Table_2[[#This Row],[Column57]]+Table_2[[#This Row],[Column16]]+Table_2[[#This Row],[Column15]]","v":0},"",{"$f":"(K376/Instructions!$C$23)*100","v":0},{"$f":"(L376/Instructions!$C$24)*100","v":0},{"$f":"(Y376/Instructions!$C$25)*100","v":0},{"$f":"(AA376/Instructions!$C$27)*100","v":0},{"$f":"(AC376/Instructions!$C$29)*100","v":0},{"$f":"(V376/Instructions!$C$33)*100","v":0},{"$f":"(U376/Instructions!$C$32)*100","v":0},{"$f":"(W376/Instructions!$C$36)*100","v":{"$error":"#VALUE!"}},"","E","E","E","E","E","E","E","--",null,null,null,null,null,{"$f":"Table_2[[#This Row],[Column51]]&Table_2[[#This Row],[Column52]]&AW378","v":""}]
[376,null,null,null,null,null,null,null,null,null,null,null,null,null,null,null,null,null,null,null,null,null,"--",0,{"$f":"Table_2[[#This Row],[Column20]]+Table_2[[#This Row],[Column56]]","v":0},"",{"$f":"Table_2[[#This Row],[Column20]]+Table_2[[#This Row],[Column56]]","v":0},"",{"$f":"Table_2[[#This Row],[Column57]]+Table_2[[#This Row],[Column16]]+Table_2[[#This Row],[Column15]]","v":0},"",{"$f":"(K377/Instructions!$C$23)*100","v":0},{"$f":"(L377/Instructions!$C$24)*100","v":0},{"$f":"(Y377/Instructions!$C$25)*100","v":0},{"$f":"(AA377/Instructions!$C$27)*100","v":0},{"$f":"(AC377/Instructions!$C$29)*100","v":0},{"$f":"(V377/Instructions!$C$33)*100","v":0},{"$f":"(U377/Instructions!$C$32)*100","v":0},{"$f":"(W377/Instructions!$C$36)*100","v":{"$error":"#VALUE!"}},"","E","E","E","E","E","E","E","--",null,null,null,null,null,{"$f":"Table_2[[#This Row],[Column51]]&Table_2[[#This Row],[Column52]]&AW379","v":""}]
[377,null,null,null,null,null,null,null,null,null,null,null,null,null,null,null,null,null,null,null,null,null,"--",0,{"$f":"Table_2[[#This Row],[Column20]]+Table_2[[#This Row],[Column56]]","v":0},"",{"$f":"Table_2[[#This Row],[Column20]]+Table_2[[#This Row],[Column56]]","v":0},"",{"$f":"Table_2[[#This Row],[Column57]]+Table_2[[#This Row],[Column16]]+Table_2[[#This Row],[Column15]]","v":0},"",{"$f":"(K378/Instructions!$C$23)*100","v":0},{"$f":"(L378/Instructions!$C$24)*100","v":0},{"$f":"(Y378/Instructions!$C$25)*100","v":0},{"$f":"(AA378/Instructions!$C$27)*100","v":0},{"$f":"(AC378/Instructions!$C$29)*100","v":0},{"$f":"(V378/Instructions!$C$33)*100","v":0},{"$f":"(U378/Instructions!$C$32)*100","v":0},{"$f":"(W378/Instructions!$C$36)*100","v":{"$error":"#VALUE!"}},"","E","E","E","E","E","E","E","--",null,null,null,null,null,{"$f":"Table_2[[#This Row],[Column51]]&Table_2[[#This Row],[Column52]]&AW380","v":""}]
[378,null,null,null,null,null,null,null,null,null,null,null,null,null,null,null,null,null,null,null,null,null,"--",0,{"$f":"Table_2[[#This Row],[Column20]]+Table_2[[#This Row],[Column56]]","v":0},"",{"$f":"Table_2[[#This Row],[Column20]]+Table_2[[#This Row],[Column56]]","v":0},"",{"$f":"Table_2[[#This Row],[Column57]]+Table_2[[#This Row],[Column16]]+Table_2[[#This Row],[Column15]]","v":0},"",{"$f":"(K379/Instructions!$C$23)*100","v":0},{"$f":"(L379/Instructions!$C$24)*100","v":0},{"$f":"(Y379/Instructions!$C$25)*100","v":0},{"$f":"(AA379/Instructions!$C$27)*100","v":0},{"$f":"(AC379/Instructions!$C$29)*100","v":0},{"$f":"(V379/Instructions!$C$33)*100","v":0},{"$f":"(U379/Instructions!$C$32)*100","v":0},{"$f":"(W379/Instructions!$C$36)*100","v":{"$error":"#VALUE!"}},"","E","E","E","E","E","E","E","--",null,null,null,null,null,{"$f":"Table_2[[#This Row],[Column51]]&Table_2[[#This Row],[Column52]]&AW381","v":""}]
[379,null,null,null,null,null,null,null,null,null,null,null,null,null,null,null,null,null,null,null,null,null,"--",0,{"$f":"Table_2[[#This Row],[Column20]]+Table_2[[#This Row],[Column56]]","v":0},"",{"$f":"Table_2[[#This Row],[Column20]]+Table_2[[#This Row],[Column56]]","v":0},"",{"$f":"Table_2[[#This Row],[Column57]]+Table_2[[#This Row],[Column16]]+Table_2[[#This Row],[Column15]]","v":0},"",{"$f":"(K380/Instructions!$C$23)*100","v":0},{"$f":"(L380/Instructions!$C$24)*100","v":0},{"$f":"(Y380/Instructions!$C$25)*100","v":0},{"$f":"(AA380/Instructions!$C$27)*100","v":0},{"$f":"(AC380/Instructions!$C$29)*100","v":0},{"$f":"(V380/Instructions!$C$33)*100","v":0},{"$f":"(U380/Instructions!$C$32)*100","v":0},{"$f":"(W380/Instructions!$C$36)*100","v":{"$error":"#VALUE!"}},"","E","E","E","E","E","E","E","--",null,null,null,null,null,{"$f":"Table_2[[#This Row],[Column51]]&Table_2[[#This Row],[Column52]]&AW382","v":""}]
[380,null,null,null,null,null,null,null,null,null,null,null,null,null,null,null,null,null,null,null,null,null,"--",0,{"$f":"Table_2[[#This Row],[Column20]]+Table_2[[#This Row],[Column56]]","v":0},"",{"$f":"Table_2[[#This Row],[Column20]]+Table_2[[#This Row],[Column56]]","v":0},"",{"$f":"Table_2[[#This Row],[Column57]]+Table_2[[#This Row],[Column16]]+Table_2[[#This Row],[Column15]]","v":0},"",{"$f":"(K381/Instructions!$C$23)*100","v":0},{"$f":"(L381/Instructions!$C$24)*100","v":0},{"$f":"(Y381/Instructions!$C$25)*100","v":0},{"$f":"(AA381/Instructions!$C$27)*100","v":0},{"$f":"(AC381/Instructions!$C$29)*100","v":0},{"$f":"(V381/Instructions!$C$33)*100","v":0},{"$f":"(U381/Instructions!$C$32)*100","v":0},{"$f":"(W381/Instructions!$C$36)*100","v":{"$error":"#VALUE!"}},"","E","E","E","E","E","E","E","--",null,null,null,null,null,{"$f":"Table_2[[#This Row],[Column51]]&Table_2[[#This Row],[Column52]]&AW383","v":""}]
[381,null,null,null,null,null,null,null,null,null,null,null,null,null,null,null,null,null,null,null,null,null,"--",0,{"$f":"Table_2[[#This Row],[Column20]]+Table_2[[#This Row],[Column56]]","v":0},"",{"$f":"Table_2[[#This Row],[Column20]]+Table_2[[#This Row],[Column56]]","v":0},"",{"$f":"Table_2[[#This Row],[Column57]]+Table_2[[#This Row],[Column16]]+Table_2[[#This Row],[Column15]]","v":0},"",{"$f":"(K382/Instructions!$C$23)*100","v":0},{"$f":"(L382/Instructions!$C$24)*100","v":0},{"$f":"(Y382/Instructions!$C$25)*100","v":0},{"$f":"(AA382/Instructions!$C$27)*100","v":0},{"$f":"(AC382/Instructions!$C$29)*100","v":0},{"$f":"(V382/Instructions!$C$33)*100","v":0},{"$f":"(U382/Instructions!$C$32)*100","v":0},{"$f":"(W382/Instructions!$C$36)*100","v":{"$error":"#VALUE!"}},"","E","E","E","E","E","E","E","--",null,null,null,null,null,{"$f":"Table_2[[#This Row],[Column51]]&Table_2[[#This Row],[Column52]]&AW384","v":""}]
[382,null,null,null,null,null,null,null,null,null,null,null,null,null,null,null,null,null,null,null,null,null,"--",0,{"$f":"Table_2[[#This Row],[Column20]]+Table_2[[#This Row],[Column56]]","v":0},"",{"$f":"Table_2[[#This Row],[Column20]]+Table_2[[#This Row],[Column56]]","v":0},"",{"$f":"Table_2[[#This Row],[Column57]]+Table_2[[#This Row],[Column16]]+Table_2[[#This Row],[Column15]]","v":0},"",{"$f":"(K383/Instructions!$C$23)*100","v":0},{"$f":"(L383/Instructions!$C$24)*100","v":0},{"$f":"(Y383/Instructions!$C$25)*100","v":0},{"$f":"(AA383/Instructions!$C$27)*100","v":0},{"$f":"(AC383/Instructions!$C$29)*100","v":0},{"$f":"(V383/Instructions!$C$33)*100","v":0},{"$f":"(U383/Instructions!$C$32)*100","v":0},{"$f":"(W383/Instructions!$C$36)*100","v":{"$error":"#VALUE!"}},"","E","E","E","E","E","E","E","--",null,null,null,null,null,{"$f":"Table_2[[#This Row],[Column51]]&Table_2[[#This Row],[Column52]]&AW385","v":""}]
[383,null,null,null,null,null,null,null,null,null,null,null,null,null,null,null,null,null,null,null,null,null,"--",0,{"$f":"Table_2[[#This Row],[Column20]]+Table_2[[#This Row],[Column56]]","v":0},"",{"$f":"Table_2[[#This Row],[Column20]]+Table_2[[#This Row],[Column56]]","v":0},"",{"$f":"Table_2[[#This Row],[Column57]]+Table_2[[#This Row],[Column16]]+Table_2[[#This Row],[Column15]]","v":0},"",{"$f":"(K384/Instructions!$C$23)*100","v":0},{"$f":"(L384/Instructions!$C$24)*100","v":0},{"$f":"(Y384/Instructions!$C$25)*100","v":0},{"$f":"(AA384/Instructions!$C$27)*100","v":0},{"$f":"(AC384/Instructions!$C$29)*100","v":0},{"$f":"(V384/Instructions!$C$33)*100","v":0},{"$f":"(U384/Instructions!$C$32)*100","v":0},{"$f":"(W384/Instructions!$C$36)*100","v":{"$error":"#VALUE!"}},"","E","E","E","E","E","E","E","--",null,null,null,null,null,{"$f":"Table_2[[#This Row],[Column51]]&Table_2[[#This Row],[Column52]]&AW386","v":""}]
[384,null,null,null,null,null,null,null,null,null,null,null,null,null,null,null,null,null,null,null,null,null,"--",0,{"$f":"Table_2[[#This Row],[Column20]]+Table_2[[#This Row],[Column56]]","v":0},"",{"$f":"Table_2[[#This Row],[Column20]]+Table_2[[#This Row],[Column56]]","v":0},"",{"$f":"Table_2[[#This Row],[Column57]]+Table_2[[#This Row],[Column16]]+Table_2[[#This Row],[Column15]]","v":0},"",{"$f":"(K385/Instructions!$C$23)*100","v":0},{"$f":"(L385/Instructions!$C$24)*100","v":0},{"$f":"(Y385/Instructions!$C$25)*100","v":0},{"$f":"(AA385/Instructions!$C$27)*100","v":0},{"$f":"(AC385/Instructions!$C$29)*100","v":0},{"$f":"(V385/Instructions!$C$33)*100","v":0},{"$f":"(U385/Instructions!$C$32)*100","v":0},{"$f":"(W385/Instructions!$C$36)*100","v":{"$error":"#VALUE!"}},"","E","E","E","E","E","E","E","--",null,null,null,null,null,{"$f":"Table_2[[#This Row],[Column51]]&Table_2[[#This Row],[Column52]]&AW387","v":""}]
[385,null,null,null,null,null,null,null,null,null,null,null,null,null,null,null,null,null,null,null,null,null,"--",0,{"$f":"Table_2[[#This Row],[Column20]]+Table_2[[#This Row],[Column56]]","v":0},"",{"$f":"Table_2[[#This Row],[Column20]]+Table_2[[#This Row],[Column56]]","v":0},"",{"$f":"Table_2[[#This Row],[Column57]]+Table_2[[#This Row],[Column16]]+Table_2[[#This Row],[Column15]]","v":0},"",{"$f":"(K386/Instructions!$C$23)*100","v":0},{"$f":"(L386/Instructions!$C$24)*100","v":0},{"$f":"(Y386/Instructions!$C$25)*100","v":0},{"$f":"(AA386/Instructions!$C$27)*100","v":0},{"$f":"(AC386/Instructions!$C$29)*100","v":0},{"$f":"(V386/Instructions!$C$33)*100","v":0},{"$f":"(U386/Instructions!$C$32)*100","v":0},{"$f":"(W386/Instructions!$C$36)*100","v":{"$error":"#VALUE!"}},"","E","E","E","E","E","E","E","--",null,null,null,null,null,{"$f":"Table_2[[#This Row],[Column51]]&Table_2[[#This Row],[Column52]]&AW388","v":""}]
[386,null,null,null,null,null,null,null,null,null,null,null,null,null,null,null,null,null,null,null,null,null,{"$f":"IF(MIN(AE387:AI387)>=33,SUM(K387:T387),\"--\")","v":"--"},{"$f":"IF(W387=\"--\",0,W387)","v":0},{"$f":"Table_2[[#This Row],[Column20]]+Table_2[[#This Row],[Column56]]","v":0},{"$f":"IF(N387>0,$N$1,IF(O387>0,$O$1,\"\"))","v":""},{"$f":"Table_2[[#This Row],[Column20]]+Table_2[[#This Row],[Column56]]","v":0},{"$f":"IFERROR(IF(P387>0,$P$1,IF(Q387>0,$Q$1,\"\")),\"\")","v":""},{"$f":"Table_2[[#This Row],[Column57]]+Table_2[[#This Row],[Column16]]+Table_2[[#This Row],[Column15]]","v":0},{"$f":"IFERROR(IF(R387>0,$R$1,IF(S387>0,$S$1,IF(T387>0,$T$1,\"\"))),\"\")","v":""},{"$f":"(K387/Instructions!$C$23)*100","v":0},{"$f":"(L387/Instructions!$C$24)*100","v":0},{"$f":"(Y387/Instructions!$C$25)*100","v":0},{"$f":"(AA387/Instructions!$C$27)*100","v":0},{"$f":"(AC387/Instructions!$C$29)*100","v":0},{"$f":"(V387/Instructions!$C$33)*100","v":0},{"$f":"(U387/Instructions!$C$32)*100","v":0},{"$f":"(W387/Instructions!$C$36)*100","v":{"$error":"#VALUE!"}},{"$f":"IFERROR(IF(AL387>=33,\"PASS\",\"----\"),\"\")","v":""},{"$f":"IFERROR(IF(AE387>90,\"A+\",IF(AE387>80,\"A\",IF(AE387>70,\"B+\",IF(AE387>60,\"B\",IF(AE387>50,\"C+\",IF(AE387>40,\"C\",IF(AE387>=33,\"D\",\"E\"))))))),\"Abs\")","v":"E"},{"$f":"IFERROR(IF(AF387>90,\"A+\",IF(AF387>80,\"A\",IF(AF387>70,\"B+\",IF(AF387>60,\"B\",IF(AF387>50,\"C+\",IF(AF387>40,\"C\",IF(AF387>=33,\"D\",\"E\"))))))),\"Abs\")","v":"E"},{"$f":"IFERROR(IF(AG387>90,\"A+\",IF(AG387>80,\"A\",IF(AG387>70,\"B+\",IF(AG387>60,\"B\",IF(AG387>50,\"C+\",IF(AG387>40,\"C\",IF(AG387>=33,\"D\",\"E\"))))))),\"Abs\")","v":"E"},{"$f":"IFERROR(IF(AH387>90,\"A+\",IF(AH387>80,\"A\",IF(AH387>70,\"B+\",IF(AH387>60,\"B\",IF(AH387>50,\"C+\",IF(AH387>40,\"C\",IF(AH387>=33,\"D\",\"E\"))))))),\"Abs\")","v":"E"},{"$f":"IFERROR(IF(AI387>90,\"A+\",IF(AI387>80,\"A\",IF(AI387>70,\"B+\",IF(AI387>60,\"B\",IF(AI387>50,\"C+\",IF(AI387>40,\"C\",IF(AI387>=33,\"D\",\"E\"))))))),\"Abs\")","v":"E"},{"$f":"IFERROR(IF(AJ387>90,\"A+\",IF(AJ387>80,\"A\",IF(AJ387>70,\"B+\",IF(AJ387>60,\"B\",IF(AJ387>50,\"C+\",IF(AJ387>40,\"C\",IF(AJ387>=33,\"D\",\"E\"))))))),\"Abs\")","v":"E"},{"$f":"IFERROR(IF(AK387>90,\"A+\",IF(AK387>80,\"A\",IF(AK387>70,\"B+\",IF(AK387>60,\"B\",IF(AK387>50,\"C+\",IF(AK387>40,\"C\",IF(AK387>=33,\"D\",\"E\"))))))),\"Abs\")","v":"E"},{"$f":"IFERROR(IF(AL387>90,\"A+\",IF(AL387>80,\"A\",IF(AL387>70,\"B+\",IF(AL387>60,\"B\",IF(AL387>50,\"C+\",IF(AL387>40,\"C\",IF(AL387>=33,\"D\",\"E\"))))))),\"--\")","v":"--"},null,null,null,null,null,{"$f":"Table_2[[#This Row],[Column51]]&Table_2[[#This Row],[Column52]]&AW389","v":""}]
[387,null,null,null,null,null,null,null,null,null,null,null,null,null,null,null,null,null,null,null,null,null,"--",0,{"$f":"Table_2[[#This Row],[Column20]]+Table_2[[#This Row],[Column56]]","v":0},"",{"$f":"Table_2[[#This Row],[Column20]]+Table_2[[#This Row],[Column56]]","v":0},"",{"$f":"Table_2[[#This Row],[Column57]]+Table_2[[#This Row],[Column16]]+Table_2[[#This Row],[Column15]]","v":0},"",{"$f":"(K388/Instructions!$C$23)*100","v":0},{"$f":"(L388/Instructions!$C$24)*100","v":0},{"$f":"(Y388/Instructions!$C$25)*100","v":0},{"$f":"(AA388/Instructions!$C$27)*100","v":0},{"$f":"(AC388/Instructions!$C$29)*100","v":0},{"$f":"(V388/Instructions!$C$33)*100","v":0},{"$f":"(U388/Instructions!$C$32)*100","v":0},{"$f":"(W388/Instructions!$C$36)*100","v":{"$error":"#VALUE!"}},"","E","E","E","E","E","E","E","--",null,null,null,null,null,{"$f":"Table_2[[#This Row],[Column51]]&Table_2[[#This Row],[Column52]]&AW390","v":""}]
[388,null,null,null,null,null,null,null,null,null,null,null,null,null,null,null,null,null,null,null,null,null,"--",0,{"$f":"Table_2[[#This Row],[Column20]]+Table_2[[#This Row],[Column56]]","v":0},"",{"$f":"Table_2[[#This Row],[Column20]]+Table_2[[#This Row],[Column56]]","v":0},"",{"$f":"Table_2[[#This Row],[Column57]]+Table_2[[#This Row],[Column16]]+Table_2[[#This Row],[Column15]]","v":0},"",{"$f":"(K389/Instructions!$C$23)*100","v":0},{"$f":"(L389/Instructions!$C$24)*100","v":0},{"$f":"(Y389/Instructions!$C$25)*100","v":0},{"$f":"(AA389/Instructions!$C$27)*100","v":0},{"$f":"(AC389/Instructions!$C$29)*100","v":0},{"$f":"(V389/Instructions!$C$33)*100","v":0},{"$f":"(U389/Instructions!$C$32)*100","v":0},{"$f":"(W389/Instructions!$C$36)*100","v":{"$error":"#VALUE!"}},"","E","E","E","E","E","E","E","--",null,null,null,null,null,{"$f":"Table_2[[#This Row],[Column51]]&Table_2[[#This Row],[Column52]]&AW391","v":""}]
[389,null,null,null,null,null,null,null,null,null,null,null,null,null,null,null,null,null,null,null,null,null,"--",0,{"$f":"Table_2[[#This Row],[Column20]]+Table_2[[#This Row],[Column56]]","v":0},"",{"$f":"Table_2[[#This Row],[Column20]]+Table_2[[#This Row],[Column56]]","v":0},"",{"$f":"Table_2[[#This Row],[Column57]]+Table_2[[#This Row],[Column16]]+Table_2[[#This Row],[Column15]]","v":0},"",{"$f":"(K390/Instructions!$C$23)*100","v":0},{"$f":"(L390/Instructions!$C$24)*100","v":0},{"$f":"(Y390/Instructions!$C$25)*100","v":0},{"$f":"(AA390/Instructions!$C$27)*100","v":0},{"$f":"(AC390/Instructions!$C$29)*100","v":0},{"$f":"(V390/Instructions!$C$33)*100","v":0},{"$f":"(U390/Instructions!$C$32)*100","v":0},{"$f":"(W390/Instructions!$C$36)*100","v":{"$error":"#VALUE!"}},"","E","E","E","E","E","E","E","--",null,null,null,null,null,{"$f":"Table_2[[#This Row],[Column51]]&Table_2[[#This Row],[Column52]]&AW392","v":""}]
[390,null,null,null,null,null,null,null,null,null,null,null,null,null,null,null,null,null,null,null,null,null,"--",0,{"$f":"Table_2[[#This Row],[Column20]]+Table_2[[#This Row],[Column56]]","v":0},"",{"$f":"Table_2[[#This Row],[Column20]]+Table_2[[#This Row],[Column56]]","v":0},"",{"$f":"Table_2[[#This Row],[Column57]]+Table_2[[#This Row],[Column16]]+Table_2[[#This Row],[Column15]]","v":0},"",{"$f":"(K391/Instructions!$C$23)*100","v":0},{"$f":"(L391/Instructions!$C$24)*100","v":0},{"$f":"(Y391/Instructions!$C$25)*100","v":0},{"$f":"(AA391/Instructions!$C$27)*100","v":0},{"$f":"(AC391/Instructions!$C$29)*100","v":0},{"$f":"(V391/Instructions!$C$33)*100","v":0},{"$f":"(U391/Instructions!$C$32)*100","v":0},{"$f":"(W391/Instructions!$C$36)*100","v":{"$error":"#VALUE!"}},"","E","E","E","E","E","E","E","--",null,null,null,null,null,{"$f":"Table_2[[#This Row],[Column51]]&Table_2[[#This Row],[Column52]]&AW393","v":""}]
[391,null,null,null,null,null,null,null,null,null,null,null,null,null,null,null,null,null,null,null,null,null,"--",0,{"$f":"Table_2[[#This Row],[Column20]]+Table_2[[#This Row],[Column56]]","v":0},"",{"$f":"Table_2[[#This Row],[Column20]]+Table_2[[#This Row],[Column56]]","v":0},"",{"$f":"Table_2[[#This Row],[Column57]]+Table_2[[#This Row],[Column16]]+Table_2[[#This Row],[Column15]]","v":0},"",{"$f":"(K392/Instructions!$C$23)*100","v":0},{"$f":"(L392/Instructions!$C$24)*100","v":0},{"$f":"(Y392/Instructions!$C$25)*100","v":0},{"$f":"(AA392/Instructions!$C$27)*100","v":0},{"$f":"(AC392/Instructions!$C$29)*100","v":0},{"$f":"(V392/Instructions!$C$33)*100","v":0},{"$f":"(U392/Instructions!$C$32)*100","v":0},{"$f":"(W392/Instructions!$C$36)*100","v":{"$error":"#VALUE!"}},"","E","E","E","E","E","E","E","--",null,null,null,null,null,{"$f":"Table_2[[#This Row],[Column51]]&Table_2[[#This Row],[Column52]]&AW394","v":""}]
[392,null,null,null,null,null,null,null,null,null,null,null,null,null,null,null,null,null,null,null,null,null,"--",0,{"$f":"Table_2[[#This Row],[Column20]]+Table_2[[#This Row],[Column56]]","v":0},"",{"$f":"Table_2[[#This Row],[Column20]]+Table_2[[#This Row],[Column56]]","v":0},"",{"$f":"Table_2[[#This Row],[Column57]]+Table_2[[#This Row],[Column16]]+Table_2[[#This Row],[Column15]]","v":0},"",{"$f":"(K393/Instructions!$C$23)*100","v":0},{"$f":"(L393/Instructions!$C$24)*100","v":0},{"$f":"(Y393/Instructions!$C$25)*100","v":0},{"$f":"(AA393/Instructions!$C$27)*100","v":0},{"$f":"(AC393/Instructions!$C$29)*100","v":0},{"$f":"(V393/Instructions!$C$33)*100","v":0},{"$f":"(U393/Instructions!$C$32)*100","v":0},{"$f":"(W393/Instructions!$C$36)*100","v":{"$error":"#VALUE!"}},"","E","E","E","E","E","E","E","--",null,null,null,null,null,{"$f":"Table_2[[#This Row],[Column51]]&Table_2[[#This Row],[Column52]]&AW395","v":""}]
[393,null,null,null,null,null,null,null,null,null,null,null,null,null,null,null,null,null,null,null,null,null,"--",0,{"$f":"Table_2[[#This Row],[Column20]]+Table_2[[#This Row],[Column56]]","v":0},"",{"$f":"Table_2[[#This Row],[Column20]]+Table_2[[#This Row],[Column56]]","v":0},"",{"$f":"Table_2[[#This Row],[Column57]]+Table_2[[#This Row],[Column16]]+Table_2[[#This Row],[Column15]]","v":0},"",{"$f":"(K394/Instructions!$C$23)*100","v":0},{"$f":"(L394/Instructions!$C$24)*100","v":0},{"$f":"(Y394/Instructions!$C$25)*100","v":0},{"$f":"(AA394/Instructions!$C$27)*100","v":0},{"$f":"(AC394/Instructions!$C$29)*100","v":0},{"$f":"(V394/Instructions!$C$33)*100","v":0},{"$f":"(U394/Instructions!$C$32)*100","v":0},{"$f":"(W394/Instructions!$C$36)*100","v":{"$error":"#VALUE!"}},"","E","E","E","E","E","E","E","--",null,null,null,null,null,{"$f":"Table_2[[#This Row],[Column51]]&Table_2[[#This Row],[Column52]]&AW396","v":""}]
[394,null,null,null,null,null,null,null,null,null,null,null,null,null,null,null,null,null,null,null,null,null,"--",0,{"$f":"Table_2[[#This Row],[Column20]]+Table_2[[#This Row],[Column56]]","v":0},"",{"$f":"Table_2[[#This Row],[Column20]]+Table_2[[#This Row],[Column56]]","v":0},"",{"$f":"Table_2[[#This Row],[Column57]]+Table_2[[#This Row],[Column16]]+Table_2[[#This Row],[Column15]]","v":0},"",{"$f":"(K395/Instructions!$C$23)*100","v":0},{"$f":"(L395/Instructions!$C$24)*100","v":0},{"$f":"(Y395/Instructions!$C$25)*100","v":0},{"$f":"(AA395/Instructions!$C$27)*100","v":0},{"$f":"(AC395/Instructions!$C$29)*100","v":0},{"$f":"(V395/Instructions!$C$33)*100","v":0},{"$f":"(U395/Instructions!$C$32)*100","v":0},{"$f":"(W395/Instructions!$C$36)*100","v":{"$error":"#VALUE!"}},"","E","E","E","E","E","E","E","--",null,null,null,null,null,{"$f":"Table_2[[#This Row],[Column51]]&Table_2[[#This Row],[Column52]]&AW397","v":""}]
[395,null,null,null,null,null,null,null,null,null,null,null,null,null,null,null,null,null,null,null,null,null,"--",0,{"$f":"Table_2[[#This Row],[Column20]]+Table_2[[#This Row],[Column56]]","v":0},"",{"$f":"Table_2[[#This Row],[Column20]]+Table_2[[#This Row],[Column56]]","v":0},"",{"$f":"Table_2[[#This Row],[Column57]]+Table_2[[#This Row],[Column16]]+Table_2[[#This Row],[Column15]]","v":0},"",{"$f":"(K396/Instructions!$C$23)*100","v":0},{"$f":"(L396/Instructions!$C$24)*100","v":0},{"$f":"(Y396/Instructions!$C$25)*100","v":0},{"$f":"(AA396/Instructions!$C$27)*100","v":0},{"$f":"(AC396/Instructions!$C$29)*100","v":0},{"$f":"(V396/Instructions!$C$33)*100","v":0},{"$f":"(U396/Instructions!$C$32)*100","v":0},{"$f":"(W396/Instructions!$C$36)*100","v":{"$error":"#VALUE!"}},"","E","E","E","E","E","E","E","--",null,null,null,null,null,{"$f":"Table_2[[#This Row],[Column51]]&Table_2[[#This Row],[Column52]]&AW398","v":""}]
[396,null,null,null,null,null,null,null,null,null,null,null,null,null,null,null,null,null,null,null,null,null,"--",0,{"$f":"Table_2[[#This Row],[Column20]]+Table_2[[#This Row],[Column56]]","v":0},"",{"$f":"Table_2[[#This Row],[Column20]]+Table_2[[#This Row],[Column56]]","v":0},"",{"$f":"Table_2[[#This Row],[Column57]]+Table_2[[#This Row],[Column16]]+Table_2[[#This Row],[Column15]]","v":0},"",{"$f":"(K397/Instructions!$C$23)*100","v":0},{"$f":"(L397/Instructions!$C$24)*100","v":0},{"$f":"(Y397/Instructions!$C$25)*100","v":0},{"$f":"(AA397/Instructions!$C$27)*100","v":0},{"$f":"(AC397/Instructions!$C$29)*100","v":0},{"$f":"(V397/Instructions!$C$33)*100","v":0},{"$f":"(U397/Instructions!$C$32)*100","v":0},{"$f":"(W397/Instructions!$C$36)*100","v":{"$error":"#VALUE!"}},"","E","E","E","E","E","E","E","--",null,null,null,null,null,{"$f":"Table_2[[#This Row],[Column51]]&Table_2[[#This Row],[Column52]]&AW399","v":""}]
[397,null,null,null,null,null,null,null,null,null,null,null,null,null,null,null,null,null,null,null,null,null,"--",0,{"$f":"Table_2[[#This Row],[Column20]]+Table_2[[#This Row],[Column56]]","v":0},"",{"$f":"Table_2[[#This Row],[Column20]]+Table_2[[#This Row],[Column56]]","v":0},"",{"$f":"Table_2[[#This Row],[Column57]]+Table_2[[#This Row],[Column16]]+Table_2[[#This Row],[Column15]]","v":0},"",{"$f":"(K398/Instructions!$C$23)*100","v":0},{"$f":"(L398/Instructions!$C$24)*100","v":0},{"$f":"(Y398/Instructions!$C$25)*100","v":0},{"$f":"(AA398/Instructions!$C$27)*100","v":0},{"$f":"(AC398/Instructions!$C$29)*100","v":0},{"$f":"(V398/Instructions!$C$33)*100","v":0},{"$f":"(U398/Instructions!$C$32)*100","v":0},{"$f":"(W398/Instructions!$C$36)*100","v":{"$error":"#VALUE!"}},"","E","E","E","E","E","E","E","--",null,null,null,null,null,{"$f":"Table_2[[#This Row],[Column51]]&Table_2[[#This Row],[Column52]]&AW400","v":""}]
[398,null,null,null,null,null,null,null,null,null,null,null,null,null,null,null,null,null,null,null,null,null,"--",0,{"$f":"Table_2[[#This Row],[Column20]]+Table_2[[#This Row],[Column56]]","v":0},"",{"$f":"Table_2[[#This Row],[Column20]]+Table_2[[#This Row],[Column56]]","v":0},"",{"$f":"Table_2[[#This Row],[Column57]]+Table_2[[#This Row],[Column16]]+Table_2[[#This Row],[Column15]]","v":0},"",{"$f":"(K399/Instructions!$C$23)*100","v":0},{"$f":"(L399/Instructions!$C$24)*100","v":0},{"$f":"(Y399/Instructions!$C$25)*100","v":0},{"$f":"(AA399/Instructions!$C$27)*100","v":0},{"$f":"(AC399/Instructions!$C$29)*100","v":0},{"$f":"(V399/Instructions!$C$33)*100","v":0},{"$f":"(U399/Instructions!$C$32)*100","v":0},{"$f":"(W399/Instructions!$C$36)*100","v":{"$error":"#VALUE!"}},"","E","E","E","E","E","E","E","--",null,null,null,null,null,{"$f":"Table_2[[#This Row],[Column51]]&Table_2[[#This Row],[Column52]]&AW401","v":""}]
[399,null,null,null,null,null,null,null,null,null,null,null,null,null,null,null,null,null,null,null,null,null,"--",0,{"$f":"Table_2[[#This Row],[Column20]]+Table_2[[#This Row],[Column56]]","v":0},"",{"$f":"Table_2[[#This Row],[Column20]]+Table_2[[#This Row],[Column56]]","v":0},"",{"$f":"Table_2[[#This Row],[Column57]]+Table_2[[#This Row],[Column16]]+Table_2[[#This Row],[Column15]]","v":0},"",{"$f":"(K400/Instructions!$C$23)*100","v":0},{"$f":"(L400/Instructions!$C$24)*100","v":0},{"$f":"(Y400/Instructions!$C$25)*100","v":0},{"$f":"(AA400/Instructions!$C$27)*100","v":0},{"$f":"(AC400/Instructions!$C$29)*100","v":0},{"$f":"(V400/Instructions!$C$33)*100","v":0},{"$f":"(U400/Instructions!$C$32)*100","v":0},{"$f":"(W400/Instructions!$C$36)*100","v":{"$error":"#VALUE!"}},"","E","E","E","E","E","E","E","--",null,null,null,null,null,{"$f":"Table_2[[#This Row],[Column51]]&Table_2[[#This Row],[Column52]]&AW402","v":""}]
[400,null,null,null,null,null,null,null,null,null,null,null,null,null,null,null,null,null,null,null,null,null,"--",0,{"$f":"Table_2[[#This Row],[Column20]]+Table_2[[#This Row],[Column56]]","v":0},"",{"$f":"Table_2[[#This Row],[Column20]]+Table_2[[#This Row],[Column56]]","v":0},"",{"$f":"Table_2[[#This Row],[Column57]]+Table_2[[#This Row],[Column16]]+Table_2[[#This Row],[Column15]]","v":0},"",{"$f":"(K401/Instructions!$C$23)*100","v":0},{"$f":"(L401/Instructions!$C$24)*100","v":0},{"$f":"(Y401/Instructions!$C$25)*100","v":0},{"$f":"(AA401/Instructions!$C$27)*100","v":0},{"$f":"(AC401/Instructions!$C$29)*100","v":0},{"$f":"(V401/Instructions!$C$33)*100","v":0},{"$f":"(U401/Instructions!$C$32)*100","v":0},{"$f":"(W401/Instructions!$C$36)*100","v":{"$error":"#VALUE!"}},"","E","E","E","E","E","E","E","--",null,null,null,null,null,{"$f":"Table_2[[#This Row],[Column51]]&Table_2[[#This Row],[Column52]]&AW403","v":""}]
[null,null,null,null,null,null,null,null,null,null,null,null,null,null,null,null,null,null,null,null,null,null,"--",0,{"$f":"Table_2[[#This Row],[Column20]]+Table_2[[#This Row],[Column56]]","v":0},"",{"$f":"Table_2[[#This Row],[Column20]]+Table_2[[#This Row],[Column56]]","v":0},"",{"$f":"Table_2[[#This Row],[Column57]]+Table_2[[#This Row],[Column16]]+Table_2[[#This Row],[Column15]]","v":0},"",{"$f":"(K402/Instructions!$C$23)*100","v":0},{"$f":"(L402/Instructions!$C$24)*100","v":0},{"$f":"(Y402/Instructions!$C$25)*100","v":0},{"$f":"(AA402/Instructions!$C$27)*100","v":0},{"$f":"(AC402/Instructions!$C$29)*100","v":0},{"$f":"(V402/Instructions!$C$33)*100","v":0},{"$f":"(U402/Instructions!$C$32)*100","v":0},{"$f":"(W402/Instructions!$C$36)*100","v":{"$error":"#VALUE!"}},"","E","E","E","E","E","E","E","--",null,null,null,null,null,{"$f":"Table_2[[#This Row],[Column51]]&Table_2[[#This Row],[Column52]]&AY875","v":""}]
[null,null,null,null,null,null,null,null,null,null,null,null,null,null,null,null,null,null,null,null,null,null,"--",0,{"$f":"Table_2[[#This Row],[Column20]]+Table_2[[#This Row],[Column56]]","v":0},"",{"$f":"Table_2[[#This Row],[Column20]]+Table_2[[#This Row],[Column56]]","v":0},"",{"$f":"Table_2[[#This Row],[Column57]]+Table_2[[#This Row],[Column16]]+Table_2[[#This Row],[Column15]]","v":0},"",{"$f":"(K403/Instructions!$C$23)*100","v":0},{"$f":"(L403/Instructions!$C$24)*100","v":0},{"$f":"(Y403/Instructions!$C$25)*100","v":0},{"$f":"(AA403/Instructions!$C$27)*100","v":0},{"$f":"(AC403/Instructions!$C$29)*100","v":0},{"$f":"(V403/Instructions!$C$33)*100","v":0},{"$f":"(U403/Instructions!$C$32)*100","v":0},{"$f":"(W403/Instructions!$C$36)*100","v":{"$error":"#VALUE!"}},"","E","E","E","E","E","E","E","--",null,null,null,null,null,{"$f":"Table_2[[#This Row],[Column51]]&Table_2[[#This Row],[Column52]]&AY876","v":""}]
[null,null,null,null,null,null,null,null,null,null,null,null,null,null,null,{"$f":"Instructions!B438","v":0},null,null,null,null,null,null,"--",0,{"$f":"Table_2[[#This Row],[Column20]]+Table_2[[#This Row],[Column56]]","v":0},"",{"$f":"Table_2[[#This Row],[Column20]]+Table_2[[#This Row],[Column56]]","v":0},"",{"$f":"Table_2[[#This Row],[Column57]]+Table_2[[#This Row],[Column16]]+Table_2[[#This Row],[Column15]]","v":0},"",{"$f":"(K404/Instructions!$C$23)*100","v":0},{"$f":"(L404/Instructions!$C$24)*100","v":0},{"$f":"(Y404/Instructions!$C$25)*100","v":0},{"$f":"(AA404/Instructions!$C$27)*100","v":0},{"$f":"(AC404/Instructions!$C$29)*100","v":0},{"$f":"(V404/Instructions!$C$33)*100","v":0},{"$f":"(U404/Instructions!$C$32)*100","v":0},{"$f":"(W404/Instructions!$C$36)*100","v":{"$error":"#VALUE!"}},"","E","E","E","E","E","E","E","--",null,null,null,null,null,{"$f":"Table_2[[#This Row],[Column51]]&Table_2[[#This Row],[Column52]]&AW406","v":""}]
[null,null,null,null,null,null,null,null,null,null,null,null,null,null,null,{"$f":"Instructions!B439","v":0},null,null,null,null,null,null,"--",0,{"$f":"Table_2[[#This Row],[Column20]]+Table_2[[#This Row],[Column56]]","v":0},"",{"$f":"Table_2[[#This Row],[Column20]]+Table_2[[#This Row],[Column56]]","v":0},"",{"$f":"Table_2[[#This Row],[Column57]]+Table_2[[#This Row],[Column16]]+Table_2[[#This Row],[Column15]]","v":0},"",{"$f":"(K405/Instructions!$C$23)*100","v":0},{"$f":"(L405/Instructions!$C$24)*100","v":0},{"$f":"(Y405/Instructions!$C$25)*100","v":0},{"$f":"(AA405/Instructions!$C$27)*100","v":0},{"$f":"(AC405/Instructions!$C$29)*100","v":0},{"$f":"(V405/Instructions!$C$33)*100","v":0},{"$f":"(U405/Instructions!$C$32)*100","v":0},{"$f":"(W405/Instructions!$C$36)*100","v":{"$error":"#VALUE!"}},"","E","E","E","E","E","E","E","--",null,null,null,null,null,{"$f":"Table_2[[#This Row],[Column51]]&Table_2[[#This Row],[Column52]]&AW407","v":""}]
[null,null,null,null,null,null,null,null,null,null,null,null,null,null,null,{"$f":"Instructions!B440","v":0},null,null,null,null,null,null,"--",0,{"$f":"Table_2[[#This Row],[Column20]]+Table_2[[#This Row],[Column56]]","v":0},"",{"$f":"Table_2[[#This Row],[Column20]]+Table_2[[#This Row],[Column56]]","v":0},"",{"$f":"Table_2[[#This Row],[Column57]]+Table_2[[#This Row],[Column16]]+Table_2[[#This Row],[Column15]]","v":0},"",{"$f":"(K406/Instructions!$C$23)*100","v":0},{"$f":"(L406/Instructions!$C$24)*100","v":0},{"$f":"(Y406/Instructions!$C$25)*100","v":0},{"$f":"(AA406/Instructions!$C$27)*100","v":0},{"$f":"(AC406/Instructions!$C$29)*100","v":0},{"$f":"(V406/Instructions!$C$33)*100","v":0},{"$f":"(U406/Instructions!$C$32)*100","v":0},{"$f":"(W406/Instructions!$C$36)*100","v":{"$error":"#VALUE!"}},"","E","E","E","E","E","E","E","--",null,null,null,null,null,{"$f":"Table_2[[#This Row],[Column51]]&Table_2[[#This Row],[Column52]]&AW408","v":""}]
[null,null,null,null,null,null,null,null,null,null,null,null,null,null,null,{"$f":"Instructions!B441","v":0},null,null,null,null,null,null,"--",0,{"$f":"Table_2[[#This Row],[Column20]]+Table_2[[#This Row],[Column56]]","v":0},"",{"$f":"Table_2[[#This Row],[Column20]]+Table_2[[#This Row],[Column56]]","v":0},"",{"$f":"Table_2[[#This Row],[Column57]]+Table_2[[#This Row],[Column16]]+Table_2[[#This Row],[Column15]]","v":0},"",{"$f":"(K407/Instructions!$C$23)*100","v":0},{"$f":"(L407/Instructions!$C$24)*100","v":0},{"$f":"(Y407/Instructions!$C$25)*100","v":0},{"$f":"(AA407/Instructions!$C$27)*100","v":0},{"$f":"(AC407/Instructions!$C$29)*100","v":0},{"$f":"(V407/Instructions!$C$33)*100","v":0},{"$f":"(U407/Instructions!$C$32)*100","v":0},{"$f":"(W407/Instructions!$C$36)*100","v":{"$error":"#VALUE!"}},"","E","E","E","E","E","E","E","--",null,null,null,null,null,{"$f":"Table_2[[#This Row],[Column51]]&Table_2[[#This Row],[Column52]]&AW409","v":""}]
[null,null,null,null,null,null,null,null,null,null,null,null,null,null,null,{"$f":"Instructions!B442","v":0},null,null,null,null,null,null,"--",0,{"$f":"Table_2[[#This Row],[Column20]]+Table_2[[#This Row],[Column56]]","v":0},"",{"$f":"Table_2[[#This Row],[Column20]]+Table_2[[#This Row],[Column56]]","v":0},"",{"$f":"Table_2[[#This Row],[Column57]]+Table_2[[#This Row],[Column16]]+Table_2[[#This Row],[Column15]]","v":0},"",{"$f":"(K408/Instructions!$C$23)*100","v":0},{"$f":"(L408/Instructions!$C$24)*100","v":0},{"$f":"(Y408/Instructions!$C$25)*100","v":0},{"$f":"(AA408/Instructions!$C$27)*100","v":0},{"$f":"(AC408/Instructions!$C$29)*100","v":0},{"$f":"(V408/Instructions!$C$33)*100","v":0},{"$f":"(U408/Instructions!$C$32)*100","v":0},{"$f":"(W408/Instructions!$C$36)*100","v":{"$error":"#VALUE!"}},"","E","E","E","E","E","E","E","--",null,null,null,null,null,{"$f":"Table_2[[#This Row],[Column51]]&Table_2[[#This Row],[Column52]]&AW410","v":""}]
[null,null,null,null,null,null,null,null,null,null,null,null,null,null,null,{"$f":"Instructions!B443","v":0},null,null,null,null,null,null,"--",0,{"$f":"Table_2[[#This Row],[Column20]]+Table_2[[#This Row],[Column56]]","v":0},"",{"$f":"Table_2[[#This Row],[Column20]]+Table_2[[#This Row],[Column56]]","v":0},"",{"$f":"Table_2[[#This Row],[Column57]]+Table_2[[#This Row],[Column16]]+Table_2[[#This Row],[Column15]]","v":0},"",{"$f":"(K409/Instructions!$C$23)*100","v":0},{"$f":"(L409/Instructions!$C$24)*100","v":0},{"$f":"(Y409/Instructions!$C$25)*100","v":0},{"$f":"(AA409/Instructions!$C$27)*100","v":0},{"$f":"(AC409/Instructions!$C$29)*100","v":0},{"$f":"(V409/Instructions!$C$33)*100","v":0},{"$f":"(U409/Instructions!$C$32)*100","v":0},{"$f":"(W409/Instructions!$C$36)*100","v":{"$error":"#VALUE!"}},"","E","E","E","E","E","E","E","--",null,null,null,null,null,{"$f":"Table_2[[#This Row],[Column51]]&Table_2[[#This Row],[Column52]]&AW411","v":""}]
[null,null,null,null,null,null,null,null,null,null,null,null,null,null,null,{"$f":"Instructions!B444","v":0},null,null,null,null,null,null,"--",0,{"$f":"Table_2[[#This Row],[Column20]]+Table_2[[#This Row],[Column56]]","v":0},"",{"$f":"Table_2[[#This Row],[Column20]]+Table_2[[#This Row],[Column56]]","v":0},"",{"$f":"Table_2[[#This Row],[Column57]]+Table_2[[#This Row],[Column16]]+Table_2[[#This Row],[Column15]]","v":0},"",{"$f":"(K410/Instructions!$C$23)*100","v":0},{"$f":"(L410/Instructions!$C$24)*100","v":0},{"$f":"(Y410/Instructions!$C$25)*100","v":0},{"$f":"(AA410/Instructions!$C$27)*100","v":0},{"$f":"(AC410/Instructions!$C$29)*100","v":0},{"$f":"(V410/Instructions!$C$33)*100","v":0},{"$f":"(U410/Instructions!$C$32)*100","v":0},{"$f":"(W410/Instructions!$C$36)*100","v":{"$error":"#VALUE!"}},"","E","E","E","E","E","E","E","--",null,null,null,null,null,{"$f":"Table_2[[#This Row],[Column51]]&Table_2[[#This Row],[Column52]]&AW412","v":""}]
[null,null,null,null,null,null,null,null,null,null,null,null,null,null,null,{"$f":"Instructions!B445","v":0},null,null,null,null,null,null,"--",0,{"$f":"Table_2[[#This Row],[Column20]]+Table_2[[#This Row],[Column56]]","v":0},"",{"$f":"Table_2[[#This Row],[Column20]]+Table_2[[#This Row],[Column56]]","v":0},"",{"$f":"Table_2[[#This Row],[Column57]]+Table_2[[#This Row],[Column16]]+Table_2[[#This Row],[Column15]]","v":0},"",{"$f":"(K411/Instructions!$C$23)*100","v":0},{"$f":"(L411/Instructions!$C$24)*100","v":0},{"$f":"(Y411/Instructions!$C$25)*100","v":0},{"$f":"(AA411/Instructions!$C$27)*100","v":0},{"$f":"(AC411/Instructions!$C$29)*100","v":0},{"$f":"(V411/Instructions!$C$33)*100","v":0},{"$f":"(U411/Instructions!$C$32)*100","v":0},{"$f":"(W411/Instructions!$C$36)*100","v":{"$error":"#VALUE!"}},"","E","E","E","E","E","E","E","--",null,null,null,null,null,{"$f":"Table_2[[#This Row],[Column51]]&Table_2[[#This Row],[Column52]]&AW413","v":""}]
[null,null,null,null,null,null,null,null,null,null,null,null,null,null,null,{"$f":"Instructions!B446","v":0},null,null,null,null,null,null,"--",0,{"$f":"Table_2[[#This Row],[Column20]]+Table_2[[#This Row],[Column56]]","v":0},"",{"$f":"Table_2[[#This Row],[Column20]]+Table_2[[#This Row],[Column56]]","v":0},"",{"$f":"Table_2[[#This Row],[Column57]]+Table_2[[#This Row],[Column16]]+Table_2[[#This Row],[Column15]]","v":0},"",{"$f":"(K412/Instructions!$C$23)*100","v":0},{"$f":"(L412/Instructions!$C$24)*100","v":0},{"$f":"(Y412/Instructions!$C$25)*100","v":0},{"$f":"(AA412/Instructions!$C$27)*100","v":0},{"$f":"(AC412/Instructions!$C$29)*100","v":0},{"$f":"(V412/Instructions!$C$33)*100","v":0},{"$f":"(U412/Instructions!$C$32)*100","v":0},{"$f":"(W412/Instructions!$C$36)*100","v":{"$error":"#VALUE!"}},"","E","E","E","E","E","E","E","--",null,null,null,null,null,{"$f":"Table_2[[#This Row],[Column51]]&Table_2[[#This Row],[Column52]]&AW414","v":""}]
[null,null,null,null,null,null,null,null,null,null,null,null,null,null,null,{"$f":"Instructions!B447","v":0},null,null,null,null,null,null,"--",0,{"$f":"Table_2[[#This Row],[Column20]]+Table_2[[#This Row],[Column56]]","v":0},"",{"$f":"Table_2[[#This Row],[Column20]]+Table_2[[#This Row],[Column56]]","v":0},"",{"$f":"Table_2[[#This Row],[Column57]]+Table_2[[#This Row],[Column16]]+Table_2[[#This Row],[Column15]]","v":0},"",{"$f":"(K413/Instructions!$C$23)*100","v":0},{"$f":"(L413/Instructions!$C$24)*100","v":0},{"$f":"(Y413/Instructions!$C$25)*100","v":0},{"$f":"(AA413/Instructions!$C$27)*100","v":0},{"$f":"(AC413/Instructions!$C$29)*100","v":0},{"$f":"(V413/Instructions!$C$33)*100","v":0},{"$f":"(U413/Instructions!$C$32)*100","v":0},{"$f":"(W413/Instructions!$C$36)*100","v":{"$error":"#VALUE!"}},"","E","E","E","E","E","E","E","--",null,null,null,null,null,{"$f":"Table_2[[#This Row],[Column51]]&Table_2[[#This Row],[Column52]]&AW415","v":""}]
[null,null,null,null,null,null,null,null,null,null,null,null,null,null,null,{"$f":"Instructions!B448","v":0},null,null,null,null,null,null,"--",0,{"$f":"Table_2[[#This Row],[Column20]]+Table_2[[#This Row],[Column56]]","v":0},"",{"$f":"Table_2[[#This Row],[Column20]]+Table_2[[#This Row],[Column56]]","v":0},"",{"$f":"Table_2[[#This Row],[Column57]]+Table_2[[#This Row],[Column16]]+Table_2[[#This Row],[Column15]]","v":0},"",{"$f":"(K414/Instructions!$C$23)*100","v":0},{"$f":"(L414/Instructions!$C$24)*100","v":0},{"$f":"(Y414/Instructions!$C$25)*100","v":0},{"$f":"(AA414/Instructions!$C$27)*100","v":0},{"$f":"(AC414/Instructions!$C$29)*100","v":0},{"$f":"(V414/Instructions!$C$33)*100","v":0},{"$f":"(U414/Instructions!$C$32)*100","v":0},{"$f":"(W414/Instructions!$C$36)*100","v":{"$error":"#VALUE!"}},"","E","E","E","E","E","E","E","--",null,null,null,null,null,{"$f":"Table_2[[#This Row],[Column51]]&Table_2[[#This Row],[Column52]]&AW416","v":""}]
[null,null,null,null,null,null,null,null,null,null,null,null,null,null,null,{"$f":"Instructions!B449","v":0},null,null,null,null,null,null,"--",0,{"$f":"Table_2[[#This Row],[Column20]]+Table_2[[#This Row],[Column56]]","v":0},"",{"$f":"Table_2[[#This Row],[Column20]]+Table_2[[#This Row],[Column56]]","v":0},"",{"$f":"Table_2[[#This Row],[Column57]]+Table_2[[#This Row],[Column16]]+Table_2[[#This Row],[Column15]]","v":0},"",{"$f":"(K415/Instructions!$C$23)*100","v":0},{"$f":"(L415/Instructions!$C$24)*100","v":0},{"$f":"(Y415/Instructions!$C$25)*100","v":0},{"$f":"(AA415/Instructions!$C$27)*100","v":0},{"$f":"(AC415/Instructions!$C$29)*100","v":0},{"$f":"(V415/Instructions!$C$33)*100","v":0},{"$f":"(U415/Instructions!$C$32)*100","v":0},{"$f":"(W415/Instructions!$C$36)*100","v":{"$error":"#VALUE!"}},"","E","E","E","E","E","E","E","--",null,null,null,null,null,{"$f":"Table_2[[#This Row],[Column51]]&Table_2[[#This Row],[Column52]]&AW417","v":""}]
[null,null,null,null,null,null,null,null,null,null,null,null,null,null,null,{"$f":"Instructions!B450","v":0},null,null,null,null,null,null,"--",0,{"$f":"Table_2[[#This Row],[Column20]]+Table_2[[#This Row],[Column56]]","v":0},"",{"$f":"Table_2[[#This Row],[Column20]]+Table_2[[#This Row],[Column56]]","v":0},"",{"$f":"Table_2[[#This Row],[Column57]]+Table_2[[#This Row],[Column16]]+Table_2[[#This Row],[Column15]]","v":0},"",{"$f":"(K416/Instructions!$C$23)*100","v":0},{"$f":"(L416/Instructions!$C$24)*100","v":0},{"$f":"(Y416/Instructions!$C$25)*100","v":0},{"$f":"(AA416/Instructions!$C$27)*100","v":0},{"$f":"(AC416/Instructions!$C$29)*100","v":0},{"$f":"(V416/Instructions!$C$33)*100","v":0},{"$f":"(U416/Instructions!$C$32)*100","v":0},{"$f":"(W416/Instructions!$C$36)*100","v":{"$error":"#VALUE!"}},"","E","E","E","E","E","E","E","--",null,null,null,null,null,{"$f":"Table_2[[#This Row],[Column51]]&Table_2[[#This Row],[Column52]]&AW418","v":""}]
[null,null,null,null,null,null,null,null,null,null,null,null,null,null,null,{"$f":"Instructions!B451","v":0},null,null,null,null,null,null,"--",0,{"$f":"Table_2[[#This Row],[Column20]]+Table_2[[#This Row],[Column56]]","v":0},"",{"$f":"Table_2[[#This Row],[Column20]]+Table_2[[#This Row],[Column56]]","v":0},"",{"$f":"Table_2[[#This Row],[Column57]]+Table_2[[#This Row],[Column16]]+Table_2[[#This Row],[Column15]]","v":0},"",{"$f":"(K417/Instructions!$C$23)*100","v":0},{"$f":"(L417/Instructions!$C$24)*100","v":0},{"$f":"(Y417/Instructions!$C$25)*100","v":0},{"$f":"(AA417/Instructions!$C$27)*100","v":0},{"$f":"(AC417/Instructions!$C$29)*100","v":0},{"$f":"(V417/Instructions!$C$33)*100","v":0},{"$f":"(U417/Instructions!$C$32)*100","v":0},{"$f":"(W417/Instructions!$C$36)*100","v":{"$error":"#VALUE!"}},"","E","E","E","E","E","E","E","--",null,null,null,null,null,{"$f":"Table_2[[#This Row],[Column51]]&Table_2[[#This Row],[Column52]]&AW419","v":""}]
[null,null,null,null,null,null,null,null,null,null,null,null,null,null,null,{"$f":"Instructions!B452","v":0},null,null,null,null,null,null,"--",0,{"$f":"Table_2[[#This Row],[Column20]]+Table_2[[#This Row],[Column56]]","v":0},"",{"$f":"Table_2[[#This Row],[Column20]]+Table_2[[#This Row],[Column56]]","v":0},"",{"$f":"Table_2[[#This Row],[Column57]]+Table_2[[#This Row],[Column16]]+Table_2[[#This Row],[Column15]]","v":0},"",{"$f":"(K418/Instructions!$C$23)*100","v":0},{"$f":"(L418/Instructions!$C$24)*100","v":0},{"$f":"(Y418/Instructions!$C$25)*100","v":0},{"$f":"(AA418/Instructions!$C$27)*100","v":0},{"$f":"(AC418/Instructions!$C$29)*100","v":0},{"$f":"(V418/Instructions!$C$33)*100","v":0},{"$f":"(U418/Instructions!$C$32)*100","v":0},{"$f":"(W418/Instructions!$C$36)*100","v":{"$error":"#VALUE!"}},"","E","E","E","E","E","E","E","--",null,null,null,null,null,{"$f":"Table_2[[#This Row],[Column51]]&Table_2[[#This Row],[Column52]]&AW420","v":""}]
[null,null,null,null,null,null,null,null,null,null,null,null,null,null,null,{"$f":"Instructions!B453","v":0},null,null,null,null,null,null,"--",0,{"$f":"Table_2[[#This Row],[Column20]]+Table_2[[#This Row],[Column56]]","v":0},"",{"$f":"Table_2[[#This Row],[Column20]]+Table_2[[#This Row],[Column56]]","v":0},"",{"$f":"Table_2[[#This Row],[Column57]]+Table_2[[#This Row],[Column16]]+Table_2[[#This Row],[Column15]]","v":0},"",{"$f":"(K419/Instructions!$C$23)*100","v":0},{"$f":"(L419/Instructions!$C$24)*100","v":0},{"$f":"(Y419/Instructions!$C$25)*100","v":0},{"$f":"(AA419/Instructions!$C$27)*100","v":0},{"$f":"(AC419/Instructions!$C$29)*100","v":0},{"$f":"(V419/Instructions!$C$33)*100","v":0},{"$f":"(U419/Instructions!$C$32)*100","v":0},{"$f":"(W419/Instructions!$C$36)*100","v":{"$error":"#VALUE!"}},"","E","E","E","E","E","E","E","--",null,null,null,null,null,{"$f":"Table_2[[#This Row],[Column51]]&Table_2[[#This Row],[Column52]]&AW421","v":""}]
[null,null,null,null,null,null,null,null,null,null,null,null,null,null,null,{"$f":"Instructions!B454","v":0},null,null,null,null,null,null,"--",0,{"$f":"Table_2[[#This Row],[Column20]]+Table_2[[#This Row],[Column56]]","v":0},"",{"$f":"Table_2[[#This Row],[Column20]]+Table_2[[#This Row],[Column56]]","v":0},"",{"$f":"Table_2[[#This Row],[Column57]]+Table_2[[#This Row],[Column16]]+Table_2[[#This Row],[Column15]]","v":0},"",{"$f":"(K420/Instructions!$C$23)*100","v":0},{"$f":"(L420/Instructions!$C$24)*100","v":0},{"$f":"(Y420/Instructions!$C$25)*100","v":0},{"$f":"(AA420/Instructions!$C$27)*100","v":0},{"$f":"(AC420/Instructions!$C$29)*100","v":0},{"$f":"(V420/Instructions!$C$33)*100","v":0},{"$f":"(U420/Instructions!$C$32)*100","v":0},{"$f":"(W420/Instructions!$C$36)*100","v":{"$error":"#VALUE!"}},"","E","E","E","E","E","E","E","--",null,null,null,null,null,{"$f":"Table_2[[#This Row],[Column51]]&Table_2[[#This Row],[Column52]]&AW422","v":""}]
[null,null,null,null,null,null,null,null,null,null,null,null,null,null,null,{"$f":"Instructions!B455","v":0},null,null,null,null,null,null,"--",0,{"$f":"Table_2[[#This Row],[Column20]]+Table_2[[#This Row],[Column56]]","v":0},"",{"$f":"Table_2[[#This Row],[Column20]]+Table_2[[#This Row],[Column56]]","v":0},"",{"$f":"Table_2[[#This Row],[Column57]]+Table_2[[#This Row],[Column16]]+Table_2[[#This Row],[Column15]]","v":0},"",{"$f":"(K421/Instructions!$C$23)*100","v":0},{"$f":"(L421/Instructions!$C$24)*100","v":0},{"$f":"(Y421/Instructions!$C$25)*100","v":0},{"$f":"(AA421/Instructions!$C$27)*100","v":0},{"$f":"(AC421/Instructions!$C$29)*100","v":0},{"$f":"(V421/Instructions!$C$33)*100","v":0},{"$f":"(U421/Instructions!$C$32)*100","v":0},{"$f":"(W421/Instructions!$C$36)*100","v":{"$error":"#VALUE!"}},"","E","E","E","E","E","E","E","--",null,null,null,null,null,{"$f":"Table_2[[#This Row],[Column51]]&Table_2[[#This Row],[Column52]]&AW423","v":""}]
[null,null,null,null,null,null,null,null,null,null,null,null,null,null,null,{"$f":"Instructions!B456","v":0},null,null,null,null,null,null,"--",0,{"$f":"Table_2[[#This Row],[Column20]]+Table_2[[#This Row],[Column56]]","v":0},"",{"$f":"Table_2[[#This Row],[Column20]]+Table_2[[#This Row],[Column56]]","v":0},"",{"$f":"Table_2[[#This Row],[Column57]]+Table_2[[#This Row],[Column16]]+Table_2[[#This Row],[Column15]]","v":0},"",{"$f":"(K422/Instructions!$C$23)*100","v":0},{"$f":"(L422/Instructions!$C$24)*100","v":0},{"$f":"(Y422/Instructions!$C$25)*100","v":0},{"$f":"(AA422/Instructions!$C$27)*100","v":0},{"$f":"(AC422/Instructions!$C$29)*100","v":0},{"$f":"(V422/Instructions!$C$33)*100","v":0},{"$f":"(U422/Instructions!$C$32)*100","v":0},{"$f":"(W422/Instructions!$C$36)*100","v":{"$error":"#VALUE!"}},"","E","E","E","E","E","E","E","--",null,null,null,null,null,{"$f":"Table_2[[#This Row],[Column51]]&Table_2[[#This Row],[Column52]]&AW424","v":""}]
[null,null,null,null,null,null,null,null,null,null,null,null,null,null,null,{"$f":"Instructions!B457","v":0},null,null,null,null,null,null,"--",0,{"$f":"Table_2[[#This Row],[Column20]]+Table_2[[#This Row],[Column56]]","v":0},"",{"$f":"Table_2[[#This Row],[Column20]]+Table_2[[#This Row],[Column56]]","v":0},"",{"$f":"Table_2[[#This Row],[Column57]]+Table_2[[#This Row],[Column16]]+Table_2[[#This Row],[Column15]]","v":0},"",{"$f":"(K423/Instructions!$C$23)*100","v":0},{"$f":"(L423/Instructions!$C$24)*100","v":0},{"$f":"(Y423/Instructions!$C$25)*100","v":0},{"$f":"(AA423/Instructions!$C$27)*100","v":0},{"$f":"(AC423/Instructions!$C$29)*100","v":0},{"$f":"(V423/Instructions!$C$33)*100","v":0},{"$f":"(U423/Instructions!$C$32)*100","v":0},{"$f":"(W423/Instructions!$C$36)*100","v":{"$error":"#VALUE!"}},"","E","E","E","E","E","E","E","--",null,null,null,null,null,{"$f":"Table_2[[#This Row],[Column51]]&Table_2[[#This Row],[Column52]]&AW425","v":""}]
[null,null,null,null,null,null,null,null,null,null,null,null,null,null,null,{"$f":"Instructions!B458","v":0},null,null,null,null,null,null,"--",0,{"$f":"Table_2[[#This Row],[Column20]]+Table_2[[#This Row],[Column56]]","v":0},"",{"$f":"Table_2[[#This Row],[Column20]]+Table_2[[#This Row],[Column56]]","v":0},"",{"$f":"Table_2[[#This Row],[Column57]]+Table_2[[#This Row],[Column16]]+Table_2[[#This Row],[Column15]]","v":0},"",{"$f":"(K424/Instructions!$C$23)*100","v":0},{"$f":"(L424/Instructions!$C$24)*100","v":0},{"$f":"(Y424/Instructions!$C$25)*100","v":0},{"$f":"(AA424/Instructions!$C$27)*100","v":0},{"$f":"(AC424/Instructions!$C$29)*100","v":0},{"$f":"(V424/Instructions!$C$33)*100","v":0},{"$f":"(U424/Instructions!$C$32)*100","v":0},{"$f":"(W424/Instructions!$C$36)*100","v":{"$error":"#VALUE!"}},"","E","E","E","E","E","E","E","--",null,null,null,null,null,{"$f":"Table_2[[#This Row],[Column51]]&Table_2[[#This Row],[Column52]]&AW426","v":""}]
[null,null,null,null,null,null,null,null,null,null,null,null,null,null,null,{"$f":"Instructions!B459","v":0},null,null,null,null,null,null,"--",0,{"$f":"Table_2[[#This Row],[Column20]]+Table_2[[#This Row],[Column56]]","v":0},"",{"$f":"Table_2[[#This Row],[Column20]]+Table_2[[#This Row],[Column56]]","v":0},"",{"$f":"Table_2[[#This Row],[Column57]]+Table_2[[#This Row],[Column16]]+Table_2[[#This Row],[Column15]]","v":0},"",{"$f":"(K425/Instructions!$C$23)*100","v":0},{"$f":"(L425/Instructions!$C$24)*100","v":0},{"$f":"(Y425/Instructions!$C$25)*100","v":0},{"$f":"(AA425/Instructions!$C$27)*100","v":0},{"$f":"(AC425/Instructions!$C$29)*100","v":0},{"$f":"(V425/Instructions!$C$33)*100","v":0},{"$f":"(U425/Instructions!$C$32)*100","v":0},{"$f":"(W425/Instructions!$C$36)*100","v":{"$error":"#VALUE!"}},"","E","E","E","E","E","E","E","--",null,null,null,null,null,{"$f":"Table_2[[#This Row],[Column51]]&Table_2[[#This Row],[Column52]]&AW427","v":""}]
[null,null,null,null,null,null,null,null,null,null,null,null,null,null,null,{"$f":"Instructions!B460","v":0},null,null,null,null,null,null,"--",0,{"$f":"Table_2[[#This Row],[Column20]]+Table_2[[#This Row],[Column56]]","v":0},"",{"$f":"Table_2[[#This Row],[Column20]]+Table_2[[#This Row],[Column56]]","v":0},"",{"$f":"Table_2[[#This Row],[Column57]]+Table_2[[#This Row],[Column16]]+Table_2[[#This Row],[Column15]]","v":0},"",{"$f":"(K426/Instructions!$C$23)*100","v":0},{"$f":"(L426/Instructions!$C$24)*100","v":0},{"$f":"(Y426/Instructions!$C$25)*100","v":0},{"$f":"(AA426/Instructions!$C$27)*100","v":0},{"$f":"(AC426/Instructions!$C$29)*100","v":0},{"$f":"(V426/Instructions!$C$33)*100","v":0},{"$f":"(U426/Instructions!$C$32)*100","v":0},{"$f":"(W426/Instructions!$C$36)*100","v":{"$error":"#VALUE!"}},"","E","E","E","E","E","E","E","--",null,null,null,null,null,{"$f":"Table_2[[#This Row],[Column51]]&Table_2[[#This Row],[Column52]]&AW428","v":""}]
[null,null,null,null,null,null,null,null,null,null,null,null,null,null,null,{"$f":"Instructions!B461","v":0},null,null,null,null,null,null,"--",0,{"$f":"Table_2[[#This Row],[Column20]]+Table_2[[#This Row],[Column56]]","v":0},"",{"$f":"Table_2[[#This Row],[Column20]]+Table_2[[#This Row],[Column56]]","v":0},"",{"$f":"Table_2[[#This Row],[Column57]]+Table_2[[#This Row],[Column16]]+Table_2[[#This Row],[Column15]]","v":0},"",{"$f":"(K427/Instructions!$C$23)*100","v":0},{"$f":"(L427/Instructions!$C$24)*100","v":0},{"$f":"(Y427/Instructions!$C$25)*100","v":0},{"$f":"(AA427/Instructions!$C$27)*100","v":0},{"$f":"(AC427/Instructions!$C$29)*100","v":0},{"$f":"(V427/Instructions!$C$33)*100","v":0},{"$f":"(U427/Instructions!$C$32)*100","v":0},{"$f":"(W427/Instructions!$C$36)*100","v":{"$error":"#VALUE!"}},"","E","E","E","E","E","E","E","--",null,null,null,null,null,{"$f":"Table_2[[#This Row],[Column51]]&Table_2[[#This Row],[Column52]]&AW429","v":""}]
[null,null,null,null,null,null,null,null,null,null,null,null,null,null,null,{"$f":"Instructions!B462","v":0},null,null,null,null,null,null,"--",0,{"$f":"Table_2[[#This Row],[Column20]]+Table_2[[#This Row],[Column56]]","v":0},"",{"$f":"Table_2[[#This Row],[Column20]]+Table_2[[#This Row],[Column56]]","v":0},"",{"$f":"Table_2[[#This Row],[Column57]]+Table_2[[#This Row],[Column16]]+Table_2[[#This Row],[Column15]]","v":0},"",{"$f":"(K428/Instructions!$C$23)*100","v":0},{"$f":"(L428/Instructions!$C$24)*100","v":0},{"$f":"(Y428/Instructions!$C$25)*100","v":0},{"$f":"(AA428/Instructions!$C$27)*100","v":0},{"$f":"(AC428/Instructions!$C$29)*100","v":0},{"$f":"(V428/Instructions!$C$33)*100","v":0},{"$f":"(U428/Instructions!$C$32)*100","v":0},{"$f":"(W428/Instructions!$C$36)*100","v":{"$error":"#VALUE!"}},"","E","E","E","E","E","E","E","--",null,null,null,null,null,{"$f":"Table_2[[#This Row],[Column51]]&Table_2[[#This Row],[Column52]]&AW430","v":""}]
[null,null,null,null,null,null,null,null,null,null,null,null,null,null,null,{"$f":"Instructions!B463","v":0},null,null,null,null,null,null,"--",0,{"$f":"Table_2[[#This Row],[Column20]]+Table_2[[#This Row],[Column56]]","v":0},"",{"$f":"Table_2[[#This Row],[Column20]]+Table_2[[#This Row],[Column56]]","v":0},"",{"$f":"Table_2[[#This Row],[Column57]]+Table_2[[#This Row],[Column16]]+Table_2[[#This Row],[Column15]]","v":0},"",{"$f":"(K429/Instructions!$C$23)*100","v":0},{"$f":"(L429/Instructions!$C$24)*100","v":0},{"$f":"(Y429/Instructions!$C$25)*100","v":0},{"$f":"(AA429/Instructions!$C$27)*100","v":0},{"$f":"(AC429/Instructions!$C$29)*100","v":0},{"$f":"(V429/Instructions!$C$33)*100","v":0},{"$f":"(U429/Instructions!$C$32)*100","v":0},{"$f":"(W429/Instructions!$C$36)*100","v":{"$error":"#VALUE!"}},"","E","E","E","E","E","E","E","--",null,null,null,null,null,{"$f":"Table_2[[#This Row],[Column51]]&Table_2[[#This Row],[Column52]]&AW431","v":""}]
[null,null,null,null,null,null,null,null,null,null,null,null,null,null,null,{"$f":"Instructions!B464","v":0},null,null,null,null,null,null,"--",0,{"$f":"Table_2[[#This Row],[Column20]]+Table_2[[#This Row],[Column56]]","v":0},"",{"$f":"Table_2[[#This Row],[Column20]]+Table_2[[#This Row],[Column56]]","v":0},"",{"$f":"Table_2[[#This Row],[Column57]]+Table_2[[#This Row],[Column16]]+Table_2[[#This Row],[Column15]]","v":0},"",{"$f":"(K430/Instructions!$C$23)*100","v":0},{"$f":"(L430/Instructions!$C$24)*100","v":0},{"$f":"(Y430/Instructions!$C$25)*100","v":0},{"$f":"(AA430/Instructions!$C$27)*100","v":0},{"$f":"(AC430/Instructions!$C$29)*100","v":0},{"$f":"(V430/Instructions!$C$33)*100","v":0},{"$f":"(U430/Instructions!$C$32)*100","v":0},{"$f":"(W430/Instructions!$C$36)*100","v":{"$error":"#VALUE!"}},"","E","E","E","E","E","E","E","--",null,null,null,null,null,{"$f":"Table_2[[#This Row],[Column51]]&Table_2[[#This Row],[Column52]]&AW432","v":""}]
[null,null,null,null,null,null,null,null,null,null,null,null,null,null,null,{"$f":"Instructions!B465","v":0},null,null,null,null,null,null,"--",0,{"$f":"Table_2[[#This Row],[Column20]]+Table_2[[#This Row],[Column56]]","v":0},"",{"$f":"Table_2[[#This Row],[Column20]]+Table_2[[#This Row],[Column56]]","v":0},"",{"$f":"Table_2[[#This Row],[Column57]]+Table_2[[#This Row],[Column16]]+Table_2[[#This Row],[Column15]]","v":0},"",{"$f":"(K431/Instructions!$C$23)*100","v":0},{"$f":"(L431/Instructions!$C$24)*100","v":0},{"$f":"(Y431/Instructions!$C$25)*100","v":0},{"$f":"(AA431/Instructions!$C$27)*100","v":0},{"$f":"(AC431/Instructions!$C$29)*100","v":0},{"$f":"(V431/Instructions!$C$33)*100","v":0},{"$f":"(U431/Instructions!$C$32)*100","v":0},{"$f":"(W431/Instructions!$C$36)*100","v":{"$error":"#VALUE!"}},"","E","E","E","E","E","E","E","--",null,null,null,null,null,{"$f":"Table_2[[#This Row],[Column51]]&Table_2[[#This Row],[Column52]]&AW433","v":""}]
[null,null,null,null,null,null,null,null,null,null,null,null,null,null,null,{"$f":"Instructions!B466","v":0},null,null,null,null,null,null,"--",0,{"$f":"Table_2[[#This Row],[Column20]]+Table_2[[#This Row],[Column56]]","v":0},"",{"$f":"Table_2[[#This Row],[Column20]]+Table_2[[#This Row],[Column56]]","v":0},"",{"$f":"Table_2[[#This Row],[Column57]]+Table_2[[#This Row],[Column16]]+Table_2[[#This Row],[Column15]]","v":0},"",{"$f":"(K432/Instructions!$C$23)*100","v":0},{"$f":"(L432/Instructions!$C$24)*100","v":0},{"$f":"(Y432/Instructions!$C$25)*100","v":0},{"$f":"(AA432/Instructions!$C$27)*100","v":0},{"$f":"(AC432/Instructions!$C$29)*100","v":0},{"$f":"(V432/Instructions!$C$33)*100","v":0},{"$f":"(U432/Instructions!$C$32)*100","v":0},{"$f":"(W432/Instructions!$C$36)*100","v":{"$error":"#VALUE!"}},"","E","E","E","E","E","E","E","--",null,null,null,null,null,{"$f":"Table_2[[#This Row],[Column51]]&Table_2[[#This Row],[Column52]]&AW434","v":""}]
[null,null,null,null,null,null,null,null,null,null,null,null,null,null,null,{"$f":"Instructions!B467","v":0},null,null,null,null,null,null,"--",0,{"$f":"Table_2[[#This Row],[Column20]]+Table_2[[#This Row],[Column56]]","v":0},"",{"$f":"Table_2[[#This Row],[Column20]]+Table_2[[#This Row],[Column56]]","v":0},"",{"$f":"Table_2[[#This Row],[Column57]]+Table_2[[#This Row],[Column16]]+Table_2[[#This Row],[Column15]]","v":0},"",{"$f":"(K433/Instructions!$C$23)*100","v":0},{"$f":"(L433/Instructions!$C$24)*100","v":0},{"$f":"(Y433/Instructions!$C$25)*100","v":0},{"$f":"(AA433/Instructions!$C$27)*100","v":0},{"$f":"(AC433/Instructions!$C$29)*100","v":0},{"$f":"(V433/Instructions!$C$33)*100","v":0},{"$f":"(U433/Instructions!$C$32)*100","v":0},{"$f":"(W433/Instructions!$C$36)*100","v":{"$error":"#VALUE!"}},"","E","E","E","E","E","E","E","--",null,null,null,null,null,{"$f":"Table_2[[#This Row],[Column51]]&Table_2[[#This Row],[Column52]]&AW435","v":""}]
[null,null,null,null,null,null,null,null,null,null,null,null,null,null,null,{"$f":"Instructions!B468","v":0},null,null,null,null,null,null,"--",0,{"$f":"Table_2[[#This Row],[Column20]]+Table_2[[#This Row],[Column56]]","v":0},"",{"$f":"Table_2[[#This Row],[Column20]]+Table_2[[#This Row],[Column56]]","v":0},"",{"$f":"Table_2[[#This Row],[Column57]]+Table_2[[#This Row],[Column16]]+Table_2[[#This Row],[Column15]]","v":0},"",{"$f":"(K434/Instructions!$C$23)*100","v":0},{"$f":"(L434/Instructions!$C$24)*100","v":0},{"$f":"(Y434/Instructions!$C$25)*100","v":0},{"$f":"(AA434/Instructions!$C$27)*100","v":0},{"$f":"(AC434/Instructions!$C$29)*100","v":0},{"$f":"(V434/Instructions!$C$33)*100","v":0},{"$f":"(U434/Instructions!$C$32)*100","v":0},{"$f":"(W434/Instructions!$C$36)*100","v":{"$error":"#VALUE!"}},"","E","E","E","E","E","E","E","--",null,null,null,null,null,{"$f":"Table_2[[#This Row],[Column51]]&Table_2[[#This Row],[Column52]]&AW436","v":""}]
[null,null,null,null,null,null,null,null,null,null,null,null,null,null,null,{"$f":"Instructions!B469","v":0},null,null,null,null,null,null,"--",0,{"$f":"Table_2[[#This Row],[Column20]]+Table_2[[#This Row],[Column56]]","v":0},"",{"$f":"Table_2[[#This Row],[Column20]]+Table_2[[#This Row],[Column56]]","v":0},"",{"$f":"Table_2[[#This Row],[Column57]]+Table_2[[#This Row],[Column16]]+Table_2[[#This Row],[Column15]]","v":0},"",{"$f":"(K435/Instructions!$C$23)*100","v":0},{"$f":"(L435/Instructions!$C$24)*100","v":0},{"$f":"(Y435/Instructions!$C$25)*100","v":0},{"$f":"(AA435/Instructions!$C$27)*100","v":0},{"$f":"(AC435/Instructions!$C$29)*100","v":0},{"$f":"(V435/Instructions!$C$33)*100","v":0},{"$f":"(U435/Instructions!$C$32)*100","v":0},{"$f":"(W435/Instructions!$C$36)*100","v":{"$error":"#VALUE!"}},"","E","E","E","E","E","E","E","--",null,null,null,null,null,{"$f":"Table_2[[#This Row],[Column51]]&Table_2[[#This Row],[Column52]]&AW437","v":""}]
[null,null,null,null,null,null,null,null,null,null,null,null,null,null,null,{"$f":"Instructions!B470","v":0},null,null,null,null,null,null,"--",0,{"$f":"Table_2[[#This Row],[Column20]]+Table_2[[#This Row],[Column56]]","v":0},"",{"$f":"Table_2[[#This Row],[Column20]]+Table_2[[#This Row],[Column56]]","v":0},"",{"$f":"Table_2[[#This Row],[Column57]]+Table_2[[#This Row],[Column16]]+Table_2[[#This Row],[Column15]]","v":0},"",{"$f":"(K436/Instructions!$C$23)*100","v":0},{"$f":"(L436/Instructions!$C$24)*100","v":0},{"$f":"(Y436/Instructions!$C$25)*100","v":0},{"$f":"(AA436/Instructions!$C$27)*100","v":0},{"$f":"(AC436/Instructions!$C$29)*100","v":0},{"$f":"(V436/Instructions!$C$33)*100","v":0},{"$f":"(U436/Instructions!$C$32)*100","v":0},{"$f":"(W436/Instructions!$C$36)*100","v":{"$error":"#VALUE!"}},"","E","E","E","E","E","E","E","--",null,null,null,null,null,{"$f":"Table_2[[#This Row],[Column51]]&Table_2[[#This Row],[Column52]]&AW438","v":""}]
[null,null,null,null,null,null,null,null,null,null,null,null,null,null,null,{"$f":"Instructions!B471","v":0},null,null,null,null,null,null,"--",0,{"$f":"Table_2[[#This Row],[Column20]]+Table_2[[#This Row],[Column56]]","v":0},"",{"$f":"Table_2[[#This Row],[Column20]]+Table_2[[#This Row],[Column56]]","v":0},"",{"$f":"Table_2[[#This Row],[Column57]]+Table_2[[#This Row],[Column16]]+Table_2[[#This Row],[Column15]]","v":0},"",{"$f":"(K437/Instructions!$C$23)*100","v":0},{"$f":"(L437/Instructions!$C$24)*100","v":0},{"$f":"(Y437/Instructions!$C$25)*100","v":0},{"$f":"(AA437/Instructions!$C$27)*100","v":0},{"$f":"(AC437/Instructions!$C$29)*100","v":0},{"$f":"(V437/Instructions!$C$33)*100","v":0},{"$f":"(U437/Instructions!$C$32)*100","v":0},{"$f":"(W437/Instructions!$C$36)*100","v":{"$error":"#VALUE!"}},"","E","E","E","E","E","E","E","--",null,null,null,null,null,{"$f":"Table_2[[#This Row],[Column51]]&Table_2[[#This Row],[Column52]]&AW439","v":""}]
[null,null,null,null,null,null,null,null,null,null,null,null,null,null,null,{"$f":"Instructions!B472","v":0},null,null,null,null,null,null,"--",0,{"$f":"Table_2[[#This Row],[Column20]]+Table_2[[#This Row],[Column56]]","v":0},"",{"$f":"Table_2[[#This Row],[Column20]]+Table_2[[#This Row],[Column56]]","v":0},"",{"$f":"Table_2[[#This Row],[Column57]]+Table_2[[#This Row],[Column16]]+Table_2[[#This Row],[Column15]]","v":0},"",{"$f":"(K438/Instructions!$C$23)*100","v":0},{"$f":"(L438/Instructions!$C$24)*100","v":0},{"$f":"(Y438/Instructions!$C$25)*100","v":0},{"$f":"(AA438/Instructions!$C$27)*100","v":0},{"$f":"(AC438/Instructions!$C$29)*100","v":0},{"$f":"(V438/Instructions!$C$33)*100","v":0},{"$f":"(U438/Instructions!$C$32)*100","v":0},{"$f":"(W438/Instructions!$C$36)*100","v":{"$error":"#VALUE!"}},"","E","E","E","E","E","E","E","--",null,null,null,null,null,{"$f":"Table_2[[#This Row],[Column51]]&Table_2[[#This Row],[Column52]]&AW440","v":""}]
[null,null,null,null,null,null,null,null,null,null,null,null,null,null,null,{"$f":"Instructions!B473","v":0},null,null,null,null,null,null,"--",0,{"$f":"Table_2[[#This Row],[Column20]]+Table_2[[#This Row],[Column56]]","v":0},"",{"$f":"Table_2[[#This Row],[Column20]]+Table_2[[#This Row],[Column56]]","v":0},"",{"$f":"Table_2[[#This Row],[Column57]]+Table_2[[#This Row],[Column16]]+Table_2[[#This Row],[Column15]]","v":0},"",{"$f":"(K439/Instructions!$C$23)*100","v":0},{"$f":"(L439/Instructions!$C$24)*100","v":0},{"$f":"(Y439/Instructions!$C$25)*100","v":0},{"$f":"(AA439/Instructions!$C$27)*100","v":0},{"$f":"(AC439/Instructions!$C$29)*100","v":0},{"$f":"(V439/Instructions!$C$33)*100","v":0},{"$f":"(U439/Instructions!$C$32)*100","v":0},{"$f":"(W439/Instructions!$C$36)*100","v":{"$error":"#VALUE!"}},"","E","E","E","E","E","E","E","--",null,null,null,null,null,{"$f":"Table_2[[#This Row],[Column51]]&Table_2[[#This Row],[Column52]]&AW441","v":""}]
[null,null,null,null,null,null,null,null,null,null,null,null,null,null,null,{"$f":"Instructions!B474","v":0},null,null,null,null,null,null,"--",0,{"$f":"Table_2[[#This Row],[Column20]]+Table_2[[#This Row],[Column56]]","v":0},"",{"$f":"Table_2[[#This Row],[Column20]]+Table_2[[#This Row],[Column56]]","v":0},"",{"$f":"Table_2[[#This Row],[Column57]]+Table_2[[#This Row],[Column16]]+Table_2[[#This Row],[Column15]]","v":0},"",{"$f":"(K440/Instructions!$C$23)*100","v":0},{"$f":"(L440/Instructions!$C$24)*100","v":0},{"$f":"(Y440/Instructions!$C$25)*100","v":0},{"$f":"(AA440/Instructions!$C$27)*100","v":0},{"$f":"(AC440/Instructions!$C$29)*100","v":0},{"$f":"(V440/Instructions!$C$33)*100","v":0},{"$f":"(U440/Instructions!$C$32)*100","v":0},{"$f":"(W440/Instructions!$C$36)*100","v":{"$error":"#VALUE!"}},"","E","E","E","E","E","E","E","--",null,null,null,null,null,{"$f":"Table_2[[#This Row],[Column51]]&Table_2[[#This Row],[Column52]]&AW442","v":""}]
[null,null,null,null,null,null,null,null,null,null,null,null,null,null,null,{"$f":"Instructions!B475","v":0},null,null,null,null,null,null,"--",0,{"$f":"Table_2[[#This Row],[Column20]]+Table_2[[#This Row],[Column56]]","v":0},"",{"$f":"Table_2[[#This Row],[Column20]]+Table_2[[#This Row],[Column56]]","v":0},"",{"$f":"Table_2[[#This Row],[Column57]]+Table_2[[#This Row],[Column16]]+Table_2[[#This Row],[Column15]]","v":0},"",{"$f":"(K441/Instructions!$C$23)*100","v":0},{"$f":"(L441/Instructions!$C$24)*100","v":0},{"$f":"(Y441/Instructions!$C$25)*100","v":0},{"$f":"(AA441/Instructions!$C$27)*100","v":0},{"$f":"(AC441/Instructions!$C$29)*100","v":0},{"$f":"(V441/Instructions!$C$33)*100","v":0},{"$f":"(U441/Instructions!$C$32)*100","v":0},{"$f":"(W441/Instructions!$C$36)*100","v":{"$error":"#VALUE!"}},"","E","E","E","E","E","E","E","--",null,null,null,null,null,{"$f":"Table_2[[#This Row],[Column51]]&Table_2[[#This Row],[Column52]]&AW443","v":""}]
[null,null,null,null,null,null,null,null,null,null,null,null,null,null,null,{"$f":"Instructions!B476","v":0},null,null,null,null,null,null,"--",0,{"$f":"Table_2[[#This Row],[Column20]]+Table_2[[#This Row],[Column56]]","v":0},"",{"$f":"Table_2[[#This Row],[Column20]]+Table_2[[#This Row],[Column56]]","v":0},"",{"$f":"Table_2[[#This Row],[Column57]]+Table_2[[#This Row],[Column16]]+Table_2[[#This Row],[Column15]]","v":0},"",{"$f":"(K442/Instructions!$C$23)*100","v":0},{"$f":"(L442/Instructions!$C$24)*100","v":0},{"$f":"(Y442/Instructions!$C$25)*100","v":0},{"$f":"(AA442/Instructions!$C$27)*100","v":0},{"$f":"(AC442/Instructions!$C$29)*100","v":0},{"$f":"(V442/Instructions!$C$33)*100","v":0},{"$f":"(U442/Instructions!$C$32)*100","v":0},{"$f":"(W442/Instructions!$C$36)*100","v":{"$error":"#VALUE!"}},"","E","E","E","E","E","E","E","--",null,null,null,null,null,{"$f":"Table_2[[#This Row],[Column51]]&Table_2[[#This Row],[Column52]]&AW444","v":""}]
[null,null,null,null,null,null,null,null,null,null,null,null,null,null,null,{"$f":"Instructions!B477","v":0},null,null,null,null,null,null,"--",0,{"$f":"Table_2[[#This Row],[Column20]]+Table_2[[#This Row],[Column56]]","v":0},"",{"$f":"Table_2[[#This Row],[Column20]]+Table_2[[#This Row],[Column56]]","v":0},"",{"$f":"Table_2[[#This Row],[Column57]]+Table_2[[#This Row],[Column16]]+Table_2[[#This Row],[Column15]]","v":0},"",{"$f":"(K443/Instructions!$C$23)*100","v":0},{"$f":"(L443/Instructions!$C$24)*100","v":0},{"$f":"(Y443/Instructions!$C$25)*100","v":0},{"$f":"(AA443/Instructions!$C$27)*100","v":0},{"$f":"(AC443/Instructions!$C$29)*100","v":0},{"$f":"(V443/Instructions!$C$33)*100","v":0},{"$f":"(U443/Instructions!$C$32)*100","v":0},{"$f":"(W443/Instructions!$C$36)*100","v":{"$error":"#VALUE!"}},"","E","E","E","E","E","E","E","--",null,null,null,null,null,{"$f":"Table_2[[#This Row],[Column51]]&Table_2[[#This Row],[Column52]]&AW445","v":""}]
[null,null,null,null,null,null,null,null,null,null,null,null,null,null,null,{"$f":"Instructions!B478","v":0},null,null,null,null,null,null,"--",0,{"$f":"Table_2[[#This Row],[Column20]]+Table_2[[#This Row],[Column56]]","v":0},"",{"$f":"Table_2[[#This Row],[Column20]]+Table_2[[#This Row],[Column56]]","v":0},"",{"$f":"Table_2[[#This Row],[Column57]]+Table_2[[#This Row],[Column16]]+Table_2[[#This Row],[Column15]]","v":0},"",{"$f":"(K444/Instructions!$C$23)*100","v":0},{"$f":"(L444/Instructions!$C$24)*100","v":0},{"$f":"(Y444/Instructions!$C$25)*100","v":0},{"$f":"(AA444/Instructions!$C$27)*100","v":0},{"$f":"(AC444/Instructions!$C$29)*100","v":0},{"$f":"(V444/Instructions!$C$33)*100","v":0},{"$f":"(U444/Instructions!$C$32)*100","v":0},{"$f":"(W444/Instructions!$C$36)*100","v":{"$error":"#VALUE!"}},"","E","E","E","E","E","E","E","--",null,null,null,null,null,{"$f":"Table_2[[#This Row],[Column51]]&Table_2[[#This Row],[Column52]]&AW446","v":""}]
[null,null,null,null,null,null,null,null,null,null,null,null,null,null,null,{"$f":"Instructions!B479","v":0},null,null,null,null,null,null,"--",0,{"$f":"Table_2[[#This Row],[Column20]]+Table_2[[#This Row],[Column56]]","v":0},"",{"$f":"Table_2[[#This Row],[Column20]]+Table_2[[#This Row],[Column56]]","v":0},"",{"$f":"Table_2[[#This Row],[Column57]]+Table_2[[#This Row],[Column16]]+Table_2[[#This Row],[Column15]]","v":0},"",{"$f":"(K445/Instructions!$C$23)*100","v":0},{"$f":"(L445/Instructions!$C$24)*100","v":0},{"$f":"(Y445/Instructions!$C$25)*100","v":0},{"$f":"(AA445/Instructions!$C$27)*100","v":0},{"$f":"(AC445/Instructions!$C$29)*100","v":0},{"$f":"(V445/Instructions!$C$33)*100","v":0},{"$f":"(U445/Instructions!$C$32)*100","v":0},{"$f":"(W445/Instructions!$C$36)*100","v":{"$error":"#VALUE!"}},"","E","E","E","E","E","E","E","--",null,null,null,null,null,{"$f":"Table_2[[#This Row],[Column51]]&Table_2[[#This Row],[Column52]]&AW447","v":""}]
[null,null,null,null,null,null,null,null,null,null,null,null,null,null,null,{"$f":"Instructions!B480","v":0},null,null,null,null,null,null,"--",0,{"$f":"Table_2[[#This Row],[Column20]]+Table_2[[#This Row],[Column56]]","v":0},"",{"$f":"Table_2[[#This Row],[Column20]]+Table_2[[#This Row],[Column56]]","v":0},"",{"$f":"Table_2[[#This Row],[Column57]]+Table_2[[#This Row],[Column16]]+Table_2[[#This Row],[Column15]]","v":0},"",{"$f":"(K446/Instructions!$C$23)*100","v":0},{"$f":"(L446/Instructions!$C$24)*100","v":0},{"$f":"(Y446/Instructions!$C$25)*100","v":0},{"$f":"(AA446/Instructions!$C$27)*100","v":0},{"$f":"(AC446/Instructions!$C$29)*100","v":0},{"$f":"(V446/Instructions!$C$33)*100","v":0},{"$f":"(U446/Instructions!$C$32)*100","v":0},{"$f":"(W446/Instructions!$C$36)*100","v":{"$error":"#VALUE!"}},"","E","E","E","E","E","E","E","--",null,null,null,null,null,{"$f":"Table_2[[#This Row],[Column51]]&Table_2[[#This Row],[Column52]]&AW448","v":""}]
[null,null,null,null,null,null,null,null,null,null,null,null,null,null,null,{"$f":"Instructions!B481","v":0},null,null,null,null,null,null,"--",0,{"$f":"Table_2[[#This Row],[Column20]]+Table_2[[#This Row],[Column56]]","v":0},"",{"$f":"Table_2[[#This Row],[Column20]]+Table_2[[#This Row],[Column56]]","v":0},"",{"$f":"Table_2[[#This Row],[Column57]]+Table_2[[#This Row],[Column16]]+Table_2[[#This Row],[Column15]]","v":0},"",{"$f":"(K447/Instructions!$C$23)*100","v":0},{"$f":"(L447/Instructions!$C$24)*100","v":0},{"$f":"(Y447/Instructions!$C$25)*100","v":0},{"$f":"(AA447/Instructions!$C$27)*100","v":0},{"$f":"(AC447/Instructions!$C$29)*100","v":0},{"$f":"(V447/Instructions!$C$33)*100","v":0},{"$f":"(U447/Instructions!$C$32)*100","v":0},{"$f":"(W447/Instructions!$C$36)*100","v":{"$error":"#VALUE!"}},"","E","E","E","E","E","E","E","--",null,null,null,null,null,{"$f":"Table_2[[#This Row],[Column51]]&Table_2[[#This Row],[Column52]]&AW449","v":""}]
[null,null,null,null,null,null,null,null,null,null,null,null,null,null,null,{"$f":"Instructions!B482","v":0},null,null,null,null,null,null,"--",0,{"$f":"Table_2[[#This Row],[Column20]]+Table_2[[#This Row],[Column56]]","v":0},"",{"$f":"Table_2[[#This Row],[Column20]]+Table_2[[#This Row],[Column56]]","v":0},"",{"$f":"Table_2[[#This Row],[Column57]]+Table_2[[#This Row],[Column16]]+Table_2[[#This Row],[Column15]]","v":0},"",{"$f":"(K448/Instructions!$C$23)*100","v":0},{"$f":"(L448/Instructions!$C$24)*100","v":0},{"$f":"(Y448/Instructions!$C$25)*100","v":0},{"$f":"(AA448/Instructions!$C$27)*100","v":0},{"$f":"(AC448/Instructions!$C$29)*100","v":0},{"$f":"(V448/Instructions!$C$33)*100","v":0},{"$f":"(U448/Instructions!$C$32)*100","v":0},{"$f":"(W448/Instructions!$C$36)*100","v":{"$error":"#VALUE!"}},"","E","E","E","E","E","E","E","--",null,null,null,null,null,{"$f":"Table_2[[#This Row],[Column51]]&Table_2[[#This Row],[Column52]]&AW450","v":""}]
[null,null,null,null,null,null,null,null,null,null,null,null,null,null,null,{"$f":"Instructions!B483","v":0},null,null,null,null,null,null,"--",0,{"$f":"Table_2[[#This Row],[Column20]]+Table_2[[#This Row],[Column56]]","v":0},"",{"$f":"Table_2[[#This Row],[Column20]]+Table_2[[#This Row],[Column56]]","v":0},"",{"$f":"Table_2[[#This Row],[Column57]]+Table_2[[#This Row],[Column16]]+Table_2[[#This Row],[Column15]]","v":0},"",{"$f":"(K449/Instructions!$C$23)*100","v":0},{"$f":"(L449/Instructions!$C$24)*100","v":0},{"$f":"(Y449/Instructions!$C$25)*100","v":0},{"$f":"(AA449/Instructions!$C$27)*100","v":0},{"$f":"(AC449/Instructions!$C$29)*100","v":0},{"$f":"(V449/Instructions!$C$33)*100","v":0},{"$f":"(U449/Instructions!$C$32)*100","v":0},{"$f":"(W449/Instructions!$C$36)*100","v":{"$error":"#VALUE!"}},"","E","E","E","E","E","E","E","--",null,null,null,null,null,{"$f":"Table_2[[#This Row],[Column51]]&Table_2[[#This Row],[Column52]]&AW451","v":""}]
[null,null,null,null,null,null,null,null,null,null,null,null,null,null,null,{"$f":"Instructions!B484","v":0},null,null,null,null,null,null,"--",0,{"$f":"Table_2[[#This Row],[Column20]]+Table_2[[#This Row],[Column56]]","v":0},"",{"$f":"Table_2[[#This Row],[Column20]]+Table_2[[#This Row],[Column56]]","v":0},"",{"$f":"Table_2[[#This Row],[Column57]]+Table_2[[#This Row],[Column16]]+Table_2[[#This Row],[Column15]]","v":0},"",{"$f":"(K450/Instructions!$C$23)*100","v":0},{"$f":"(L450/Instructions!$C$24)*100","v":0},{"$f":"(Y450/Instructions!$C$25)*100","v":0},{"$f":"(AA450/Instructions!$C$27)*100","v":0},{"$f":"(AC450/Instructions!$C$29)*100","v":0},{"$f":"(V450/Instructions!$C$33)*100","v":0},{"$f":"(U450/Instructions!$C$32)*100","v":0},{"$f":"(W450/Instructions!$C$36)*100","v":{"$error":"#VALUE!"}},"","E","E","E","E","E","E","E","--",null,null,null,null,null,{"$f":"Table_2[[#This Row],[Column51]]&Table_2[[#This Row],[Column52]]&AW452","v":""}]
[null,null,null,null,null,null,null,null,null,null,null,null,null,null,null,{"$f":"Instructions!B485","v":0},null,null,null,null,null,null,{"$f":"IF(MIN(AE451:AI451)>=33,SUM(K451:T451),\"--\")","v":"--"},{"$f":"IF(W451=\"--\",0,W451)","v":0},{"$f":"Table_2[[#This Row],[Column20]]+Table_2[[#This Row],[Column56]]","v":0},{"$f":"IF(N451>0,$N$1,IF(O451>0,$O$1,\"\"))","v":""},{"$f":"Table_2[[#This Row],[Column20]]+Table_2[[#This Row],[Column56]]","v":0},{"$f":"IFERROR(IF(P451>0,$P$1,IF(Q451>0,$Q$1,\"\")),\"\")","v":""},{"$f":"Table_2[[#This Row],[Column57]]+Table_2[[#This Row],[Column16]]+Table_2[[#This Row],[Column15]]","v":0},{"$f":"IFERROR(IF(R451>0,$R$1,IF(S451>0,$S$1,IF(T451>0,$T$1,\"\"))),\"\")","v":""},{"$f":"(K451/Instructions!$C$23)*100","v":0},{"$f":"(L451/Instructions!$C$24)*100","v":0},{"$f":"(Y451/Instructions!$C$25)*100","v":0},{"$f":"(AA451/Instructions!$C$27)*100","v":0},{"$f":"(AC451/Instructions!$C$29)*100","v":0},{"$f":"(V451/Instructions!$C$33)*100","v":0},{"$f":"(U451/Instructions!$C$32)*100","v":0},{"$f":"(W451/Instructions!$C$36)*100","v":{"$error":"#VALUE!"}},{"$f":"IFERROR(IF(AL451>=33,\"PASS\",\"----\"),\"\")","v":""},{"$f":"IFERROR(IF(AE451>90,\"A+\",IF(AE451>80,\"A\",IF(AE451>70,\"B+\",IF(AE451>60,\"B\",IF(AE451>50,\"C+\",IF(AE451>40,\"C\",IF(AE451>=33,\"D\",\"E\"))))))),\"Abs\")","v":"E"},{"$f":"IFERROR(IF(AF451>90,\"A+\",IF(AF451>80,\"A\",IF(AF451>70,\"B+\",IF(AF451>60,\"B\",IF(AF451>50,\"C+\",IF(AF451>40,\"C\",IF(AF451>=33,\"D\",\"E\"))))))),\"Abs\")","v":"E"},{"$f":"IFERROR(IF(AG451>90,\"A+\",IF(AG451>80,\"A\",IF(AG451>70,\"B+\",IF(AG451>60,\"B\",IF(AG451>50,\"C+\",IF(AG451>40,\"C\",IF(AG451>=33,\"D\",\"E\"))))))),\"Abs\")","v":"E"},{"$f":"IFERROR(IF(AH451>90,\"A+\",IF(AH451>80,\"A\",IF(AH451>70,\"B+\",IF(AH451>60,\"B\",IF(AH451>50,\"C+\",IF(AH451>40,\"C\",IF(AH451>=33,\"D\",\"E\"))))))),\"Abs\")","v":"E"},{"$f":"IFERROR(IF(AI451>90,\"A+\",IF(AI451>80,\"A\",IF(AI451>70,\"B+\",IF(AI451>60,\"B\",IF(AI451>50,\"C+\",IF(AI451>40,\"C\",IF(AI451>=33,\"D\",\"E\"))))))),\"Abs\")","v":"E"},{"$f":"IFERROR(IF(AJ451>90,\"A+\",IF(AJ451>80,\"A\",IF(AJ451>70,\"B+\",IF(AJ451>60,\"B\",IF(AJ451>50,\"C+\",IF(AJ451>40,\"C\",IF(AJ451>=33,\"D\",\"E\"))))))),\"Abs\")","v":"E"},{"$f":"IFERROR(IF(AK451>90,\"A+\",IF(AK451>80,\"A\",IF(AK451>70,\"B+\",IF(AK451>60,\"B\",IF(AK451>50,\"C+\",IF(AK451>40,\"C\",IF(AK451>=33,\"D\",\"E\"))))))),\"Abs\")","v":"E"},{"$f":"IFERROR(IF(AL451>90,\"A+\",IF(AL451>80,\"A\",IF(AL451>70,\"B+\",IF(AL451>60,\"B\",IF(AL451>50,\"C+\",IF(AL451>40,\"C\",IF(AL451>=33,\"D\",\"E\"))))))),\"--\")","v":"--"},null,null,null,null,null,{"$f":"Table_2[[#This Row],[Column51]]&Table_2[[#This Row],[Column52]]&AW453","v":""}]
[null,null,null,null,null,null,null,null,null,null,null,null,null,null,null,{"$f":"Instructions!B486","v":0},null,null,null,null,null,null,"--",0,{"$f":"Table_2[[#This Row],[Column20]]+Table_2[[#This Row],[Column56]]","v":0},"",{"$f":"Table_2[[#This Row],[Column20]]+Table_2[[#This Row],[Column56]]","v":0},"",{"$f":"Table_2[[#This Row],[Column57]]+Table_2[[#This Row],[Column16]]+Table_2[[#This Row],[Column15]]","v":0},"",{"$f":"(K452/Instructions!$C$23)*100","v":0},{"$f":"(L452/Instructions!$C$24)*100","v":0},{"$f":"(Y452/Instructions!$C$25)*100","v":0},{"$f":"(AA452/Instructions!$C$27)*100","v":0},{"$f":"(AC452/Instructions!$C$29)*100","v":0},{"$f":"(V452/Instructions!$C$33)*100","v":0},{"$f":"(U452/Instructions!$C$32)*100","v":0},{"$f":"(W452/Instructions!$C$36)*100","v":{"$error":"#VALUE!"}},"","E","E","E","E","E","E","E","--",null,null,null,null,null,{"$f":"Table_2[[#This Row],[Column51]]&Table_2[[#This Row],[Column52]]&AW454","v":""}]
[null,null,null,null,null,null,null,null,null,null,null,null,null,null,null,{"$f":"Instructions!B487","v":0},null,null,null,null,null,null,"--",0,{"$f":"Table_2[[#This Row],[Column20]]+Table_2[[#This Row],[Column56]]","v":0},"",{"$f":"Table_2[[#This Row],[Column20]]+Table_2[[#This Row],[Column56]]","v":0},"",{"$f":"Table_2[[#This Row],[Column57]]+Table_2[[#This Row],[Column16]]+Table_2[[#This Row],[Column15]]","v":0},"",{"$f":"(K453/Instructions!$C$23)*100","v":0},{"$f":"(L453/Instructions!$C$24)*100","v":0},{"$f":"(Y453/Instructions!$C$25)*100","v":0},{"$f":"(AA453/Instructions!$C$27)*100","v":0},{"$f":"(AC453/Instructions!$C$29)*100","v":0},{"$f":"(V453/Instructions!$C$33)*100","v":0},{"$f":"(U453/Instructions!$C$32)*100","v":0},{"$f":"(W453/Instructions!$C$36)*100","v":{"$error":"#VALUE!"}},"","E","E","E","E","E","E","E","--",null,null,null,null,null,{"$f":"Table_2[[#This Row],[Column51]]&Table_2[[#This Row],[Column52]]&AW455","v":""}]
[null,null,null,null,null,null,null,null,null,null,null,null,null,null,null,{"$f":"Instructions!B488","v":0},null,null,null,null,null,null,"--",0,{"$f":"Table_2[[#This Row],[Column20]]+Table_2[[#This Row],[Column56]]","v":0},"",{"$f":"Table_2[[#This Row],[Column20]]+Table_2[[#This Row],[Column56]]","v":0},"",{"$f":"Table_2[[#This Row],[Column57]]+Table_2[[#This Row],[Column16]]+Table_2[[#This Row],[Column15]]","v":0},"",{"$f":"(K454/Instructions!$C$23)*100","v":0},{"$f":"(L454/Instructions!$C$24)*100","v":0},{"$f":"(Y454/Instructions!$C$25)*100","v":0},{"$f":"(AA454/Instructions!$C$27)*100","v":0},{"$f":"(AC454/Instructions!$C$29)*100","v":0},{"$f":"(V454/Instructions!$C$33)*100","v":0},{"$f":"(U454/Instructions!$C$32)*100","v":0},{"$f":"(W454/Instructions!$C$36)*100","v":{"$error":"#VALUE!"}},"","E","E","E","E","E","E","E","--",null,null,null,null,null,{"$f":"Table_2[[#This Row],[Column51]]&Table_2[[#This Row],[Column52]]&AW456","v":""}]
[null,null,null,null,null,null,null,null,null,null,null,null,null,null,null,{"$f":"Instructions!B489","v":0},null,null,null,null,null,null,"--",0,{"$f":"Table_2[[#This Row],[Column20]]+Table_2[[#This Row],[Column56]]","v":0},"",{"$f":"Table_2[[#This Row],[Column20]]+Table_2[[#This Row],[Column56]]","v":0},"",{"$f":"Table_2[[#This Row],[Column57]]+Table_2[[#This Row],[Column16]]+Table_2[[#This Row],[Column15]]","v":0},"",{"$f":"(K455/Instructions!$C$23)*100","v":0},{"$f":"(L455/Instructions!$C$24)*100","v":0},{"$f":"(Y455/Instructions!$C$25)*100","v":0},{"$f":"(AA455/Instructions!$C$27)*100","v":0},{"$f":"(AC455/Instructions!$C$29)*100","v":0},{"$f":"(V455/Instructions!$C$33)*100","v":0},{"$f":"(U455/Instructions!$C$32)*100","v":0},{"$f":"(W455/Instructions!$C$36)*100","v":{"$error":"#VALUE!"}},"","E","E","E","E","E","E","E","--",null,null,null,null,null,{"$f":"Table_2[[#This Row],[Column51]]&Table_2[[#This Row],[Column52]]&AW457","v":""}]
[null,null,null,null,null,null,null,null,null,null,null,null,null,null,null,{"$f":"Instructions!B490","v":0},null,null,null,null,null,null,"--",0,{"$f":"Table_2[[#This Row],[Column20]]+Table_2[[#This Row],[Column56]]","v":0},"",{"$f":"Table_2[[#This Row],[Column20]]+Table_2[[#This Row],[Column56]]","v":0},"",{"$f":"Table_2[[#This Row],[Column57]]+Table_2[[#This Row],[Column16]]+Table_2[[#This Row],[Column15]]","v":0},"",{"$f":"(K456/Instructions!$C$23)*100","v":0},{"$f":"(L456/Instructions!$C$24)*100","v":0},{"$f":"(Y456/Instructions!$C$25)*100","v":0},{"$f":"(AA456/Instructions!$C$27)*100","v":0},{"$f":"(AC456/Instructions!$C$29)*100","v":0},{"$f":"(V456/Instructions!$C$33)*100","v":0},{"$f":"(U456/Instructions!$C$32)*100","v":0},{"$f":"(W456/Instructions!$C$36)*100","v":{"$error":"#VALUE!"}},"","E","E","E","E","E","E","E","--",null,null,null,null,null,{"$f":"Table_2[[#This Row],[Column51]]&Table_2[[#This Row],[Column52]]&AW458","v":""}]
[null,null,null,null,null,null,null,null,null,null,null,null,null,null,null,{"$f":"Instructions!B491","v":0},null,null,null,null,null,null,"--",0,{"$f":"Table_2[[#This Row],[Column20]]+Table_2[[#This Row],[Column56]]","v":0},"",{"$f":"Table_2[[#This Row],[Column20]]+Table_2[[#This Row],[Column56]]","v":0},"",{"$f":"Table_2[[#This Row],[Column57]]+Table_2[[#This Row],[Column16]]+Table_2[[#This Row],[Column15]]","v":0},"",{"$f":"(K457/Instructions!$C$23)*100","v":0},{"$f":"(L457/Instructions!$C$24)*100","v":0},{"$f":"(Y457/Instructions!$C$25)*100","v":0},{"$f":"(AA457/Instructions!$C$27)*100","v":0},{"$f":"(AC457/Instructions!$C$29)*100","v":0},{"$f":"(V457/Instructions!$C$33)*100","v":0},{"$f":"(U457/Instructions!$C$32)*100","v":0},{"$f":"(W457/Instructions!$C$36)*100","v":{"$error":"#VALUE!"}},"","E","E","E","E","E","E","E","--",null,null,null,null,null,{"$f":"Table_2[[#This Row],[Column51]]&Table_2[[#This Row],[Column52]]&AW459","v":""}]
[null,null,null,null,null,null,null,null,null,null,null,null,null,null,null,{"$f":"Instructions!B492","v":0},null,null,null,null,null,null,"--",0,{"$f":"Table_2[[#This Row],[Column20]]+Table_2[[#This Row],[Column56]]","v":0},"",{"$f":"Table_2[[#This Row],[Column20]]+Table_2[[#This Row],[Column56]]","v":0},"",{"$f":"Table_2[[#This Row],[Column57]]+Table_2[[#This Row],[Column16]]+Table_2[[#This Row],[Column15]]","v":0},"",{"$f":"(K458/Instructions!$C$23)*100","v":0},{"$f":"(L458/Instructions!$C$24)*100","v":0},{"$f":"(Y458/Instructions!$C$25)*100","v":0},{"$f":"(AA458/Instructions!$C$27)*100","v":0},{"$f":"(AC458/Instructions!$C$29)*100","v":0},{"$f":"(V458/Instructions!$C$33)*100","v":0},{"$f":"(U458/Instructions!$C$32)*100","v":0},{"$f":"(W458/Instructions!$C$36)*100","v":{"$error":"#VALUE!"}},"","E","E","E","E","E","E","E","--",null,null,null,null,null,{"$f":"Table_2[[#This Row],[Column51]]&Table_2[[#This Row],[Column52]]&AW460","v":""}]
[null,null,null,null,null,null,null,null,null,null,null,null,null,null,null,{"$f":"Instructions!B493","v":0},null,null,null,null,null,null,"--",0,{"$f":"Table_2[[#This Row],[Column20]]+Table_2[[#This Row],[Column56]]","v":0},"",{"$f":"Table_2[[#This Row],[Column20]]+Table_2[[#This Row],[Column56]]","v":0},"",{"$f":"Table_2[[#This Row],[Column57]]+Table_2[[#This Row],[Column16]]+Table_2[[#This Row],[Column15]]","v":0},"",{"$f":"(K459/Instructions!$C$23)*100","v":0},{"$f":"(L459/Instructions!$C$24)*100","v":0},{"$f":"(Y459/Instructions!$C$25)*100","v":0},{"$f":"(AA459/Instructions!$C$27)*100","v":0},{"$f":"(AC459/Instructions!$C$29)*100","v":0},{"$f":"(V459/Instructions!$C$33)*100","v":0},{"$f":"(U459/Instructions!$C$32)*100","v":0},{"$f":"(W459/Instructions!$C$36)*100","v":{"$error":"#VALUE!"}},"","E","E","E","E","E","E","E","--",null,null,null,null,null,{"$f":"Table_2[[#This Row],[Column51]]&Table_2[[#This Row],[Column52]]&AW461","v":""}]
[null,null,null,null,null,null,null,null,null,null,null,null,null,null,null,{"$f":"Instructions!B494","v":0},null,null,null,null,null,null,"--",0,{"$f":"Table_2[[#This Row],[Column20]]+Table_2[[#This Row],[Column56]]","v":0},"",{"$f":"Table_2[[#This Row],[Column20]]+Table_2[[#This Row],[Column56]]","v":0},"",{"$f":"Table_2[[#This Row],[Column57]]+Table_2[[#This Row],[Column16]]+Table_2[[#This Row],[Column15]]","v":0},"",{"$f":"(K460/Instructions!$C$23)*100","v":0},{"$f":"(L460/Instructions!$C$24)*100","v":0},{"$f":"(Y460/Instructions!$C$25)*100","v":0},{"$f":"(AA460/Instructions!$C$27)*100","v":0},{"$f":"(AC460/Instructions!$C$29)*100","v":0},{"$f":"(V460/Instructions!$C$33)*100","v":0},{"$f":"(U460/Instructions!$C$32)*100","v":0},{"$f":"(W460/Instructions!$C$36)*100","v":{"$error":"#VALUE!"}},"","E","E","E","E","E","E","E","--",null,null,null,null,null,{"$f":"Table_2[[#This Row],[Column51]]&Table_2[[#This Row],[Column52]]&AW462","v":""}]
[null,null,null,null,null,null,null,null,null,null,null,null,null,null,null,{"$f":"Instructions!B495","v":0},null,null,null,null,null,null,"--",0,{"$f":"Table_2[[#This Row],[Column20]]+Table_2[[#This Row],[Column56]]","v":0},"",{"$f":"Table_2[[#This Row],[Column20]]+Table_2[[#This Row],[Column56]]","v":0},"",{"$f":"Table_2[[#This Row],[Column57]]+Table_2[[#This Row],[Column16]]+Table_2[[#This Row],[Column15]]","v":0},"",{"$f":"(K461/Instructions!$C$23)*100","v":0},{"$f":"(L461/Instructions!$C$24)*100","v":0},{"$f":"(Y461/Instructions!$C$25)*100","v":0},{"$f":"(AA461/Instructions!$C$27)*100","v":0},{"$f":"(AC461/Instructions!$C$29)*100","v":0},{"$f":"(V461/Instructions!$C$33)*100","v":0},{"$f":"(U461/Instructions!$C$32)*100","v":0},{"$f":"(W461/Instructions!$C$36)*100","v":{"$error":"#VALUE!"}},"","E","E","E","E","E","E","E","--",null,null,null,null,null,{"$f":"Table_2[[#This Row],[Column51]]&Table_2[[#This Row],[Column52]]&AW463","v":""}]
[null,null,null,null,null,null,null,null,null,null,null,null,null,null,null,{"$f":"Instructions!B496","v":0},null,null,null,null,null,null,"--",0,{"$f":"Table_2[[#This Row],[Column20]]+Table_2[[#This Row],[Column56]]","v":0},"",{"$f":"Table_2[[#This Row],[Column20]]+Table_2[[#This Row],[Column56]]","v":0},"",{"$f":"Table_2[[#This Row],[Column57]]+Table_2[[#This Row],[Column16]]+Table_2[[#This Row],[Column15]]","v":0},"",{"$f":"(K462/Instructions!$C$23)*100","v":0},{"$f":"(L462/Instructions!$C$24)*100","v":0},{"$f":"(Y462/Instructions!$C$25)*100","v":0},{"$f":"(AA462/Instructions!$C$27)*100","v":0},{"$f":"(AC462/Instructions!$C$29)*100","v":0},{"$f":"(V462/Instructions!$C$33)*100","v":0},{"$f":"(U462/Instructions!$C$32)*100","v":0},{"$f":"(W462/Instructions!$C$36)*100","v":{"$error":"#VALUE!"}},"","E","E","E","E","E","E","E","--",null,null,null,null,null,{"$f":"Table_2[[#This Row],[Column51]]&Table_2[[#This Row],[Column52]]&AW464","v":""}]
[null,null,null,null,null,null,null,null,null,null,null,null,null,null,null,{"$f":"Instructions!B497","v":0},null,null,null,null,null,null,"--",0,{"$f":"Table_2[[#This Row],[Column20]]+Table_2[[#This Row],[Column56]]","v":0},"",{"$f":"Table_2[[#This Row],[Column20]]+Table_2[[#This Row],[Column56]]","v":0},"",{"$f":"Table_2[[#This Row],[Column57]]+Table_2[[#This Row],[Column16]]+Table_2[[#This Row],[Column15]]","v":0},"",{"$f":"(K463/Instructions!$C$23)*100","v":0},{"$f":"(L463/Instructions!$C$24)*100","v":0},{"$f":"(Y463/Instructions!$C$25)*100","v":0},{"$f":"(AA463/Instructions!$C$27)*100","v":0},{"$f":"(AC463/Instructions!$C$29)*100","v":0},{"$f":"(V463/Instructions!$C$33)*100","v":0},{"$f":"(U463/Instructions!$C$32)*100","v":0},{"$f":"(W463/Instructions!$C$36)*100","v":{"$error":"#VALUE!"}},"","E","E","E","E","E","E","E","--",null,null,null,null,null,{"$f":"Table_2[[#This Row],[Column51]]&Table_2[[#This Row],[Column52]]&AW465","v":""}]
[null,null,null,null,null,null,null,null,null,null,null,null,null,null,null,{"$f":"Instructions!B498","v":0},null,null,null,null,null,null,"--",0,{"$f":"Table_2[[#This Row],[Column20]]+Table_2[[#This Row],[Column56]]","v":0},"",{"$f":"Table_2[[#This Row],[Column20]]+Table_2[[#This Row],[Column56]]","v":0},"",{"$f":"Table_2[[#This Row],[Column57]]+Table_2[[#This Row],[Column16]]+Table_2[[#This Row],[Column15]]","v":0},"",{"$f":"(K464/Instructions!$C$23)*100","v":0},{"$f":"(L464/Instructions!$C$24)*100","v":0},{"$f":"(Y464/Instructions!$C$25)*100","v":0},{"$f":"(AA464/Instructions!$C$27)*100","v":0},{"$f":"(AC464/Instructions!$C$29)*100","v":0},{"$f":"(V464/Instructions!$C$33)*100","v":0},{"$f":"(U464/Instructions!$C$32)*100","v":0},{"$f":"(W464/Instructions!$C$36)*100","v":{"$error":"#VALUE!"}},"","E","E","E","E","E","E","E","--",null,null,null,null,null,{"$f":"Table_2[[#This Row],[Column51]]&Table_2[[#This Row],[Column52]]&AW466","v":""}]
[null,null,null,null,null,null,null,null,null,null,null,null,null,null,null,{"$f":"Instructions!B499","v":0},null,null,null,null,null,null,"--",0,{"$f":"Table_2[[#This Row],[Column20]]+Table_2[[#This Row],[Column56]]","v":0},"",{"$f":"Table_2[[#This Row],[Column20]]+Table_2[[#This Row],[Column56]]","v":0},"",{"$f":"Table_2[[#This Row],[Column57]]+Table_2[[#This Row],[Column16]]+Table_2[[#This Row],[Column15]]","v":0},"",{"$f":"(K465/Instructions!$C$23)*100","v":0},{"$f":"(L465/Instructions!$C$24)*100","v":0},{"$f":"(Y465/Instructions!$C$25)*100","v":0},{"$f":"(AA465/Instructions!$C$27)*100","v":0},{"$f":"(AC465/Instructions!$C$29)*100","v":0},{"$f":"(V465/Instructions!$C$33)*100","v":0},{"$f":"(U465/Instructions!$C$32)*100","v":0},{"$f":"(W465/Instructions!$C$36)*100","v":{"$error":"#VALUE!"}},"","E","E","E","E","E","E","E","--",null,null,null,null,null,{"$f":"Table_2[[#This Row],[Column51]]&Table_2[[#This Row],[Column52]]&AW467","v":""}]
[null,null,null,null,null,null,null,null,null,null,null,null,null,null,null,{"$f":"Instructions!B500","v":0},null,null,null,null,null,null,"--",0,{"$f":"Table_2[[#This Row],[Column20]]+Table_2[[#This Row],[Column56]]","v":0},"",{"$f":"Table_2[[#This Row],[Column20]]+Table_2[[#This Row],[Column56]]","v":0},"",{"$f":"Table_2[[#This Row],[Column57]]+Table_2[[#This Row],[Column16]]+Table_2[[#This Row],[Column15]]","v":0},"",{"$f":"(K466/Instructions!$C$23)*100","v":0},{"$f":"(L466/Instructions!$C$24)*100","v":0},{"$f":"(Y466/Instructions!$C$25)*100","v":0},{"$f":"(AA466/Instructions!$C$27)*100","v":0},{"$f":"(AC466/Instructions!$C$29)*100","v":0},{"$f":"(V466/Instructions!$C$33)*100","v":0},{"$f":"(U466/Instructions!$C$32)*100","v":0},{"$f":"(W466/Instructions!$C$36)*100","v":{"$error":"#VALUE!"}},"","E","E","E","E","E","E","E","--",null,null,null,null,null,{"$f":"Table_2[[#This Row],[Column51]]&Table_2[[#This Row],[Column52]]&AW468","v":""}]
[null,null,null,null,null,null,null,null,null,null,null,null,null,null,null,{"$f":"Instructions!B501","v":0},null,null,null,null,null,null,"--",0,{"$f":"Table_2[[#This Row],[Column20]]+Table_2[[#This Row],[Column56]]","v":0},"",{"$f":"Table_2[[#This Row],[Column20]]+Table_2[[#This Row],[Column56]]","v":0},"",{"$f":"Table_2[[#This Row],[Column57]]+Table_2[[#This Row],[Column16]]+Table_2[[#This Row],[Column15]]","v":0},"",{"$f":"(K467/Instructions!$C$23)*100","v":0},{"$f":"(L467/Instructions!$C$24)*100","v":0},{"$f":"(Y467/Instructions!$C$25)*100","v":0},{"$f":"(AA467/Instructions!$C$27)*100","v":0},{"$f":"(AC467/Instructions!$C$29)*100","v":0},{"$f":"(V467/Instructions!$C$33)*100","v":0},{"$f":"(U467/Instructions!$C$32)*100","v":0},{"$f":"(W467/Instructions!$C$36)*100","v":{"$error":"#VALUE!"}},"","E","E","E","E","E","E","E","--",null,null,null,null,null,{"$f":"Table_2[[#This Row],[Column51]]&Table_2[[#This Row],[Column52]]&AW469","v":""}]
[null,null,null,null,null,null,null,null,null,null,null,null,null,null,null,{"$f":"Instructions!B502","v":0},null,null,null,null,null,null,"--",0,{"$f":"Table_2[[#This Row],[Column20]]+Table_2[[#This Row],[Column56]]","v":0},"",{"$f":"Table_2[[#This Row],[Column20]]+Table_2[[#This Row],[Column56]]","v":0},"",{"$f":"Table_2[[#This Row],[Column57]]+Table_2[[#This Row],[Column16]]+Table_2[[#This Row],[Column15]]","v":0},"",{"$f":"(K468/Instructions!$C$23)*100","v":0},{"$f":"(L468/Instructions!$C$24)*100","v":0},{"$f":"(Y468/Instructions!$C$25)*100","v":0},{"$f":"(AA468/Instructions!$C$27)*100","v":0},{"$f":"(AC468/Instructions!$C$29)*100","v":0},{"$f":"(V468/Instructions!$C$33)*100","v":0},{"$f":"(U468/Instructions!$C$32)*100","v":0},{"$f":"(W468/Instructions!$C$36)*100","v":{"$error":"#VALUE!"}},"","E","E","E","E","E","E","E","--",null,null,null,null,null,{"$f":"Table_2[[#This Row],[Column51]]&Table_2[[#This Row],[Column52]]&AW470","v":""}]
[null,null,null,null,null,null,null,null,null,null,null,null,null,null,null,{"$f":"Instructions!B503","v":0},null,null,null,null,null,null,"--",0,{"$f":"Table_2[[#This Row],[Column20]]+Table_2[[#This Row],[Column56]]","v":0},"",{"$f":"Table_2[[#This Row],[Column20]]+Table_2[[#This Row],[Column56]]","v":0},"",{"$f":"Table_2[[#This Row],[Column57]]+Table_2[[#This Row],[Column16]]+Table_2[[#This Row],[Column15]]","v":0},"",{"$f":"(K469/Instructions!$C$23)*100","v":0},{"$f":"(L469/Instructions!$C$24)*100","v":0},{"$f":"(Y469/Instructions!$C$25)*100","v":0},{"$f":"(AA469/Instructions!$C$27)*100","v":0},{"$f":"(AC469/Instructions!$C$29)*100","v":0},{"$f":"(V469/Instructions!$C$33)*100","v":0},{"$f":"(U469/Instructions!$C$32)*100","v":0},{"$f":"(W469/Instructions!$C$36)*100","v":{"$error":"#VALUE!"}},"","E","E","E","E","E","E","E","--",null,null,null,null,null,{"$f":"Table_2[[#This Row],[Column51]]&Table_2[[#This Row],[Column52]]&AW471","v":""}]
[null,null,null,null,null,null,null,null,null,null,null,null,null,null,null,{"$f":"Instructions!B504","v":0},null,null,null,null,null,null,"--",0,{"$f":"Table_2[[#This Row],[Column20]]+Table_2[[#This Row],[Column56]]","v":0},"",{"$f":"Table_2[[#This Row],[Column20]]+Table_2[[#This Row],[Column56]]","v":0},"",{"$f":"Table_2[[#This Row],[Column57]]+Table_2[[#This Row],[Column16]]+Table_2[[#This Row],[Column15]]","v":0},"",{"$f":"(K470/Instructions!$C$23)*100","v":0},{"$f":"(L470/Instructions!$C$24)*100","v":0},{"$f":"(Y470/Instructions!$C$25)*100","v":0},{"$f":"(AA470/Instructions!$C$27)*100","v":0},{"$f":"(AC470/Instructions!$C$29)*100","v":0},{"$f":"(V470/Instructions!$C$33)*100","v":0},{"$f":"(U470/Instructions!$C$32)*100","v":0},{"$f":"(W470/Instructions!$C$36)*100","v":{"$error":"#VALUE!"}},"","E","E","E","E","E","E","E","--",null,null,null,null,null,{"$f":"Table_2[[#This Row],[Column51]]&Table_2[[#This Row],[Column52]]&AW472","v":""}]
[null,null,null,null,null,null,null,null,null,null,null,null,null,null,null,{"$f":"Instructions!B505","v":0},null,null,null,null,null,null,"--",0,{"$f":"Table_2[[#This Row],[Column20]]+Table_2[[#This Row],[Column56]]","v":0},"",{"$f":"Table_2[[#This Row],[Column20]]+Table_2[[#This Row],[Column56]]","v":0},"",{"$f":"Table_2[[#This Row],[Column57]]+Table_2[[#This Row],[Column16]]+Table_2[[#This Row],[Column15]]","v":0},"",{"$f":"(K471/Instructions!$C$23)*100","v":0},{"$f":"(L471/Instructions!$C$24)*100","v":0},{"$f":"(Y471/Instructions!$C$25)*100","v":0},{"$f":"(AA471/Instructions!$C$27)*100","v":0},{"$f":"(AC471/Instructions!$C$29)*100","v":0},{"$f":"(V471/Instructions!$C$33)*100","v":0},{"$f":"(U471/Instructions!$C$32)*100","v":0},{"$f":"(W471/Instructions!$C$36)*100","v":{"$error":"#VALUE!"}},"","E","E","E","E","E","E","E","--",null,null,null,null,null,{"$f":"Table_2[[#This Row],[Column51]]&Table_2[[#This Row],[Column52]]&AW473","v":""}]
[null,null,null,null,null,null,null,null,null,null,null,null,null,null,null,{"$f":"Instructions!B506","v":0},null,null,null,null,null,null,"--",0,{"$f":"Table_2[[#This Row],[Column20]]+Table_2[[#This Row],[Column56]]","v":0},"",{"$f":"Table_2[[#This Row],[Column20]]+Table_2[[#This Row],[Column56]]","v":0},"",{"$f":"Table_2[[#This Row],[Column57]]+Table_2[[#This Row],[Column16]]+Table_2[[#This Row],[Column15]]","v":0},"",{"$f":"(K472/Instructions!$C$23)*100","v":0},{"$f":"(L472/Instructions!$C$24)*100","v":0},{"$f":"(Y472/Instructions!$C$25)*100","v":0},{"$f":"(AA472/Instructions!$C$27)*100","v":0},{"$f":"(AC472/Instructions!$C$29)*100","v":0},{"$f":"(V472/Instructions!$C$33)*100","v":0},{"$f":"(U472/Instructions!$C$32)*100","v":0},{"$f":"(W472/Instructions!$C$36)*100","v":{"$error":"#VALUE!"}},"","E","E","E","E","E","E","E","--",null,null,null,null,null,{"$f":"Table_2[[#This Row],[Column51]]&Table_2[[#This Row],[Column52]]&AW474","v":""}]
[null,null,null,null,null,null,null,null,null,null,null,null,null,null,null,{"$f":"Instructions!B507","v":0},null,null,null,null,null,null,"--",0,{"$f":"Table_2[[#This Row],[Column20]]+Table_2[[#This Row],[Column56]]","v":0},"",{"$f":"Table_2[[#This Row],[Column20]]+Table_2[[#This Row],[Column56]]","v":0},"",{"$f":"Table_2[[#This Row],[Column57]]+Table_2[[#This Row],[Column16]]+Table_2[[#This Row],[Column15]]","v":0},"",{"$f":"(K473/Instructions!$C$23)*100","v":0},{"$f":"(L473/Instructions!$C$24)*100","v":0},{"$f":"(Y473/Instructions!$C$25)*100","v":0},{"$f":"(AA473/Instructions!$C$27)*100","v":0},{"$f":"(AC473/Instructions!$C$29)*100","v":0},{"$f":"(V473/Instructions!$C$33)*100","v":0},{"$f":"(U473/Instructions!$C$32)*100","v":0},{"$f":"(W473/Instructions!$C$36)*100","v":{"$error":"#VALUE!"}},"","E","E","E","E","E","E","E","--",null,null,null,null,null,{"$f":"Table_2[[#This Row],[Column51]]&Table_2[[#This Row],[Column52]]&AW475","v":""}]
[null,null,null,null,null,null,null,null,null,null,null,null,null,null,null,{"$f":"Instructions!B508","v":0},null,null,null,null,null,null,"--",0,{"$f":"Table_2[[#This Row],[Column20]]+Table_2[[#This Row],[Column56]]","v":0},"",{"$f":"Table_2[[#This Row],[Column20]]+Table_2[[#This Row],[Column56]]","v":0},"",{"$f":"Table_2[[#This Row],[Column57]]+Table_2[[#This Row],[Column16]]+Table_2[[#This Row],[Column15]]","v":0},"",{"$f":"(K474/Instructions!$C$23)*100","v":0},{"$f":"(L474/Instructions!$C$24)*100","v":0},{"$f":"(Y474/Instructions!$C$25)*100","v":0},{"$f":"(AA474/Instructions!$C$27)*100","v":0},{"$f":"(AC474/Instructions!$C$29)*100","v":0},{"$f":"(V474/Instructions!$C$33)*100","v":0},{"$f":"(U474/Instructions!$C$32)*100","v":0},{"$f":"(W474/Instructions!$C$36)*100","v":{"$error":"#VALUE!"}},"","E","E","E","E","E","E","E","--",null,null,null,null,null,{"$f":"Table_2[[#This Row],[Column51]]&Table_2[[#This Row],[Column52]]&AW476","v":""}]
[null,null,null,null,null,null,null,null,null,null,null,null,null,null,null,{"$f":"Instructions!B509","v":0},null,null,null,null,null,null,"--",0,{"$f":"Table_2[[#This Row],[Column20]]+Table_2[[#This Row],[Column56]]","v":0},"",{"$f":"Table_2[[#This Row],[Column20]]+Table_2[[#This Row],[Column56]]","v":0},"",{"$f":"Table_2[[#This Row],[Column57]]+Table_2[[#This Row],[Column16]]+Table_2[[#This Row],[Column15]]","v":0},"",{"$f":"(K475/Instructions!$C$23)*100","v":0},{"$f":"(L475/Instructions!$C$24)*100","v":0},{"$f":"(Y475/Instructions!$C$25)*100","v":0},{"$f":"(AA475/Instructions!$C$27)*100","v":0},{"$f":"(AC475/Instructions!$C$29)*100","v":0},{"$f":"(V475/Instructions!$C$33)*100","v":0},{"$f":"(U475/Instructions!$C$32)*100","v":0},{"$f":"(W475/Instructions!$C$36)*100","v":{"$error":"#VALUE!"}},"","E","E","E","E","E","E","E","--",null,null,null,null,null,{"$f":"Table_2[[#This Row],[Column51]]&Table_2[[#This Row],[Column52]]&AW477","v":""}]
[null,null,null,null,null,null,null,null,null,null,null,null,null,null,null,{"$f":"Instructions!B510","v":0},null,null,null,null,null,null,"--",0,{"$f":"Table_2[[#This Row],[Column20]]+Table_2[[#This Row],[Column56]]","v":0},"",{"$f":"Table_2[[#This Row],[Column20]]+Table_2[[#This Row],[Column56]]","v":0},"",{"$f":"Table_2[[#This Row],[Column57]]+Table_2[[#This Row],[Column16]]+Table_2[[#This Row],[Column15]]","v":0},"",{"$f":"(K476/Instructions!$C$23)*100","v":0},{"$f":"(L476/Instructions!$C$24)*100","v":0},{"$f":"(Y476/Instructions!$C$25)*100","v":0},{"$f":"(AA476/Instructions!$C$27)*100","v":0},{"$f":"(AC476/Instructions!$C$29)*100","v":0},{"$f":"(V476/Instructions!$C$33)*100","v":0},{"$f":"(U476/Instructions!$C$32)*100","v":0},{"$f":"(W476/Instructions!$C$36)*100","v":{"$error":"#VALUE!"}},"","E","E","E","E","E","E","E","--",null,null,null,null,null,{"$f":"Table_2[[#This Row],[Column51]]&Table_2[[#This Row],[Column52]]&AW478","v":""}]
[null,null,null,null,null,null,null,null,null,null,null,null,null,null,null,{"$f":"Instructions!B511","v":0},null,null,null,null,null,null,"--",0,{"$f":"Table_2[[#This Row],[Column20]]+Table_2[[#This Row],[Column56]]","v":0},"",{"$f":"Table_2[[#This Row],[Column20]]+Table_2[[#This Row],[Column56]]","v":0},"",{"$f":"Table_2[[#This Row],[Column57]]+Table_2[[#This Row],[Column16]]+Table_2[[#This Row],[Column15]]","v":0},"",{"$f":"(K477/Instructions!$C$23)*100","v":0},{"$f":"(L477/Instructions!$C$24)*100","v":0},{"$f":"(Y477/Instructions!$C$25)*100","v":0},{"$f":"(AA477/Instructions!$C$27)*100","v":0},{"$f":"(AC477/Instructions!$C$29)*100","v":0},{"$f":"(V477/Instructions!$C$33)*100","v":0},{"$f":"(U477/Instructions!$C$32)*100","v":0},{"$f":"(W477/Instructions!$C$36)*100","v":{"$error":"#VALUE!"}},"","E","E","E","E","E","E","E","--",null,null,null,null,null,{"$f":"Table_2[[#This Row],[Column51]]&Table_2[[#This Row],[Column52]]&AW479","v":""}]
[null,null,null,null,null,null,null,null,null,null,null,null,null,null,null,{"$f":"Instructions!B512","v":0},null,null,null,null,null,null,"--",0,{"$f":"Table_2[[#This Row],[Column20]]+Table_2[[#This Row],[Column56]]","v":0},"",{"$f":"Table_2[[#This Row],[Column20]]+Table_2[[#This Row],[Column56]]","v":0},"",{"$f":"Table_2[[#This Row],[Column57]]+Table_2[[#This Row],[Column16]]+Table_2[[#This Row],[Column15]]","v":0},"",{"$f":"(K478/Instructions!$C$23)*100","v":0},{"$f":"(L478/Instructions!$C$24)*100","v":0},{"$f":"(Y478/Instructions!$C$25)*100","v":0},{"$f":"(AA478/Instructions!$C$27)*100","v":0},{"$f":"(AC478/Instructions!$C$29)*100","v":0},{"$f":"(V478/Instructions!$C$33)*100","v":0},{"$f":"(U478/Instructions!$C$32)*100","v":0},{"$f":"(W478/Instructions!$C$36)*100","v":{"$error":"#VALUE!"}},"","E","E","E","E","E","E","E","--",null,null,null,null,null,{"$f":"Table_2[[#This Row],[Column51]]&Table_2[[#This Row],[Column52]]&AW480","v":""}]
[null,null,null,null,null,null,null,null,null,null,null,null,null,null,null,{"$f":"Instructions!B513","v":0},null,null,null,null,null,null,"--",0,{"$f":"Table_2[[#This Row],[Column20]]+Table_2[[#This Row],[Column56]]","v":0},"",{"$f":"Table_2[[#This Row],[Column20]]+Table_2[[#This Row],[Column56]]","v":0},"",{"$f":"Table_2[[#This Row],[Column57]]+Table_2[[#This Row],[Column16]]+Table_2[[#This Row],[Column15]]","v":0},"",{"$f":"(K479/Instructions!$C$23)*100","v":0},{"$f":"(L479/Instructions!$C$24)*100","v":0},{"$f":"(Y479/Instructions!$C$25)*100","v":0},{"$f":"(AA479/Instructions!$C$27)*100","v":0},{"$f":"(AC479/Instructions!$C$29)*100","v":0},{"$f":"(V479/Instructions!$C$33)*100","v":0},{"$f":"(U479/Instructions!$C$32)*100","v":0},{"$f":"(W479/Instructions!$C$36)*100","v":{"$error":"#VALUE!"}},"","E","E","E","E","E","E","E","--",null,null,null,null,null,{"$f":"Table_2[[#This Row],[Column51]]&Table_2[[#This Row],[Column52]]&AW481","v":""}]
[null,null,null,null,null,null,null,null,null,null,null,null,null,null,null,{"$f":"Instructions!B514","v":0},null,null,null,null,null,null,"--",0,{"$f":"Table_2[[#This Row],[Column20]]+Table_2[[#This Row],[Column56]]","v":0},"",{"$f":"Table_2[[#This Row],[Column20]]+Table_2[[#This Row],[Column56]]","v":0},"",{"$f":"Table_2[[#This Row],[Column57]]+Table_2[[#This Row],[Column16]]+Table_2[[#This Row],[Column15]]","v":0},"",{"$f":"(K480/Instructions!$C$23)*100","v":0},{"$f":"(L480/Instructions!$C$24)*100","v":0},{"$f":"(Y480/Instructions!$C$25)*100","v":0},{"$f":"(AA480/Instructions!$C$27)*100","v":0},{"$f":"(AC480/Instructions!$C$29)*100","v":0},{"$f":"(V480/Instructions!$C$33)*100","v":0},{"$f":"(U480/Instructions!$C$32)*100","v":0},{"$f":"(W480/Instructions!$C$36)*100","v":{"$error":"#VALUE!"}},"","E","E","E","E","E","E","E","--",null,null,null,null,null,{"$f":"Table_2[[#This Row],[Column51]]&Table_2[[#This Row],[Column52]]&AW482","v":""}]
[null,null,null,null,null,null,null,null,null,null,null,null,null,null,null,{"$f":"Instructions!B515","v":0},null,null,null,null,null,null,"--",0,{"$f":"Table_2[[#This Row],[Column20]]+Table_2[[#This Row],[Column56]]","v":0},"",{"$f":"Table_2[[#This Row],[Column20]]+Table_2[[#This Row],[Column56]]","v":0},"",{"$f":"Table_2[[#This Row],[Column57]]+Table_2[[#This Row],[Column16]]+Table_2[[#This Row],[Column15]]","v":0},"",{"$f":"(K481/Instructions!$C$23)*100","v":0},{"$f":"(L481/Instructions!$C$24)*100","v":0},{"$f":"(Y481/Instructions!$C$25)*100","v":0},{"$f":"(AA481/Instructions!$C$27)*100","v":0},{"$f":"(AC481/Instructions!$C$29)*100","v":0},{"$f":"(V481/Instructions!$C$33)*100","v":0},{"$f":"(U481/Instructions!$C$32)*100","v":0},{"$f":"(W481/Instructions!$C$36)*100","v":{"$error":"#VALUE!"}},"","E","E","E","E","E","E","E","--",null,null,null,null,null,{"$f":"Table_2[[#This Row],[Column51]]&Table_2[[#This Row],[Column52]]&AW483","v":""}]
[null,null,null,null,null,null,null,null,null,null,null,null,null,null,null,{"$f":"Instructions!B516","v":0},null,null,null,null,null,null,"--",0,{"$f":"Table_2[[#This Row],[Column20]]+Table_2[[#This Row],[Column56]]","v":0},"",{"$f":"Table_2[[#This Row],[Column20]]+Table_2[[#This Row],[Column56]]","v":0},"",{"$f":"Table_2[[#This Row],[Column57]]+Table_2[[#This Row],[Column16]]+Table_2[[#This Row],[Column15]]","v":0},"",{"$f":"(K482/Instructions!$C$23)*100","v":0},{"$f":"(L482/Instructions!$C$24)*100","v":0},{"$f":"(Y482/Instructions!$C$25)*100","v":0},{"$f":"(AA482/Instructions!$C$27)*100","v":0},{"$f":"(AC482/Instructions!$C$29)*100","v":0},{"$f":"(V482/Instructions!$C$33)*100","v":0},{"$f":"(U482/Instructions!$C$32)*100","v":0},{"$f":"(W482/Instructions!$C$36)*100","v":{"$error":"#VALUE!"}},"","E","E","E","E","E","E","E","--",null,null,null,null,null,{"$f":"Table_2[[#This Row],[Column51]]&Table_2[[#This Row],[Column52]]&AW484","v":""}]
[null,null,null,null,null,null,null,null,null,null,null,null,null,null,null,{"$f":"Instructions!B517","v":0},null,null,null,null,null,null,"--",0,{"$f":"Table_2[[#This Row],[Column20]]+Table_2[[#This Row],[Column56]]","v":0},"",{"$f":"Table_2[[#This Row],[Column20]]+Table_2[[#This Row],[Column56]]","v":0},"",{"$f":"Table_2[[#This Row],[Column57]]+Table_2[[#This Row],[Column16]]+Table_2[[#This Row],[Column15]]","v":0},"",{"$f":"(K483/Instructions!$C$23)*100","v":0},{"$f":"(L483/Instructions!$C$24)*100","v":0},{"$f":"(Y483/Instructions!$C$25)*100","v":0},{"$f":"(AA483/Instructions!$C$27)*100","v":0},{"$f":"(AC483/Instructions!$C$29)*100","v":0},{"$f":"(V483/Instructions!$C$33)*100","v":0},{"$f":"(U483/Instructions!$C$32)*100","v":0},{"$f":"(W483/Instructions!$C$36)*100","v":{"$error":"#VALUE!"}},"","E","E","E","E","E","E","E","--",null,null,null,null,null,{"$f":"Table_2[[#This Row],[Column51]]&Table_2[[#This Row],[Column52]]&AW485","v":""}]
[null,null,null,null,null,null,null,null,null,null,null,null,null,null,null,{"$f":"Instructions!B518","v":0},null,null,null,null,null,null,"--",0,{"$f":"Table_2[[#This Row],[Column20]]+Table_2[[#This Row],[Column56]]","v":0},"",{"$f":"Table_2[[#This Row],[Column20]]+Table_2[[#This Row],[Column56]]","v":0},"",{"$f":"Table_2[[#This Row],[Column57]]+Table_2[[#This Row],[Column16]]+Table_2[[#This Row],[Column15]]","v":0},"",{"$f":"(K484/Instructions!$C$23)*100","v":0},{"$f":"(L484/Instructions!$C$24)*100","v":0},{"$f":"(Y484/Instructions!$C$25)*100","v":0},{"$f":"(AA484/Instructions!$C$27)*100","v":0},{"$f":"(AC484/Instructions!$C$29)*100","v":0},{"$f":"(V484/Instructions!$C$33)*100","v":0},{"$f":"(U484/Instructions!$C$32)*100","v":0},{"$f":"(W484/Instructions!$C$36)*100","v":{"$error":"#VALUE!"}},"","E","E","E","E","E","E","E","--",null,null,null,null,null,{"$f":"Table_2[[#This Row],[Column51]]&Table_2[[#This Row],[Column52]]&AW486","v":""}]
[null,null,null,null,null,null,null,null,null,null,null,null,null,null,null,{"$f":"Instructions!B519","v":0},null,null,null,null,null,null,"--",0,{"$f":"Table_2[[#This Row],[Column20]]+Table_2[[#This Row],[Column56]]","v":0},"",{"$f":"Table_2[[#This Row],[Column20]]+Table_2[[#This Row],[Column56]]","v":0},"",{"$f":"Table_2[[#This Row],[Column57]]+Table_2[[#This Row],[Column16]]+Table_2[[#This Row],[Column15]]","v":0},"",{"$f":"(K485/Instructions!$C$23)*100","v":0},{"$f":"(L485/Instructions!$C$24)*100","v":0},{"$f":"(Y485/Instructions!$C$25)*100","v":0},{"$f":"(AA485/Instructions!$C$27)*100","v":0},{"$f":"(AC485/Instructions!$C$29)*100","v":0},{"$f":"(V485/Instructions!$C$33)*100","v":0},{"$f":"(U485/Instructions!$C$32)*100","v":0},{"$f":"(W485/Instructions!$C$36)*100","v":{"$error":"#VALUE!"}},"","E","E","E","E","E","E","E","--",null,null,null,null,null,{"$f":"Table_2[[#This Row],[Column51]]&Table_2[[#This Row],[Column52]]&AW487","v":""}]
[null,null,null,null,null,null,null,null,null,null,null,null,null,null,null,{"$f":"Instructions!B520","v":0},null,null,null,null,null,null,"--",0,{"$f":"Table_2[[#This Row],[Column20]]+Table_2[[#This Row],[Column56]]","v":0},"",{"$f":"Table_2[[#This Row],[Column20]]+Table_2[[#This Row],[Column56]]","v":0},"",{"$f":"Table_2[[#This Row],[Column57]]+Table_2[[#This Row],[Column16]]+Table_2[[#This Row],[Column15]]","v":0},"",{"$f":"(K486/Instructions!$C$23)*100","v":0},{"$f":"(L486/Instructions!$C$24)*100","v":0},{"$f":"(Y486/Instructions!$C$25)*100","v":0},{"$f":"(AA486/Instructions!$C$27)*100","v":0},{"$f":"(AC486/Instructions!$C$29)*100","v":0},{"$f":"(V486/Instructions!$C$33)*100","v":0},{"$f":"(U486/Instructions!$C$32)*100","v":0},{"$f":"(W486/Instructions!$C$36)*100","v":{"$error":"#VALUE!"}},"","E","E","E","E","E","E","E","--",null,null,null,null,null,{"$f":"Table_2[[#This Row],[Column51]]&Table_2[[#This Row],[Column52]]&AW488","v":""}]
[null,null,null,null,null,null,null,null,null,null,null,null,null,null,null,{"$f":"Instructions!B521","v":0},null,null,null,null,null,null,"--",0,{"$f":"Table_2[[#This Row],[Column20]]+Table_2[[#This Row],[Column56]]","v":0},"",{"$f":"Table_2[[#This Row],[Column20]]+Table_2[[#This Row],[Column56]]","v":0},"",{"$f":"Table_2[[#This Row],[Column57]]+Table_2[[#This Row],[Column16]]+Table_2[[#This Row],[Column15]]","v":0},"",{"$f":"(K487/Instructions!$C$23)*100","v":0},{"$f":"(L487/Instructions!$C$24)*100","v":0},{"$f":"(Y487/Instructions!$C$25)*100","v":0},{"$f":"(AA487/Instructions!$C$27)*100","v":0},{"$f":"(AC487/Instructions!$C$29)*100","v":0},{"$f":"(V487/Instructions!$C$33)*100","v":0},{"$f":"(U487/Instructions!$C$32)*100","v":0},{"$f":"(W487/Instructions!$C$36)*100","v":{"$error":"#VALUE!"}},"","E","E","E","E","E","E","E","--",null,null,null,null,null,{"$f":"Table_2[[#This Row],[Column51]]&Table_2[[#This Row],[Column52]]&AW489","v":""}]
[null,null,null,null,null,null,null,null,null,null,null,null,null,null,null,{"$f":"Instructions!B522","v":0},null,null,null,null,null,null,"--",0,{"$f":"Table_2[[#This Row],[Column20]]+Table_2[[#This Row],[Column56]]","v":0},"",{"$f":"Table_2[[#This Row],[Column20]]+Table_2[[#This Row],[Column56]]","v":0},"",{"$f":"Table_2[[#This Row],[Column57]]+Table_2[[#This Row],[Column16]]+Table_2[[#This Row],[Column15]]","v":0},"",{"$f":"(K488/Instructions!$C$23)*100","v":0},{"$f":"(L488/Instructions!$C$24)*100","v":0},{"$f":"(Y488/Instructions!$C$25)*100","v":0},{"$f":"(AA488/Instructions!$C$27)*100","v":0},{"$f":"(AC488/Instructions!$C$29)*100","v":0},{"$f":"(V488/Instructions!$C$33)*100","v":0},{"$f":"(U488/Instructions!$C$32)*100","v":0},{"$f":"(W488/Instructions!$C$36)*100","v":{"$error":"#VALUE!"}},"","E","E","E","E","E","E","E","--",null,null,null,null,null,{"$f":"Table_2[[#This Row],[Column51]]&Table_2[[#This Row],[Column52]]&AW490","v":""}]
[null,null,null,null,null,null,null,null,null,null,null,null,null,null,null,{"$f":"Instructions!B523","v":0},null,null,null,null,null,null,"--",0,{"$f":"Table_2[[#This Row],[Column20]]+Table_2[[#This Row],[Column56]]","v":0},"",{"$f":"Table_2[[#This Row],[Column20]]+Table_2[[#This Row],[Column56]]","v":0},"",{"$f":"Table_2[[#This Row],[Column57]]+Table_2[[#This Row],[Column16]]+Table_2[[#This Row],[Column15]]","v":0},"",{"$f":"(K489/Instructions!$C$23)*100","v":0},{"$f":"(L489/Instructions!$C$24)*100","v":0},{"$f":"(Y489/Instructions!$C$25)*100","v":0},{"$f":"(AA489/Instructions!$C$27)*100","v":0},{"$f":"(AC489/Instructions!$C$29)*100","v":0},{"$f":"(V489/Instructions!$C$33)*100","v":0},{"$f":"(U489/Instructions!$C$32)*100","v":0},{"$f":"(W489/Instructions!$C$36)*100","v":{"$error":"#VALUE!"}},"","E","E","E","E","E","E","E","--",null,null,null,null,null,{"$f":"Table_2[[#This Row],[Column51]]&Table_2[[#This Row],[Column52]]&AW491","v":""}]
[null,null,null,null,null,null,null,null,null,null,null,null,null,null,null,{"$f":"Instructions!B524","v":0},null,null,null,null,null,null,"--",0,{"$f":"Table_2[[#This Row],[Column20]]+Table_2[[#This Row],[Column56]]","v":0},"",{"$f":"Table_2[[#This Row],[Column20]]+Table_2[[#This Row],[Column56]]","v":0},"",{"$f":"Table_2[[#This Row],[Column57]]+Table_2[[#This Row],[Column16]]+Table_2[[#This Row],[Column15]]","v":0},"",{"$f":"(K490/Instructions!$C$23)*100","v":0},{"$f":"(L490/Instructions!$C$24)*100","v":0},{"$f":"(Y490/Instructions!$C$25)*100","v":0},{"$f":"(AA490/Instructions!$C$27)*100","v":0},{"$f":"(AC490/Instructions!$C$29)*100","v":0},{"$f":"(V490/Instructions!$C$33)*100","v":0},{"$f":"(U490/Instructions!$C$32)*100","v":0},{"$f":"(W490/Instructions!$C$36)*100","v":{"$error":"#VALUE!"}},"","E","E","E","E","E","E","E","--",null,null,null,null,null,{"$f":"Table_2[[#This Row],[Column51]]&Table_2[[#This Row],[Column52]]&AW492","v":""}]
[null,null,null,null,null,null,null,null,null,null,null,null,null,null,null,{"$f":"Instructions!B525","v":0},null,null,null,null,null,null,"--",0,{"$f":"Table_2[[#This Row],[Column20]]+Table_2[[#This Row],[Column56]]","v":0},"",{"$f":"Table_2[[#This Row],[Column20]]+Table_2[[#This Row],[Column56]]","v":0},"",{"$f":"Table_2[[#This Row],[Column57]]+Table_2[[#This Row],[Column16]]+Table_2[[#This Row],[Column15]]","v":0},"",{"$f":"(K491/Instructions!$C$23)*100","v":0},{"$f":"(L491/Instructions!$C$24)*100","v":0},{"$f":"(Y491/Instructions!$C$25)*100","v":0},{"$f":"(AA491/Instructions!$C$27)*100","v":0},{"$f":"(AC491/Instructions!$C$29)*100","v":0},{"$f":"(V491/Instructions!$C$33)*100","v":0},{"$f":"(U491/Instructions!$C$32)*100","v":0},{"$f":"(W491/Instructions!$C$36)*100","v":{"$error":"#VALUE!"}},"","E","E","E","E","E","E","E","--",null,null,null,null,null,{"$f":"Table_2[[#This Row],[Column51]]&Table_2[[#This Row],[Column52]]&AW493","v":""}]
[null,null,null,null,null,null,null,null,null,null,null,null,null,null,null,{"$f":"Instructions!B526","v":0},null,null,null,null,null,null,"--",0,{"$f":"Table_2[[#This Row],[Column20]]+Table_2[[#This Row],[Column56]]","v":0},"",{"$f":"Table_2[[#This Row],[Column20]]+Table_2[[#This Row],[Column56]]","v":0},"",{"$f":"Table_2[[#This Row],[Column57]]+Table_2[[#This Row],[Column16]]+Table_2[[#This Row],[Column15]]","v":0},"",{"$f":"(K492/Instructions!$C$23)*100","v":0},{"$f":"(L492/Instructions!$C$24)*100","v":0},{"$f":"(Y492/Instructions!$C$25)*100","v":0},{"$f":"(AA492/Instructions!$C$27)*100","v":0},{"$f":"(AC492/Instructions!$C$29)*100","v":0},{"$f":"(V492/Instructions!$C$33)*100","v":0},{"$f":"(U492/Instructions!$C$32)*100","v":0},{"$f":"(W492/Instructions!$C$36)*100","v":{"$error":"#VALUE!"}},"","E","E","E","E","E","E","E","--",null,null,null,null,null,{"$f":"Table_2[[#This Row],[Column51]]&Table_2[[#This Row],[Column52]]&AW494","v":""}]
[null,null,null,null,null,null,null,null,null,null,null,null,null,null,null,{"$f":"Instructions!B527","v":0},null,null,null,null,null,null,"--",0,{"$f":"Table_2[[#This Row],[Column20]]+Table_2[[#This Row],[Column56]]","v":0},"",{"$f":"Table_2[[#This Row],[Column20]]+Table_2[[#This Row],[Column56]]","v":0},"",{"$f":"Table_2[[#This Row],[Column57]]+Table_2[[#This Row],[Column16]]+Table_2[[#This Row],[Column15]]","v":0},"",{"$f":"(K493/Instructions!$C$23)*100","v":0},{"$f":"(L493/Instructions!$C$24)*100","v":0},{"$f":"(Y493/Instructions!$C$25)*100","v":0},{"$f":"(AA493/Instructions!$C$27)*100","v":0},{"$f":"(AC493/Instructions!$C$29)*100","v":0},{"$f":"(V493/Instructions!$C$33)*100","v":0},{"$f":"(U493/Instructions!$C$32)*100","v":0},{"$f":"(W493/Instructions!$C$36)*100","v":{"$error":"#VALUE!"}},"","E","E","E","E","E","E","E","--",null,null,null,null,null,{"$f":"Table_2[[#This Row],[Column51]]&Table_2[[#This Row],[Column52]]&AW495","v":""}]
[null,null,null,null,null,null,null,null,null,null,null,null,null,null,null,{"$f":"Instructions!B528","v":0},null,null,null,null,null,null,"--",0,{"$f":"Table_2[[#This Row],[Column20]]+Table_2[[#This Row],[Column56]]","v":0},"",{"$f":"Table_2[[#This Row],[Column20]]+Table_2[[#This Row],[Column56]]","v":0},"",{"$f":"Table_2[[#This Row],[Column57]]+Table_2[[#This Row],[Column16]]+Table_2[[#This Row],[Column15]]","v":0},"",{"$f":"(K494/Instructions!$C$23)*100","v":0},{"$f":"(L494/Instructions!$C$24)*100","v":0},{"$f":"(Y494/Instructions!$C$25)*100","v":0},{"$f":"(AA494/Instructions!$C$27)*100","v":0},{"$f":"(AC494/Instructions!$C$29)*100","v":0},{"$f":"(V494/Instructions!$C$33)*100","v":0},{"$f":"(U494/Instructions!$C$32)*100","v":0},{"$f":"(W494/Instructions!$C$36)*100","v":{"$error":"#VALUE!"}},"","E","E","E","E","E","E","E","--",null,null,null,null,null,{"$f":"Table_2[[#This Row],[Column51]]&Table_2[[#This Row],[Column52]]&AW496","v":""}]
[null,null,null,null,null,null,null,null,null,null,null,null,null,null,null,{"$f":"Instructions!B529","v":0},null,null,null,null,null,null,"--",0,{"$f":"Table_2[[#This Row],[Column20]]+Table_2[[#This Row],[Column56]]","v":0},"",{"$f":"Table_2[[#This Row],[Column20]]+Table_2[[#This Row],[Column56]]","v":0},"",{"$f":"Table_2[[#This Row],[Column57]]+Table_2[[#This Row],[Column16]]+Table_2[[#This Row],[Column15]]","v":0},"",{"$f":"(K495/Instructions!$C$23)*100","v":0},{"$f":"(L495/Instructions!$C$24)*100","v":0},{"$f":"(Y495/Instructions!$C$25)*100","v":0},{"$f":"(AA495/Instructions!$C$27)*100","v":0},{"$f":"(AC495/Instructions!$C$29)*100","v":0},{"$f":"(V495/Instructions!$C$33)*100","v":0},{"$f":"(U495/Instructions!$C$32)*100","v":0},{"$f":"(W495/Instructions!$C$36)*100","v":{"$error":"#VALUE!"}},"","E","E","E","E","E","E","E","--",null,null,null,null,null,{"$f":"Table_2[[#This Row],[Column51]]&Table_2[[#This Row],[Column52]]&AW497","v":""}]
[null,null,null,null,null,null,null,null,null,null,null,null,null,null,null,{"$f":"Instructions!B530","v":0},null,null,null,null,null,null,"--",0,{"$f":"Table_2[[#This Row],[Column20]]+Table_2[[#This Row],[Column56]]","v":0},"",{"$f":"Table_2[[#This Row],[Column20]]+Table_2[[#This Row],[Column56]]","v":0},"",{"$f":"Table_2[[#This Row],[Column57]]+Table_2[[#This Row],[Column16]]+Table_2[[#This Row],[Column15]]","v":0},"",{"$f":"(K496/Instructions!$C$23)*100","v":0},{"$f":"(L496/Instructions!$C$24)*100","v":0},{"$f":"(Y496/Instructions!$C$25)*100","v":0},{"$f":"(AA496/Instructions!$C$27)*100","v":0},{"$f":"(AC496/Instructions!$C$29)*100","v":0},{"$f":"(V496/Instructions!$C$33)*100","v":0},{"$f":"(U496/Instructions!$C$32)*100","v":0},{"$f":"(W496/Instructions!$C$36)*100","v":{"$error":"#VALUE!"}},"","E","E","E","E","E","E","E","--",null,null,null,null,null,{"$f":"Table_2[[#This Row],[Column51]]&Table_2[[#This Row],[Column52]]&AW498","v":""}]
[null,null,null,null,null,null,null,null,null,null,null,null,null,null,null,{"$f":"Instructions!B531","v":0},null,null,null,null,null,null,"--",0,{"$f":"Table_2[[#This Row],[Column20]]+Table_2[[#This Row],[Column56]]","v":0},"",{"$f":"Table_2[[#This Row],[Column20]]+Table_2[[#This Row],[Column56]]","v":0},"",{"$f":"Table_2[[#This Row],[Column57]]+Table_2[[#This Row],[Column16]]+Table_2[[#This Row],[Column15]]","v":0},"",{"$f":"(K497/Instructions!$C$23)*100","v":0},{"$f":"(L497/Instructions!$C$24)*100","v":0},{"$f":"(Y497/Instructions!$C$25)*100","v":0},{"$f":"(AA497/Instructions!$C$27)*100","v":0},{"$f":"(AC497/Instructions!$C$29)*100","v":0},{"$f":"(V497/Instructions!$C$33)*100","v":0},{"$f":"(U497/Instructions!$C$32)*100","v":0},{"$f":"(W497/Instructions!$C$36)*100","v":{"$error":"#VALUE!"}},"","E","E","E","E","E","E","E","--",null,null,null,null,null,{"$f":"Table_2[[#This Row],[Column51]]&Table_2[[#This Row],[Column52]]&AW499","v":""}]
[null,null,null,null,null,null,null,null,null,null,null,null,null,null,null,{"$f":"Instructions!B532","v":0},null,null,null,null,null,null,"--",0,{"$f":"Table_2[[#This Row],[Column20]]+Table_2[[#This Row],[Column56]]","v":0},"",{"$f":"Table_2[[#This Row],[Column20]]+Table_2[[#This Row],[Column56]]","v":0},"",{"$f":"Table_2[[#This Row],[Column57]]+Table_2[[#This Row],[Column16]]+Table_2[[#This Row],[Column15]]","v":0},"",{"$f":"(K498/Instructions!$C$23)*100","v":0},{"$f":"(L498/Instructions!$C$24)*100","v":0},{"$f":"(Y498/Instructions!$C$25)*100","v":0},{"$f":"(AA498/Instructions!$C$27)*100","v":0},{"$f":"(AC498/Instructions!$C$29)*100","v":0},{"$f":"(V498/Instructions!$C$33)*100","v":0},{"$f":"(U498/Instructions!$C$32)*100","v":0},{"$f":"(W498/Instructions!$C$36)*100","v":{"$error":"#VALUE!"}},"","E","E","E","E","E","E","E","--",null,null,null,null,null,{"$f":"Table_2[[#This Row],[Column51]]&Table_2[[#This Row],[Column52]]&AW500","v":""}]
[null,null,null,null,null,null,null,null,null,null,null,null,null,null,null,{"$f":"Instructions!B533","v":0},null,null,null,null,null,null,"--",0,{"$f":"Table_2[[#This Row],[Column20]]+Table_2[[#This Row],[Column56]]","v":0},"",{"$f":"Table_2[[#This Row],[Column20]]+Table_2[[#This Row],[Column56]]","v":0},"",{"$f":"Table_2[[#This Row],[Column57]]+Table_2[[#This Row],[Column16]]+Table_2[[#This Row],[Column15]]","v":0},"",{"$f":"(K499/Instructions!$C$23)*100","v":0},{"$f":"(L499/Instructions!$C$24)*100","v":0},{"$f":"(Y499/Instructions!$C$25)*100","v":0},{"$f":"(AA499/Instructions!$C$27)*100","v":0},{"$f":"(AC499/Instructions!$C$29)*100","v":0},{"$f":"(V499/Instructions!$C$33)*100","v":0},{"$f":"(U499/Instructions!$C$32)*100","v":0},{"$f":"(W499/Instructions!$C$36)*100","v":{"$error":"#VALUE!"}},"","E","E","E","E","E","E","E","--",null,null,null,null,null,{"$f":"Table_2[[#This Row],[Column51]]&Table_2[[#This Row],[Column52]]&AW501","v":""}]
[null,null,null,null,null,null,null,null,null,null,null,null,null,null,null,{"$f":"Instructions!B534","v":0},null,null,null,null,null,null,"--",0,{"$f":"Table_2[[#This Row],[Column20]]+Table_2[[#This Row],[Column56]]","v":0},"",{"$f":"Table_2[[#This Row],[Column20]]+Table_2[[#This Row],[Column56]]","v":0},"",{"$f":"Table_2[[#This Row],[Column57]]+Table_2[[#This Row],[Column16]]+Table_2[[#This Row],[Column15]]","v":0},"",{"$f":"(K500/Instructions!$C$23)*100","v":0},{"$f":"(L500/Instructions!$C$24)*100","v":0},{"$f":"(Y500/Instructions!$C$25)*100","v":0},{"$f":"(AA500/Instructions!$C$27)*100","v":0},{"$f":"(AC500/Instructions!$C$29)*100","v":0},{"$f":"(V500/Instructions!$C$33)*100","v":0},{"$f":"(U500/Instructions!$C$32)*100","v":0},{"$f":"(W500/Instructions!$C$36)*100","v":{"$error":"#VALUE!"}},"","E","E","E","E","E","E","E","--",null,null,null,null,null,{"$f":"Table_2[[#This Row],[Column51]]&Table_2[[#This Row],[Column52]]&AW502","v":""}]
[null,null,null,null,null,null,null,null,null,null,null,null,null,null,null,{"$f":"Instructions!B535","v":0},null,null,null,null,null,null,"--",0,{"$f":"Table_2[[#This Row],[Column20]]+Table_2[[#This Row],[Column56]]","v":0},"",{"$f":"Table_2[[#This Row],[Column20]]+Table_2[[#This Row],[Column56]]","v":0},"",{"$f":"Table_2[[#This Row],[Column57]]+Table_2[[#This Row],[Column16]]+Table_2[[#This Row],[Column15]]","v":0},"",{"$f":"(K501/Instructions!$C$23)*100","v":0},{"$f":"(L501/Instructions!$C$24)*100","v":0},{"$f":"(Y501/Instructions!$C$25)*100","v":0},{"$f":"(AA501/Instructions!$C$27)*100","v":0},{"$f":"(AC501/Instructions!$C$29)*100","v":0},{"$f":"(V501/Instructions!$C$33)*100","v":0},{"$f":"(U501/Instructions!$C$32)*100","v":0},{"$f":"(W501/Instructions!$C$36)*100","v":{"$error":"#VALUE!"}},"","E","E","E","E","E","E","E","--",null,null,null,null,null,{"$f":"Table_2[[#This Row],[Column51]]&Table_2[[#This Row],[Column52]]&AY875","v":""}]
[null,null,null,null,null,null,null,null,null,null,null,null,null,null,null,{"$f":"Instructions!B536","v":0},null,null,null,null,null,null,"--",0,{"$f":"Table_2[[#This Row],[Column20]]+Table_2[[#This Row],[Column56]]","v":0},"",{"$f":"Table_2[[#This Row],[Column20]]+Table_2[[#This Row],[Column56]]","v":0},"",{"$f":"Table_2[[#This Row],[Column57]]+Table_2[[#This Row],[Column16]]+Table_2[[#This Row],[Column15]]","v":0},"",{"$f":"(K502/Instructions!$C$23)*100","v":0},{"$f":"(L502/Instructions!$C$24)*100","v":0},{"$f":"(Y502/Instructions!$C$25)*100","v":0},{"$f":"(AA502/Instructions!$C$27)*100","v":0},{"$f":"(AC502/Instructions!$C$29)*100","v":0},{"$f":"(V502/Instructions!$C$33)*100","v":0},{"$f":"(U502/Instructions!$C$32)*100","v":0},{"$f":"(W502/Instructions!$C$36)*100","v":{"$error":"#VALUE!"}},"","E","E","E","E","E","E","E","--",null,null,null,null,null,{"$f":"Table_2[[#This Row],[Column51]]&Table_2[[#This Row],[Column52]]&AY876","v":""}]
[null,null,null,null,null,null,null,null,null,null,null,null,null,null,null,{"$f":"Instructions!B537","v":0},null,null,null,null,null,null,"--",0,{"$f":"Table_2[[#This Row],[Column20]]+Table_2[[#This Row],[Column56]]","v":0},"",{"$f":"Table_2[[#This Row],[Column20]]+Table_2[[#This Row],[Column56]]","v":0},"",{"$f":"Table_2[[#This Row],[Column57]]+Table_2[[#This Row],[Column16]]+Table_2[[#This Row],[Column15]]","v":0},"",{"$f":"(K503/Instructions!$C$23)*100","v":0},{"$f":"(L503/Instructions!$C$24)*100","v":0},{"$f":"(Y503/Instructions!$C$25)*100","v":0},{"$f":"(AA503/Instructions!$C$27)*100","v":0},{"$f":"(AC503/Instructions!$C$29)*100","v":0},{"$f":"(V503/Instructions!$C$33)*100","v":0},{"$f":"(U503/Instructions!$C$32)*100","v":0},{"$f":"(W503/Instructions!$C$36)*100","v":{"$error":"#VALUE!"}},"","E","E","E","E","E","E","E","--",null,null,null,null,null,{"$f":"Table_2[[#This Row],[Column51]]&Table_2[[#This Row],[Column52]]&AW505","v":""}]
[null,null,null,null,null,null,null,null,null,null,null,null,null,null,null,{"$f":"Instructions!B538","v":0},null,null,null,null,null,null,"--",0,{"$f":"Table_2[[#This Row],[Column20]]+Table_2[[#This Row],[Column56]]","v":0},"",{"$f":"Table_2[[#This Row],[Column20]]+Table_2[[#This Row],[Column56]]","v":0},"",{"$f":"Table_2[[#This Row],[Column57]]+Table_2[[#This Row],[Column16]]+Table_2[[#This Row],[Column15]]","v":0},"",{"$f":"(K504/Instructions!$C$23)*100","v":0},{"$f":"(L504/Instructions!$C$24)*100","v":0},{"$f":"(Y504/Instructions!$C$25)*100","v":0},{"$f":"(AA504/Instructions!$C$27)*100","v":0},{"$f":"(AC504/Instructions!$C$29)*100","v":0},{"$f":"(V504/Instructions!$C$33)*100","v":0},{"$f":"(U504/Instructions!$C$32)*100","v":0},{"$f":"(W504/Instructions!$C$36)*100","v":{"$error":"#VALUE!"}},"","E","E","E","E","E","E","E","--",null,null,null,null,null,{"$f":"Table_2[[#This Row],[Column51]]&Table_2[[#This Row],[Column52]]&AW506","v":""}]
[null,null,null,null,null,null,null,null,null,null,null,null,null,null,null,{"$f":"Instructions!B539","v":0},null,null,null,null,null,null,"--",0,{"$f":"Table_2[[#This Row],[Column20]]+Table_2[[#This Row],[Column56]]","v":0},"",{"$f":"Table_2[[#This Row],[Column20]]+Table_2[[#This Row],[Column56]]","v":0},"",{"$f":"Table_2[[#This Row],[Column57]]+Table_2[[#This Row],[Column16]]+Table_2[[#This Row],[Column15]]","v":0},"",{"$f":"(K505/Instructions!$C$23)*100","v":0},{"$f":"(L505/Instructions!$C$24)*100","v":0},{"$f":"(Y505/Instructions!$C$25)*100","v":0},{"$f":"(AA505/Instructions!$C$27)*100","v":0},{"$f":"(AC505/Instructions!$C$29)*100","v":0},{"$f":"(V505/Instructions!$C$33)*100","v":0},{"$f":"(U505/Instructions!$C$32)*100","v":0},{"$f":"(W505/Instructions!$C$36)*100","v":{"$error":"#VALUE!"}},"","E","E","E","E","E","E","E","--",null,null,null,null,null,{"$f":"Table_2[[#This Row],[Column51]]&Table_2[[#This Row],[Column52]]&AW507","v":""}]
[null,null,null,null,null,null,null,null,null,null,null,null,null,null,null,{"$f":"Instructions!B540","v":0},null,null,null,null,null,null,"--",0,{"$f":"Table_2[[#This Row],[Column20]]+Table_2[[#This Row],[Column56]]","v":0},"",{"$f":"Table_2[[#This Row],[Column20]]+Table_2[[#This Row],[Column56]]","v":0},"",{"$f":"Table_2[[#This Row],[Column57]]+Table_2[[#This Row],[Column16]]+Table_2[[#This Row],[Column15]]","v":0},"",{"$f":"(K506/Instructions!$C$23)*100","v":0},{"$f":"(L506/Instructions!$C$24)*100","v":0},{"$f":"(Y506/Instructions!$C$25)*100","v":0},{"$f":"(AA506/Instructions!$C$27)*100","v":0},{"$f":"(AC506/Instructions!$C$29)*100","v":0},{"$f":"(V506/Instructions!$C$33)*100","v":0},{"$f":"(U506/Instructions!$C$32)*100","v":0},{"$f":"(W506/Instructions!$C$36)*100","v":{"$error":"#VALUE!"}},"","E","E","E","E","E","E","E","--",null,null,null,null,null,{"$f":"Table_2[[#This Row],[Column51]]&Table_2[[#This Row],[Column52]]&AW508","v":""}]
[null,null,null,null,null,null,null,null,null,null,null,null,null,null,null,{"$f":"Instructions!B541","v":0},null,null,null,null,null,null,"--",0,{"$f":"Table_2[[#This Row],[Column20]]+Table_2[[#This Row],[Column56]]","v":0},"",{"$f":"Table_2[[#This Row],[Column20]]+Table_2[[#This Row],[Column56]]","v":0},"",{"$f":"Table_2[[#This Row],[Column57]]+Table_2[[#This Row],[Column16]]+Table_2[[#This Row],[Column15]]","v":0},"",{"$f":"(K507/Instructions!$C$23)*100","v":0},{"$f":"(L507/Instructions!$C$24)*100","v":0},{"$f":"(Y507/Instructions!$C$25)*100","v":0},{"$f":"(AA507/Instructions!$C$27)*100","v":0},{"$f":"(AC507/Instructions!$C$29)*100","v":0},{"$f":"(V507/Instructions!$C$33)*100","v":0},{"$f":"(U507/Instructions!$C$32)*100","v":0},{"$f":"(W507/Instructions!$C$36)*100","v":{"$error":"#VALUE!"}},"","E","E","E","E","E","E","E","--",null,null,null,null,null,{"$f":"Table_2[[#This Row],[Column51]]&Table_2[[#This Row],[Column52]]&AW875","v":""}]
[null,null,null,null,null,null,null,null,null,null,null,null,null,null,null,{"$f":"Instructions!B542","v":0},null,null,null,null,null,null,"--",0,{"$f":"Table_2[[#This Row],[Column20]]+Table_2[[#This Row],[Column56]]","v":0},"",{"$f":"Table_2[[#This Row],[Column20]]+Table_2[[#This Row],[Column56]]","v":0},"",{"$f":"Table_2[[#This Row],[Column57]]+Table_2[[#This Row],[Column16]]+Table_2[[#This Row],[Column15]]","v":0},"",{"$f":"(K508/Instructions!$C$23)*100","v":0},{"$f":"(L508/Instructions!$C$24)*100","v":0},{"$f":"(Y508/Instructions!$C$25)*100","v":0},{"$f":"(AA508/Instructions!$C$27)*100","v":0},{"$f":"(AC508/Instructions!$C$29)*100","v":0},{"$f":"(V508/Instructions!$C$33)*100","v":0},{"$f":"(U508/Instructions!$C$32)*100","v":0},{"$f":"(W508/Instructions!$C$36)*100","v":{"$error":"#VALUE!"}},"","E","E","E","E","E","E","E","--",null,null,null,null,null,{"$f":"Table_2[[#This Row],[Column51]]&Table_2[[#This Row],[Column52]]&AW876","v":""}]
[null,null,null,null,null,null,null,null,null,null,null,null,null,null,null,{"$f":"Instructions!B543","v":0},null,{"$f":"Instructions!B537","v":0},{"$f":"Instructions!B538","v":0},{"$f":"Instructions!B539","v":0},null,null,"--",0,{"$f":"Table_2[[#This Row],[Column20]]+Table_2[[#This Row],[Column56]]","v":0},"",{"$f":"Table_2[[#This Row],[Column20]]+Table_2[[#This Row],[Column56]]","v":0},"",{"$f":"Table_2[[#This Row],[Column57]]+Table_2[[#This Row],[Column16]]+Table_2[[#This Row],[Column15]]","v":0},"",{"$f":"(K509/Instructions!$C$23)*100","v":0},{"$f":"(L509/Instructions!$C$24)*100","v":0},{"$f":"(Y509/Instructions!$C$25)*100","v":0},{"$f":"(AA509/Instructions!$C$27)*100","v":0},{"$f":"(AC509/Instructions!$C$29)*100","v":0},{"$f":"(V509/Instructions!$C$33)*100","v":0},{"$f":"(U509/Instructions!$C$32)*100","v":0},{"$f":"(W509/Instructions!$C$36)*100","v":{"$error":"#VALUE!"}},"","E","E","E","E","E","E","E","--",null,null,null,null,null,{"$f":"Table_2[[#This Row],[Column51]]&Table_2[[#This Row],[Column52]]&AW511","v":""}]
[null,null,null,null,null,null,null,null,null,null,null,null,null,null,null,{"$f":"Instructions!B544","v":0},null,{"$f":"Instructions!B538","v":0},{"$f":"Instructions!B539","v":0},{"$f":"Instructions!B540","v":0},null,null,"--",0,{"$f":"Table_2[[#This Row],[Column20]]+Table_2[[#This Row],[Column56]]","v":0},"",{"$f":"Table_2[[#This Row],[Column20]]+Table_2[[#This Row],[Column56]]","v":0},"",{"$f":"Table_2[[#This Row],[Column57]]+Table_2[[#This Row],[Column16]]+Table_2[[#This Row],[Column15]]","v":0},"",{"$f":"(K510/Instructions!$C$23)*100","v":0},{"$f":"(L510/Instructions!$C$24)*100","v":0},{"$f":"(Y510/Instructions!$C$25)*100","v":0},{"$f":"(AA510/Instructions!$C$27)*100","v":0},{"$f":"(AC510/Instructions!$C$29)*100","v":0},{"$f":"(V510/Instructions!$C$33)*100","v":0},{"$f":"(U510/Instructions!$C$32)*100","v":0},{"$f":"(W510/Instructions!$C$36)*100","v":{"$error":"#VALUE!"}},"","E","E","E","E","E","E","E","--",null,null,null,null,null,{"$f":"Table_2[[#This Row],[Column51]]&Table_2[[#This Row],[Column52]]&AW512","v":""}]
[null,null,null,null,null,null,null,null,null,null,null,null,null,null,null,{"$f":"Instructions!B545","v":0},null,{"$f":"Instructions!B539","v":0},{"$f":"Instructions!B540","v":0},{"$f":"Instructions!B541","v":0},null,null,"--",0,{"$f":"Table_2[[#This Row],[Column20]]+Table_2[[#This Row],[Column56]]","v":0},"",{"$f":"Table_2[[#This Row],[Column20]]+Table_2[[#This Row],[Column56]]","v":0},"",{"$f":"Table_2[[#This Row],[Column57]]+Table_2[[#This Row],[Column16]]+Table_2[[#This Row],[Column15]]","v":0},"",{"$f":"(K511/Instructions!$C$23)*100","v":0},{"$f":"(L511/Instructions!$C$24)*100","v":0},{"$f":"(Y511/Instructions!$C$25)*100","v":0},{"$f":"(AA511/Instructions!$C$27)*100","v":0},{"$f":"(AC511/Instructions!$C$29)*100","v":0},{"$f":"(V511/Instructions!$C$33)*100","v":0},{"$f":"(U511/Instructions!$C$32)*100","v":0},{"$f":"(W511/Instructions!$C$36)*100","v":{"$error":"#VALUE!"}},"","E","E","E","E","E","E","E","--",null,null,null,null,null,{"$f":"Table_2[[#This Row],[Column51]]&Table_2[[#This Row],[Column52]]&AW513","v":""}]
[null,null,null,null,null,null,null,null,null,null,null,null,null,null,null,{"$f":"Instructions!B546","v":0},null,{"$f":"Instructions!B540","v":0},{"$f":"Instructions!B541","v":0},{"$f":"Instructions!B542","v":0},null,null,"--",0,{"$f":"Table_2[[#This Row],[Column20]]+Table_2[[#This Row],[Column56]]","v":0},"",{"$f":"Table_2[[#This Row],[Column20]]+Table_2[[#This Row],[Column56]]","v":0},"",{"$f":"Table_2[[#This Row],[Column57]]+Table_2[[#This Row],[Column16]]+Table_2[[#This Row],[Column15]]","v":0},"",{"$f":"(K512/Instructions!$C$23)*100","v":0},{"$f":"(L512/Instructions!$C$24)*100","v":0},{"$f":"(Y512/Instructions!$C$25)*100","v":0},{"$f":"(AA512/Instructions!$C$27)*100","v":0},{"$f":"(AC512/Instructions!$C$29)*100","v":0},{"$f":"(V512/Instructions!$C$33)*100","v":0},{"$f":"(U512/Instructions!$C$32)*100","v":0},{"$f":"(W512/Instructions!$C$36)*100","v":{"$error":"#VALUE!"}},"","E","E","E","E","E","E","E","--",null,null,null,null,null,{"$f":"Table_2[[#This Row],[Column51]]&Table_2[[#This Row],[Column52]]&AW514","v":""}]
[null,null,null,null,null,null,null,null,null,null,null,null,null,null,null,{"$f":"Instructions!B547","v":0},null,{"$f":"Instructions!B541","v":0},{"$f":"Instructions!B542","v":0},{"$f":"Instructions!B543","v":0},null,null,"--",0,{"$f":"Table_2[[#This Row],[Column20]]+Table_2[[#This Row],[Column56]]","v":0},"",{"$f":"Table_2[[#This Row],[Column20]]+Table_2[[#This Row],[Column56]]","v":0},"",{"$f":"Table_2[[#This Row],[Column57]]+Table_2[[#This Row],[Column16]]+Table_2[[#This Row],[Column15]]","v":0},"",{"$f":"(K513/Instructions!$C$23)*100","v":0},{"$f":"(L513/Instructions!$C$24)*100","v":0},{"$f":"(Y513/Instructions!$C$25)*100","v":0},{"$f":"(AA513/Instructions!$C$27)*100","v":0},{"$f":"(AC513/Instructions!$C$29)*100","v":0},{"$f":"(V513/Instructions!$C$33)*100","v":0},{"$f":"(U513/Instructions!$C$32)*100","v":0},{"$f":"(W513/Instructions!$C$36)*100","v":{"$error":"#VALUE!"}},"","E","E","E","E","E","E","E","--",null,null,null,null,null,{"$f":"Table_2[[#This Row],[Column51]]&Table_2[[#This Row],[Column52]]&AW515","v":""}]
[null,null,null,null,null,null,null,null,null,null,null,null,null,null,null,{"$f":"Instructions!B548","v":0},null,{"$f":"Instructions!B542","v":0},{"$f":"Instructions!B543","v":0},{"$f":"Instructions!B544","v":0},null,null,"--",0,{"$f":"Table_2[[#This Row],[Column20]]+Table_2[[#This Row],[Column56]]","v":0},"",{"$f":"Table_2[[#This Row],[Column20]]+Table_2[[#This Row],[Column56]]","v":0},"",{"$f":"Table_2[[#This Row],[Column57]]+Table_2[[#This Row],[Column16]]+Table_2[[#This Row],[Column15]]","v":0},"",{"$f":"(K514/Instructions!$C$23)*100","v":0},{"$f":"(L514/Instructions!$C$24)*100","v":0},{"$f":"(Y514/Instructions!$C$25)*100","v":0},{"$f":"(AA514/Instructions!$C$27)*100","v":0},{"$f":"(AC514/Instructions!$C$29)*100","v":0},{"$f":"(V514/Instructions!$C$33)*100","v":0},{"$f":"(U514/Instructions!$C$32)*100","v":0},{"$f":"(W514/Instructions!$C$36)*100","v":{"$error":"#VALUE!"}},"","E","E","E","E","E","E","E","--",null,null,null,null,null,{"$f":"Table_2[[#This Row],[Column51]]&Table_2[[#This Row],[Column52]]&AW516","v":""}]
[null,null,null,null,null,null,null,null,null,null,null,null,null,null,null,{"$f":"Instructions!B549","v":0},null,{"$f":"Instructions!B543","v":0},{"$f":"Instructions!B544","v":0},{"$f":"Instructions!B545","v":0},null,null,{"$f":"IF(MIN(AE515:AI515)>=33,SUM(K515:T515),\"--\")","v":"--"},{"$f":"IF(W515=\"--\",0,W515)","v":0},{"$f":"Table_2[[#This Row],[Column20]]+Table_2[[#This Row],[Column56]]","v":0},{"$f":"IF(N515>0,$N$1,IF(O515>0,$O$1,\"\"))","v":""},{"$f":"Table_2[[#This Row],[Column20]]+Table_2[[#This Row],[Column56]]","v":0},{"$f":"IFERROR(IF(P515>0,$P$1,IF(Q515>0,$Q$1,\"\")),\"\")","v":""},{"$f":"Table_2[[#This Row],[Column57]]+Table_2[[#This Row],[Column16]]+Table_2[[#This Row],[Column15]]","v":0},{"$f":"IFERROR(IF(R515>0,$R$1,IF(S515>0,$S$1,IF(T515>0,$T$1,\"\"))),\"\")","v":""},{"$f":"(K515/Instructions!$C$23)*100","v":0},{"$f":"(L515/Instructions!$C$24)*100","v":0},{"$f":"(Y515/Instructions!$C$25)*100","v":0},{"$f":"(AA515/Instructions!$C$27)*100","v":0},{"$f":"(AC515/Instructions!$C$29)*100","v":0},{"$f":"(V515/Instructions!$C$33)*100","v":0},{"$f":"(U515/Instructions!$C$32)*100","v":0},{"$f":"(W515/Instructions!$C$36)*100","v":{"$error":"#VALUE!"}},{"$f":"IFERROR(IF(AL515>=33,\"PASS\",\"----\"),\"\")","v":""},{"$f":"IFERROR(IF(AE515>90,\"A+\",IF(AE515>80,\"A\",IF(AE515>70,\"B+\",IF(AE515>60,\"B\",IF(AE515>50,\"C+\",IF(AE515>40,\"C\",IF(AE515>=33,\"D\",\"E\"))))))),\"Abs\")","v":"E"},{"$f":"IFERROR(IF(AF515>90,\"A+\",IF(AF515>80,\"A\",IF(AF515>70,\"B+\",IF(AF515>60,\"B\",IF(AF515>50,\"C+\",IF(AF515>40,\"C\",IF(AF515>=33,\"D\",\"E\"))))))),\"Abs\")","v":"E"},{"$f":"IFERROR(IF(AG515>90,\"A+\",IF(AG515>80,\"A\",IF(AG515>70,\"B+\",IF(AG515>60,\"B\",IF(AG515>50,\"C+\",IF(AG515>40,\"C\",IF(AG515>=33,\"D\",\"E\"))))))),\"Abs\")","v":"E"},{"$f":"IFERROR(IF(AH515>90,\"A+\",IF(AH515>80,\"A\",IF(AH515>70,\"B+\",IF(AH515>60,\"B\",IF(AH515>50,\"C+\",IF(AH515>40,\"C\",IF(AH515>=33,\"D\",\"E\"))))))),\"Abs\")","v":"E"},{"$f":"IFERROR(IF(AI515>90,\"A+\",IF(AI515>80,\"A\",IF(AI515>70,\"B+\",IF(AI515>60,\"B\",IF(AI515>50,\"C+\",IF(AI515>40,\"C\",IF(AI515>=33,\"D\",\"E\"))))))),\"Abs\")","v":"E"},{"$f":"IFERROR(IF(AJ515>90,\"A+\",IF(AJ515>80,\"A\",IF(AJ515>70,\"B+\",IF(AJ515>60,\"B\",IF(AJ515>50,\"C+\",IF(AJ515>40,\"C\",IF(AJ515>=33,\"D\",\"E\"))))))),\"Abs\")","v":"E"},{"$f":"IFERROR(IF(AK515>90,\"A+\",IF(AK515>80,\"A\",IF(AK515>70,\"B+\",IF(AK515>60,\"B\",IF(AK515>50,\"C+\",IF(AK515>40,\"C\",IF(AK515>=33,\"D\",\"E\"))))))),\"Abs\")","v":"E"},{"$f":"IFERROR(IF(AL515>90,\"A+\",IF(AL515>80,\"A\",IF(AL515>70,\"B+\",IF(AL515>60,\"B\",IF(AL515>50,\"C+\",IF(AL515>40,\"C\",IF(AL515>=33,\"D\",\"E\"))))))),\"--\")","v":"--"},null,null,null,null,null,{"$f":"Table_2[[#This Row],[Column51]]&Table_2[[#This Row],[Column52]]&AW517","v":""}]
[null,null,null,null,null,null,null,null,null,null,null,null,null,null,null,{"$f":"Instructions!B550","v":0},null,{"$f":"Instructions!B544","v":0},{"$f":"Instructions!B545","v":0},{"$f":"Instructions!B546","v":0},null,null,"--",0,{"$f":"Table_2[[#This Row],[Column20]]+Table_2[[#This Row],[Column56]]","v":0},"",{"$f":"Table_2[[#This Row],[Column20]]+Table_2[[#This Row],[Column56]]","v":0},"",{"$f":"Table_2[[#This Row],[Column57]]+Table_2[[#This Row],[Column16]]+Table_2[[#This Row],[Column15]]","v":0},"",{"$f":"(K516/Instructions!$C$23)*100","v":0},{"$f":"(L516/Instructions!$C$24)*100","v":0},{"$f":"(Y516/Instructions!$C$25)*100","v":0},{"$f":"(AA516/Instructions!$C$27)*100","v":0},{"$f":"(AC516/Instructions!$C$29)*100","v":0},{"$f":"(V516/Instructions!$C$33)*100","v":0},{"$f":"(U516/Instructions!$C$32)*100","v":0},{"$f":"(W516/Instructions!$C$36)*100","v":{"$error":"#VALUE!"}},"","E","E","E","E","E","E","E","--",null,null,null,null,null,{"$f":"Table_2[[#This Row],[Column51]]&Table_2[[#This Row],[Column52]]&AW518","v":""}]
[null,null,null,null,null,null,null,null,null,null,null,null,null,null,null,{"$f":"Instructions!B551","v":0},null,{"$f":"Instructions!B545","v":0},{"$f":"Instructions!B546","v":0},{"$f":"Instructions!B547","v":0},null,null,"--",0,{"$f":"Table_2[[#This Row],[Column20]]+Table_2[[#This Row],[Column56]]","v":0},"",{"$f":"Table_2[[#This Row],[Column20]]+Table_2[[#This Row],[Column56]]","v":0},"",{"$f":"Table_2[[#This Row],[Column57]]+Table_2[[#This Row],[Column16]]+Table_2[[#This Row],[Column15]]","v":0},"",{"$f":"(K517/Instructions!$C$23)*100","v":0},{"$f":"(L517/Instructions!$C$24)*100","v":0},{"$f":"(Y517/Instructions!$C$25)*100","v":0},{"$f":"(AA517/Instructions!$C$27)*100","v":0},{"$f":"(AC517/Instructions!$C$29)*100","v":0},{"$f":"(V517/Instructions!$C$33)*100","v":0},{"$f":"(U517/Instructions!$C$32)*100","v":0},{"$f":"(W517/Instructions!$C$36)*100","v":{"$error":"#VALUE!"}},"","E","E","E","E","E","E","E","--",null,null,null,null,null,{"$f":"Table_2[[#This Row],[Column51]]&Table_2[[#This Row],[Column52]]&AW519","v":""}]
[null,null,null,null,null,null,null,null,null,null,null,null,null,null,null,{"$f":"Instructions!B552","v":0},null,{"$f":"Instructions!B546","v":0},{"$f":"Instructions!B547","v":0},{"$f":"Instructions!B548","v":0},null,null,"--",0,{"$f":"Table_2[[#This Row],[Column20]]+Table_2[[#This Row],[Column56]]","v":0},"",{"$f":"Table_2[[#This Row],[Column20]]+Table_2[[#This Row],[Column56]]","v":0},"",{"$f":"Table_2[[#This Row],[Column57]]+Table_2[[#This Row],[Column16]]+Table_2[[#This Row],[Column15]]","v":0},"",{"$f":"(K518/Instructions!$C$23)*100","v":0},{"$f":"(L518/Instructions!$C$24)*100","v":0},{"$f":"(Y518/Instructions!$C$25)*100","v":0},{"$f":"(AA518/Instructions!$C$27)*100","v":0},{"$f":"(AC518/Instructions!$C$29)*100","v":0},{"$f":"(V518/Instructions!$C$33)*100","v":0},{"$f":"(U518/Instructions!$C$32)*100","v":0},{"$f":"(W518/Instructions!$C$36)*100","v":{"$error":"#VALUE!"}},"","E","E","E","E","E","E","E","--",null,null,null,null,null,{"$f":"Table_2[[#This Row],[Column51]]&Table_2[[#This Row],[Column52]]&AW520","v":""}]
[null,null,null,null,null,null,null,null,null,null,null,null,null,null,null,{"$f":"Instructions!B553","v":0},null,{"$f":"Instructions!B547","v":0},{"$f":"Instructions!B548","v":0},{"$f":"Instructions!B549","v":0},null,null,"--",0,{"$f":"Table_2[[#This Row],[Column20]]+Table_2[[#This Row],[Column56]]","v":0},"",{"$f":"Table_2[[#This Row],[Column20]]+Table_2[[#This Row],[Column56]]","v":0},"",{"$f":"Table_2[[#This Row],[Column57]]+Table_2[[#This Row],[Column16]]+Table_2[[#This Row],[Column15]]","v":0},"",{"$f":"(K519/Instructions!$C$23)*100","v":0},{"$f":"(L519/Instructions!$C$24)*100","v":0},{"$f":"(Y519/Instructions!$C$25)*100","v":0},{"$f":"(AA519/Instructions!$C$27)*100","v":0},{"$f":"(AC519/Instructions!$C$29)*100","v":0},{"$f":"(V519/Instructions!$C$33)*100","v":0},{"$f":"(U519/Instructions!$C$32)*100","v":0},{"$f":"(W519/Instructions!$C$36)*100","v":{"$error":"#VALUE!"}},"","E","E","E","E","E","E","E","--",null,null,null,null,null,{"$f":"Table_2[[#This Row],[Column51]]&Table_2[[#This Row],[Column52]]&AW521","v":""}]
[null,null,null,null,null,null,null,null,null,null,null,null,null,null,null,{"$f":"Instructions!B554","v":0},null,{"$f":"Instructions!B548","v":0},{"$f":"Instructions!B549","v":0},{"$f":"Instructions!B550","v":0},null,null,"--",0,{"$f":"Table_2[[#This Row],[Column20]]+Table_2[[#This Row],[Column56]]","v":0},"",{"$f":"Table_2[[#This Row],[Column20]]+Table_2[[#This Row],[Column56]]","v":0},"",{"$f":"Table_2[[#This Row],[Column57]]+Table_2[[#This Row],[Column16]]+Table_2[[#This Row],[Column15]]","v":0},"",{"$f":"(K520/Instructions!$C$23)*100","v":0},{"$f":"(L520/Instructions!$C$24)*100","v":0},{"$f":"(Y520/Instructions!$C$25)*100","v":0},{"$f":"(AA520/Instructions!$C$27)*100","v":0},{"$f":"(AC520/Instructions!$C$29)*100","v":0},{"$f":"(V520/Instructions!$C$33)*100","v":0},{"$f":"(U520/Instructions!$C$32)*100","v":0},{"$f":"(W520/Instructions!$C$36)*100","v":{"$error":"#VALUE!"}},"","E","E","E","E","E","E","E","--",null,null,null,null,null,{"$f":"Table_2[[#This Row],[Column51]]&Table_2[[#This Row],[Column52]]&AW522","v":""}]
[null,null,null,null,null,null,null,null,null,null,null,null,null,null,null,{"$f":"Instructions!B555","v":0},null,{"$f":"Instructions!B549","v":0},{"$f":"Instructions!B550","v":0},{"$f":"Instructions!B551","v":0},null,null,"--",0,{"$f":"Table_2[[#This Row],[Column20]]+Table_2[[#This Row],[Column56]]","v":0},"",{"$f":"Table_2[[#This Row],[Column20]]+Table_2[[#This Row],[Column56]]","v":0},"",{"$f":"Table_2[[#This Row],[Column57]]+Table_2[[#This Row],[Column16]]+Table_2[[#This Row],[Column15]]","v":0},"",{"$f":"(K521/Instructions!$C$23)*100","v":0},{"$f":"(L521/Instructions!$C$24)*100","v":0},{"$f":"(Y521/Instructions!$C$25)*100","v":0},{"$f":"(AA521/Instructions!$C$27)*100","v":0},{"$f":"(AC521/Instructions!$C$29)*100","v":0},{"$f":"(V521/Instructions!$C$33)*100","v":0},{"$f":"(U521/Instructions!$C$32)*100","v":0},{"$f":"(W521/Instructions!$C$36)*100","v":{"$error":"#VALUE!"}},"","E","E","E","E","E","E","E","--",null,null,null,null,null,{"$f":"Table_2[[#This Row],[Column51]]&Table_2[[#This Row],[Column52]]&AW523","v":""}]
[null,null,null,null,null,null,null,null,null,null,null,null,null,null,null,{"$f":"Instructions!B556","v":0},null,{"$f":"Instructions!B550","v":0},{"$f":"Instructions!B551","v":0},{"$f":"Instructions!B552","v":0},null,null,"--",0,{"$f":"Table_2[[#This Row],[Column20]]+Table_2[[#This Row],[Column56]]","v":0},"",{"$f":"Table_2[[#This Row],[Column20]]+Table_2[[#This Row],[Column56]]","v":0},"",{"$f":"Table_2[[#This Row],[Column57]]+Table_2[[#This Row],[Column16]]+Table_2[[#This Row],[Column15]]","v":0},"",{"$f":"(K522/Instructions!$C$23)*100","v":0},{"$f":"(L522/Instructions!$C$24)*100","v":0},{"$f":"(Y522/Instructions!$C$25)*100","v":0},{"$f":"(AA522/Instructions!$C$27)*100","v":0},{"$f":"(AC522/Instructions!$C$29)*100","v":0},{"$f":"(V522/Instructions!$C$33)*100","v":0},{"$f":"(U522/Instructions!$C$32)*100","v":0},{"$f":"(W522/Instructions!$C$36)*100","v":{"$error":"#VALUE!"}},"","E","E","E","E","E","E","E","--",null,null,null,null,null,{"$f":"Table_2[[#This Row],[Column51]]&Table_2[[#This Row],[Column52]]&AW524","v":""}]
[null,null,null,null,null,null,null,null,null,null,null,null,null,null,null,{"$f":"Instructions!B557","v":0},null,{"$f":"Instructions!B551","v":0},{"$f":"Instructions!B552","v":0},{"$f":"Instructions!B553","v":0},null,null,"--",0,{"$f":"Table_2[[#This Row],[Column20]]+Table_2[[#This Row],[Column56]]","v":0},"",{"$f":"Table_2[[#This Row],[Column20]]+Table_2[[#This Row],[Column56]]","v":0},"",{"$f":"Table_2[[#This Row],[Column57]]+Table_2[[#This Row],[Column16]]+Table_2[[#This Row],[Column15]]","v":0},"",{"$f":"(K523/Instructions!$C$23)*100","v":0},{"$f":"(L523/Instructions!$C$24)*100","v":0},{"$f":"(Y523/Instructions!$C$25)*100","v":0},{"$f":"(AA523/Instructions!$C$27)*100","v":0},{"$f":"(AC523/Instructions!$C$29)*100","v":0},{"$f":"(V523/Instructions!$C$33)*100","v":0},{"$f":"(U523/Instructions!$C$32)*100","v":0},{"$f":"(W523/Instructions!$C$36)*100","v":{"$error":"#VALUE!"}},"","E","E","E","E","E","E","E","--",null,null,null,null,null,{"$f":"Table_2[[#This Row],[Column51]]&Table_2[[#This Row],[Column52]]&AW525","v":""}]
[null,null,null,null,null,null,null,null,null,null,null,null,null,null,null,{"$f":"Instructions!B558","v":0},null,{"$f":"Instructions!B552","v":0},{"$f":"Instructions!B553","v":0},{"$f":"Instructions!B554","v":0},null,null,"--",0,{"$f":"Table_2[[#This Row],[Column20]]+Table_2[[#This Row],[Column56]]","v":0},"",{"$f":"Table_2[[#This Row],[Column20]]+Table_2[[#This Row],[Column56]]","v":0},"",{"$f":"Table_2[[#This Row],[Column57]]+Table_2[[#This Row],[Column16]]+Table_2[[#This Row],[Column15]]","v":0},"",{"$f":"(K524/Instructions!$C$23)*100","v":0},{"$f":"(L524/Instructions!$C$24)*100","v":0},{"$f":"(Y524/Instructions!$C$25)*100","v":0},{"$f":"(AA524/Instructions!$C$27)*100","v":0},{"$f":"(AC524/Instructions!$C$29)*100","v":0},{"$f":"(V524/Instructions!$C$33)*100","v":0},{"$f":"(U524/Instructions!$C$32)*100","v":0},{"$f":"(W524/Instructions!$C$36)*100","v":{"$error":"#VALUE!"}},"","E","E","E","E","E","E","E","--",null,null,null,null,null,{"$f":"Table_2[[#This Row],[Column51]]&Table_2[[#This Row],[Column52]]&AW526","v":""}]
[null,null,null,null,null,null,null,null,null,null,null,null,null,null,null,{"$f":"Instructions!B559","v":0},null,{"$f":"Instructions!B553","v":0},{"$f":"Instructions!B554","v":0},{"$f":"Instructions!B555","v":0},null,null,"--",0,{"$f":"Table_2[[#This Row],[Column20]]+Table_2[[#This Row],[Column56]]","v":0},"",{"$f":"Table_2[[#This Row],[Column20]]+Table_2[[#This Row],[Column56]]","v":0},"",{"$f":"Table_2[[#This Row],[Column57]]+Table_2[[#This Row],[Column16]]+Table_2[[#This Row],[Column15]]","v":0},"",{"$f":"(K525/Instructions!$C$23)*100","v":0},{"$f":"(L525/Instructions!$C$24)*100","v":0},{"$f":"(Y525/Instructions!$C$25)*100","v":0},{"$f":"(AA525/Instructions!$C$27)*100","v":0},{"$f":"(AC525/Instructions!$C$29)*100","v":0},{"$f":"(V525/Instructions!$C$33)*100","v":0},{"$f":"(U525/Instructions!$C$32)*100","v":0},{"$f":"(W525/Instructions!$C$36)*100","v":{"$error":"#VALUE!"}},"","E","E","E","E","E","E","E","--",null,null,null,null,null,{"$f":"Table_2[[#This Row],[Column51]]&Table_2[[#This Row],[Column52]]&AW527","v":""}]
[null,null,null,null,null,null,null,null,null,null,null,null,null,null,null,{"$f":"Instructions!B560","v":0},null,{"$f":"Instructions!B554","v":0},{"$f":"Instructions!B555","v":0},{"$f":"Instructions!B556","v":0},null,null,"--",0,{"$f":"Table_2[[#This Row],[Column20]]+Table_2[[#This Row],[Column56]]","v":0},"",{"$f":"Table_2[[#This Row],[Column20]]+Table_2[[#This Row],[Column56]]","v":0},"",{"$f":"Table_2[[#This Row],[Column57]]+Table_2[[#This Row],[Column16]]+Table_2[[#This Row],[Column15]]","v":0},"",{"$f":"(K526/Instructions!$C$23)*100","v":0},{"$f":"(L526/Instructions!$C$24)*100","v":0},{"$f":"(Y526/Instructions!$C$25)*100","v":0},{"$f":"(AA526/Instructions!$C$27)*100","v":0},{"$f":"(AC526/Instructions!$C$29)*100","v":0},{"$f":"(V526/Instructions!$C$33)*100","v":0},{"$f":"(U526/Instructions!$C$32)*100","v":0},{"$f":"(W526/Instructions!$C$36)*100","v":{"$error":"#VALUE!"}},"","E","E","E","E","E","E","E","--",null,null,null,null,null,{"$f":"Table_2[[#This Row],[Column51]]&Table_2[[#This Row],[Column52]]&AW528","v":""}]
[null,null,null,null,null,null,null,null,null,null,null,null,null,null,null,{"$f":"Instructions!B561","v":0},null,{"$f":"Instructions!B555","v":0},{"$f":"Instructions!B556","v":0},{"$f":"Instructions!B557","v":0},null,null,"--",0,{"$f":"Table_2[[#This Row],[Column20]]+Table_2[[#This Row],[Column56]]","v":0},"",{"$f":"Table_2[[#This Row],[Column20]]+Table_2[[#This Row],[Column56]]","v":0},"",{"$f":"Table_2[[#This Row],[Column57]]+Table_2[[#This Row],[Column16]]+Table_2[[#This Row],[Column15]]","v":0},"",{"$f":"(K527/Instructions!$C$23)*100","v":0},{"$f":"(L527/Instructions!$C$24)*100","v":0},{"$f":"(Y527/Instructions!$C$25)*100","v":0},{"$f":"(AA527/Instructions!$C$27)*100","v":0},{"$f":"(AC527/Instructions!$C$29)*100","v":0},{"$f":"(V527/Instructions!$C$33)*100","v":0},{"$f":"(U527/Instructions!$C$32)*100","v":0},{"$f":"(W527/Instructions!$C$36)*100","v":{"$error":"#VALUE!"}},"","E","E","E","E","E","E","E","--",null,null,null,null,null,{"$f":"Table_2[[#This Row],[Column51]]&Table_2[[#This Row],[Column52]]&AW529","v":""}]
[null,null,null,null,null,null,null,null,null,null,null,null,null,null,null,{"$f":"Instructions!B562","v":0},null,{"$f":"Instructions!B556","v":0},{"$f":"Instructions!B557","v":0},{"$f":"Instructions!B558","v":0},null,null,"--",0,{"$f":"Table_2[[#This Row],[Column20]]+Table_2[[#This Row],[Column56]]","v":0},"",{"$f":"Table_2[[#This Row],[Column20]]+Table_2[[#This Row],[Column56]]","v":0},"",{"$f":"Table_2[[#This Row],[Column57]]+Table_2[[#This Row],[Column16]]+Table_2[[#This Row],[Column15]]","v":0},"",{"$f":"(K528/Instructions!$C$23)*100","v":0},{"$f":"(L528/Instructions!$C$24)*100","v":0},{"$f":"(Y528/Instructions!$C$25)*100","v":0},{"$f":"(AA528/Instructions!$C$27)*100","v":0},{"$f":"(AC528/Instructions!$C$29)*100","v":0},{"$f":"(V528/Instructions!$C$33)*100","v":0},{"$f":"(U528/Instructions!$C$32)*100","v":0},{"$f":"(W528/Instructions!$C$36)*100","v":{"$error":"#VALUE!"}},"","E","E","E","E","E","E","E","--",null,null,null,null,null,{"$f":"Table_2[[#This Row],[Column51]]&Table_2[[#This Row],[Column52]]&AW530","v":""}]
[null,null,null,null,null,null,null,null,null,null,null,null,null,null,null,{"$f":"Instructions!B563","v":0},null,{"$f":"Instructions!B557","v":0},{"$f":"Instructions!B558","v":0},{"$f":"Instructions!B559","v":0},null,null,"--",0,{"$f":"Table_2[[#This Row],[Column20]]+Table_2[[#This Row],[Column56]]","v":0},"",{"$f":"Table_2[[#This Row],[Column20]]+Table_2[[#This Row],[Column56]]","v":0},"",{"$f":"Table_2[[#This Row],[Column57]]+Table_2[[#This Row],[Column16]]+Table_2[[#This Row],[Column15]]","v":0},"",{"$f":"(K529/Instructions!$C$23)*100","v":0},{"$f":"(L529/Instructions!$C$24)*100","v":0},{"$f":"(Y529/Instructions!$C$25)*100","v":0},{"$f":"(AA529/Instructions!$C$27)*100","v":0},{"$f":"(AC529/Instructions!$C$29)*100","v":0},{"$f":"(V529/Instructions!$C$33)*100","v":0},{"$f":"(U529/Instructions!$C$32)*100","v":0},{"$f":"(W529/Instructions!$C$36)*100","v":{"$error":"#VALUE!"}},"","E","E","E","E","E","E","E","--",null,null,null,null,null,{"$f":"Table_2[[#This Row],[Column51]]&Table_2[[#This Row],[Column52]]&AW531","v":""}]
[null,null,null,null,null,null,null,null,null,null,null,null,null,null,null,{"$f":"Instructions!B564","v":0},null,{"$f":"Instructions!B558","v":0},{"$f":"Instructions!B559","v":0},{"$f":"Instructions!B560","v":0},null,null,"--",0,{"$f":"Table_2[[#This Row],[Column20]]+Table_2[[#This Row],[Column56]]","v":0},"",{"$f":"Table_2[[#This Row],[Column20]]+Table_2[[#This Row],[Column56]]","v":0},"",{"$f":"Table_2[[#This Row],[Column57]]+Table_2[[#This Row],[Column16]]+Table_2[[#This Row],[Column15]]","v":0},"",{"$f":"(K530/Instructions!$C$23)*100","v":0},{"$f":"(L530/Instructions!$C$24)*100","v":0},{"$f":"(Y530/Instructions!$C$25)*100","v":0},{"$f":"(AA530/Instructions!$C$27)*100","v":0},{"$f":"(AC530/Instructions!$C$29)*100","v":0},{"$f":"(V530/Instructions!$C$33)*100","v":0},{"$f":"(U530/Instructions!$C$32)*100","v":0},{"$f":"(W530/Instructions!$C$36)*100","v":{"$error":"#VALUE!"}},"","E","E","E","E","E","E","E","--",null,null,null,null,null,{"$f":"Table_2[[#This Row],[Column51]]&Table_2[[#This Row],[Column52]]&AW532","v":""}]
[null,null,null,null,null,null,null,null,null,null,null,null,null,null,null,{"$f":"Instructions!B565","v":0},null,{"$f":"Instructions!B559","v":0},{"$f":"Instructions!B560","v":0},{"$f":"Instructions!B561","v":0},null,null,"--",0,{"$f":"Table_2[[#This Row],[Column20]]+Table_2[[#This Row],[Column56]]","v":0},"",{"$f":"Table_2[[#This Row],[Column20]]+Table_2[[#This Row],[Column56]]","v":0},"",{"$f":"Table_2[[#This Row],[Column57]]+Table_2[[#This Row],[Column16]]+Table_2[[#This Row],[Column15]]","v":0},"",{"$f":"(K531/Instructions!$C$23)*100","v":0},{"$f":"(L531/Instructions!$C$24)*100","v":0},{"$f":"(Y531/Instructions!$C$25)*100","v":0},{"$f":"(AA531/Instructions!$C$27)*100","v":0},{"$f":"(AC531/Instructions!$C$29)*100","v":0},{"$f":"(V531/Instructions!$C$33)*100","v":0},{"$f":"(U531/Instructions!$C$32)*100","v":0},{"$f":"(W531/Instructions!$C$36)*100","v":{"$error":"#VALUE!"}},"","E","E","E","E","E","E","E","--",null,null,null,null,null,{"$f":"Table_2[[#This Row],[Column51]]&Table_2[[#This Row],[Column52]]&AW533","v":""}]
[null,null,null,null,null,null,null,null,null,null,null,null,null,null,null,{"$f":"Instructions!B566","v":0},null,{"$f":"Instructions!B560","v":0},{"$f":"Instructions!B561","v":0},{"$f":"Instructions!B562","v":0},null,null,"--",0,{"$f":"Table_2[[#This Row],[Column20]]+Table_2[[#This Row],[Column56]]","v":0},"",{"$f":"Table_2[[#This Row],[Column20]]+Table_2[[#This Row],[Column56]]","v":0},"",{"$f":"Table_2[[#This Row],[Column57]]+Table_2[[#This Row],[Column16]]+Table_2[[#This Row],[Column15]]","v":0},"",{"$f":"(K532/Instructions!$C$23)*100","v":0},{"$f":"(L532/Instructions!$C$24)*100","v":0},{"$f":"(Y532/Instructions!$C$25)*100","v":0},{"$f":"(AA532/Instructions!$C$27)*100","v":0},{"$f":"(AC532/Instructions!$C$29)*100","v":0},{"$f":"(V532/Instructions!$C$33)*100","v":0},{"$f":"(U532/Instructions!$C$32)*100","v":0},{"$f":"(W532/Instructions!$C$36)*100","v":{"$error":"#VALUE!"}},"","E","E","E","E","E","E","E","--",null,null,null,null,null,{"$f":"Table_2[[#This Row],[Column51]]&Table_2[[#This Row],[Column52]]&AW534","v":""}]
[null,null,null,null,null,null,null,null,null,null,null,null,null,null,null,{"$f":"Instructions!B567","v":0},null,{"$f":"Instructions!B561","v":0},{"$f":"Instructions!B562","v":0},{"$f":"Instructions!B563","v":0},null,null,"--",0,{"$f":"Table_2[[#This Row],[Column20]]+Table_2[[#This Row],[Column56]]","v":0},"",{"$f":"Table_2[[#This Row],[Column20]]+Table_2[[#This Row],[Column56]]","v":0},"",{"$f":"Table_2[[#This Row],[Column57]]+Table_2[[#This Row],[Column16]]+Table_2[[#This Row],[Column15]]","v":0},"",{"$f":"(K533/Instructions!$C$23)*100","v":0},{"$f":"(L533/Instructions!$C$24)*100","v":0},{"$f":"(Y533/Instructions!$C$25)*100","v":0},{"$f":"(AA533/Instructions!$C$27)*100","v":0},{"$f":"(AC533/Instructions!$C$29)*100","v":0},{"$f":"(V533/Instructions!$C$33)*100","v":0},{"$f":"(U533/Instructions!$C$32)*100","v":0},{"$f":"(W533/Instructions!$C$36)*100","v":{"$error":"#VALUE!"}},"","E","E","E","E","E","E","E","--",null,null,null,null,null,{"$f":"Table_2[[#This Row],[Column51]]&Table_2[[#This Row],[Column52]]&AW535","v":""}]
[null,null,null,null,null,null,null,null,null,null,null,null,null,null,null,{"$f":"Instructions!B568","v":0},null,{"$f":"Instructions!B562","v":0},{"$f":"Instructions!B563","v":0},{"$f":"Instructions!B564","v":0},null,null,"--",0,{"$f":"Table_2[[#This Row],[Column20]]+Table_2[[#This Row],[Column56]]","v":0},"",{"$f":"Table_2[[#This Row],[Column20]]+Table_2[[#This Row],[Column56]]","v":0},"",{"$f":"Table_2[[#This Row],[Column57]]+Table_2[[#This Row],[Column16]]+Table_2[[#This Row],[Column15]]","v":0},"",{"$f":"(K534/Instructions!$C$23)*100","v":0},{"$f":"(L534/Instructions!$C$24)*100","v":0},{"$f":"(Y534/Instructions!$C$25)*100","v":0},{"$f":"(AA534/Instructions!$C$27)*100","v":0},{"$f":"(AC534/Instructions!$C$29)*100","v":0},{"$f":"(V534/Instructions!$C$33)*100","v":0},{"$f":"(U534/Instructions!$C$32)*100","v":0},{"$f":"(W534/Instructions!$C$36)*100","v":{"$error":"#VALUE!"}},"","E","E","E","E","E","E","E","--",null,null,null,null,null,{"$f":"Table_2[[#This Row],[Column51]]&Table_2[[#This Row],[Column52]]&AW536","v":""}]
[null,null,null,null,null,null,null,null,null,null,null,null,null,null,null,{"$f":"Instructions!B569","v":0},null,{"$f":"Instructions!B563","v":0},{"$f":"Instructions!B564","v":0},{"$f":"Instructions!B565","v":0},null,null,"--",0,{"$f":"Table_2[[#This Row],[Column20]]+Table_2[[#This Row],[Column56]]","v":0},"",{"$f":"Table_2[[#This Row],[Column20]]+Table_2[[#This Row],[Column56]]","v":0},"",{"$f":"Table_2[[#This Row],[Column57]]+Table_2[[#This Row],[Column16]]+Table_2[[#This Row],[Column15]]","v":0},"",{"$f":"(K535/Instructions!$C$23)*100","v":0},{"$f":"(L535/Instructions!$C$24)*100","v":0},{"$f":"(Y535/Instructions!$C$25)*100","v":0},{"$f":"(AA535/Instructions!$C$27)*100","v":0},{"$f":"(AC535/Instructions!$C$29)*100","v":0},{"$f":"(V535/Instructions!$C$33)*100","v":0},{"$f":"(U535/Instructions!$C$32)*100","v":0},{"$f":"(W535/Instructions!$C$36)*100","v":{"$error":"#VALUE!"}},"","E","E","E","E","E","E","E","--",null,null,null,null,null,{"$f":"Table_2[[#This Row],[Column51]]&Table_2[[#This Row],[Column52]]&AW537","v":""}]
[null,null,null,null,null,null,null,null,null,null,null,null,null,null,null,{"$f":"Instructions!B570","v":0},null,{"$f":"Instructions!B564","v":0},{"$f":"Instructions!B565","v":0},{"$f":"Instructions!B566","v":0},null,null,"--",0,{"$f":"Table_2[[#This Row],[Column20]]+Table_2[[#This Row],[Column56]]","v":0},"",{"$f":"Table_2[[#This Row],[Column20]]+Table_2[[#This Row],[Column56]]","v":0},"",{"$f":"Table_2[[#This Row],[Column57]]+Table_2[[#This Row],[Column16]]+Table_2[[#This Row],[Column15]]","v":0},"",{"$f":"(K536/Instructions!$C$23)*100","v":0},{"$f":"(L536/Instructions!$C$24)*100","v":0},{"$f":"(Y536/Instructions!$C$25)*100","v":0},{"$f":"(AA536/Instructions!$C$27)*100","v":0},{"$f":"(AC536/Instructions!$C$29)*100","v":0},{"$f":"(V536/Instructions!$C$33)*100","v":0},{"$f":"(U536/Instructions!$C$32)*100","v":0},{"$f":"(W536/Instructions!$C$36)*100","v":{"$error":"#VALUE!"}},"","E","E","E","E","E","E","E","--",null,null,null,null,null,{"$f":"Table_2[[#This Row],[Column51]]&Table_2[[#This Row],[Column52]]&AW538","v":""}]
[null,null,null,null,null,null,null,null,null,null,null,null,null,null,null,{"$f":"Instructions!B571","v":0},null,{"$f":"Instructions!B565","v":0},{"$f":"Instructions!B566","v":0},{"$f":"Instructions!B567","v":0},null,null,"--",0,{"$f":"Table_2[[#This Row],[Column20]]+Table_2[[#This Row],[Column56]]","v":0},"",{"$f":"Table_2[[#This Row],[Column20]]+Table_2[[#This Row],[Column56]]","v":0},"",{"$f":"Table_2[[#This Row],[Column57]]+Table_2[[#This Row],[Column16]]+Table_2[[#This Row],[Column15]]","v":0},"",{"$f":"(K537/Instructions!$C$23)*100","v":0},{"$f":"(L537/Instructions!$C$24)*100","v":0},{"$f":"(Y537/Instructions!$C$25)*100","v":0},{"$f":"(AA537/Instructions!$C$27)*100","v":0},{"$f":"(AC537/Instructions!$C$29)*100","v":0},{"$f":"(V537/Instructions!$C$33)*100","v":0},{"$f":"(U537/Instructions!$C$32)*100","v":0},{"$f":"(W537/Instructions!$C$36)*100","v":{"$error":"#VALUE!"}},"","E","E","E","E","E","E","E","--",null,null,null,null,null,{"$f":"Table_2[[#This Row],[Column51]]&Table_2[[#This Row],[Column52]]&AW539","v":""}]
[null,null,null,null,null,null,null,null,null,null,null,null,null,null,null,{"$f":"Instructions!B572","v":0},null,{"$f":"Instructions!B566","v":0},{"$f":"Instructions!B567","v":0},{"$f":"Instructions!B568","v":0},null,null,"--",0,{"$f":"Table_2[[#This Row],[Column20]]+Table_2[[#This Row],[Column56]]","v":0},"",{"$f":"Table_2[[#This Row],[Column20]]+Table_2[[#This Row],[Column56]]","v":0},"",{"$f":"Table_2[[#This Row],[Column57]]+Table_2[[#This Row],[Column16]]+Table_2[[#This Row],[Column15]]","v":0},"",{"$f":"(K538/Instructions!$C$23)*100","v":0},{"$f":"(L538/Instructions!$C$24)*100","v":0},{"$f":"(Y538/Instructions!$C$25)*100","v":0},{"$f":"(AA538/Instructions!$C$27)*100","v":0},{"$f":"(AC538/Instructions!$C$29)*100","v":0},{"$f":"(V538/Instructions!$C$33)*100","v":0},{"$f":"(U538/Instructions!$C$32)*100","v":0},{"$f":"(W538/Instructions!$C$36)*100","v":{"$error":"#VALUE!"}},"","E","E","E","E","E","E","E","--",null,null,null,null,null,{"$f":"Table_2[[#This Row],[Column51]]&Table_2[[#This Row],[Column52]]&AW540","v":""}]
[null,null,null,null,null,null,null,null,null,null,null,null,null,null,null,{"$f":"Instructions!B573","v":0},null,{"$f":"Instructions!B567","v":0},{"$f":"Instructions!B568","v":0},{"$f":"Instructions!B569","v":0},null,null,"--",0,{"$f":"Table_2[[#This Row],[Column20]]+Table_2[[#This Row],[Column56]]","v":0},"",{"$f":"Table_2[[#This Row],[Column20]]+Table_2[[#This Row],[Column56]]","v":0},"",{"$f":"Table_2[[#This Row],[Column57]]+Table_2[[#This Row],[Column16]]+Table_2[[#This Row],[Column15]]","v":0},"",{"$f":"(K539/Instructions!$C$23)*100","v":0},{"$f":"(L539/Instructions!$C$24)*100","v":0},{"$f":"(Y539/Instructions!$C$25)*100","v":0},{"$f":"(AA539/Instructions!$C$27)*100","v":0},{"$f":"(AC539/Instructions!$C$29)*100","v":0},{"$f":"(V539/Instructions!$C$33)*100","v":0},{"$f":"(U539/Instructions!$C$32)*100","v":0},{"$f":"(W539/Instructions!$C$36)*100","v":{"$error":"#VALUE!"}},"","E","E","E","E","E","E","E","--",null,null,null,null,null,{"$f":"Table_2[[#This Row],[Column51]]&Table_2[[#This Row],[Column52]]&AW541","v":""}]
[null,null,null,null,null,null,null,null,null,null,null,null,null,null,null,{"$f":"Instructions!B574","v":0},null,{"$f":"Instructions!B568","v":0},{"$f":"Instructions!B569","v":0},{"$f":"Instructions!B570","v":0},null,null,"--",0,{"$f":"Table_2[[#This Row],[Column20]]+Table_2[[#This Row],[Column56]]","v":0},"",{"$f":"Table_2[[#This Row],[Column20]]+Table_2[[#This Row],[Column56]]","v":0},"",{"$f":"Table_2[[#This Row],[Column57]]+Table_2[[#This Row],[Column16]]+Table_2[[#This Row],[Column15]]","v":0},"",{"$f":"(K540/Instructions!$C$23)*100","v":0},{"$f":"(L540/Instructions!$C$24)*100","v":0},{"$f":"(Y540/Instructions!$C$25)*100","v":0},{"$f":"(AA540/Instructions!$C$27)*100","v":0},{"$f":"(AC540/Instructions!$C$29)*100","v":0},{"$f":"(V540/Instructions!$C$33)*100","v":0},{"$f":"(U540/Instructions!$C$32)*100","v":0},{"$f":"(W540/Instructions!$C$36)*100","v":{"$error":"#VALUE!"}},"","E","E","E","E","E","E","E","--",null,null,null,null,null,{"$f":"Table_2[[#This Row],[Column51]]&Table_2[[#This Row],[Column52]]&AW542","v":""}]
[null,null,null,null,null,null,null,null,null,null,null,null,null,null,null,{"$f":"Instructions!B575","v":0},null,{"$f":"Instructions!B569","v":0},{"$f":"Instructions!B570","v":0},{"$f":"Instructions!B571","v":0},null,null,"--",0,{"$f":"Table_2[[#This Row],[Column20]]+Table_2[[#This Row],[Column56]]","v":0},"",{"$f":"Table_2[[#This Row],[Column20]]+Table_2[[#This Row],[Column56]]","v":0},"",{"$f":"Table_2[[#This Row],[Column57]]+Table_2[[#This Row],[Column16]]+Table_2[[#This Row],[Column15]]","v":0},"",{"$f":"(K541/Instructions!$C$23)*100","v":0},{"$f":"(L541/Instructions!$C$24)*100","v":0},{"$f":"(Y541/Instructions!$C$25)*100","v":0},{"$f":"(AA541/Instructions!$C$27)*100","v":0},{"$f":"(AC541/Instructions!$C$29)*100","v":0},{"$f":"(V541/Instructions!$C$33)*100","v":0},{"$f":"(U541/Instructions!$C$32)*100","v":0},{"$f":"(W541/Instructions!$C$36)*100","v":{"$error":"#VALUE!"}},"","E","E","E","E","E","E","E","--",null,null,null,null,null,{"$f":"Table_2[[#This Row],[Column51]]&Table_2[[#This Row],[Column52]]&AW543","v":""}]
[null,null,null,null,null,null,null,null,null,null,null,null,null,null,null,{"$f":"Instructions!B576","v":0},null,{"$f":"Instructions!B570","v":0},{"$f":"Instructions!B571","v":0},{"$f":"Instructions!B572","v":0},null,null,"--",0,{"$f":"Table_2[[#This Row],[Column20]]+Table_2[[#This Row],[Column56]]","v":0},"",{"$f":"Table_2[[#This Row],[Column20]]+Table_2[[#This Row],[Column56]]","v":0},"",{"$f":"Table_2[[#This Row],[Column57]]+Table_2[[#This Row],[Column16]]+Table_2[[#This Row],[Column15]]","v":0},"",{"$f":"(K542/Instructions!$C$23)*100","v":0},{"$f":"(L542/Instructions!$C$24)*100","v":0},{"$f":"(Y542/Instructions!$C$25)*100","v":0},{"$f":"(AA542/Instructions!$C$27)*100","v":0},{"$f":"(AC542/Instructions!$C$29)*100","v":0},{"$f":"(V542/Instructions!$C$33)*100","v":0},{"$f":"(U542/Instructions!$C$32)*100","v":0},{"$f":"(W542/Instructions!$C$36)*100","v":{"$error":"#VALUE!"}},"","E","E","E","E","E","E","E","--",null,null,null,null,null,{"$f":"Table_2[[#This Row],[Column51]]&Table_2[[#This Row],[Column52]]&AW544","v":""}]
[null,null,null,null,null,null,null,null,null,null,null,null,null,null,null,{"$f":"Instructions!B577","v":0},null,{"$f":"Instructions!B571","v":0},{"$f":"Instructions!B572","v":0},{"$f":"Instructions!B573","v":0},null,null,"--",0,{"$f":"Table_2[[#This Row],[Column20]]+Table_2[[#This Row],[Column56]]","v":0},"",{"$f":"Table_2[[#This Row],[Column20]]+Table_2[[#This Row],[Column56]]","v":0},"",{"$f":"Table_2[[#This Row],[Column57]]+Table_2[[#This Row],[Column16]]+Table_2[[#This Row],[Column15]]","v":0},"",{"$f":"(K543/Instructions!$C$23)*100","v":0},{"$f":"(L543/Instructions!$C$24)*100","v":0},{"$f":"(Y543/Instructions!$C$25)*100","v":0},{"$f":"(AA543/Instructions!$C$27)*100","v":0},{"$f":"(AC543/Instructions!$C$29)*100","v":0},{"$f":"(V543/Instructions!$C$33)*100","v":0},{"$f":"(U543/Instructions!$C$32)*100","v":0},{"$f":"(W543/Instructions!$C$36)*100","v":{"$error":"#VALUE!"}},"","E","E","E","E","E","E","E","--",null,null,null,null,null,{"$f":"Table_2[[#This Row],[Column51]]&Table_2[[#This Row],[Column52]]&AW545","v":""}]
[null,null,null,null,null,null,null,null,null,null,null,null,null,null,null,{"$f":"Instructions!B578","v":0},null,{"$f":"Instructions!B572","v":0},{"$f":"Instructions!B573","v":0},{"$f":"Instructions!B574","v":0},null,null,"--",0,{"$f":"Table_2[[#This Row],[Column20]]+Table_2[[#This Row],[Column56]]","v":0},"",{"$f":"Table_2[[#This Row],[Column20]]+Table_2[[#This Row],[Column56]]","v":0},"",{"$f":"Table_2[[#This Row],[Column57]]+Table_2[[#This Row],[Column16]]+Table_2[[#This Row],[Column15]]","v":0},"",{"$f":"(K544/Instructions!$C$23)*100","v":0},{"$f":"(L544/Instructions!$C$24)*100","v":0},{"$f":"(Y544/Instructions!$C$25)*100","v":0},{"$f":"(AA544/Instructions!$C$27)*100","v":0},{"$f":"(AC544/Instructions!$C$29)*100","v":0},{"$f":"(V544/Instructions!$C$33)*100","v":0},{"$f":"(U544/Instructions!$C$32)*100","v":0},{"$f":"(W544/Instructions!$C$36)*100","v":{"$error":"#VALUE!"}},"","E","E","E","E","E","E","E","--",null,null,null,null,null,{"$f":"Table_2[[#This Row],[Column51]]&Table_2[[#This Row],[Column52]]&AW546","v":""}]
[null,null,null,null,null,null,null,null,null,null,null,null,null,null,null,{"$f":"Instructions!B579","v":0},null,{"$f":"Instructions!B573","v":0},{"$f":"Instructions!B574","v":0},{"$f":"Instructions!B575","v":0},null,null,"--",0,{"$f":"Table_2[[#This Row],[Column20]]+Table_2[[#This Row],[Column56]]","v":0},"",{"$f":"Table_2[[#This Row],[Column20]]+Table_2[[#This Row],[Column56]]","v":0},"",{"$f":"Table_2[[#This Row],[Column57]]+Table_2[[#This Row],[Column16]]+Table_2[[#This Row],[Column15]]","v":0},"",{"$f":"(K545/Instructions!$C$23)*100","v":0},{"$f":"(L545/Instructions!$C$24)*100","v":0},{"$f":"(Y545/Instructions!$C$25)*100","v":0},{"$f":"(AA545/Instructions!$C$27)*100","v":0},{"$f":"(AC545/Instructions!$C$29)*100","v":0},{"$f":"(V545/Instructions!$C$33)*100","v":0},{"$f":"(U545/Instructions!$C$32)*100","v":0},{"$f":"(W545/Instructions!$C$36)*100","v":{"$error":"#VALUE!"}},"","E","E","E","E","E","E","E","--",null,null,null,null,null,{"$f":"Table_2[[#This Row],[Column51]]&Table_2[[#This Row],[Column52]]&AW547","v":""}]
[null,null,null,null,null,null,null,null,null,null,null,null,null,null,null,{"$f":"Instructions!B580","v":0},null,{"$f":"Instructions!B574","v":0},{"$f":"Instructions!B575","v":0},{"$f":"Instructions!B576","v":0},null,null,"--",0,{"$f":"Table_2[[#This Row],[Column20]]+Table_2[[#This Row],[Column56]]","v":0},"",{"$f":"Table_2[[#This Row],[Column20]]+Table_2[[#This Row],[Column56]]","v":0},"",{"$f":"Table_2[[#This Row],[Column57]]+Table_2[[#This Row],[Column16]]+Table_2[[#This Row],[Column15]]","v":0},"",{"$f":"(K546/Instructions!$C$23)*100","v":0},{"$f":"(L546/Instructions!$C$24)*100","v":0},{"$f":"(Y546/Instructions!$C$25)*100","v":0},{"$f":"(AA546/Instructions!$C$27)*100","v":0},{"$f":"(AC546/Instructions!$C$29)*100","v":0},{"$f":"(V546/Instructions!$C$33)*100","v":0},{"$f":"(U546/Instructions!$C$32)*100","v":0},{"$f":"(W546/Instructions!$C$36)*100","v":{"$error":"#VALUE!"}},"","E","E","E","E","E","E","E","--",null,null,null,null,null,{"$f":"Table_2[[#This Row],[Column51]]&Table_2[[#This Row],[Column52]]&AW548","v":""}]
[null,null,null,null,null,null,null,null,null,null,null,null,null,null,null,{"$f":"Instructions!B581","v":0},null,{"$f":"Instructions!B575","v":0},{"$f":"Instructions!B576","v":0},{"$f":"Instructions!B577","v":0},null,null,"--",0,{"$f":"Table_2[[#This Row],[Column20]]+Table_2[[#This Row],[Column56]]","v":0},"",{"$f":"Table_2[[#This Row],[Column20]]+Table_2[[#This Row],[Column56]]","v":0},"",{"$f":"Table_2[[#This Row],[Column57]]+Table_2[[#This Row],[Column16]]+Table_2[[#This Row],[Column15]]","v":0},"",{"$f":"(K547/Instructions!$C$23)*100","v":0},{"$f":"(L547/Instructions!$C$24)*100","v":0},{"$f":"(Y547/Instructions!$C$25)*100","v":0},{"$f":"(AA547/Instructions!$C$27)*100","v":0},{"$f":"(AC547/Instructions!$C$29)*100","v":0},{"$f":"(V547/Instructions!$C$33)*100","v":0},{"$f":"(U547/Instructions!$C$32)*100","v":0},{"$f":"(W547/Instructions!$C$36)*100","v":{"$error":"#VALUE!"}},"","E","E","E","E","E","E","E","--",null,null,null,null,null,{"$f":"Table_2[[#This Row],[Column51]]&Table_2[[#This Row],[Column52]]&AW549","v":""}]
[null,null,null,null,null,null,null,null,null,null,null,null,null,null,null,{"$f":"Instructions!B582","v":0},null,{"$f":"Instructions!B576","v":0},{"$f":"Instructions!B577","v":0},{"$f":"Instructions!B578","v":0},null,null,"--",0,{"$f":"Table_2[[#This Row],[Column20]]+Table_2[[#This Row],[Column56]]","v":0},"",{"$f":"Table_2[[#This Row],[Column20]]+Table_2[[#This Row],[Column56]]","v":0},"",{"$f":"Table_2[[#This Row],[Column57]]+Table_2[[#This Row],[Column16]]+Table_2[[#This Row],[Column15]]","v":0},"",{"$f":"(K548/Instructions!$C$23)*100","v":0},{"$f":"(L548/Instructions!$C$24)*100","v":0},{"$f":"(Y548/Instructions!$C$25)*100","v":0},{"$f":"(AA548/Instructions!$C$27)*100","v":0},{"$f":"(AC548/Instructions!$C$29)*100","v":0},{"$f":"(V548/Instructions!$C$33)*100","v":0},{"$f":"(U548/Instructions!$C$32)*100","v":0},{"$f":"(W548/Instructions!$C$36)*100","v":{"$error":"#VALUE!"}},"","E","E","E","E","E","E","E","--",null,null,null,null,null,{"$f":"Table_2[[#This Row],[Column51]]&Table_2[[#This Row],[Column52]]&AW550","v":""}]
[null,null,null,null,null,null,null,null,null,null,null,null,null,null,null,{"$f":"Instructions!B583","v":0},null,{"$f":"Instructions!B577","v":0},{"$f":"Instructions!B578","v":0},{"$f":"Instructions!B579","v":0},null,null,"--",0,{"$f":"Table_2[[#This Row],[Column20]]+Table_2[[#This Row],[Column56]]","v":0},"",{"$f":"Table_2[[#This Row],[Column20]]+Table_2[[#This Row],[Column56]]","v":0},"",{"$f":"Table_2[[#This Row],[Column57]]+Table_2[[#This Row],[Column16]]+Table_2[[#This Row],[Column15]]","v":0},"",{"$f":"(K549/Instructions!$C$23)*100","v":0},{"$f":"(L549/Instructions!$C$24)*100","v":0},{"$f":"(Y549/Instructions!$C$25)*100","v":0},{"$f":"(AA549/Instructions!$C$27)*100","v":0},{"$f":"(AC549/Instructions!$C$29)*100","v":0},{"$f":"(V549/Instructions!$C$33)*100","v":0},{"$f":"(U549/Instructions!$C$32)*100","v":0},{"$f":"(W549/Instructions!$C$36)*100","v":{"$error":"#VALUE!"}},"","E","E","E","E","E","E","E","--",null,null,null,null,null,{"$f":"Table_2[[#This Row],[Column51]]&Table_2[[#This Row],[Column52]]&AW551","v":""}]
[null,null,null,null,null,null,null,null,null,null,null,null,null,null,null,{"$f":"Instructions!B584","v":0},null,{"$f":"Instructions!B578","v":0},{"$f":"Instructions!B579","v":0},{"$f":"Instructions!B580","v":0},null,null,"--",0,{"$f":"Table_2[[#This Row],[Column20]]+Table_2[[#This Row],[Column56]]","v":0},"",{"$f":"Table_2[[#This Row],[Column20]]+Table_2[[#This Row],[Column56]]","v":0},"",{"$f":"Table_2[[#This Row],[Column57]]+Table_2[[#This Row],[Column16]]+Table_2[[#This Row],[Column15]]","v":0},"",{"$f":"(K550/Instructions!$C$23)*100","v":0},{"$f":"(L550/Instructions!$C$24)*100","v":0},{"$f":"(Y550/Instructions!$C$25)*100","v":0},{"$f":"(AA550/Instructions!$C$27)*100","v":0},{"$f":"(AC550/Instructions!$C$29)*100","v":0},{"$f":"(V550/Instructions!$C$33)*100","v":0},{"$f":"(U550/Instructions!$C$32)*100","v":0},{"$f":"(W550/Instructions!$C$36)*100","v":{"$error":"#VALUE!"}},"","E","E","E","E","E","E","E","--",null,null,null,null,null,{"$f":"Table_2[[#This Row],[Column51]]&Table_2[[#This Row],[Column52]]&AW552","v":""}]
[null,null,null,null,null,null,null,null,null,null,null,null,null,null,null,{"$f":"Instructions!B585","v":0},null,{"$f":"Instructions!B579","v":0},{"$f":"Instructions!B580","v":0},{"$f":"Instructions!B581","v":0},null,null,"--",0,{"$f":"Table_2[[#This Row],[Column20]]+Table_2[[#This Row],[Column56]]","v":0},"",{"$f":"Table_2[[#This Row],[Column20]]+Table_2[[#This Row],[Column56]]","v":0},"",{"$f":"Table_2[[#This Row],[Column57]]+Table_2[[#This Row],[Column16]]+Table_2[[#This Row],[Column15]]","v":0},"",{"$f":"(K551/Instructions!$C$23)*100","v":0},{"$f":"(L551/Instructions!$C$24)*100","v":0},{"$f":"(Y551/Instructions!$C$25)*100","v":0},{"$f":"(AA551/Instructions!$C$27)*100","v":0},{"$f":"(AC551/Instructions!$C$29)*100","v":0},{"$f":"(V551/Instructions!$C$33)*100","v":0},{"$f":"(U551/Instructions!$C$32)*100","v":0},{"$f":"(W551/Instructions!$C$36)*100","v":{"$error":"#VALUE!"}},"","E","E","E","E","E","E","E","--",null,null,null,null,null,{"$f":"Table_2[[#This Row],[Column51]]&Table_2[[#This Row],[Column52]]&AW553","v":""}]
[null,null,null,null,null,null,null,null,null,null,null,null,null,null,null,{"$f":"Instructions!B586","v":0},null,{"$f":"Instructions!B580","v":0},{"$f":"Instructions!B581","v":0},{"$f":"Instructions!B582","v":0},null,null,"--",0,{"$f":"Table_2[[#This Row],[Column20]]+Table_2[[#This Row],[Column56]]","v":0},"",{"$f":"Table_2[[#This Row],[Column20]]+Table_2[[#This Row],[Column56]]","v":0},"",{"$f":"Table_2[[#This Row],[Column57]]+Table_2[[#This Row],[Column16]]+Table_2[[#This Row],[Column15]]","v":0},"",{"$f":"(K552/Instructions!$C$23)*100","v":0},{"$f":"(L552/Instructions!$C$24)*100","v":0},{"$f":"(Y552/Instructions!$C$25)*100","v":0},{"$f":"(AA552/Instructions!$C$27)*100","v":0},{"$f":"(AC552/Instructions!$C$29)*100","v":0},{"$f":"(V552/Instructions!$C$33)*100","v":0},{"$f":"(U552/Instructions!$C$32)*100","v":0},{"$f":"(W552/Instructions!$C$36)*100","v":{"$error":"#VALUE!"}},"","E","E","E","E","E","E","E","--",null,null,null,null,null,{"$f":"Table_2[[#This Row],[Column51]]&Table_2[[#This Row],[Column52]]&AW554","v":""}]
[null,null,null,null,null,null,null,null,null,null,null,null,null,null,null,{"$f":"Instructions!B587","v":0},null,{"$f":"Instructions!B581","v":0},{"$f":"Instructions!B582","v":0},{"$f":"Instructions!B583","v":0},null,null,"--",0,{"$f":"Table_2[[#This Row],[Column20]]+Table_2[[#This Row],[Column56]]","v":0},"",{"$f":"Table_2[[#This Row],[Column20]]+Table_2[[#This Row],[Column56]]","v":0},"",{"$f":"Table_2[[#This Row],[Column57]]+Table_2[[#This Row],[Column16]]+Table_2[[#This Row],[Column15]]","v":0},"",{"$f":"(K553/Instructions!$C$23)*100","v":0},{"$f":"(L553/Instructions!$C$24)*100","v":0},{"$f":"(Y553/Instructions!$C$25)*100","v":0},{"$f":"(AA553/Instructions!$C$27)*100","v":0},{"$f":"(AC553/Instructions!$C$29)*100","v":0},{"$f":"(V553/Instructions!$C$33)*100","v":0},{"$f":"(U553/Instructions!$C$32)*100","v":0},{"$f":"(W553/Instructions!$C$36)*100","v":{"$error":"#VALUE!"}},"","E","E","E","E","E","E","E","--",null,null,null,null,null,{"$f":"Table_2[[#This Row],[Column51]]&Table_2[[#This Row],[Column52]]&AW555","v":""}]
[null,null,null,null,null,null,null,null,null,null,null,null,null,null,null,{"$f":"Instructions!B588","v":0},null,{"$f":"Instructions!B582","v":0},{"$f":"Instructions!B583","v":0},{"$f":"Instructions!B584","v":0},null,null,"--",0,{"$f":"Table_2[[#This Row],[Column20]]+Table_2[[#This Row],[Column56]]","v":0},"",{"$f":"Table_2[[#This Row],[Column20]]+Table_2[[#This Row],[Column56]]","v":0},"",{"$f":"Table_2[[#This Row],[Column57]]+Table_2[[#This Row],[Column16]]+Table_2[[#This Row],[Column15]]","v":0},"",{"$f":"(K554/Instructions!$C$23)*100","v":0},{"$f":"(L554/Instructions!$C$24)*100","v":0},{"$f":"(Y554/Instructions!$C$25)*100","v":0},{"$f":"(AA554/Instructions!$C$27)*100","v":0},{"$f":"(AC554/Instructions!$C$29)*100","v":0},{"$f":"(V554/Instructions!$C$33)*100","v":0},{"$f":"(U554/Instructions!$C$32)*100","v":0},{"$f":"(W554/Instructions!$C$36)*100","v":{"$error":"#VALUE!"}},"","E","E","E","E","E","E","E","--",null,null,null,null,null,{"$f":"Table_2[[#This Row],[Column51]]&Table_2[[#This Row],[Column52]]&AW556","v":""}]
[null,null,null,null,null,null,null,null,null,null,null,null,null,null,null,{"$f":"Instructions!B589","v":0},null,{"$f":"Instructions!B583","v":0},{"$f":"Instructions!B584","v":0},{"$f":"Instructions!B585","v":0},null,null,"--",0,{"$f":"Table_2[[#This Row],[Column20]]+Table_2[[#This Row],[Column56]]","v":0},"",{"$f":"Table_2[[#This Row],[Column20]]+Table_2[[#This Row],[Column56]]","v":0},"",{"$f":"Table_2[[#This Row],[Column57]]+Table_2[[#This Row],[Column16]]+Table_2[[#This Row],[Column15]]","v":0},"",{"$f":"(K555/Instructions!$C$23)*100","v":0},{"$f":"(L555/Instructions!$C$24)*100","v":0},{"$f":"(Y555/Instructions!$C$25)*100","v":0},{"$f":"(AA555/Instructions!$C$27)*100","v":0},{"$f":"(AC555/Instructions!$C$29)*100","v":0},{"$f":"(V555/Instructions!$C$33)*100","v":0},{"$f":"(U555/Instructions!$C$32)*100","v":0},{"$f":"(W555/Instructions!$C$36)*100","v":{"$error":"#VALUE!"}},"","E","E","E","E","E","E","E","--",null,null,null,null,null,{"$f":"Table_2[[#This Row],[Column51]]&Table_2[[#This Row],[Column52]]&AW557","v":""}]
[null,null,null,null,null,null,null,null,null,null,null,null,null,null,null,{"$f":"Instructions!B590","v":0},null,{"$f":"Instructions!B584","v":0},{"$f":"Instructions!B585","v":0},{"$f":"Instructions!B586","v":0},null,null,"--",0,{"$f":"Table_2[[#This Row],[Column20]]+Table_2[[#This Row],[Column56]]","v":0},"",{"$f":"Table_2[[#This Row],[Column20]]+Table_2[[#This Row],[Column56]]","v":0},"",{"$f":"Table_2[[#This Row],[Column57]]+Table_2[[#This Row],[Column16]]+Table_2[[#This Row],[Column15]]","v":0},"",{"$f":"(K556/Instructions!$C$23)*100","v":0},{"$f":"(L556/Instructions!$C$24)*100","v":0},{"$f":"(Y556/Instructions!$C$25)*100","v":0},{"$f":"(AA556/Instructions!$C$27)*100","v":0},{"$f":"(AC556/Instructions!$C$29)*100","v":0},{"$f":"(V556/Instructions!$C$33)*100","v":0},{"$f":"(U556/Instructions!$C$32)*100","v":0},{"$f":"(W556/Instructions!$C$36)*100","v":{"$error":"#VALUE!"}},"","E","E","E","E","E","E","E","--",null,null,null,null,null,{"$f":"Table_2[[#This Row],[Column51]]&Table_2[[#This Row],[Column52]]&AW558","v":""}]
[null,null,null,null,null,null,null,null,null,null,null,null,null,null,null,{"$f":"Instructions!B591","v":0},null,{"$f":"Instructions!B585","v":0},{"$f":"Instructions!B586","v":0},{"$f":"Instructions!B587","v":0},null,null,"--",0,{"$f":"Table_2[[#This Row],[Column20]]+Table_2[[#This Row],[Column56]]","v":0},"",{"$f":"Table_2[[#This Row],[Column20]]+Table_2[[#This Row],[Column56]]","v":0},"",{"$f":"Table_2[[#This Row],[Column57]]+Table_2[[#This Row],[Column16]]+Table_2[[#This Row],[Column15]]","v":0},"",{"$f":"(K557/Instructions!$C$23)*100","v":0},{"$f":"(L557/Instructions!$C$24)*100","v":0},{"$f":"(Y557/Instructions!$C$25)*100","v":0},{"$f":"(AA557/Instructions!$C$27)*100","v":0},{"$f":"(AC557/Instructions!$C$29)*100","v":0},{"$f":"(V557/Instructions!$C$33)*100","v":0},{"$f":"(U557/Instructions!$C$32)*100","v":0},{"$f":"(W557/Instructions!$C$36)*100","v":{"$error":"#VALUE!"}},"","E","E","E","E","E","E","E","--",null,null,null,null,null,{"$f":"Table_2[[#This Row],[Column51]]&Table_2[[#This Row],[Column52]]&AW559","v":""}]
[null,null,null,null,null,null,null,null,null,null,null,null,null,null,null,{"$f":"Instructions!B592","v":0},null,{"$f":"Instructions!B586","v":0},{"$f":"Instructions!B587","v":0},{"$f":"Instructions!B588","v":0},null,null,"--",0,{"$f":"Table_2[[#This Row],[Column20]]+Table_2[[#This Row],[Column56]]","v":0},"",{"$f":"Table_2[[#This Row],[Column20]]+Table_2[[#This Row],[Column56]]","v":0},"",{"$f":"Table_2[[#This Row],[Column57]]+Table_2[[#This Row],[Column16]]+Table_2[[#This Row],[Column15]]","v":0},"",{"$f":"(K558/Instructions!$C$23)*100","v":0},{"$f":"(L558/Instructions!$C$24)*100","v":0},{"$f":"(Y558/Instructions!$C$25)*100","v":0},{"$f":"(AA558/Instructions!$C$27)*100","v":0},{"$f":"(AC558/Instructions!$C$29)*100","v":0},{"$f":"(V558/Instructions!$C$33)*100","v":0},{"$f":"(U558/Instructions!$C$32)*100","v":0},{"$f":"(W558/Instructions!$C$36)*100","v":{"$error":"#VALUE!"}},"","E","E","E","E","E","E","E","--",null,null,null,null,null,{"$f":"Table_2[[#This Row],[Column51]]&Table_2[[#This Row],[Column52]]&AW560","v":""}]
[null,null,null,null,null,null,null,null,null,null,null,null,null,null,null,{"$f":"Instructions!B593","v":0},null,{"$f":"Instructions!B587","v":0},{"$f":"Instructions!B588","v":0},{"$f":"Instructions!B589","v":0},null,null,"--",0,{"$f":"Table_2[[#This Row],[Column20]]+Table_2[[#This Row],[Column56]]","v":0},"",{"$f":"Table_2[[#This Row],[Column20]]+Table_2[[#This Row],[Column56]]","v":0},"",{"$f":"Table_2[[#This Row],[Column57]]+Table_2[[#This Row],[Column16]]+Table_2[[#This Row],[Column15]]","v":0},"",{"$f":"(K559/Instructions!$C$23)*100","v":0},{"$f":"(L559/Instructions!$C$24)*100","v":0},{"$f":"(Y559/Instructions!$C$25)*100","v":0},{"$f":"(AA559/Instructions!$C$27)*100","v":0},{"$f":"(AC559/Instructions!$C$29)*100","v":0},{"$f":"(V559/Instructions!$C$33)*100","v":0},{"$f":"(U559/Instructions!$C$32)*100","v":0},{"$f":"(W559/Instructions!$C$36)*100","v":{"$error":"#VALUE!"}},"","E","E","E","E","E","E","E","--",null,null,null,null,null,{"$f":"Table_2[[#This Row],[Column51]]&Table_2[[#This Row],[Column52]]&AW561","v":""}]
[null,null,null,null,null,null,null,null,null,null,null,null,null,null,null,{"$f":"Instructions!B594","v":0},null,{"$f":"Instructions!B588","v":0},{"$f":"Instructions!B589","v":0},{"$f":"Instructions!B590","v":0},null,null,"--",0,{"$f":"Table_2[[#This Row],[Column20]]+Table_2[[#This Row],[Column56]]","v":0},"",{"$f":"Table_2[[#This Row],[Column20]]+Table_2[[#This Row],[Column56]]","v":0},"",{"$f":"Table_2[[#This Row],[Column57]]+Table_2[[#This Row],[Column16]]+Table_2[[#This Row],[Column15]]","v":0},"",{"$f":"(K560/Instructions!$C$23)*100","v":0},{"$f":"(L560/Instructions!$C$24)*100","v":0},{"$f":"(Y560/Instructions!$C$25)*100","v":0},{"$f":"(AA560/Instructions!$C$27)*100","v":0},{"$f":"(AC560/Instructions!$C$29)*100","v":0},{"$f":"(V560/Instructions!$C$33)*100","v":0},{"$f":"(U560/Instructions!$C$32)*100","v":0},{"$f":"(W560/Instructions!$C$36)*100","v":{"$error":"#VALUE!"}},"","E","E","E","E","E","E","E","--",null,null,null,null,null,{"$f":"Table_2[[#This Row],[Column51]]&Table_2[[#This Row],[Column52]]&AW562","v":""}]
[null,null,null,null,null,null,null,null,null,null,null,null,null,null,null,{"$f":"Instructions!B595","v":0},null,{"$f":"Instructions!B589","v":0},{"$f":"Instructions!B590","v":0},{"$f":"Instructions!B591","v":0},null,null,"--",0,{"$f":"Table_2[[#This Row],[Column20]]+Table_2[[#This Row],[Column56]]","v":0},"",{"$f":"Table_2[[#This Row],[Column20]]+Table_2[[#This Row],[Column56]]","v":0},"",{"$f":"Table_2[[#This Row],[Column57]]+Table_2[[#This Row],[Column16]]+Table_2[[#This Row],[Column15]]","v":0},"",{"$f":"(K561/Instructions!$C$23)*100","v":0},{"$f":"(L561/Instructions!$C$24)*100","v":0},{"$f":"(Y561/Instructions!$C$25)*100","v":0},{"$f":"(AA561/Instructions!$C$27)*100","v":0},{"$f":"(AC561/Instructions!$C$29)*100","v":0},{"$f":"(V561/Instructions!$C$33)*100","v":0},{"$f":"(U561/Instructions!$C$32)*100","v":0},{"$f":"(W561/Instructions!$C$36)*100","v":{"$error":"#VALUE!"}},"","E","E","E","E","E","E","E","--",null,null,null,null,null,{"$f":"Table_2[[#This Row],[Column51]]&Table_2[[#This Row],[Column52]]&AW563","v":""}]
[null,null,null,null,null,null,null,null,null,null,null,null,null,null,null,{"$f":"Instructions!B596","v":0},null,{"$f":"Instructions!B590","v":0},{"$f":"Instructions!B591","v":0},{"$f":"Instructions!B592","v":0},null,null,"--",0,{"$f":"Table_2[[#This Row],[Column20]]+Table_2[[#This Row],[Column56]]","v":0},"",{"$f":"Table_2[[#This Row],[Column20]]+Table_2[[#This Row],[Column56]]","v":0},"",{"$f":"Table_2[[#This Row],[Column57]]+Table_2[[#This Row],[Column16]]+Table_2[[#This Row],[Column15]]","v":0},"",{"$f":"(K562/Instructions!$C$23)*100","v":0},{"$f":"(L562/Instructions!$C$24)*100","v":0},{"$f":"(Y562/Instructions!$C$25)*100","v":0},{"$f":"(AA562/Instructions!$C$27)*100","v":0},{"$f":"(AC562/Instructions!$C$29)*100","v":0},{"$f":"(V562/Instructions!$C$33)*100","v":0},{"$f":"(U562/Instructions!$C$32)*100","v":0},{"$f":"(W562/Instructions!$C$36)*100","v":{"$error":"#VALUE!"}},"","E","E","E","E","E","E","E","--",null,null,null,null,null,{"$f":"Table_2[[#This Row],[Column51]]&Table_2[[#This Row],[Column52]]&AW564","v":""}]
[null,null,null,null,null,null,null,null,null,null,null,null,null,null,null,{"$f":"Instructions!B597","v":0},null,{"$f":"Instructions!B591","v":0},{"$f":"Instructions!B592","v":0},{"$f":"Instructions!B593","v":0},null,null,"--",0,{"$f":"Table_2[[#This Row],[Column20]]+Table_2[[#This Row],[Column56]]","v":0},"",{"$f":"Table_2[[#This Row],[Column20]]+Table_2[[#This Row],[Column56]]","v":0},"",{"$f":"Table_2[[#This Row],[Column57]]+Table_2[[#This Row],[Column16]]+Table_2[[#This Row],[Column15]]","v":0},"",{"$f":"(K563/Instructions!$C$23)*100","v":0},{"$f":"(L563/Instructions!$C$24)*100","v":0},{"$f":"(Y563/Instructions!$C$25)*100","v":0},{"$f":"(AA563/Instructions!$C$27)*100","v":0},{"$f":"(AC563/Instructions!$C$29)*100","v":0},{"$f":"(V563/Instructions!$C$33)*100","v":0},{"$f":"(U563/Instructions!$C$32)*100","v":0},{"$f":"(W563/Instructions!$C$36)*100","v":{"$error":"#VALUE!"}},"","E","E","E","E","E","E","E","--",null,null,null,null,null,{"$f":"Table_2[[#This Row],[Column51]]&Table_2[[#This Row],[Column52]]&AW565","v":""}]
[null,null,null,null,null,null,null,null,null,null,null,null,null,null,null,{"$f":"Instructions!B598","v":0},null,{"$f":"Instructions!B592","v":0},{"$f":"Instructions!B593","v":0},{"$f":"Instructions!B594","v":0},null,null,"--",0,{"$f":"Table_2[[#This Row],[Column20]]+Table_2[[#This Row],[Column56]]","v":0},"",{"$f":"Table_2[[#This Row],[Column20]]+Table_2[[#This Row],[Column56]]","v":0},"",{"$f":"Table_2[[#This Row],[Column57]]+Table_2[[#This Row],[Column16]]+Table_2[[#This Row],[Column15]]","v":0},"",{"$f":"(K564/Instructions!$C$23)*100","v":0},{"$f":"(L564/Instructions!$C$24)*100","v":0},{"$f":"(Y564/Instructions!$C$25)*100","v":0},{"$f":"(AA564/Instructions!$C$27)*100","v":0},{"$f":"(AC564/Instructions!$C$29)*100","v":0},{"$f":"(V564/Instructions!$C$33)*100","v":0},{"$f":"(U564/Instructions!$C$32)*100","v":0},{"$f":"(W564/Instructions!$C$36)*100","v":{"$error":"#VALUE!"}},"","E","E","E","E","E","E","E","--",null,null,null,null,null,{"$f":"Table_2[[#This Row],[Column51]]&Table_2[[#This Row],[Column52]]&AW566","v":""}]
[null,null,null,null,null,null,null,null,null,null,null,null,null,null,null,{"$f":"Instructions!B599","v":0},null,{"$f":"Instructions!B593","v":0},{"$f":"Instructions!B594","v":0},{"$f":"Instructions!B595","v":0},null,null,"--",0,{"$f":"Table_2[[#This Row],[Column20]]+Table_2[[#This Row],[Column56]]","v":0},"",{"$f":"Table_2[[#This Row],[Column20]]+Table_2[[#This Row],[Column56]]","v":0},"",{"$f":"Table_2[[#This Row],[Column57]]+Table_2[[#This Row],[Column16]]+Table_2[[#This Row],[Column15]]","v":0},"",{"$f":"(K565/Instructions!$C$23)*100","v":0},{"$f":"(L565/Instructions!$C$24)*100","v":0},{"$f":"(Y565/Instructions!$C$25)*100","v":0},{"$f":"(AA565/Instructions!$C$27)*100","v":0},{"$f":"(AC565/Instructions!$C$29)*100","v":0},{"$f":"(V565/Instructions!$C$33)*100","v":0},{"$f":"(U565/Instructions!$C$32)*100","v":0},{"$f":"(W565/Instructions!$C$36)*100","v":{"$error":"#VALUE!"}},"","E","E","E","E","E","E","E","--",null,null,null,null,null,{"$f":"Table_2[[#This Row],[Column51]]&Table_2[[#This Row],[Column52]]&AW567","v":""}]
[null,null,null,null,null,null,null,null,null,null,null,null,null,null,null,{"$f":"Instructions!B600","v":0},null,{"$f":"Instructions!B594","v":0},{"$f":"Instructions!B595","v":0},{"$f":"Instructions!B596","v":0},null,null,"--",0,{"$f":"Table_2[[#This Row],[Column20]]+Table_2[[#This Row],[Column56]]","v":0},"",{"$f":"Table_2[[#This Row],[Column20]]+Table_2[[#This Row],[Column56]]","v":0},"",{"$f":"Table_2[[#This Row],[Column57]]+Table_2[[#This Row],[Column16]]+Table_2[[#This Row],[Column15]]","v":0},"",{"$f":"(K566/Instructions!$C$23)*100","v":0},{"$f":"(L566/Instructions!$C$24)*100","v":0},{"$f":"(Y566/Instructions!$C$25)*100","v":0},{"$f":"(AA566/Instructions!$C$27)*100","v":0},{"$f":"(AC566/Instructions!$C$29)*100","v":0},{"$f":"(V566/Instructions!$C$33)*100","v":0},{"$f":"(U566/Instructions!$C$32)*100","v":0},{"$f":"(W566/Instructions!$C$36)*100","v":{"$error":"#VALUE!"}},"","E","E","E","E","E","E","E","--",null,null,null,null,null,{"$f":"Table_2[[#This Row],[Column51]]&Table_2[[#This Row],[Column52]]&AW568","v":""}]
[null,null,null,null,null,null,null,null,null,null,null,null,null,null,null,{"$f":"Instructions!B601","v":0},null,{"$f":"Instructions!B595","v":0},{"$f":"Instructions!B596","v":0},{"$f":"Instructions!B597","v":0},null,null,"--",0,{"$f":"Table_2[[#This Row],[Column20]]+Table_2[[#This Row],[Column56]]","v":0},"",{"$f":"Table_2[[#This Row],[Column20]]+Table_2[[#This Row],[Column56]]","v":0},"",{"$f":"Table_2[[#This Row],[Column57]]+Table_2[[#This Row],[Column16]]+Table_2[[#This Row],[Column15]]","v":0},"",{"$f":"(K567/Instructions!$C$23)*100","v":0},{"$f":"(L567/Instructions!$C$24)*100","v":0},{"$f":"(Y567/Instructions!$C$25)*100","v":0},{"$f":"(AA567/Instructions!$C$27)*100","v":0},{"$f":"(AC567/Instructions!$C$29)*100","v":0},{"$f":"(V567/Instructions!$C$33)*100","v":0},{"$f":"(U567/Instructions!$C$32)*100","v":0},{"$f":"(W567/Instructions!$C$36)*100","v":{"$error":"#VALUE!"}},"","E","E","E","E","E","E","E","--",null,null,null,null,null,{"$f":"Table_2[[#This Row],[Column51]]&Table_2[[#This Row],[Column52]]&AW569","v":""}]
[null,null,null,null,null,null,null,null,null,null,null,null,null,null,null,{"$f":"Instructions!B602","v":0},null,{"$f":"Instructions!B596","v":0},{"$f":"Instructions!B597","v":0},{"$f":"Instructions!B598","v":0},null,null,"--",0,{"$f":"Table_2[[#This Row],[Column20]]+Table_2[[#This Row],[Column56]]","v":0},"",{"$f":"Table_2[[#This Row],[Column20]]+Table_2[[#This Row],[Column56]]","v":0},"",{"$f":"Table_2[[#This Row],[Column57]]+Table_2[[#This Row],[Column16]]+Table_2[[#This Row],[Column15]]","v":0},"",{"$f":"(K568/Instructions!$C$23)*100","v":0},{"$f":"(L568/Instructions!$C$24)*100","v":0},{"$f":"(Y568/Instructions!$C$25)*100","v":0},{"$f":"(AA568/Instructions!$C$27)*100","v":0},{"$f":"(AC568/Instructions!$C$29)*100","v":0},{"$f":"(V568/Instructions!$C$33)*100","v":0},{"$f":"(U568/Instructions!$C$32)*100","v":0},{"$f":"(W568/Instructions!$C$36)*100","v":{"$error":"#VALUE!"}},"","E","E","E","E","E","E","E","--",null,null,null,null,null,{"$f":"Table_2[[#This Row],[Column51]]&Table_2[[#This Row],[Column52]]&AW570","v":""}]
[null,null,null,null,null,null,null,null,null,null,null,null,null,null,null,{"$f":"Instructions!B603","v":0},null,{"$f":"Instructions!B597","v":0},{"$f":"Instructions!B598","v":0},{"$f":"Instructions!B599","v":0},null,null,"--",0,{"$f":"Table_2[[#This Row],[Column20]]+Table_2[[#This Row],[Column56]]","v":0},"",{"$f":"Table_2[[#This Row],[Column20]]+Table_2[[#This Row],[Column56]]","v":0},"",{"$f":"Table_2[[#This Row],[Column57]]+Table_2[[#This Row],[Column16]]+Table_2[[#This Row],[Column15]]","v":0},"",{"$f":"(K569/Instructions!$C$23)*100","v":0},{"$f":"(L569/Instructions!$C$24)*100","v":0},{"$f":"(Y569/Instructions!$C$25)*100","v":0},{"$f":"(AA569/Instructions!$C$27)*100","v":0},{"$f":"(AC569/Instructions!$C$29)*100","v":0},{"$f":"(V569/Instructions!$C$33)*100","v":0},{"$f":"(U569/Instructions!$C$32)*100","v":0},{"$f":"(W569/Instructions!$C$36)*100","v":{"$error":"#VALUE!"}},"","E","E","E","E","E","E","E","--",null,null,null,null,null,{"$f":"Table_2[[#This Row],[Column51]]&Table_2[[#This Row],[Column52]]&AW571","v":""}]
[null,null,null,null,null,null,null,null,null,null,null,null,null,null,null,{"$f":"Instructions!B604","v":0},null,{"$f":"Instructions!B598","v":0},{"$f":"Instructions!B599","v":0},{"$f":"Instructions!B600","v":0},null,null,"--",0,{"$f":"Table_2[[#This Row],[Column20]]+Table_2[[#This Row],[Column56]]","v":0},"",{"$f":"Table_2[[#This Row],[Column20]]+Table_2[[#This Row],[Column56]]","v":0},"",{"$f":"Table_2[[#This Row],[Column57]]+Table_2[[#This Row],[Column16]]+Table_2[[#This Row],[Column15]]","v":0},"",{"$f":"(K570/Instructions!$C$23)*100","v":0},{"$f":"(L570/Instructions!$C$24)*100","v":0},{"$f":"(Y570/Instructions!$C$25)*100","v":0},{"$f":"(AA570/Instructions!$C$27)*100","v":0},{"$f":"(AC570/Instructions!$C$29)*100","v":0},{"$f":"(V570/Instructions!$C$33)*100","v":0},{"$f":"(U570/Instructions!$C$32)*100","v":0},{"$f":"(W570/Instructions!$C$36)*100","v":{"$error":"#VALUE!"}},"","E","E","E","E","E","E","E","--",null,null,null,null,null,{"$f":"Table_2[[#This Row],[Column51]]&Table_2[[#This Row],[Column52]]&AW572","v":""}]
[null,null,null,null,null,null,null,null,null,null,null,null,null,null,null,{"$f":"Instructions!B605","v":0},null,{"$f":"Instructions!B599","v":0},{"$f":"Instructions!B600","v":0},{"$f":"Instructions!B601","v":0},null,null,"--",0,{"$f":"Table_2[[#This Row],[Column20]]+Table_2[[#This Row],[Column56]]","v":0},"",{"$f":"Table_2[[#This Row],[Column20]]+Table_2[[#This Row],[Column56]]","v":0},"",{"$f":"Table_2[[#This Row],[Column57]]+Table_2[[#This Row],[Column16]]+Table_2[[#This Row],[Column15]]","v":0},"",{"$f":"(K571/Instructions!$C$23)*100","v":0},{"$f":"(L571/Instructions!$C$24)*100","v":0},{"$f":"(Y571/Instructions!$C$25)*100","v":0},{"$f":"(AA571/Instructions!$C$27)*100","v":0},{"$f":"(AC571/Instructions!$C$29)*100","v":0},{"$f":"(V571/Instructions!$C$33)*100","v":0},{"$f":"(U571/Instructions!$C$32)*100","v":0},{"$f":"(W571/Instructions!$C$36)*100","v":{"$error":"#VALUE!"}},"","E","E","E","E","E","E","E","--",null,null,null,null,null,{"$f":"Table_2[[#This Row],[Column51]]&Table_2[[#This Row],[Column52]]&AW573","v":""}]
[null,null,null,null,null,null,null,null,null,null,null,null,null,null,null,{"$f":"Instructions!B606","v":0},null,{"$f":"Instructions!B600","v":0},{"$f":"Instructions!B601","v":0},{"$f":"Instructions!B602","v":0},null,null,"--",0,{"$f":"Table_2[[#This Row],[Column20]]+Table_2[[#This Row],[Column56]]","v":0},"",{"$f":"Table_2[[#This Row],[Column20]]+Table_2[[#This Row],[Column56]]","v":0},"",{"$f":"Table_2[[#This Row],[Column57]]+Table_2[[#This Row],[Column16]]+Table_2[[#This Row],[Column15]]","v":0},"",{"$f":"(K572/Instructions!$C$23)*100","v":0},{"$f":"(L572/Instructions!$C$24)*100","v":0},{"$f":"(Y572/Instructions!$C$25)*100","v":0},{"$f":"(AA572/Instructions!$C$27)*100","v":0},{"$f":"(AC572/Instructions!$C$29)*100","v":0},{"$f":"(V572/Instructions!$C$33)*100","v":0},{"$f":"(U572/Instructions!$C$32)*100","v":0},{"$f":"(W572/Instructions!$C$36)*100","v":{"$error":"#VALUE!"}},"","E","E","E","E","E","E","E","--",null,null,null,null,null,{"$f":"Table_2[[#This Row],[Column51]]&Table_2[[#This Row],[Column52]]&AW574","v":""}]
[null,null,null,null,null,null,null,null,null,null,null,null,null,null,null,{"$f":"Instructions!B607","v":0},null,{"$f":"Instructions!B601","v":0},{"$f":"Instructions!B602","v":0},{"$f":"Instructions!B603","v":0},null,null,"--",0,{"$f":"Table_2[[#This Row],[Column20]]+Table_2[[#This Row],[Column56]]","v":0},"",{"$f":"Table_2[[#This Row],[Column20]]+Table_2[[#This Row],[Column56]]","v":0},"",{"$f":"Table_2[[#This Row],[Column57]]+Table_2[[#This Row],[Column16]]+Table_2[[#This Row],[Column15]]","v":0},"",{"$f":"(K573/Instructions!$C$23)*100","v":0},{"$f":"(L573/Instructions!$C$24)*100","v":0},{"$f":"(Y573/Instructions!$C$25)*100","v":0},{"$f":"(AA573/Instructions!$C$27)*100","v":0},{"$f":"(AC573/Instructions!$C$29)*100","v":0},{"$f":"(V573/Instructions!$C$33)*100","v":0},{"$f":"(U573/Instructions!$C$32)*100","v":0},{"$f":"(W573/Instructions!$C$36)*100","v":{"$error":"#VALUE!"}},"","E","E","E","E","E","E","E","--",null,null,null,null,null,{"$f":"Table_2[[#This Row],[Column51]]&Table_2[[#This Row],[Column52]]&AW575","v":""}]
[null,null,null,null,null,null,null,null,null,null,null,null,null,null,null,{"$f":"Instructions!B608","v":0},null,{"$f":"Instructions!B602","v":0},{"$f":"Instructions!B603","v":0},{"$f":"Instructions!B604","v":0},null,null,"--",0,{"$f":"Table_2[[#This Row],[Column20]]+Table_2[[#This Row],[Column56]]","v":0},"",{"$f":"Table_2[[#This Row],[Column20]]+Table_2[[#This Row],[Column56]]","v":0},"",{"$f":"Table_2[[#This Row],[Column57]]+Table_2[[#This Row],[Column16]]+Table_2[[#This Row],[Column15]]","v":0},"",{"$f":"(K574/Instructions!$C$23)*100","v":0},{"$f":"(L574/Instructions!$C$24)*100","v":0},{"$f":"(Y574/Instructions!$C$25)*100","v":0},{"$f":"(AA574/Instructions!$C$27)*100","v":0},{"$f":"(AC574/Instructions!$C$29)*100","v":0},{"$f":"(V574/Instructions!$C$33)*100","v":0},{"$f":"(U574/Instructions!$C$32)*100","v":0},{"$f":"(W574/Instructions!$C$36)*100","v":{"$error":"#VALUE!"}},"","E","E","E","E","E","E","E","--",null,null,null,null,null,{"$f":"Table_2[[#This Row],[Column51]]&Table_2[[#This Row],[Column52]]&AW576","v":""}]
[null,null,null,null,null,null,null,null,null,null,null,null,null,null,null,{"$f":"Instructions!B609","v":0},null,{"$f":"Instructions!B603","v":0},{"$f":"Instructions!B604","v":0},{"$f":"Instructions!B605","v":0},null,null,"--",0,{"$f":"Table_2[[#This Row],[Column20]]+Table_2[[#This Row],[Column56]]","v":0},"",{"$f":"Table_2[[#This Row],[Column20]]+Table_2[[#This Row],[Column56]]","v":0},"",{"$f":"Table_2[[#This Row],[Column57]]+Table_2[[#This Row],[Column16]]+Table_2[[#This Row],[Column15]]","v":0},"",{"$f":"(K575/Instructions!$C$23)*100","v":0},{"$f":"(L575/Instructions!$C$24)*100","v":0},{"$f":"(Y575/Instructions!$C$25)*100","v":0},{"$f":"(AA575/Instructions!$C$27)*100","v":0},{"$f":"(AC575/Instructions!$C$29)*100","v":0},{"$f":"(V575/Instructions!$C$33)*100","v":0},{"$f":"(U575/Instructions!$C$32)*100","v":0},{"$f":"(W575/Instructions!$C$36)*100","v":{"$error":"#VALUE!"}},"","E","E","E","E","E","E","E","--",null,null,null,null,null,{"$f":"Table_2[[#This Row],[Column51]]&Table_2[[#This Row],[Column52]]&AW577","v":""}]
[null,null,null,null,null,null,null,null,null,null,null,null,null,null,null,{"$f":"Instructions!B610","v":0},null,{"$f":"Instructions!B604","v":0},{"$f":"Instructions!B605","v":0},{"$f":"Instructions!B606","v":0},null,null,"--",0,{"$f":"Table_2[[#This Row],[Column20]]+Table_2[[#This Row],[Column56]]","v":0},"",{"$f":"Table_2[[#This Row],[Column20]]+Table_2[[#This Row],[Column56]]","v":0},"",{"$f":"Table_2[[#This Row],[Column57]]+Table_2[[#This Row],[Column16]]+Table_2[[#This Row],[Column15]]","v":0},"",{"$f":"(K576/Instructions!$C$23)*100","v":0},{"$f":"(L576/Instructions!$C$24)*100","v":0},{"$f":"(Y576/Instructions!$C$25)*100","v":0},{"$f":"(AA576/Instructions!$C$27)*100","v":0},{"$f":"(AC576/Instructions!$C$29)*100","v":0},{"$f":"(V576/Instructions!$C$33)*100","v":0},{"$f":"(U576/Instructions!$C$32)*100","v":0},{"$f":"(W576/Instructions!$C$36)*100","v":{"$error":"#VALUE!"}},"","E","E","E","E","E","E","E","--",null,null,null,null,null,{"$f":"Table_2[[#This Row],[Column51]]&Table_2[[#This Row],[Column52]]&AW578","v":""}]
[null,null,null,null,null,null,null,null,null,null,null,null,null,null,null,{"$f":"Instructions!B611","v":0},null,{"$f":"Instructions!B605","v":0},{"$f":"Instructions!B606","v":0},{"$f":"Instructions!B607","v":0},null,null,"--",0,{"$f":"Table_2[[#This Row],[Column20]]+Table_2[[#This Row],[Column56]]","v":0},"",{"$f":"Table_2[[#This Row],[Column20]]+Table_2[[#This Row],[Column56]]","v":0},"",{"$f":"Table_2[[#This Row],[Column57]]+Table_2[[#This Row],[Column16]]+Table_2[[#This Row],[Column15]]","v":0},"",{"$f":"(K577/Instructions!$C$23)*100","v":0},{"$f":"(L577/Instructions!$C$24)*100","v":0},{"$f":"(Y577/Instructions!$C$25)*100","v":0},{"$f":"(AA577/Instructions!$C$27)*100","v":0},{"$f":"(AC577/Instructions!$C$29)*100","v":0},{"$f":"(V577/Instructions!$C$33)*100","v":0},{"$f":"(U577/Instructions!$C$32)*100","v":0},{"$f":"(W577/Instructions!$C$36)*100","v":{"$error":"#VALUE!"}},"","E","E","E","E","E","E","E","--",null,null,null,null,null,{"$f":"Table_2[[#This Row],[Column51]]&Table_2[[#This Row],[Column52]]&AW579","v":""}]
[null,null,null,null,null,null,null,null,null,null,null,null,null,null,null,{"$f":"Instructions!B612","v":0},null,{"$f":"Instructions!B606","v":0},{"$f":"Instructions!B607","v":0},{"$f":"Instructions!B608","v":0},null,null,"--",0,{"$f":"Table_2[[#This Row],[Column20]]+Table_2[[#This Row],[Column56]]","v":0},"",{"$f":"Table_2[[#This Row],[Column20]]+Table_2[[#This Row],[Column56]]","v":0},"",{"$f":"Table_2[[#This Row],[Column57]]+Table_2[[#This Row],[Column16]]+Table_2[[#This Row],[Column15]]","v":0},"",{"$f":"(K578/Instructions!$C$23)*100","v":0},{"$f":"(L578/Instructions!$C$24)*100","v":0},{"$f":"(Y578/Instructions!$C$25)*100","v":0},{"$f":"(AA578/Instructions!$C$27)*100","v":0},{"$f":"(AC578/Instructions!$C$29)*100","v":0},{"$f":"(V578/Instructions!$C$33)*100","v":0},{"$f":"(U578/Instructions!$C$32)*100","v":0},{"$f":"(W578/Instructions!$C$36)*100","v":{"$error":"#VALUE!"}},"","E","E","E","E","E","E","E","--",null,null,null,null,null,{"$f":"Table_2[[#This Row],[Column51]]&Table_2[[#This Row],[Column52]]&AW580","v":""}]
[null,null,null,null,null,null,null,null,null,null,null,null,null,null,null,{"$f":"Instructions!B613","v":0},null,{"$f":"Instructions!B607","v":0},{"$f":"Instructions!B608","v":0},{"$f":"Instructions!B609","v":0},null,null,{"$f":"IF(MIN(AE579:AI579)>=33,SUM(K579:T579),\"--\")","v":"--"},{"$f":"IF(W579=\"--\",0,W579)","v":0},{"$f":"Table_2[[#This Row],[Column20]]+Table_2[[#This Row],[Column56]]","v":0},{"$f":"IF(N579>0,$N$1,IF(O579>0,$O$1,\"\"))","v":""},{"$f":"Table_2[[#This Row],[Column20]]+Table_2[[#This Row],[Column56]]","v":0},{"$f":"IFERROR(IF(P579>0,$P$1,IF(Q579>0,$Q$1,\"\")),\"\")","v":""},{"$f":"Table_2[[#This Row],[Column57]]+Table_2[[#This Row],[Column16]]+Table_2[[#This Row],[Column15]]","v":0},{"$f":"IFERROR(IF(R579>0,$R$1,IF(S579>0,$S$1,IF(T579>0,$T$1,\"\"))),\"\")","v":""},{"$f":"(K579/Instructions!$C$23)*100","v":0},{"$f":"(L579/Instructions!$C$24)*100","v":0},{"$f":"(Y579/Instructions!$C$25)*100","v":0},{"$f":"(AA579/Instructions!$C$27)*100","v":0},{"$f":"(AC579/Instructions!$C$29)*100","v":0},{"$f":"(V579/Instructions!$C$33)*100","v":0},{"$f":"(U579/Instructions!$C$32)*100","v":0},{"$f":"(W579/Instructions!$C$36)*100","v":{"$error":"#VALUE!"}},{"$f":"IFERROR(IF(AL579>=33,\"PASS\",\"----\"),\"\")","v":""},{"$f":"IFERROR(IF(AE579>90,\"A+\",IF(AE579>80,\"A\",IF(AE579>70,\"B+\",IF(AE579>60,\"B\",IF(AE579>50,\"C+\",IF(AE579>40,\"C\",IF(AE579>=33,\"D\",\"E\"))))))),\"Abs\")","v":"E"},{"$f":"IFERROR(IF(AF579>90,\"A+\",IF(AF579>80,\"A\",IF(AF579>70,\"B+\",IF(AF579>60,\"B\",IF(AF579>50,\"C+\",IF(AF579>40,\"C\",IF(AF579>=33,\"D\",\"E\"))))))),\"Abs\")","v":"E"},{"$f":"IFERROR(IF(AG579>90,\"A+\",IF(AG579>80,\"A\",IF(AG579>70,\"B+\",IF(AG579>60,\"B\",IF(AG579>50,\"C+\",IF(AG579>40,\"C\",IF(AG579>=33,\"D\",\"E\"))))))),\"Abs\")","v":"E"},{"$f":"IFERROR(IF(AH579>90,\"A+\",IF(AH579>80,\"A\",IF(AH579>70,\"B+\",IF(AH579>60,\"B\",IF(AH579>50,\"C+\",IF(AH579>40,\"C\",IF(AH579>=33,\"D\",\"E\"))))))),\"Abs\")","v":"E"},{"$f":"IFERROR(IF(AI579>90,\"A+\",IF(AI579>80,\"A\",IF(AI579>70,\"B+\",IF(AI579>60,\"B\",IF(AI579>50,\"C+\",IF(AI579>40,\"C\",IF(AI579>=33,\"D\",\"E\"))))))),\"Abs\")","v":"E"},{"$f":"IFERROR(IF(AJ579>90,\"A+\",IF(AJ579>80,\"A\",IF(AJ579>70,\"B+\",IF(AJ579>60,\"B\",IF(AJ579>50,\"C+\",IF(AJ579>40,\"C\",IF(AJ579>=33,\"D\",\"E\"))))))),\"Abs\")","v":"E"},{"$f":"IFERROR(IF(AK579>90,\"A+\",IF(AK579>80,\"A\",IF(AK579>70,\"B+\",IF(AK579>60,\"B\",IF(AK579>50,\"C+\",IF(AK579>40,\"C\",IF(AK579>=33,\"D\",\"E\"))))))),\"Abs\")","v":"E"},{"$f":"IFERROR(IF(AL579>90,\"A+\",IF(AL579>80,\"A\",IF(AL579>70,\"B+\",IF(AL579>60,\"B\",IF(AL579>50,\"C+\",IF(AL579>40,\"C\",IF(AL579>=33,\"D\",\"E\"))))))),\"--\")","v":"--"},null,null,null,null,null,{"$f":"Table_2[[#This Row],[Column51]]&Table_2[[#This Row],[Column52]]&AW581","v":""}]
[null,null,null,null,null,null,null,null,null,null,null,null,null,null,null,{"$f":"Instructions!B614","v":0},null,{"$f":"Instructions!B608","v":0},{"$f":"Instructions!B609","v":0},{"$f":"Instructions!B610","v":0},null,null,"--",0,{"$f":"Table_2[[#This Row],[Column20]]+Table_2[[#This Row],[Column56]]","v":0},"",{"$f":"Table_2[[#This Row],[Column20]]+Table_2[[#This Row],[Column56]]","v":0},"",{"$f":"Table_2[[#This Row],[Column57]]+Table_2[[#This Row],[Column16]]+Table_2[[#This Row],[Column15]]","v":0},"",{"$f":"(K580/Instructions!$C$23)*100","v":0},{"$f":"(L580/Instructions!$C$24)*100","v":0},{"$f":"(Y580/Instructions!$C$25)*100","v":0},{"$f":"(AA580/Instructions!$C$27)*100","v":0},{"$f":"(AC580/Instructions!$C$29)*100","v":0},{"$f":"(V580/Instructions!$C$33)*100","v":0},{"$f":"(U580/Instructions!$C$32)*100","v":0},{"$f":"(W580/Instructions!$C$36)*100","v":{"$error":"#VALUE!"}},"","E","E","E","E","E","E","E","--",null,null,null,null,null,{"$f":"Table_2[[#This Row],[Column51]]&Table_2[[#This Row],[Column52]]&AW582","v":""}]
[null,null,null,null,null,null,null,null,null,null,null,null,null,null,null,{"$f":"Instructions!B615","v":0},null,{"$f":"Instructions!B609","v":0},{"$f":"Instructions!B610","v":0},{"$f":"Instructions!B611","v":0},null,null,"--",0,{"$f":"Table_2[[#This Row],[Column20]]+Table_2[[#This Row],[Column56]]","v":0},"",{"$f":"Table_2[[#This Row],[Column20]]+Table_2[[#This Row],[Column56]]","v":0},"",{"$f":"Table_2[[#This Row],[Column57]]+Table_2[[#This Row],[Column16]]+Table_2[[#This Row],[Column15]]","v":0},"",{"$f":"(K581/Instructions!$C$23)*100","v":0},{"$f":"(L581/Instructions!$C$24)*100","v":0},{"$f":"(Y581/Instructions!$C$25)*100","v":0},{"$f":"(AA581/Instructions!$C$27)*100","v":0},{"$f":"(AC581/Instructions!$C$29)*100","v":0},{"$f":"(V581/Instructions!$C$33)*100","v":0},{"$f":"(U581/Instructions!$C$32)*100","v":0},{"$f":"(W581/Instructions!$C$36)*100","v":{"$error":"#VALUE!"}},"","E","E","E","E","E","E","E","--",null,null,null,null,null,{"$f":"Table_2[[#This Row],[Column51]]&Table_2[[#This Row],[Column52]]&AW583","v":""}]
[null,null,null,null,null,null,null,null,null,null,null,null,null,null,null,{"$f":"Instructions!B616","v":0},null,{"$f":"Instructions!B610","v":0},{"$f":"Instructions!B611","v":0},{"$f":"Instructions!B612","v":0},null,null,"--",0,{"$f":"Table_2[[#This Row],[Column20]]+Table_2[[#This Row],[Column56]]","v":0},"",{"$f":"Table_2[[#This Row],[Column20]]+Table_2[[#This Row],[Column56]]","v":0},"",{"$f":"Table_2[[#This Row],[Column57]]+Table_2[[#This Row],[Column16]]+Table_2[[#This Row],[Column15]]","v":0},"",{"$f":"(K582/Instructions!$C$23)*100","v":0},{"$f":"(L582/Instructions!$C$24)*100","v":0},{"$f":"(Y582/Instructions!$C$25)*100","v":0},{"$f":"(AA582/Instructions!$C$27)*100","v":0},{"$f":"(AC582/Instructions!$C$29)*100","v":0},{"$f":"(V582/Instructions!$C$33)*100","v":0},{"$f":"(U582/Instructions!$C$32)*100","v":0},{"$f":"(W582/Instructions!$C$36)*100","v":{"$error":"#VALUE!"}},"","E","E","E","E","E","E","E","--",null,null,null,null,null,{"$f":"Table_2[[#This Row],[Column51]]&Table_2[[#This Row],[Column52]]&AW584","v":""}]
[null,null,null,null,null,null,null,null,null,null,null,null,null,null,null,{"$f":"Instructions!B617","v":0},null,{"$f":"Instructions!B611","v":0},{"$f":"Instructions!B612","v":0},{"$f":"Instructions!B613","v":0},null,null,"--",0,{"$f":"Table_2[[#This Row],[Column20]]+Table_2[[#This Row],[Column56]]","v":0},"",{"$f":"Table_2[[#This Row],[Column20]]+Table_2[[#This Row],[Column56]]","v":0},"",{"$f":"Table_2[[#This Row],[Column57]]+Table_2[[#This Row],[Column16]]+Table_2[[#This Row],[Column15]]","v":0},"",{"$f":"(K583/Instructions!$C$23)*100","v":0},{"$f":"(L583/Instructions!$C$24)*100","v":0},{"$f":"(Y583/Instructions!$C$25)*100","v":0},{"$f":"(AA583/Instructions!$C$27)*100","v":0},{"$f":"(AC583/Instructions!$C$29)*100","v":0},{"$f":"(V583/Instructions!$C$33)*100","v":0},{"$f":"(U583/Instructions!$C$32)*100","v":0},{"$f":"(W583/Instructions!$C$36)*100","v":{"$error":"#VALUE!"}},"","E","E","E","E","E","E","E","--",null,null,null,null,null,{"$f":"Table_2[[#This Row],[Column51]]&Table_2[[#This Row],[Column52]]&AW585","v":""}]
[null,null,null,null,null,null,null,null,null,null,null,null,null,null,null,{"$f":"Instructions!B618","v":0},null,{"$f":"Instructions!B612","v":0},{"$f":"Instructions!B613","v":0},{"$f":"Instructions!B614","v":0},null,null,"--",0,{"$f":"Table_2[[#This Row],[Column20]]+Table_2[[#This Row],[Column56]]","v":0},"",{"$f":"Table_2[[#This Row],[Column20]]+Table_2[[#This Row],[Column56]]","v":0},"",{"$f":"Table_2[[#This Row],[Column57]]+Table_2[[#This Row],[Column16]]+Table_2[[#This Row],[Column15]]","v":0},"",{"$f":"(K584/Instructions!$C$23)*100","v":0},{"$f":"(L584/Instructions!$C$24)*100","v":0},{"$f":"(Y584/Instructions!$C$25)*100","v":0},{"$f":"(AA584/Instructions!$C$27)*100","v":0},{"$f":"(AC584/Instructions!$C$29)*100","v":0},{"$f":"(V584/Instructions!$C$33)*100","v":0},{"$f":"(U584/Instructions!$C$32)*100","v":0},{"$f":"(W584/Instructions!$C$36)*100","v":{"$error":"#VALUE!"}},"","E","E","E","E","E","E","E","--",null,null,null,null,null,{"$f":"Table_2[[#This Row],[Column51]]&Table_2[[#This Row],[Column52]]&AW586","v":""}]
[null,null,null,null,null,null,null,null,null,null,null,null,null,null,null,{"$f":"Instructions!B619","v":0},null,{"$f":"Instructions!B613","v":0},{"$f":"Instructions!B614","v":0},{"$f":"Instructions!B615","v":0},null,null,"--",0,{"$f":"Table_2[[#This Row],[Column20]]+Table_2[[#This Row],[Column56]]","v":0},"",{"$f":"Table_2[[#This Row],[Column20]]+Table_2[[#This Row],[Column56]]","v":0},"",{"$f":"Table_2[[#This Row],[Column57]]+Table_2[[#This Row],[Column16]]+Table_2[[#This Row],[Column15]]","v":0},"",{"$f":"(K585/Instructions!$C$23)*100","v":0},{"$f":"(L585/Instructions!$C$24)*100","v":0},{"$f":"(Y585/Instructions!$C$25)*100","v":0},{"$f":"(AA585/Instructions!$C$27)*100","v":0},{"$f":"(AC585/Instructions!$C$29)*100","v":0},{"$f":"(V585/Instructions!$C$33)*100","v":0},{"$f":"(U585/Instructions!$C$32)*100","v":0},{"$f":"(W585/Instructions!$C$36)*100","v":{"$error":"#VALUE!"}},"","E","E","E","E","E","E","E","--",null,null,null,null,null,{"$f":"Table_2[[#This Row],[Column51]]&Table_2[[#This Row],[Column52]]&AW587","v":""}]
[null,null,null,null,null,null,null,null,null,null,null,null,null,null,null,{"$f":"Instructions!B620","v":0},null,{"$f":"Instructions!B614","v":0},{"$f":"Instructions!B615","v":0},{"$f":"Instructions!B616","v":0},null,null,"--",0,{"$f":"Table_2[[#This Row],[Column20]]+Table_2[[#This Row],[Column56]]","v":0},"",{"$f":"Table_2[[#This Row],[Column20]]+Table_2[[#This Row],[Column56]]","v":0},"",{"$f":"Table_2[[#This Row],[Column57]]+Table_2[[#This Row],[Column16]]+Table_2[[#This Row],[Column15]]","v":0},"",{"$f":"(K586/Instructions!$C$23)*100","v":0},{"$f":"(L586/Instructions!$C$24)*100","v":0},{"$f":"(Y586/Instructions!$C$25)*100","v":0},{"$f":"(AA586/Instructions!$C$27)*100","v":0},{"$f":"(AC586/Instructions!$C$29)*100","v":0},{"$f":"(V586/Instructions!$C$33)*100","v":0},{"$f":"(U586/Instructions!$C$32)*100","v":0},{"$f":"(W586/Instructions!$C$36)*100","v":{"$error":"#VALUE!"}},"","E","E","E","E","E","E","E","--",null,null,null,null,null,{"$f":"Table_2[[#This Row],[Column51]]&Table_2[[#This Row],[Column52]]&AW588","v":""}]
[null,null,null,null,null,null,null,null,null,null,null,null,null,null,null,{"$f":"Instructions!B621","v":0},null,{"$f":"Instructions!B615","v":0},{"$f":"Instructions!B616","v":0},{"$f":"Instructions!B617","v":0},null,null,"--",0,{"$f":"Table_2[[#This Row],[Column20]]+Table_2[[#This Row],[Column56]]","v":0},"",{"$f":"Table_2[[#This Row],[Column20]]+Table_2[[#This Row],[Column56]]","v":0},"",{"$f":"Table_2[[#This Row],[Column57]]+Table_2[[#This Row],[Column16]]+Table_2[[#This Row],[Column15]]","v":0},"",{"$f":"(K587/Instructions!$C$23)*100","v":0},{"$f":"(L587/Instructions!$C$24)*100","v":0},{"$f":"(Y587/Instructions!$C$25)*100","v":0},{"$f":"(AA587/Instructions!$C$27)*100","v":0},{"$f":"(AC587/Instructions!$C$29)*100","v":0},{"$f":"(V587/Instructions!$C$33)*100","v":0},{"$f":"(U587/Instructions!$C$32)*100","v":0},{"$f":"(W587/Instructions!$C$36)*100","v":{"$error":"#VALUE!"}},"","E","E","E","E","E","E","E","--",null,null,null,null,null,{"$f":"Table_2[[#This Row],[Column51]]&Table_2[[#This Row],[Column52]]&AW589","v":""}]
[null,null,null,null,null,null,null,null,null,null,null,null,null,null,null,{"$f":"Instructions!B622","v":0},null,{"$f":"Instructions!B616","v":0},{"$f":"Instructions!B617","v":0},{"$f":"Instructions!B618","v":0},null,null,"--",0,{"$f":"Table_2[[#This Row],[Column20]]+Table_2[[#This Row],[Column56]]","v":0},"",{"$f":"Table_2[[#This Row],[Column20]]+Table_2[[#This Row],[Column56]]","v":0},"",{"$f":"Table_2[[#This Row],[Column57]]+Table_2[[#This Row],[Column16]]+Table_2[[#This Row],[Column15]]","v":0},"",{"$f":"(K588/Instructions!$C$23)*100","v":0},{"$f":"(L588/Instructions!$C$24)*100","v":0},{"$f":"(Y588/Instructions!$C$25)*100","v":0},{"$f":"(AA588/Instructions!$C$27)*100","v":0},{"$f":"(AC588/Instructions!$C$29)*100","v":0},{"$f":"(V588/Instructions!$C$33)*100","v":0},{"$f":"(U588/Instructions!$C$32)*100","v":0},{"$f":"(W588/Instructions!$C$36)*100","v":{"$error":"#VALUE!"}},"","E","E","E","E","E","E","E","--",null,null,null,null,null,{"$f":"Table_2[[#This Row],[Column51]]&Table_2[[#This Row],[Column52]]&AW590","v":""}]
[null,null,null,null,null,null,null,null,null,null,null,null,null,null,null,{"$f":"Instructions!B623","v":0},null,{"$f":"Instructions!B617","v":0},{"$f":"Instructions!B618","v":0},{"$f":"Instructions!B619","v":0},null,null,"--",0,{"$f":"Table_2[[#This Row],[Column20]]+Table_2[[#This Row],[Column56]]","v":0},"",{"$f":"Table_2[[#This Row],[Column20]]+Table_2[[#This Row],[Column56]]","v":0},"",{"$f":"Table_2[[#This Row],[Column57]]+Table_2[[#This Row],[Column16]]+Table_2[[#This Row],[Column15]]","v":0},"",{"$f":"(K589/Instructions!$C$23)*100","v":0},{"$f":"(L589/Instructions!$C$24)*100","v":0},{"$f":"(Y589/Instructions!$C$25)*100","v":0},{"$f":"(AA589/Instructions!$C$27)*100","v":0},{"$f":"(AC589/Instructions!$C$29)*100","v":0},{"$f":"(V589/Instructions!$C$33)*100","v":0},{"$f":"(U589/Instructions!$C$32)*100","v":0},{"$f":"(W589/Instructions!$C$36)*100","v":{"$error":"#VALUE!"}},"","E","E","E","E","E","E","E","--",null,null,null,null,null,{"$f":"Table_2[[#This Row],[Column51]]&Table_2[[#This Row],[Column52]]&AW591","v":""}]
[null,null,null,null,null,null,null,null,null,null,null,null,null,null,null,{"$f":"Instructions!B624","v":0},null,{"$f":"Instructions!B618","v":0},{"$f":"Instructions!B619","v":0},{"$f":"Instructions!B620","v":0},null,null,"--",0,{"$f":"Table_2[[#This Row],[Column20]]+Table_2[[#This Row],[Column56]]","v":0},"",{"$f":"Table_2[[#This Row],[Column20]]+Table_2[[#This Row],[Column56]]","v":0},"",{"$f":"Table_2[[#This Row],[Column57]]+Table_2[[#This Row],[Column16]]+Table_2[[#This Row],[Column15]]","v":0},"",{"$f":"(K590/Instructions!$C$23)*100","v":0},{"$f":"(L590/Instructions!$C$24)*100","v":0},{"$f":"(Y590/Instructions!$C$25)*100","v":0},{"$f":"(AA590/Instructions!$C$27)*100","v":0},{"$f":"(AC590/Instructions!$C$29)*100","v":0},{"$f":"(V590/Instructions!$C$33)*100","v":0},{"$f":"(U590/Instructions!$C$32)*100","v":0},{"$f":"(W590/Instructions!$C$36)*100","v":{"$error":"#VALUE!"}},"","E","E","E","E","E","E","E","--",null,null,null,null,null,{"$f":"Table_2[[#This Row],[Column51]]&Table_2[[#This Row],[Column52]]&AW592","v":""}]
[null,null,null,null,null,null,null,null,null,null,null,null,null,null,null,{"$f":"Instructions!B625","v":0},null,{"$f":"Instructions!B619","v":0},{"$f":"Instructions!B620","v":0},{"$f":"Instructions!B621","v":0},null,null,"--",0,{"$f":"Table_2[[#This Row],[Column20]]+Table_2[[#This Row],[Column56]]","v":0},"",{"$f":"Table_2[[#This Row],[Column20]]+Table_2[[#This Row],[Column56]]","v":0},"",{"$f":"Table_2[[#This Row],[Column57]]+Table_2[[#This Row],[Column16]]+Table_2[[#This Row],[Column15]]","v":0},"",{"$f":"(K591/Instructions!$C$23)*100","v":0},{"$f":"(L591/Instructions!$C$24)*100","v":0},{"$f":"(Y591/Instructions!$C$25)*100","v":0},{"$f":"(AA591/Instructions!$C$27)*100","v":0},{"$f":"(AC591/Instructions!$C$29)*100","v":0},{"$f":"(V591/Instructions!$C$33)*100","v":0},{"$f":"(U591/Instructions!$C$32)*100","v":0},{"$f":"(W591/Instructions!$C$36)*100","v":{"$error":"#VALUE!"}},"","E","E","E","E","E","E","E","--",null,null,null,null,null,{"$f":"Table_2[[#This Row],[Column51]]&Table_2[[#This Row],[Column52]]&AW593","v":""}]
[null,null,null,null,null,null,null,null,null,null,null,null,null,null,null,{"$f":"Instructions!B626","v":0},null,{"$f":"Instructions!B620","v":0},{"$f":"Instructions!B621","v":0},{"$f":"Instructions!B622","v":0},null,null,"--",0,{"$f":"Table_2[[#This Row],[Column20]]+Table_2[[#This Row],[Column56]]","v":0},"",{"$f":"Table_2[[#This Row],[Column20]]+Table_2[[#This Row],[Column56]]","v":0},"",{"$f":"Table_2[[#This Row],[Column57]]+Table_2[[#This Row],[Column16]]+Table_2[[#This Row],[Column15]]","v":0},"",{"$f":"(K592/Instructions!$C$23)*100","v":0},{"$f":"(L592/Instructions!$C$24)*100","v":0},{"$f":"(Y592/Instructions!$C$25)*100","v":0},{"$f":"(AA592/Instructions!$C$27)*100","v":0},{"$f":"(AC592/Instructions!$C$29)*100","v":0},{"$f":"(V592/Instructions!$C$33)*100","v":0},{"$f":"(U592/Instructions!$C$32)*100","v":0},{"$f":"(W592/Instructions!$C$36)*100","v":{"$error":"#VALUE!"}},"","E","E","E","E","E","E","E","--",null,null,null,null,null,{"$f":"Table_2[[#This Row],[Column51]]&Table_2[[#This Row],[Column52]]&AW594","v":""}]
[null,null,null,null,null,null,null,null,null,null,null,null,null,null,null,{"$f":"Instructions!B627","v":0},null,{"$f":"Instructions!B621","v":0},{"$f":"Instructions!B622","v":0},{"$f":"Instructions!B623","v":0},null,null,"--",0,{"$f":"Table_2[[#This Row],[Column20]]+Table_2[[#This Row],[Column56]]","v":0},"",{"$f":"Table_2[[#This Row],[Column20]]+Table_2[[#This Row],[Column56]]","v":0},"",{"$f":"Table_2[[#This Row],[Column57]]+Table_2[[#This Row],[Column16]]+Table_2[[#This Row],[Column15]]","v":0},"",{"$f":"(K593/Instructions!$C$23)*100","v":0},{"$f":"(L593/Instructions!$C$24)*100","v":0},{"$f":"(Y593/Instructions!$C$25)*100","v":0},{"$f":"(AA593/Instructions!$C$27)*100","v":0},{"$f":"(AC593/Instructions!$C$29)*100","v":0},{"$f":"(V593/Instructions!$C$33)*100","v":0},{"$f":"(U593/Instructions!$C$32)*100","v":0},{"$f":"(W593/Instructions!$C$36)*100","v":{"$error":"#VALUE!"}},"","E","E","E","E","E","E","E","--",null,null,null,null,null,{"$f":"Table_2[[#This Row],[Column51]]&Table_2[[#This Row],[Column52]]&AW595","v":""}]
[null,null,null,null,null,null,null,null,null,null,null,null,null,null,null,{"$f":"Instructions!B628","v":0},null,{"$f":"Instructions!B622","v":0},{"$f":"Instructions!B623","v":0},{"$f":"Instructions!B624","v":0},null,null,"--",0,{"$f":"Table_2[[#This Row],[Column20]]+Table_2[[#This Row],[Column56]]","v":0},"",{"$f":"Table_2[[#This Row],[Column20]]+Table_2[[#This Row],[Column56]]","v":0},"",{"$f":"Table_2[[#This Row],[Column57]]+Table_2[[#This Row],[Column16]]+Table_2[[#This Row],[Column15]]","v":0},"",{"$f":"(K594/Instructions!$C$23)*100","v":0},{"$f":"(L594/Instructions!$C$24)*100","v":0},{"$f":"(Y594/Instructions!$C$25)*100","v":0},{"$f":"(AA594/Instructions!$C$27)*100","v":0},{"$f":"(AC594/Instructions!$C$29)*100","v":0},{"$f":"(V594/Instructions!$C$33)*100","v":0},{"$f":"(U594/Instructions!$C$32)*100","v":0},{"$f":"(W594/Instructions!$C$36)*100","v":{"$error":"#VALUE!"}},"","E","E","E","E","E","E","E","--",null,null,null,null,null,{"$f":"Table_2[[#This Row],[Column51]]&Table_2[[#This Row],[Column52]]&AW596","v":""}]
[null,null,null,null,null,null,null,null,null,null,null,null,null,null,null,{"$f":"Instructions!B629","v":0},null,{"$f":"Instructions!B623","v":0},{"$f":"Instructions!B624","v":0},{"$f":"Instructions!B625","v":0},null,null,"--",0,{"$f":"Table_2[[#This Row],[Column20]]+Table_2[[#This Row],[Column56]]","v":0},"",{"$f":"Table_2[[#This Row],[Column20]]+Table_2[[#This Row],[Column56]]","v":0},"",{"$f":"Table_2[[#This Row],[Column57]]+Table_2[[#This Row],[Column16]]+Table_2[[#This Row],[Column15]]","v":0},"",{"$f":"(K595/Instructions!$C$23)*100","v":0},{"$f":"(L595/Instructions!$C$24)*100","v":0},{"$f":"(Y595/Instructions!$C$25)*100","v":0},{"$f":"(AA595/Instructions!$C$27)*100","v":0},{"$f":"(AC595/Instructions!$C$29)*100","v":0},{"$f":"(V595/Instructions!$C$33)*100","v":0},{"$f":"(U595/Instructions!$C$32)*100","v":0},{"$f":"(W595/Instructions!$C$36)*100","v":{"$error":"#VALUE!"}},"","E","E","E","E","E","E","E","--",null,null,null,null,null,{"$f":"Table_2[[#This Row],[Column51]]&Table_2[[#This Row],[Column52]]&AW597","v":""}]
[null,null,null,null,null,null,null,null,null,null,null,null,null,null,null,{"$f":"Instructions!B630","v":0},null,{"$f":"Instructions!B624","v":0},{"$f":"Instructions!B625","v":0},{"$f":"Instructions!B626","v":0},null,null,"--",0,{"$f":"Table_2[[#This Row],[Column20]]+Table_2[[#This Row],[Column56]]","v":0},"",{"$f":"Table_2[[#This Row],[Column20]]+Table_2[[#This Row],[Column56]]","v":0},"",{"$f":"Table_2[[#This Row],[Column57]]+Table_2[[#This Row],[Column16]]+Table_2[[#This Row],[Column15]]","v":0},"",{"$f":"(K596/Instructions!$C$23)*100","v":0},{"$f":"(L596/Instructions!$C$24)*100","v":0},{"$f":"(Y596/Instructions!$C$25)*100","v":0},{"$f":"(AA596/Instructions!$C$27)*100","v":0},{"$f":"(AC596/Instructions!$C$29)*100","v":0},{"$f":"(V596/Instructions!$C$33)*100","v":0},{"$f":"(U596/Instructions!$C$32)*100","v":0},{"$f":"(W596/Instructions!$C$36)*100","v":{"$error":"#VALUE!"}},"","E","E","E","E","E","E","E","--",null,null,null,null,null,{"$f":"Table_2[[#This Row],[Column51]]&Table_2[[#This Row],[Column52]]&AW598","v":""}]
[null,null,null,null,null,null,null,null,null,null,null,null,null,null,null,{"$f":"Instructions!B631","v":0},null,{"$f":"Instructions!B625","v":0},{"$f":"Instructions!B626","v":0},{"$f":"Instructions!B627","v":0},null,null,"--",0,{"$f":"Table_2[[#This Row],[Column20]]+Table_2[[#This Row],[Column56]]","v":0},"",{"$f":"Table_2[[#This Row],[Column20]]+Table_2[[#This Row],[Column56]]","v":0},"",{"$f":"Table_2[[#This Row],[Column57]]+Table_2[[#This Row],[Column16]]+Table_2[[#This Row],[Column15]]","v":0},"",{"$f":"(K597/Instructions!$C$23)*100","v":0},{"$f":"(L597/Instructions!$C$24)*100","v":0},{"$f":"(Y597/Instructions!$C$25)*100","v":0},{"$f":"(AA597/Instructions!$C$27)*100","v":0},{"$f":"(AC597/Instructions!$C$29)*100","v":0},{"$f":"(V597/Instructions!$C$33)*100","v":0},{"$f":"(U597/Instructions!$C$32)*100","v":0},{"$f":"(W597/Instructions!$C$36)*100","v":{"$error":"#VALUE!"}},"","E","E","E","E","E","E","E","--",null,null,null,null,null,{"$f":"Table_2[[#This Row],[Column51]]&Table_2[[#This Row],[Column52]]&AW599","v":""}]
[null,null,null,null,null,null,null,null,null,null,null,null,null,null,null,{"$f":"Instructions!B632","v":0},null,{"$f":"Instructions!B626","v":0},{"$f":"Instructions!B627","v":0},{"$f":"Instructions!B628","v":0},null,null,"--",0,{"$f":"Table_2[[#This Row],[Column20]]+Table_2[[#This Row],[Column56]]","v":0},"",{"$f":"Table_2[[#This Row],[Column20]]+Table_2[[#This Row],[Column56]]","v":0},"",{"$f":"Table_2[[#This Row],[Column57]]+Table_2[[#This Row],[Column16]]+Table_2[[#This Row],[Column15]]","v":0},"",{"$f":"(K598/Instructions!$C$23)*100","v":0},{"$f":"(L598/Instructions!$C$24)*100","v":0},{"$f":"(Y598/Instructions!$C$25)*100","v":0},{"$f":"(AA598/Instructions!$C$27)*100","v":0},{"$f":"(AC598/Instructions!$C$29)*100","v":0},{"$f":"(V598/Instructions!$C$33)*100","v":0},{"$f":"(U598/Instructions!$C$32)*100","v":0},{"$f":"(W598/Instructions!$C$36)*100","v":{"$error":"#VALUE!"}},"","E","E","E","E","E","E","E","--",null,null,null,null,null,{"$f":"Table_2[[#This Row],[Column51]]&Table_2[[#This Row],[Column52]]&AW600","v":""}]
[null,null,null,null,null,null,null,null,null,null,null,null,null,null,null,{"$f":"Instructions!B633","v":0},null,{"$f":"Instructions!B627","v":0},{"$f":"Instructions!B628","v":0},{"$f":"Instructions!B629","v":0},null,null,"--",0,{"$f":"Table_2[[#This Row],[Column20]]+Table_2[[#This Row],[Column56]]","v":0},"",{"$f":"Table_2[[#This Row],[Column20]]+Table_2[[#This Row],[Column56]]","v":0},"",{"$f":"Table_2[[#This Row],[Column57]]+Table_2[[#This Row],[Column16]]+Table_2[[#This Row],[Column15]]","v":0},"",{"$f":"(K599/Instructions!$C$23)*100","v":0},{"$f":"(L599/Instructions!$C$24)*100","v":0},{"$f":"(Y599/Instructions!$C$25)*100","v":0},{"$f":"(AA599/Instructions!$C$27)*100","v":0},{"$f":"(AC599/Instructions!$C$29)*100","v":0},{"$f":"(V599/Instructions!$C$33)*100","v":0},{"$f":"(U599/Instructions!$C$32)*100","v":0},{"$f":"(W599/Instructions!$C$36)*100","v":{"$error":"#VALUE!"}},"","E","E","E","E","E","E","E","--",null,null,null,null,null,{"$f":"Table_2[[#This Row],[Column51]]&Table_2[[#This Row],[Column52]]&AW601","v":""}]
[null,null,null,null,null,null,null,null,null,null,null,null,null,null,null,{"$f":"Instructions!B634","v":0},null,{"$f":"Instructions!B628","v":0},{"$f":"Instructions!B629","v":0},{"$f":"Instructions!B630","v":0},null,null,"--",0,{"$f":"Table_2[[#This Row],[Column20]]+Table_2[[#This Row],[Column56]]","v":0},"",{"$f":"Table_2[[#This Row],[Column20]]+Table_2[[#This Row],[Column56]]","v":0},"",{"$f":"Table_2[[#This Row],[Column57]]+Table_2[[#This Row],[Column16]]+Table_2[[#This Row],[Column15]]","v":0},"",{"$f":"(K600/Instructions!$C$23)*100","v":0},{"$f":"(L600/Instructions!$C$24)*100","v":0},{"$f":"(Y600/Instructions!$C$25)*100","v":0},{"$f":"(AA600/Instructions!$C$27)*100","v":0},{"$f":"(AC600/Instructions!$C$29)*100","v":0},{"$f":"(V600/Instructions!$C$33)*100","v":0},{"$f":"(U600/Instructions!$C$32)*100","v":0},{"$f":"(W600/Instructions!$C$36)*100","v":{"$error":"#VALUE!"}},"","E","E","E","E","E","E","E","--",null,null,null,null,null,{"$f":"Table_2[[#This Row],[Column51]]&Table_2[[#This Row],[Column52]]&AW602","v":""}]
[null,null,null,null,null,null,null,null,null,null,null,null,null,null,null,{"$f":"Instructions!B635","v":0},null,{"$f":"Instructions!B629","v":0},{"$f":"Instructions!B630","v":0},{"$f":"Instructions!B631","v":0},null,null,"--",0,{"$f":"Table_2[[#This Row],[Column20]]+Table_2[[#This Row],[Column56]]","v":0},"",{"$f":"Table_2[[#This Row],[Column20]]+Table_2[[#This Row],[Column56]]","v":0},"",{"$f":"Table_2[[#This Row],[Column57]]+Table_2[[#This Row],[Column16]]+Table_2[[#This Row],[Column15]]","v":0},"",{"$f":"(K601/Instructions!$C$23)*100","v":0},{"$f":"(L601/Instructions!$C$24)*100","v":0},{"$f":"(Y601/Instructions!$C$25)*100","v":0},{"$f":"(AA601/Instructions!$C$27)*100","v":0},{"$f":"(AC601/Instructions!$C$29)*100","v":0},{"$f":"(V601/Instructions!$C$33)*100","v":0},{"$f":"(U601/Instructions!$C$32)*100","v":0},{"$f":"(W601/Instructions!$C$36)*100","v":{"$error":"#VALUE!"}},"","E","E","E","E","E","E","E","--",null,null,null,null,null,{"$f":"Table_2[[#This Row],[Column51]]&Table_2[[#This Row],[Column52]]&AW603","v":""}]
[null,null,null,null,null,null,null,null,null,null,null,null,null,null,null,{"$f":"Instructions!B636","v":0},null,{"$f":"Instructions!B630","v":0},{"$f":"Instructions!B631","v":0},{"$f":"Instructions!B632","v":0},null,null,"--",0,{"$f":"Table_2[[#This Row],[Column20]]+Table_2[[#This Row],[Column56]]","v":0},"",{"$f":"Table_2[[#This Row],[Column20]]+Table_2[[#This Row],[Column56]]","v":0},"",{"$f":"Table_2[[#This Row],[Column57]]+Table_2[[#This Row],[Column16]]+Table_2[[#This Row],[Column15]]","v":0},"",{"$f":"(K602/Instructions!$C$23)*100","v":0},{"$f":"(L602/Instructions!$C$24)*100","v":0},{"$f":"(Y602/Instructions!$C$25)*100","v":0},{"$f":"(AA602/Instructions!$C$27)*100","v":0},{"$f":"(AC602/Instructions!$C$29)*100","v":0},{"$f":"(V602/Instructions!$C$33)*100","v":0},{"$f":"(U602/Instructions!$C$32)*100","v":0},{"$f":"(W602/Instructions!$C$36)*100","v":{"$error":"#VALUE!"}},"","E","E","E","E","E","E","E","--",null,null,null,null,null,{"$f":"Table_2[[#This Row],[Column51]]&Table_2[[#This Row],[Column52]]&AW604","v":""}]
[null,null,null,null,null,null,null,null,null,null,null,null,null,null,null,{"$f":"Instructions!B637","v":0},null,{"$f":"Instructions!B631","v":0},{"$f":"Instructions!B632","v":0},{"$f":"Instructions!B633","v":0},null,null,"--",0,{"$f":"Table_2[[#This Row],[Column20]]+Table_2[[#This Row],[Column56]]","v":0},"",{"$f":"Table_2[[#This Row],[Column20]]+Table_2[[#This Row],[Column56]]","v":0},"",{"$f":"Table_2[[#This Row],[Column57]]+Table_2[[#This Row],[Column16]]+Table_2[[#This Row],[Column15]]","v":0},"",{"$f":"(K603/Instructions!$C$23)*100","v":0},{"$f":"(L603/Instructions!$C$24)*100","v":0},{"$f":"(Y603/Instructions!$C$25)*100","v":0},{"$f":"(AA603/Instructions!$C$27)*100","v":0},{"$f":"(AC603/Instructions!$C$29)*100","v":0},{"$f":"(V603/Instructions!$C$33)*100","v":0},{"$f":"(U603/Instructions!$C$32)*100","v":0},{"$f":"(W603/Instructions!$C$36)*100","v":{"$error":"#VALUE!"}},"","E","E","E","E","E","E","E","--",null,null,null,null,null,{"$f":"Table_2[[#This Row],[Column51]]&Table_2[[#This Row],[Column52]]&AW605","v":""}]
[null,null,null,null,null,null,null,null,null,null,null,null,null,null,null,{"$f":"Instructions!B638","v":0},null,{"$f":"Instructions!B632","v":0},{"$f":"Instructions!B633","v":0},{"$f":"Instructions!B634","v":0},null,null,"--",0,{"$f":"Table_2[[#This Row],[Column20]]+Table_2[[#This Row],[Column56]]","v":0},"",{"$f":"Table_2[[#This Row],[Column20]]+Table_2[[#This Row],[Column56]]","v":0},"",{"$f":"Table_2[[#This Row],[Column57]]+Table_2[[#This Row],[Column16]]+Table_2[[#This Row],[Column15]]","v":0},"",{"$f":"(K604/Instructions!$C$23)*100","v":0},{"$f":"(L604/Instructions!$C$24)*100","v":0},{"$f":"(Y604/Instructions!$C$25)*100","v":0},{"$f":"(AA604/Instructions!$C$27)*100","v":0},{"$f":"(AC604/Instructions!$C$29)*100","v":0},{"$f":"(V604/Instructions!$C$33)*100","v":0},{"$f":"(U604/Instructions!$C$32)*100","v":0},{"$f":"(W604/Instructions!$C$36)*100","v":{"$error":"#VALUE!"}},"","E","E","E","E","E","E","E","--",null,null,null,null,null,{"$f":"Table_2[[#This Row],[Column51]]&Table_2[[#This Row],[Column52]]&AW606","v":""}]
[null,null,null,null,null,null,null,null,null,null,null,null,null,null,null,{"$f":"Instructions!B639","v":0},null,{"$f":"Instructions!B633","v":0},{"$f":"Instructions!B634","v":0},{"$f":"Instructions!B635","v":0},null,null,"--",0,{"$f":"Table_2[[#This Row],[Column20]]+Table_2[[#This Row],[Column56]]","v":0},"",{"$f":"Table_2[[#This Row],[Column20]]+Table_2[[#This Row],[Column56]]","v":0},"",{"$f":"Table_2[[#This Row],[Column57]]+Table_2[[#This Row],[Column16]]+Table_2[[#This Row],[Column15]]","v":0},"",{"$f":"(K605/Instructions!$C$23)*100","v":0},{"$f":"(L605/Instructions!$C$24)*100","v":0},{"$f":"(Y605/Instructions!$C$25)*100","v":0},{"$f":"(AA605/Instructions!$C$27)*100","v":0},{"$f":"(AC605/Instructions!$C$29)*100","v":0},{"$f":"(V605/Instructions!$C$33)*100","v":0},{"$f":"(U605/Instructions!$C$32)*100","v":0},{"$f":"(W605/Instructions!$C$36)*100","v":{"$error":"#VALUE!"}},"","E","E","E","E","E","E","E","--",null,null,null,null,null,{"$f":"Table_2[[#This Row],[Column51]]&Table_2[[#This Row],[Column52]]&AW607","v":""}]
[null,null,null,null,null,null,null,null,null,null,null,null,null,null,null,{"$f":"Instructions!B640","v":0},null,{"$f":"Instructions!B634","v":0},{"$f":"Instructions!B635","v":0},{"$f":"Instructions!B636","v":0},null,null,"--",0,{"$f":"Table_2[[#This Row],[Column20]]+Table_2[[#This Row],[Column56]]","v":0},"",{"$f":"Table_2[[#This Row],[Column20]]+Table_2[[#This Row],[Column56]]","v":0},"",{"$f":"Table_2[[#This Row],[Column57]]+Table_2[[#This Row],[Column16]]+Table_2[[#This Row],[Column15]]","v":0},"",{"$f":"(K606/Instructions!$C$23)*100","v":0},{"$f":"(L606/Instructions!$C$24)*100","v":0},{"$f":"(Y606/Instructions!$C$25)*100","v":0},{"$f":"(AA606/Instructions!$C$27)*100","v":0},{"$f":"(AC606/Instructions!$C$29)*100","v":0},{"$f":"(V606/Instructions!$C$33)*100","v":0},{"$f":"(U606/Instructions!$C$32)*100","v":0},{"$f":"(W606/Instructions!$C$36)*100","v":{"$error":"#VALUE!"}},"","E","E","E","E","E","E","E","--",null,null,null,null,null,{"$f":"Table_2[[#This Row],[Column51]]&Table_2[[#This Row],[Column52]]&AW608","v":""}]
[null,null,null,null,null,null,null,null,null,null,null,null,null,null,null,{"$f":"Instructions!B641","v":0},null,{"$f":"Instructions!B635","v":0},{"$f":"Instructions!B636","v":0},{"$f":"Instructions!B637","v":0},null,null,"--",0,{"$f":"Table_2[[#This Row],[Column20]]+Table_2[[#This Row],[Column56]]","v":0},"",{"$f":"Table_2[[#This Row],[Column20]]+Table_2[[#This Row],[Column56]]","v":0},"",{"$f":"Table_2[[#This Row],[Column57]]+Table_2[[#This Row],[Column16]]+Table_2[[#This Row],[Column15]]","v":0},"",{"$f":"(K607/Instructions!$C$23)*100","v":0},{"$f":"(L607/Instructions!$C$24)*100","v":0},{"$f":"(Y607/Instructions!$C$25)*100","v":0},{"$f":"(AA607/Instructions!$C$27)*100","v":0},{"$f":"(AC607/Instructions!$C$29)*100","v":0},{"$f":"(V607/Instructions!$C$33)*100","v":0},{"$f":"(U607/Instructions!$C$32)*100","v":0},{"$f":"(W607/Instructions!$C$36)*100","v":{"$error":"#VALUE!"}},"","E","E","E","E","E","E","E","--",null,null,null,null,null,{"$f":"Table_2[[#This Row],[Column51]]&Table_2[[#This Row],[Column52]]&AW609","v":""}]
[null,null,null,null,null,null,null,null,null,null,null,null,null,null,null,{"$f":"Instructions!B642","v":0},null,{"$f":"Instructions!B636","v":0},{"$f":"Instructions!B637","v":0},{"$f":"Instructions!B638","v":0},null,null,"--",0,{"$f":"Table_2[[#This Row],[Column20]]+Table_2[[#This Row],[Column56]]","v":0},"",{"$f":"Table_2[[#This Row],[Column20]]+Table_2[[#This Row],[Column56]]","v":0},"",{"$f":"Table_2[[#This Row],[Column57]]+Table_2[[#This Row],[Column16]]+Table_2[[#This Row],[Column15]]","v":0},"",{"$f":"(K608/Instructions!$C$23)*100","v":0},{"$f":"(L608/Instructions!$C$24)*100","v":0},{"$f":"(Y608/Instructions!$C$25)*100","v":0},{"$f":"(AA608/Instructions!$C$27)*100","v":0},{"$f":"(AC608/Instructions!$C$29)*100","v":0},{"$f":"(V608/Instructions!$C$33)*100","v":0},{"$f":"(U608/Instructions!$C$32)*100","v":0},{"$f":"(W608/Instructions!$C$36)*100","v":{"$error":"#VALUE!"}},"","E","E","E","E","E","E","E","--",null,null,null,null,null,{"$f":"Table_2[[#This Row],[Column51]]&Table_2[[#This Row],[Column52]]&AW610","v":""}]
[null,null,null,null,null,null,null,null,null,null,null,null,null,null,null,{"$f":"Instructions!B643","v":0},null,{"$f":"Instructions!B637","v":0},{"$f":"Instructions!B638","v":0},{"$f":"Instructions!B639","v":0},null,null,"--",0,{"$f":"Table_2[[#This Row],[Column20]]+Table_2[[#This Row],[Column56]]","v":0},"",{"$f":"Table_2[[#This Row],[Column20]]+Table_2[[#This Row],[Column56]]","v":0},"",{"$f":"Table_2[[#This Row],[Column57]]+Table_2[[#This Row],[Column16]]+Table_2[[#This Row],[Column15]]","v":0},"",{"$f":"(K609/Instructions!$C$23)*100","v":0},{"$f":"(L609/Instructions!$C$24)*100","v":0},{"$f":"(Y609/Instructions!$C$25)*100","v":0},{"$f":"(AA609/Instructions!$C$27)*100","v":0},{"$f":"(AC609/Instructions!$C$29)*100","v":0},{"$f":"(V609/Instructions!$C$33)*100","v":0},{"$f":"(U609/Instructions!$C$32)*100","v":0},{"$f":"(W609/Instructions!$C$36)*100","v":{"$error":"#VALUE!"}},"","E","E","E","E","E","E","E","--",null,null,null,null,null,{"$f":"Table_2[[#This Row],[Column51]]&Table_2[[#This Row],[Column52]]&AW611","v":""}]
[null,null,null,null,null,null,null,null,null,null,null,null,null,null,null,{"$f":"Instructions!B644","v":0},null,{"$f":"Instructions!B638","v":0},{"$f":"Instructions!B639","v":0},{"$f":"Instructions!B640","v":0},null,null,"--",0,{"$f":"Table_2[[#This Row],[Column20]]+Table_2[[#This Row],[Column56]]","v":0},"",{"$f":"Table_2[[#This Row],[Column20]]+Table_2[[#This Row],[Column56]]","v":0},"",{"$f":"Table_2[[#This Row],[Column57]]+Table_2[[#This Row],[Column16]]+Table_2[[#This Row],[Column15]]","v":0},"",{"$f":"(K610/Instructions!$C$23)*100","v":0},{"$f":"(L610/Instructions!$C$24)*100","v":0},{"$f":"(Y610/Instructions!$C$25)*100","v":0},{"$f":"(AA610/Instructions!$C$27)*100","v":0},{"$f":"(AC610/Instructions!$C$29)*100","v":0},{"$f":"(V610/Instructions!$C$33)*100","v":0},{"$f":"(U610/Instructions!$C$32)*100","v":0},{"$f":"(W610/Instructions!$C$36)*100","v":{"$error":"#VALUE!"}},"","E","E","E","E","E","E","E","--",null,null,null,null,null,{"$f":"Table_2[[#This Row],[Column51]]&Table_2[[#This Row],[Column52]]&AW612","v":""}]
[null,null,null,null,null,null,null,null,null,null,null,null,null,null,null,{"$f":"Instructions!B645","v":0},null,{"$f":"Instructions!B639","v":0},{"$f":"Instructions!B640","v":0},{"$f":"Instructions!B641","v":0},null,null,"--",0,{"$f":"Table_2[[#This Row],[Column20]]+Table_2[[#This Row],[Column56]]","v":0},"",{"$f":"Table_2[[#This Row],[Column20]]+Table_2[[#This Row],[Column56]]","v":0},"",{"$f":"Table_2[[#This Row],[Column57]]+Table_2[[#This Row],[Column16]]+Table_2[[#This Row],[Column15]]","v":0},"",{"$f":"(K611/Instructions!$C$23)*100","v":0},{"$f":"(L611/Instructions!$C$24)*100","v":0},{"$f":"(Y611/Instructions!$C$25)*100","v":0},{"$f":"(AA611/Instructions!$C$27)*100","v":0},{"$f":"(AC611/Instructions!$C$29)*100","v":0},{"$f":"(V611/Instructions!$C$33)*100","v":0},{"$f":"(U611/Instructions!$C$32)*100","v":0},{"$f":"(W611/Instructions!$C$36)*100","v":{"$error":"#VALUE!"}},"","E","E","E","E","E","E","E","--",null,null,null,null,null,{"$f":"Table_2[[#This Row],[Column51]]&Table_2[[#This Row],[Column52]]&AW613","v":""}]
[null,null,null,null,null,null,null,null,null,null,null,null,null,null,null,{"$f":"Instructions!B646","v":0},null,{"$f":"Instructions!B640","v":0},{"$f":"Instructions!B641","v":0},{"$f":"Instructions!B642","v":0},null,null,"--",0,{"$f":"Table_2[[#This Row],[Column20]]+Table_2[[#This Row],[Column56]]","v":0},"",{"$f":"Table_2[[#This Row],[Column20]]+Table_2[[#This Row],[Column56]]","v":0},"",{"$f":"Table_2[[#This Row],[Column57]]+Table_2[[#This Row],[Column16]]+Table_2[[#This Row],[Column15]]","v":0},"",{"$f":"(K612/Instructions!$C$23)*100","v":0},{"$f":"(L612/Instructions!$C$24)*100","v":0},{"$f":"(Y612/Instructions!$C$25)*100","v":0},{"$f":"(AA612/Instructions!$C$27)*100","v":0},{"$f":"(AC612/Instructions!$C$29)*100","v":0},{"$f":"(V612/Instructions!$C$33)*100","v":0},{"$f":"(U612/Instructions!$C$32)*100","v":0},{"$f":"(W612/Instructions!$C$36)*100","v":{"$error":"#VALUE!"}},"","E","E","E","E","E","E","E","--",null,null,null,null,null,{"$f":"Table_2[[#This Row],[Column51]]&Table_2[[#This Row],[Column52]]&AW614","v":""}]
[null,null,null,null,null,null,null,null,null,null,null,null,null,null,null,{"$f":"Instructions!B647","v":0},null,{"$f":"Instructions!B641","v":0},{"$f":"Instructions!B642","v":0},{"$f":"Instructions!B643","v":0},null,null,"--",0,{"$f":"Table_2[[#This Row],[Column20]]+Table_2[[#This Row],[Column56]]","v":0},"",{"$f":"Table_2[[#This Row],[Column20]]+Table_2[[#This Row],[Column56]]","v":0},"",{"$f":"Table_2[[#This Row],[Column57]]+Table_2[[#This Row],[Column16]]+Table_2[[#This Row],[Column15]]","v":0},"",{"$f":"(K613/Instructions!$C$23)*100","v":0},{"$f":"(L613/Instructions!$C$24)*100","v":0},{"$f":"(Y613/Instructions!$C$25)*100","v":0},{"$f":"(AA613/Instructions!$C$27)*100","v":0},{"$f":"(AC613/Instructions!$C$29)*100","v":0},{"$f":"(V613/Instructions!$C$33)*100","v":0},{"$f":"(U613/Instructions!$C$32)*100","v":0},{"$f":"(W613/Instructions!$C$36)*100","v":{"$error":"#VALUE!"}},"","E","E","E","E","E","E","E","--",null,null,null,null,null,{"$f":"Table_2[[#This Row],[Column51]]&Table_2[[#This Row],[Column52]]&AW615","v":""}]
[null,null,null,null,null,null,null,null,null,null,null,null,null,null,null,{"$f":"Instructions!B648","v":0},null,{"$f":"Instructions!B642","v":0},{"$f":"Instructions!B643","v":0},{"$f":"Instructions!B644","v":0},null,null,"--",0,{"$f":"Table_2[[#This Row],[Column20]]+Table_2[[#This Row],[Column56]]","v":0},"",{"$f":"Table_2[[#This Row],[Column20]]+Table_2[[#This Row],[Column56]]","v":0},"",{"$f":"Table_2[[#This Row],[Column57]]+Table_2[[#This Row],[Column16]]+Table_2[[#This Row],[Column15]]","v":0},"",{"$f":"(K614/Instructions!$C$23)*100","v":0},{"$f":"(L614/Instructions!$C$24)*100","v":0},{"$f":"(Y614/Instructions!$C$25)*100","v":0},{"$f":"(AA614/Instructions!$C$27)*100","v":0},{"$f":"(AC614/Instructions!$C$29)*100","v":0},{"$f":"(V614/Instructions!$C$33)*100","v":0},{"$f":"(U614/Instructions!$C$32)*100","v":0},{"$f":"(W614/Instructions!$C$36)*100","v":{"$error":"#VALUE!"}},"","E","E","E","E","E","E","E","--",null,null,null,null,null,{"$f":"Table_2[[#This Row],[Column51]]&Table_2[[#This Row],[Column52]]&AW616","v":""}]
[null,null,null,null,null,null,null,null,null,null,null,null,null,null,null,{"$f":"Instructions!B649","v":0},null,{"$f":"Instructions!B643","v":0},{"$f":"Instructions!B644","v":0},{"$f":"Instructions!B645","v":0},null,null,"--",0,{"$f":"Table_2[[#This Row],[Column20]]+Table_2[[#This Row],[Column56]]","v":0},"",{"$f":"Table_2[[#This Row],[Column20]]+Table_2[[#This Row],[Column56]]","v":0},"",{"$f":"Table_2[[#This Row],[Column57]]+Table_2[[#This Row],[Column16]]+Table_2[[#This Row],[Column15]]","v":0},"",{"$f":"(K615/Instructions!$C$23)*100","v":0},{"$f":"(L615/Instructions!$C$24)*100","v":0},{"$f":"(Y615/Instructions!$C$25)*100","v":0},{"$f":"(AA615/Instructions!$C$27)*100","v":0},{"$f":"(AC615/Instructions!$C$29)*100","v":0},{"$f":"(V615/Instructions!$C$33)*100","v":0},{"$f":"(U615/Instructions!$C$32)*100","v":0},{"$f":"(W615/Instructions!$C$36)*100","v":{"$error":"#VALUE!"}},"","E","E","E","E","E","E","E","--",null,null,null,null,null,{"$f":"Table_2[[#This Row],[Column51]]&Table_2[[#This Row],[Column52]]&AW617","v":""}]
[null,null,null,null,null,null,null,null,null,null,null,null,null,null,null,{"$f":"Instructions!B650","v":0},null,{"$f":"Instructions!B644","v":0},{"$f":"Instructions!B645","v":0},{"$f":"Instructions!B646","v":0},null,null,"--",0,{"$f":"Table_2[[#This Row],[Column20]]+Table_2[[#This Row],[Column56]]","v":0},"",{"$f":"Table_2[[#This Row],[Column20]]+Table_2[[#This Row],[Column56]]","v":0},"",{"$f":"Table_2[[#This Row],[Column57]]+Table_2[[#This Row],[Column16]]+Table_2[[#This Row],[Column15]]","v":0},"",{"$f":"(K616/Instructions!$C$23)*100","v":0},{"$f":"(L616/Instructions!$C$24)*100","v":0},{"$f":"(Y616/Instructions!$C$25)*100","v":0},{"$f":"(AA616/Instructions!$C$27)*100","v":0},{"$f":"(AC616/Instructions!$C$29)*100","v":0},{"$f":"(V616/Instructions!$C$33)*100","v":0},{"$f":"(U616/Instructions!$C$32)*100","v":0},{"$f":"(W616/Instructions!$C$36)*100","v":{"$error":"#VALUE!"}},"","E","E","E","E","E","E","E","--",null,null,null,null,null,{"$f":"Table_2[[#This Row],[Column51]]&Table_2[[#This Row],[Column52]]&AW618","v":""}]
[null,null,null,null,null,null,null,null,null,null,null,null,null,null,null,{"$f":"Instructions!B651","v":0},null,{"$f":"Instructions!B645","v":0},{"$f":"Instructions!B646","v":0},{"$f":"Instructions!B647","v":0},null,null,"--",0,{"$f":"Table_2[[#This Row],[Column20]]+Table_2[[#This Row],[Column56]]","v":0},"",{"$f":"Table_2[[#This Row],[Column20]]+Table_2[[#This Row],[Column56]]","v":0},"",{"$f":"Table_2[[#This Row],[Column57]]+Table_2[[#This Row],[Column16]]+Table_2[[#This Row],[Column15]]","v":0},"",{"$f":"(K617/Instructions!$C$23)*100","v":0},{"$f":"(L617/Instructions!$C$24)*100","v":0},{"$f":"(Y617/Instructions!$C$25)*100","v":0},{"$f":"(AA617/Instructions!$C$27)*100","v":0},{"$f":"(AC617/Instructions!$C$29)*100","v":0},{"$f":"(V617/Instructions!$C$33)*100","v":0},{"$f":"(U617/Instructions!$C$32)*100","v":0},{"$f":"(W617/Instructions!$C$36)*100","v":{"$error":"#VALUE!"}},"","E","E","E","E","E","E","E","--",null,null,null,null,null,{"$f":"Table_2[[#This Row],[Column51]]&Table_2[[#This Row],[Column52]]&AW619","v":""}]
[null,null,null,null,null,null,null,null,null,null,null,null,null,null,null,{"$f":"Instructions!B652","v":0},null,{"$f":"Instructions!B646","v":0},{"$f":"Instructions!B647","v":0},{"$f":"Instructions!B648","v":0},null,null,"--",0,{"$f":"Table_2[[#This Row],[Column20]]+Table_2[[#This Row],[Column56]]","v":0},"",{"$f":"Table_2[[#This Row],[Column20]]+Table_2[[#This Row],[Column56]]","v":0},"",{"$f":"Table_2[[#This Row],[Column57]]+Table_2[[#This Row],[Column16]]+Table_2[[#This Row],[Column15]]","v":0},"",{"$f":"(K618/Instructions!$C$23)*100","v":0},{"$f":"(L618/Instructions!$C$24)*100","v":0},{"$f":"(Y618/Instructions!$C$25)*100","v":0},{"$f":"(AA618/Instructions!$C$27)*100","v":0},{"$f":"(AC618/Instructions!$C$29)*100","v":0},{"$f":"(V618/Instructions!$C$33)*100","v":0},{"$f":"(U618/Instructions!$C$32)*100","v":0},{"$f":"(W618/Instructions!$C$36)*100","v":{"$error":"#VALUE!"}},"","E","E","E","E","E","E","E","--",null,null,null,null,null,{"$f":"Table_2[[#This Row],[Column51]]&Table_2[[#This Row],[Column52]]&AW620","v":""}]
[null,null,null,null,null,null,null,null,null,null,null,null,null,null,null,{"$f":"Instructions!B653","v":0},null,{"$f":"Instructions!B647","v":0},{"$f":"Instructions!B648","v":0},{"$f":"Instructions!B649","v":0},null,null,"--",0,{"$f":"Table_2[[#This Row],[Column20]]+Table_2[[#This Row],[Column56]]","v":0},"",{"$f":"Table_2[[#This Row],[Column20]]+Table_2[[#This Row],[Column56]]","v":0},"",{"$f":"Table_2[[#This Row],[Column57]]+Table_2[[#This Row],[Column16]]+Table_2[[#This Row],[Column15]]","v":0},"",{"$f":"(K619/Instructions!$C$23)*100","v":0},{"$f":"(L619/Instructions!$C$24)*100","v":0},{"$f":"(Y619/Instructions!$C$25)*100","v":0},{"$f":"(AA619/Instructions!$C$27)*100","v":0},{"$f":"(AC619/Instructions!$C$29)*100","v":0},{"$f":"(V619/Instructions!$C$33)*100","v":0},{"$f":"(U619/Instructions!$C$32)*100","v":0},{"$f":"(W619/Instructions!$C$36)*100","v":{"$error":"#VALUE!"}},"","E","E","E","E","E","E","E","--",null,null,null,null,null,{"$f":"Table_2[[#This Row],[Column51]]&Table_2[[#This Row],[Column52]]&AW621","v":""}]
[null,null,null,null,null,null,null,null,null,null,null,null,null,null,null,{"$f":"Instructions!B654","v":0},null,{"$f":"Instructions!B648","v":0},{"$f":"Instructions!B649","v":0},{"$f":"Instructions!B650","v":0},null,null,"--",0,{"$f":"Table_2[[#This Row],[Column20]]+Table_2[[#This Row],[Column56]]","v":0},"",{"$f":"Table_2[[#This Row],[Column20]]+Table_2[[#This Row],[Column56]]","v":0},"",{"$f":"Table_2[[#This Row],[Column57]]+Table_2[[#This Row],[Column16]]+Table_2[[#This Row],[Column15]]","v":0},"",{"$f":"(K620/Instructions!$C$23)*100","v":0},{"$f":"(L620/Instructions!$C$24)*100","v":0},{"$f":"(Y620/Instructions!$C$25)*100","v":0},{"$f":"(AA620/Instructions!$C$27)*100","v":0},{"$f":"(AC620/Instructions!$C$29)*100","v":0},{"$f":"(V620/Instructions!$C$33)*100","v":0},{"$f":"(U620/Instructions!$C$32)*100","v":0},{"$f":"(W620/Instructions!$C$36)*100","v":{"$error":"#VALUE!"}},"","E","E","E","E","E","E","E","--",null,null,null,null,null,{"$f":"Table_2[[#This Row],[Column51]]&Table_2[[#This Row],[Column52]]&AW622","v":""}]
[null,null,null,null,null,null,null,null,null,null,null,null,null,null,null,{"$f":"Instructions!B655","v":0},null,{"$f":"Instructions!B649","v":0},{"$f":"Instructions!B650","v":0},{"$f":"Instructions!B651","v":0},null,null,"--",0,{"$f":"Table_2[[#This Row],[Column20]]+Table_2[[#This Row],[Column56]]","v":0},"",{"$f":"Table_2[[#This Row],[Column20]]+Table_2[[#This Row],[Column56]]","v":0},"",{"$f":"Table_2[[#This Row],[Column57]]+Table_2[[#This Row],[Column16]]+Table_2[[#This Row],[Column15]]","v":0},"",{"$f":"(K621/Instructions!$C$23)*100","v":0},{"$f":"(L621/Instructions!$C$24)*100","v":0},{"$f":"(Y621/Instructions!$C$25)*100","v":0},{"$f":"(AA621/Instructions!$C$27)*100","v":0},{"$f":"(AC621/Instructions!$C$29)*100","v":0},{"$f":"(V621/Instructions!$C$33)*100","v":0},{"$f":"(U621/Instructions!$C$32)*100","v":0},{"$f":"(W621/Instructions!$C$36)*100","v":{"$error":"#VALUE!"}},"","E","E","E","E","E","E","E","--",null,null,null,null,null,{"$f":"Table_2[[#This Row],[Column51]]&Table_2[[#This Row],[Column52]]&AW623","v":""}]
[null,null,null,null,null,null,null,null,null,null,null,null,null,null,null,{"$f":"Instructions!B656","v":0},null,{"$f":"Instructions!B650","v":0},{"$f":"Instructions!B651","v":0},{"$f":"Instructions!B652","v":0},null,null,"--",0,{"$f":"Table_2[[#This Row],[Column20]]+Table_2[[#This Row],[Column56]]","v":0},"",{"$f":"Table_2[[#This Row],[Column20]]+Table_2[[#This Row],[Column56]]","v":0},"",{"$f":"Table_2[[#This Row],[Column57]]+Table_2[[#This Row],[Column16]]+Table_2[[#This Row],[Column15]]","v":0},"",{"$f":"(K622/Instructions!$C$23)*100","v":0},{"$f":"(L622/Instructions!$C$24)*100","v":0},{"$f":"(Y622/Instructions!$C$25)*100","v":0},{"$f":"(AA622/Instructions!$C$27)*100","v":0},{"$f":"(AC622/Instructions!$C$29)*100","v":0},{"$f":"(V622/Instructions!$C$33)*100","v":0},{"$f":"(U622/Instructions!$C$32)*100","v":0},{"$f":"(W622/Instructions!$C$36)*100","v":{"$error":"#VALUE!"}},"","E","E","E","E","E","E","E","--",null,null,null,null,null,{"$f":"Table_2[[#This Row],[Column51]]&Table_2[[#This Row],[Column52]]&AW624","v":""}]
[null,null,null,null,null,null,null,null,null,null,null,null,null,null,null,{"$f":"Instructions!B657","v":0},null,{"$f":"Instructions!B651","v":0},{"$f":"Instructions!B652","v":0},{"$f":"Instructions!B653","v":0},null,null,"--",0,{"$f":"Table_2[[#This Row],[Column20]]+Table_2[[#This Row],[Column56]]","v":0},"",{"$f":"Table_2[[#This Row],[Column20]]+Table_2[[#This Row],[Column56]]","v":0},"",{"$f":"Table_2[[#This Row],[Column57]]+Table_2[[#This Row],[Column16]]+Table_2[[#This Row],[Column15]]","v":0},"",{"$f":"(K623/Instructions!$C$23)*100","v":0},{"$f":"(L623/Instructions!$C$24)*100","v":0},{"$f":"(Y623/Instructions!$C$25)*100","v":0},{"$f":"(AA623/Instructions!$C$27)*100","v":0},{"$f":"(AC623/Instructions!$C$29)*100","v":0},{"$f":"(V623/Instructions!$C$33)*100","v":0},{"$f":"(U623/Instructions!$C$32)*100","v":0},{"$f":"(W623/Instructions!$C$36)*100","v":{"$error":"#VALUE!"}},"","E","E","E","E","E","E","E","--",null,null,null,null,null,{"$f":"Table_2[[#This Row],[Column51]]&Table_2[[#This Row],[Column52]]&AW625","v":""}]
[null,null,null,null,null,null,null,null,null,null,null,null,null,null,null,{"$f":"Instructions!B658","v":0},null,{"$f":"Instructions!B652","v":0},{"$f":"Instructions!B653","v":0},{"$f":"Instructions!B654","v":0},null,null,"--",0,{"$f":"Table_2[[#This Row],[Column20]]+Table_2[[#This Row],[Column56]]","v":0},"",{"$f":"Table_2[[#This Row],[Column20]]+Table_2[[#This Row],[Column56]]","v":0},"",{"$f":"Table_2[[#This Row],[Column57]]+Table_2[[#This Row],[Column16]]+Table_2[[#This Row],[Column15]]","v":0},"",{"$f":"(K624/Instructions!$C$23)*100","v":0},{"$f":"(L624/Instructions!$C$24)*100","v":0},{"$f":"(Y624/Instructions!$C$25)*100","v":0},{"$f":"(AA624/Instructions!$C$27)*100","v":0},{"$f":"(AC624/Instructions!$C$29)*100","v":0},{"$f":"(V624/Instructions!$C$33)*100","v":0},{"$f":"(U624/Instructions!$C$32)*100","v":0},{"$f":"(W624/Instructions!$C$36)*100","v":{"$error":"#VALUE!"}},"","E","E","E","E","E","E","E","--",null,null,null,null,null,{"$f":"Table_2[[#This Row],[Column51]]&Table_2[[#This Row],[Column52]]&AW626","v":""}]
[null,null,null,null,null,null,null,null,null,null,null,null,null,null,null,{"$f":"Instructions!B659","v":0},null,{"$f":"Instructions!B653","v":0},{"$f":"Instructions!B654","v":0},{"$f":"Instructions!B655","v":0},null,null,"--",0,{"$f":"Table_2[[#This Row],[Column20]]+Table_2[[#This Row],[Column56]]","v":0},"",{"$f":"Table_2[[#This Row],[Column20]]+Table_2[[#This Row],[Column56]]","v":0},"",{"$f":"Table_2[[#This Row],[Column57]]+Table_2[[#This Row],[Column16]]+Table_2[[#This Row],[Column15]]","v":0},"",{"$f":"(K625/Instructions!$C$23)*100","v":0},{"$f":"(L625/Instructions!$C$24)*100","v":0},{"$f":"(Y625/Instructions!$C$25)*100","v":0},{"$f":"(AA625/Instructions!$C$27)*100","v":0},{"$f":"(AC625/Instructions!$C$29)*100","v":0},{"$f":"(V625/Instructions!$C$33)*100","v":0},{"$f":"(U625/Instructions!$C$32)*100","v":0},{"$f":"(W625/Instructions!$C$36)*100","v":{"$error":"#VALUE!"}},"","E","E","E","E","E","E","E","--",null,null,null,null,null,{"$f":"Table_2[[#This Row],[Column51]]&Table_2[[#This Row],[Column52]]&AW627","v":""}]
[null,null,null,null,null,null,null,null,null,null,null,null,null,null,null,{"$f":"Instructions!B660","v":0},null,{"$f":"Instructions!B654","v":0},{"$f":"Instructions!B655","v":0},{"$f":"Instructions!B656","v":0},null,null,"--",0,{"$f":"Table_2[[#This Row],[Column20]]+Table_2[[#This Row],[Column56]]","v":0},"",{"$f":"Table_2[[#This Row],[Column20]]+Table_2[[#This Row],[Column56]]","v":0},"",{"$f":"Table_2[[#This Row],[Column57]]+Table_2[[#This Row],[Column16]]+Table_2[[#This Row],[Column15]]","v":0},"",{"$f":"(K626/Instructions!$C$23)*100","v":0},{"$f":"(L626/Instructions!$C$24)*100","v":0},{"$f":"(Y626/Instructions!$C$25)*100","v":0},{"$f":"(AA626/Instructions!$C$27)*100","v":0},{"$f":"(AC626/Instructions!$C$29)*100","v":0},{"$f":"(V626/Instructions!$C$33)*100","v":0},{"$f":"(U626/Instructions!$C$32)*100","v":0},{"$f":"(W626/Instructions!$C$36)*100","v":{"$error":"#VALUE!"}},"","E","E","E","E","E","E","E","--",null,null,null,null,null,{"$f":"Table_2[[#This Row],[Column51]]&Table_2[[#This Row],[Column52]]&AW628","v":""}]
[null,null,null,null,null,null,null,null,null,null,null,null,null,null,null,{"$f":"Instructions!B661","v":0},null,{"$f":"Instructions!B655","v":0},{"$f":"Instructions!B656","v":0},{"$f":"Instructions!B657","v":0},null,null,"--",0,{"$f":"Table_2[[#This Row],[Column20]]+Table_2[[#This Row],[Column56]]","v":0},"",{"$f":"Table_2[[#This Row],[Column20]]+Table_2[[#This Row],[Column56]]","v":0},"",{"$f":"Table_2[[#This Row],[Column57]]+Table_2[[#This Row],[Column16]]+Table_2[[#This Row],[Column15]]","v":0},"",{"$f":"(K627/Instructions!$C$23)*100","v":0},{"$f":"(L627/Instructions!$C$24)*100","v":0},{"$f":"(Y627/Instructions!$C$25)*100","v":0},{"$f":"(AA627/Instructions!$C$27)*100","v":0},{"$f":"(AC627/Instructions!$C$29)*100","v":0},{"$f":"(V627/Instructions!$C$33)*100","v":0},{"$f":"(U627/Instructions!$C$32)*100","v":0},{"$f":"(W627/Instructions!$C$36)*100","v":{"$error":"#VALUE!"}},"","E","E","E","E","E","E","E","--",null,null,null,null,null,{"$f":"Table_2[[#This Row],[Column51]]&Table_2[[#This Row],[Column52]]&AW629","v":""}]
[null,null,null,null,null,null,null,null,null,null,null,null,null,null,null,{"$f":"Instructions!B662","v":0},null,{"$f":"Instructions!B656","v":0},{"$f":"Instructions!B657","v":0},{"$f":"Instructions!B658","v":0},null,null,"--",0,{"$f":"Table_2[[#This Row],[Column20]]+Table_2[[#This Row],[Column56]]","v":0},"",{"$f":"Table_2[[#This Row],[Column20]]+Table_2[[#This Row],[Column56]]","v":0},"",{"$f":"Table_2[[#This Row],[Column57]]+Table_2[[#This Row],[Column16]]+Table_2[[#This Row],[Column15]]","v":0},"",{"$f":"(K628/Instructions!$C$23)*100","v":0},{"$f":"(L628/Instructions!$C$24)*100","v":0},{"$f":"(Y628/Instructions!$C$25)*100","v":0},{"$f":"(AA628/Instructions!$C$27)*100","v":0},{"$f":"(AC628/Instructions!$C$29)*100","v":0},{"$f":"(V628/Instructions!$C$33)*100","v":0},{"$f":"(U628/Instructions!$C$32)*100","v":0},{"$f":"(W628/Instructions!$C$36)*100","v":{"$error":"#VALUE!"}},"","E","E","E","E","E","E","E","--",null,null,null,null,null,{"$f":"Table_2[[#This Row],[Column51]]&Table_2[[#This Row],[Column52]]&AW630","v":""}]
[null,null,null,null,null,null,null,null,null,null,null,null,null,null,null,{"$f":"Instructions!B663","v":0},null,{"$f":"Instructions!B657","v":0},{"$f":"Instructions!B658","v":0},{"$f":"Instructions!B659","v":0},null,null,"--",0,{"$f":"Table_2[[#This Row],[Column20]]+Table_2[[#This Row],[Column56]]","v":0},"",{"$f":"Table_2[[#This Row],[Column20]]+Table_2[[#This Row],[Column56]]","v":0},"",{"$f":"Table_2[[#This Row],[Column57]]+Table_2[[#This Row],[Column16]]+Table_2[[#This Row],[Column15]]","v":0},"",{"$f":"(K629/Instructions!$C$23)*100","v":0},{"$f":"(L629/Instructions!$C$24)*100","v":0},{"$f":"(Y629/Instructions!$C$25)*100","v":0},{"$f":"(AA629/Instructions!$C$27)*100","v":0},{"$f":"(AC629/Instructions!$C$29)*100","v":0},{"$f":"(V629/Instructions!$C$33)*100","v":0},{"$f":"(U629/Instructions!$C$32)*100","v":0},{"$f":"(W629/Instructions!$C$36)*100","v":{"$error":"#VALUE!"}},"","E","E","E","E","E","E","E","--",null,null,null,null,null,{"$f":"Table_2[[#This Row],[Column51]]&Table_2[[#This Row],[Column52]]&AW631","v":""}]
[null,null,null,null,null,null,null,null,null,null,null,null,null,null,null,{"$f":"Instructions!B664","v":0},null,{"$f":"Instructions!B658","v":0},{"$f":"Instructions!B659","v":0},{"$f":"Instructions!B660","v":0},null,null,"--",0,{"$f":"Table_2[[#This Row],[Column20]]+Table_2[[#This Row],[Column56]]","v":0},"",{"$f":"Table_2[[#This Row],[Column20]]+Table_2[[#This Row],[Column56]]","v":0},"",{"$f":"Table_2[[#This Row],[Column57]]+Table_2[[#This Row],[Column16]]+Table_2[[#This Row],[Column15]]","v":0},"",{"$f":"(K630/Instructions!$C$23)*100","v":0},{"$f":"(L630/Instructions!$C$24)*100","v":0},{"$f":"(Y630/Instructions!$C$25)*100","v":0},{"$f":"(AA630/Instructions!$C$27)*100","v":0},{"$f":"(AC630/Instructions!$C$29)*100","v":0},{"$f":"(V630/Instructions!$C$33)*100","v":0},{"$f":"(U630/Instructions!$C$32)*100","v":0},{"$f":"(W630/Instructions!$C$36)*100","v":{"$error":"#VALUE!"}},"","E","E","E","E","E","E","E","--",null,null,null,null,null,{"$f":"Table_2[[#This Row],[Column51]]&Table_2[[#This Row],[Column52]]&AW632","v":""}]
[null,null,null,null,null,null,null,null,null,null,null,null,null,null,null,{"$f":"Instructions!B665","v":0},null,{"$f":"Instructions!B659","v":0},{"$f":"Instructions!B660","v":0},{"$f":"Instructions!B661","v":0},null,null,"--",0,{"$f":"Table_2[[#This Row],[Column20]]+Table_2[[#This Row],[Column56]]","v":0},"",{"$f":"Table_2[[#This Row],[Column20]]+Table_2[[#This Row],[Column56]]","v":0},"",{"$f":"Table_2[[#This Row],[Column57]]+Table_2[[#This Row],[Column16]]+Table_2[[#This Row],[Column15]]","v":0},"",{"$f":"(K631/Instructions!$C$23)*100","v":0},{"$f":"(L631/Instructions!$C$24)*100","v":0},{"$f":"(Y631/Instructions!$C$25)*100","v":0},{"$f":"(AA631/Instructions!$C$27)*100","v":0},{"$f":"(AC631/Instructions!$C$29)*100","v":0},{"$f":"(V631/Instructions!$C$33)*100","v":0},{"$f":"(U631/Instructions!$C$32)*100","v":0},{"$f":"(W631/Instructions!$C$36)*100","v":{"$error":"#VALUE!"}},"","E","E","E","E","E","E","E","--",null,null,null,null,null,{"$f":"Table_2[[#This Row],[Column51]]&Table_2[[#This Row],[Column52]]&AW633","v":""}]
[null,null,null,null,null,null,null,null,null,null,null,null,null,null,null,{"$f":"Instructions!B666","v":0},null,{"$f":"Instructions!B660","v":0},{"$f":"Instructions!B661","v":0},{"$f":"Instructions!B662","v":0},null,null,"--",0,{"$f":"Table_2[[#This Row],[Column20]]+Table_2[[#This Row],[Column56]]","v":0},"",{"$f":"Table_2[[#This Row],[Column20]]+Table_2[[#This Row],[Column56]]","v":0},"",{"$f":"Table_2[[#This Row],[Column57]]+Table_2[[#This Row],[Column16]]+Table_2[[#This Row],[Column15]]","v":0},"",{"$f":"(K632/Instructions!$C$23)*100","v":0},{"$f":"(L632/Instructions!$C$24)*100","v":0},{"$f":"(Y632/Instructions!$C$25)*100","v":0},{"$f":"(AA632/Instructions!$C$27)*100","v":0},{"$f":"(AC632/Instructions!$C$29)*100","v":0},{"$f":"(V632/Instructions!$C$33)*100","v":0},{"$f":"(U632/Instructions!$C$32)*100","v":0},{"$f":"(W632/Instructions!$C$36)*100","v":{"$error":"#VALUE!"}},"","E","E","E","E","E","E","E","--",null,null,null,null,null,{"$f":"Table_2[[#This Row],[Column51]]&Table_2[[#This Row],[Column52]]&AW634","v":""}]
[null,null,null,null,null,null,null,null,null,null,null,null,null,null,null,{"$f":"Instructions!B667","v":0},null,{"$f":"Instructions!B661","v":0},{"$f":"Instructions!B662","v":0},{"$f":"Instructions!B663","v":0},null,null,"--",0,{"$f":"Table_2[[#This Row],[Column20]]+Table_2[[#This Row],[Column56]]","v":0},"",{"$f":"Table_2[[#This Row],[Column20]]+Table_2[[#This Row],[Column56]]","v":0},"",{"$f":"Table_2[[#This Row],[Column57]]+Table_2[[#This Row],[Column16]]+Table_2[[#This Row],[Column15]]","v":0},"",{"$f":"(K633/Instructions!$C$23)*100","v":0},{"$f":"(L633/Instructions!$C$24)*100","v":0},{"$f":"(Y633/Instructions!$C$25)*100","v":0},{"$f":"(AA633/Instructions!$C$27)*100","v":0},{"$f":"(AC633/Instructions!$C$29)*100","v":0},{"$f":"(V633/Instructions!$C$33)*100","v":0},{"$f":"(U633/Instructions!$C$32)*100","v":0},{"$f":"(W633/Instructions!$C$36)*100","v":{"$error":"#VALUE!"}},"","E","E","E","E","E","E","E","--",null,null,null,null,null,{"$f":"Table_2[[#This Row],[Column51]]&Table_2[[#This Row],[Column52]]&AW635","v":""}]
[null,null,null,null,null,null,null,null,null,null,null,null,null,null,null,{"$f":"Instructions!B668","v":0},null,{"$f":"Instructions!B662","v":0},{"$f":"Instructions!B663","v":0},{"$f":"Instructions!B664","v":0},null,null,"--",0,{"$f":"Table_2[[#This Row],[Column20]]+Table_2[[#This Row],[Column56]]","v":0},"",{"$f":"Table_2[[#This Row],[Column20]]+Table_2[[#This Row],[Column56]]","v":0},"",{"$f":"Table_2[[#This Row],[Column57]]+Table_2[[#This Row],[Column16]]+Table_2[[#This Row],[Column15]]","v":0},"",{"$f":"(K634/Instructions!$C$23)*100","v":0},{"$f":"(L634/Instructions!$C$24)*100","v":0},{"$f":"(Y634/Instructions!$C$25)*100","v":0},{"$f":"(AA634/Instructions!$C$27)*100","v":0},{"$f":"(AC634/Instructions!$C$29)*100","v":0},{"$f":"(V634/Instructions!$C$33)*100","v":0},{"$f":"(U634/Instructions!$C$32)*100","v":0},{"$f":"(W634/Instructions!$C$36)*100","v":{"$error":"#VALUE!"}},"","E","E","E","E","E","E","E","--",null,null,null,null,null,{"$f":"Table_2[[#This Row],[Column51]]&Table_2[[#This Row],[Column52]]&AW636","v":""}]
[null,null,null,null,null,null,null,null,null,null,null,null,null,null,null,{"$f":"Instructions!B669","v":0},null,{"$f":"Instructions!B663","v":0},{"$f":"Instructions!B664","v":0},{"$f":"Instructions!B665","v":0},null,null,"--",0,{"$f":"Table_2[[#This Row],[Column20]]+Table_2[[#This Row],[Column56]]","v":0},"",{"$f":"Table_2[[#This Row],[Column20]]+Table_2[[#This Row],[Column56]]","v":0},"",{"$f":"Table_2[[#This Row],[Column57]]+Table_2[[#This Row],[Column16]]+Table_2[[#This Row],[Column15]]","v":0},"",{"$f":"(K635/Instructions!$C$23)*100","v":0},{"$f":"(L635/Instructions!$C$24)*100","v":0},{"$f":"(Y635/Instructions!$C$25)*100","v":0},{"$f":"(AA635/Instructions!$C$27)*100","v":0},{"$f":"(AC635/Instructions!$C$29)*100","v":0},{"$f":"(V635/Instructions!$C$33)*100","v":0},{"$f":"(U635/Instructions!$C$32)*100","v":0},{"$f":"(W635/Instructions!$C$36)*100","v":{"$error":"#VALUE!"}},"","E","E","E","E","E","E","E","--",null,null,null,null,null,{"$f":"Table_2[[#This Row],[Column51]]&Table_2[[#This Row],[Column52]]&AW637","v":""}]
[null,null,null,null,null,null,null,null,null,null,null,null,null,null,null,{"$f":"Instructions!B670","v":0},null,{"$f":"Instructions!B664","v":0},{"$f":"Instructions!B665","v":0},{"$f":"Instructions!B666","v":0},null,null,"--",0,{"$f":"Table_2[[#This Row],[Column20]]+Table_2[[#This Row],[Column56]]","v":0},"",{"$f":"Table_2[[#This Row],[Column20]]+Table_2[[#This Row],[Column56]]","v":0},"",{"$f":"Table_2[[#This Row],[Column57]]+Table_2[[#This Row],[Column16]]+Table_2[[#This Row],[Column15]]","v":0},"",{"$f":"(K636/Instructions!$C$23)*100","v":0},{"$f":"(L636/Instructions!$C$24)*100","v":0},{"$f":"(Y636/Instructions!$C$25)*100","v":0},{"$f":"(AA636/Instructions!$C$27)*100","v":0},{"$f":"(AC636/Instructions!$C$29)*100","v":0},{"$f":"(V636/Instructions!$C$33)*100","v":0},{"$f":"(U636/Instructions!$C$32)*100","v":0},{"$f":"(W636/Instructions!$C$36)*100","v":{"$error":"#VALUE!"}},"","E","E","E","E","E","E","E","--",null,null,null,null,null,{"$f":"Table_2[[#This Row],[Column51]]&Table_2[[#This Row],[Column52]]&AW638","v":""}]
[null,null,null,null,null,null,null,null,null,null,null,null,null,null,null,{"$f":"Instructions!B671","v":0},null,{"$f":"Instructions!B665","v":0},{"$f":"Instructions!B666","v":0},{"$f":"Instructions!B667","v":0},null,null,"--",0,{"$f":"Table_2[[#This Row],[Column20]]+Table_2[[#This Row],[Column56]]","v":0},"",{"$f":"Table_2[[#This Row],[Column20]]+Table_2[[#This Row],[Column56]]","v":0},"",{"$f":"Table_2[[#This Row],[Column57]]+Table_2[[#This Row],[Column16]]+Table_2[[#This Row],[Column15]]","v":0},"",{"$f":"(K637/Instructions!$C$23)*100","v":0},{"$f":"(L637/Instructions!$C$24)*100","v":0},{"$f":"(Y637/Instructions!$C$25)*100","v":0},{"$f":"(AA637/Instructions!$C$27)*100","v":0},{"$f":"(AC637/Instructions!$C$29)*100","v":0},{"$f":"(V637/Instructions!$C$33)*100","v":0},{"$f":"(U637/Instructions!$C$32)*100","v":0},{"$f":"(W637/Instructions!$C$36)*100","v":{"$error":"#VALUE!"}},"","E","E","E","E","E","E","E","--",null,null,null,null,null,{"$f":"Table_2[[#This Row],[Column51]]&Table_2[[#This Row],[Column52]]&AW639","v":""}]
[null,null,null,null,null,null,null,null,null,null,null,null,null,null,null,{"$f":"Instructions!B672","v":0},null,{"$f":"Instructions!B666","v":0},{"$f":"Instructions!B667","v":0},{"$f":"Instructions!B668","v":0},null,null,"--",0,{"$f":"Table_2[[#This Row],[Column20]]+Table_2[[#This Row],[Column56]]","v":0},"",{"$f":"Table_2[[#This Row],[Column20]]+Table_2[[#This Row],[Column56]]","v":0},"",{"$f":"Table_2[[#This Row],[Column57]]+Table_2[[#This Row],[Column16]]+Table_2[[#This Row],[Column15]]","v":0},"",{"$f":"(K638/Instructions!$C$23)*100","v":0},{"$f":"(L638/Instructions!$C$24)*100","v":0},{"$f":"(Y638/Instructions!$C$25)*100","v":0},{"$f":"(AA638/Instructions!$C$27)*100","v":0},{"$f":"(AC638/Instructions!$C$29)*100","v":0},{"$f":"(V638/Instructions!$C$33)*100","v":0},{"$f":"(U638/Instructions!$C$32)*100","v":0},{"$f":"(W638/Instructions!$C$36)*100","v":{"$error":"#VALUE!"}},"","E","E","E","E","E","E","E","--",null,null,null,null,null,{"$f":"Table_2[[#This Row],[Column51]]&Table_2[[#This Row],[Column52]]&AW640","v":""}]
[null,null,null,null,null,null,null,null,null,null,null,null,null,null,null,{"$f":"Instructions!B673","v":0},null,{"$f":"Instructions!B667","v":0},{"$f":"Instructions!B668","v":0},{"$f":"Instructions!B669","v":0},null,null,"--",0,{"$f":"Table_2[[#This Row],[Column20]]+Table_2[[#This Row],[Column56]]","v":0},"",{"$f":"Table_2[[#This Row],[Column20]]+Table_2[[#This Row],[Column56]]","v":0},"",{"$f":"Table_2[[#This Row],[Column57]]+Table_2[[#This Row],[Column16]]+Table_2[[#This Row],[Column15]]","v":0},"",{"$f":"(K639/Instructions!$C$23)*100","v":0},{"$f":"(L639/Instructions!$C$24)*100","v":0},{"$f":"(Y639/Instructions!$C$25)*100","v":0},{"$f":"(AA639/Instructions!$C$27)*100","v":0},{"$f":"(AC639/Instructions!$C$29)*100","v":0},{"$f":"(V639/Instructions!$C$33)*100","v":0},{"$f":"(U639/Instructions!$C$32)*100","v":0},{"$f":"(W639/Instructions!$C$36)*100","v":{"$error":"#VALUE!"}},"","E","E","E","E","E","E","E","--",null,null,null,null,null,{"$f":"Table_2[[#This Row],[Column51]]&Table_2[[#This Row],[Column52]]&AW641","v":""}]
[null,null,null,null,null,null,null,null,null,null,null,null,null,null,null,{"$f":"Instructions!B674","v":0},null,{"$f":"Instructions!B668","v":0},{"$f":"Instructions!B669","v":0},{"$f":"Instructions!B670","v":0},null,null,"--",0,{"$f":"Table_2[[#This Row],[Column20]]+Table_2[[#This Row],[Column56]]","v":0},"",{"$f":"Table_2[[#This Row],[Column20]]+Table_2[[#This Row],[Column56]]","v":0},"",{"$f":"Table_2[[#This Row],[Column57]]+Table_2[[#This Row],[Column16]]+Table_2[[#This Row],[Column15]]","v":0},"",{"$f":"(K640/Instructions!$C$23)*100","v":0},{"$f":"(L640/Instructions!$C$24)*100","v":0},{"$f":"(Y640/Instructions!$C$25)*100","v":0},{"$f":"(AA640/Instructions!$C$27)*100","v":0},{"$f":"(AC640/Instructions!$C$29)*100","v":0},{"$f":"(V640/Instructions!$C$33)*100","v":0},{"$f":"(U640/Instructions!$C$32)*100","v":0},{"$f":"(W640/Instructions!$C$36)*100","v":{"$error":"#VALUE!"}},"","E","E","E","E","E","E","E","--",null,null,null,null,null,{"$f":"Table_2[[#This Row],[Column51]]&Table_2[[#This Row],[Column52]]&AW642","v":""}]
[null,null,null,null,null,null,null,null,null,null,null,null,null,null,null,{"$f":"Instructions!B675","v":0},null,{"$f":"Instructions!B669","v":0},{"$f":"Instructions!B670","v":0},{"$f":"Instructions!B671","v":0},null,null,"--",0,{"$f":"Table_2[[#This Row],[Column20]]+Table_2[[#This Row],[Column56]]","v":0},"",{"$f":"Table_2[[#This Row],[Column20]]+Table_2[[#This Row],[Column56]]","v":0},"",{"$f":"Table_2[[#This Row],[Column57]]+Table_2[[#This Row],[Column16]]+Table_2[[#This Row],[Column15]]","v":0},"",{"$f":"(K641/Instructions!$C$23)*100","v":0},{"$f":"(L641/Instructions!$C$24)*100","v":0},{"$f":"(Y641/Instructions!$C$25)*100","v":0},{"$f":"(AA641/Instructions!$C$27)*100","v":0},{"$f":"(AC641/Instructions!$C$29)*100","v":0},{"$f":"(V641/Instructions!$C$33)*100","v":0},{"$f":"(U641/Instructions!$C$32)*100","v":0},{"$f":"(W641/Instructions!$C$36)*100","v":{"$error":"#VALUE!"}},"","E","E","E","E","E","E","E","--",null,null,null,null,null,{"$f":"Table_2[[#This Row],[Column51]]&Table_2[[#This Row],[Column52]]&AW643","v":""}]
[null,null,null,null,null,null,null,null,null,null,null,null,null,null,null,{"$f":"Instructions!B676","v":0},null,{"$f":"Instructions!B670","v":0},{"$f":"Instructions!B671","v":0},{"$f":"Instructions!B672","v":0},null,null,"--",0,{"$f":"Table_2[[#This Row],[Column20]]+Table_2[[#This Row],[Column56]]","v":0},"",{"$f":"Table_2[[#This Row],[Column20]]+Table_2[[#This Row],[Column56]]","v":0},"",{"$f":"Table_2[[#This Row],[Column57]]+Table_2[[#This Row],[Column16]]+Table_2[[#This Row],[Column15]]","v":0},"",{"$f":"(K642/Instructions!$C$23)*100","v":0},{"$f":"(L642/Instructions!$C$24)*100","v":0},{"$f":"(Y642/Instructions!$C$25)*100","v":0},{"$f":"(AA642/Instructions!$C$27)*100","v":0},{"$f":"(AC642/Instructions!$C$29)*100","v":0},{"$f":"(V642/Instructions!$C$33)*100","v":0},{"$f":"(U642/Instructions!$C$32)*100","v":0},{"$f":"(W642/Instructions!$C$36)*100","v":{"$error":"#VALUE!"}},"","E","E","E","E","E","E","E","--",null,null,null,null,null,{"$f":"Table_2[[#This Row],[Column51]]&Table_2[[#This Row],[Column52]]&AW644","v":""}]
[null,null,null,null,null,null,null,null,null,null,null,null,null,null,null,{"$f":"Instructions!B677","v":0},null,{"$f":"Instructions!B671","v":0},{"$f":"Instructions!B672","v":0},{"$f":"Instructions!B673","v":0},null,null,{"$f":"IF(MIN(AE643:AI643)>=33,SUM(K643:T643),\"--\")","v":"--"},{"$f":"IF(W643=\"--\",0,W643)","v":0},{"$f":"Table_2[[#This Row],[Column20]]+Table_2[[#This Row],[Column56]]","v":0},{"$f":"IF(N643>0,$N$1,IF(O643>0,$O$1,\"\"))","v":""},{"$f":"Table_2[[#This Row],[Column20]]+Table_2[[#This Row],[Column56]]","v":0},{"$f":"IFERROR(IF(P643>0,$P$1,IF(Q643>0,$Q$1,\"\")),\"\")","v":""},{"$f":"Table_2[[#This Row],[Column57]]+Table_2[[#This Row],[Column16]]+Table_2[[#This Row],[Column15]]","v":0},{"$f":"IFERROR(IF(R643>0,$R$1,IF(S643>0,$S$1,IF(T643>0,$T$1,\"\"))),\"\")","v":""},{"$f":"(K643/Instructions!$C$23)*100","v":0},{"$f":"(L643/Instructions!$C$24)*100","v":0},{"$f":"(Y643/Instructions!$C$25)*100","v":0},{"$f":"(AA643/Instructions!$C$27)*100","v":0},{"$f":"(AC643/Instructions!$C$29)*100","v":0},{"$f":"(V643/Instructions!$C$33)*100","v":0},{"$f":"(U643/Instructions!$C$32)*100","v":0},{"$f":"(W643/Instructions!$C$36)*100","v":{"$error":"#VALUE!"}},{"$f":"IFERROR(IF(AL643>=33,\"PASS\",\"----\"),\"\")","v":""},{"$f":"IFERROR(IF(AE643>90,\"A+\",IF(AE643>80,\"A\",IF(AE643>70,\"B+\",IF(AE643>60,\"B\",IF(AE643>50,\"C+\",IF(AE643>40,\"C\",IF(AE643>=33,\"D\",\"E\"))))))),\"Abs\")","v":"E"},{"$f":"IFERROR(IF(AF643>90,\"A+\",IF(AF643>80,\"A\",IF(AF643>70,\"B+\",IF(AF643>60,\"B\",IF(AF643>50,\"C+\",IF(AF643>40,\"C\",IF(AF643>=33,\"D\",\"E\"))))))),\"Abs\")","v":"E"},{"$f":"IFERROR(IF(AG643>90,\"A+\",IF(AG643>80,\"A\",IF(AG643>70,\"B+\",IF(AG643>60,\"B\",IF(AG643>50,\"C+\",IF(AG643>40,\"C\",IF(AG643>=33,\"D\",\"E\"))))))),\"Abs\")","v":"E"},{"$f":"IFERROR(IF(AH643>90,\"A+\",IF(AH643>80,\"A\",IF(AH643>70,\"B+\",IF(AH643>60,\"B\",IF(AH643>50,\"C+\",IF(AH643>40,\"C\",IF(AH643>=33,\"D\",\"E\"))))))),\"Abs\")","v":"E"},{"$f":"IFERROR(IF(AI643>90,\"A+\",IF(AI643>80,\"A\",IF(AI643>70,\"B+\",IF(AI643>60,\"B\",IF(AI643>50,\"C+\",IF(AI643>40,\"C\",IF(AI643>=33,\"D\",\"E\"))))))),\"Abs\")","v":"E"},{"$f":"IFERROR(IF(AJ643>90,\"A+\",IF(AJ643>80,\"A\",IF(AJ643>70,\"B+\",IF(AJ643>60,\"B\",IF(AJ643>50,\"C+\",IF(AJ643>40,\"C\",IF(AJ643>=33,\"D\",\"E\"))))))),\"Abs\")","v":"E"},{"$f":"IFERROR(IF(AK643>90,\"A+\",IF(AK643>80,\"A\",IF(AK643>70,\"B+\",IF(AK643>60,\"B\",IF(AK643>50,\"C+\",IF(AK643>40,\"C\",IF(AK643>=33,\"D\",\"E\"))))))),\"Abs\")","v":"E"},{"$f":"IFERROR(IF(AL643>90,\"A+\",IF(AL643>80,\"A\",IF(AL643>70,\"B+\",IF(AL643>60,\"B\",IF(AL643>50,\"C+\",IF(AL643>40,\"C\",IF(AL643>=33,\"D\",\"E\"))))))),\"--\")","v":"--"},null,null,null,null,null,{"$f":"Table_2[[#This Row],[Column51]]&Table_2[[#This Row],[Column52]]&AW645","v":""}]
[null,null,null,null,null,null,null,null,null,null,null,null,null,null,null,{"$f":"Instructions!B678","v":0},null,{"$f":"Instructions!B672","v":0},{"$f":"Instructions!B673","v":0},{"$f":"Instructions!B674","v":0},null,null,"--",0,{"$f":"Table_2[[#This Row],[Column20]]+Table_2[[#This Row],[Column56]]","v":0},"",{"$f":"Table_2[[#This Row],[Column20]]+Table_2[[#This Row],[Column56]]","v":0},"",{"$f":"Table_2[[#This Row],[Column57]]+Table_2[[#This Row],[Column16]]+Table_2[[#This Row],[Column15]]","v":0},"",{"$f":"(K644/Instructions!$C$23)*100","v":0},{"$f":"(L644/Instructions!$C$24)*100","v":0},{"$f":"(Y644/Instructions!$C$25)*100","v":0},{"$f":"(AA644/Instructions!$C$27)*100","v":0},{"$f":"(AC644/Instructions!$C$29)*100","v":0},{"$f":"(V644/Instructions!$C$33)*100","v":0},{"$f":"(U644/Instructions!$C$32)*100","v":0},{"$f":"(W644/Instructions!$C$36)*100","v":{"$error":"#VALUE!"}},"","E","E","E","E","E","E","E","--",null,null,null,null,null,{"$f":"Table_2[[#This Row],[Column51]]&Table_2[[#This Row],[Column52]]&AW646","v":""}]
[null,null,null,null,null,null,null,null,null,null,null,null,null,null,null,{"$f":"Instructions!B679","v":0},null,{"$f":"Instructions!B673","v":0},{"$f":"Instructions!B674","v":0},{"$f":"Instructions!B675","v":0},null,null,"--",0,{"$f":"Table_2[[#This Row],[Column20]]+Table_2[[#This Row],[Column56]]","v":0},"",{"$f":"Table_2[[#This Row],[Column20]]+Table_2[[#This Row],[Column56]]","v":0},"",{"$f":"Table_2[[#This Row],[Column57]]+Table_2[[#This Row],[Column16]]+Table_2[[#This Row],[Column15]]","v":0},"",{"$f":"(K645/Instructions!$C$23)*100","v":0},{"$f":"(L645/Instructions!$C$24)*100","v":0},{"$f":"(Y645/Instructions!$C$25)*100","v":0},{"$f":"(AA645/Instructions!$C$27)*100","v":0},{"$f":"(AC645/Instructions!$C$29)*100","v":0},{"$f":"(V645/Instructions!$C$33)*100","v":0},{"$f":"(U645/Instructions!$C$32)*100","v":0},{"$f":"(W645/Instructions!$C$36)*100","v":{"$error":"#VALUE!"}},"","E","E","E","E","E","E","E","--",null,null,null,null,null,{"$f":"Table_2[[#This Row],[Column51]]&Table_2[[#This Row],[Column52]]&AW647","v":""}]
[null,null,null,null,null,null,null,null,null,null,null,null,null,null,null,{"$f":"Instructions!B680","v":0},null,{"$f":"Instructions!B674","v":0},{"$f":"Instructions!B675","v":0},{"$f":"Instructions!B676","v":0},null,null,"--",0,{"$f":"Table_2[[#This Row],[Column20]]+Table_2[[#This Row],[Column56]]","v":0},"",{"$f":"Table_2[[#This Row],[Column20]]+Table_2[[#This Row],[Column56]]","v":0},"",{"$f":"Table_2[[#This Row],[Column57]]+Table_2[[#This Row],[Column16]]+Table_2[[#This Row],[Column15]]","v":0},"",{"$f":"(K646/Instructions!$C$23)*100","v":0},{"$f":"(L646/Instructions!$C$24)*100","v":0},{"$f":"(Y646/Instructions!$C$25)*100","v":0},{"$f":"(AA646/Instructions!$C$27)*100","v":0},{"$f":"(AC646/Instructions!$C$29)*100","v":0},{"$f":"(V646/Instructions!$C$33)*100","v":0},{"$f":"(U646/Instructions!$C$32)*100","v":0},{"$f":"(W646/Instructions!$C$36)*100","v":{"$error":"#VALUE!"}},"","E","E","E","E","E","E","E","--",null,null,null,null,null,{"$f":"Table_2[[#This Row],[Column51]]&Table_2[[#This Row],[Column52]]&AW648","v":""}]
[null,null,null,null,null,null,null,null,null,null,null,null,null,null,null,{"$f":"Instructions!B681","v":0},null,{"$f":"Instructions!B675","v":0},{"$f":"Instructions!B676","v":0},{"$f":"Instructions!B677","v":0},null,null,"--",0,{"$f":"Table_2[[#This Row],[Column20]]+Table_2[[#This Row],[Column56]]","v":0},"",{"$f":"Table_2[[#This Row],[Column20]]+Table_2[[#This Row],[Column56]]","v":0},"",{"$f":"Table_2[[#This Row],[Column57]]+Table_2[[#This Row],[Column16]]+Table_2[[#This Row],[Column15]]","v":0},"",{"$f":"(K647/Instructions!$C$23)*100","v":0},{"$f":"(L647/Instructions!$C$24)*100","v":0},{"$f":"(Y647/Instructions!$C$25)*100","v":0},{"$f":"(AA647/Instructions!$C$27)*100","v":0},{"$f":"(AC647/Instructions!$C$29)*100","v":0},{"$f":"(V647/Instructions!$C$33)*100","v":0},{"$f":"(U647/Instructions!$C$32)*100","v":0},{"$f":"(W647/Instructions!$C$36)*100","v":{"$error":"#VALUE!"}},"","E","E","E","E","E","E","E","--",null,null,null,null,null,{"$f":"Table_2[[#This Row],[Column51]]&Table_2[[#This Row],[Column52]]&AW649","v":""}]
[null,null,null,null,null,null,null,null,null,null,null,null,null,null,null,{"$f":"Instructions!B682","v":0},null,{"$f":"Instructions!B676","v":0},{"$f":"Instructions!B677","v":0},{"$f":"Instructions!B678","v":0},null,null,"--",0,{"$f":"Table_2[[#This Row],[Column20]]+Table_2[[#This Row],[Column56]]","v":0},"",{"$f":"Table_2[[#This Row],[Column20]]+Table_2[[#This Row],[Column56]]","v":0},"",{"$f":"Table_2[[#This Row],[Column57]]+Table_2[[#This Row],[Column16]]+Table_2[[#This Row],[Column15]]","v":0},"",{"$f":"(K648/Instructions!$C$23)*100","v":0},{"$f":"(L648/Instructions!$C$24)*100","v":0},{"$f":"(Y648/Instructions!$C$25)*100","v":0},{"$f":"(AA648/Instructions!$C$27)*100","v":0},{"$f":"(AC648/Instructions!$C$29)*100","v":0},{"$f":"(V648/Instructions!$C$33)*100","v":0},{"$f":"(U648/Instructions!$C$32)*100","v":0},{"$f":"(W648/Instructions!$C$36)*100","v":{"$error":"#VALUE!"}},"","E","E","E","E","E","E","E","--",null,null,null,null,null,{"$f":"Table_2[[#This Row],[Column51]]&Table_2[[#This Row],[Column52]]&AW650","v":""}]
[null,null,null,null,null,null,null,null,null,null,null,null,null,null,null,{"$f":"Instructions!B683","v":0},null,{"$f":"Instructions!B677","v":0},{"$f":"Instructions!B678","v":0},{"$f":"Instructions!B679","v":0},null,null,"--",0,{"$f":"Table_2[[#This Row],[Column20]]+Table_2[[#This Row],[Column56]]","v":0},"",{"$f":"Table_2[[#This Row],[Column20]]+Table_2[[#This Row],[Column56]]","v":0},"",{"$f":"Table_2[[#This Row],[Column57]]+Table_2[[#This Row],[Column16]]+Table_2[[#This Row],[Column15]]","v":0},"",{"$f":"(K649/Instructions!$C$23)*100","v":0},{"$f":"(L649/Instructions!$C$24)*100","v":0},{"$f":"(Y649/Instructions!$C$25)*100","v":0},{"$f":"(AA649/Instructions!$C$27)*100","v":0},{"$f":"(AC649/Instructions!$C$29)*100","v":0},{"$f":"(V649/Instructions!$C$33)*100","v":0},{"$f":"(U649/Instructions!$C$32)*100","v":0},{"$f":"(W649/Instructions!$C$36)*100","v":{"$error":"#VALUE!"}},"","E","E","E","E","E","E","E","--",null,null,null,null,null,{"$f":"Table_2[[#This Row],[Column51]]&Table_2[[#This Row],[Column52]]&AW651","v":""}]
[null,null,null,null,null,null,null,null,null,null,null,null,null,null,null,{"$f":"Instructions!B684","v":0},null,{"$f":"Instructions!B678","v":0},{"$f":"Instructions!B679","v":0},{"$f":"Instructions!B680","v":0},null,null,"--",0,{"$f":"Table_2[[#This Row],[Column20]]+Table_2[[#This Row],[Column56]]","v":0},"",{"$f":"Table_2[[#This Row],[Column20]]+Table_2[[#This Row],[Column56]]","v":0},"",{"$f":"Table_2[[#This Row],[Column57]]+Table_2[[#This Row],[Column16]]+Table_2[[#This Row],[Column15]]","v":0},"",{"$f":"(K650/Instructions!$C$23)*100","v":0},{"$f":"(L650/Instructions!$C$24)*100","v":0},{"$f":"(Y650/Instructions!$C$25)*100","v":0},{"$f":"(AA650/Instructions!$C$27)*100","v":0},{"$f":"(AC650/Instructions!$C$29)*100","v":0},{"$f":"(V650/Instructions!$C$33)*100","v":0},{"$f":"(U650/Instructions!$C$32)*100","v":0},{"$f":"(W650/Instructions!$C$36)*100","v":{"$error":"#VALUE!"}},"","E","E","E","E","E","E","E","--",null,null,null,null,null,{"$f":"Table_2[[#This Row],[Column51]]&Table_2[[#This Row],[Column52]]&AW652","v":""}]
[null,null,null,null,null,null,null,null,null,null,null,null,null,null,null,{"$f":"Instructions!B685","v":0},null,{"$f":"Instructions!B679","v":0},{"$f":"Instructions!B680","v":0},{"$f":"Instructions!B681","v":0},null,null,"--",0,{"$f":"Table_2[[#This Row],[Column20]]+Table_2[[#This Row],[Column56]]","v":0},"",{"$f":"Table_2[[#This Row],[Column20]]+Table_2[[#This Row],[Column56]]","v":0},"",{"$f":"Table_2[[#This Row],[Column57]]+Table_2[[#This Row],[Column16]]+Table_2[[#This Row],[Column15]]","v":0},"",{"$f":"(K651/Instructions!$C$23)*100","v":0},{"$f":"(L651/Instructions!$C$24)*100","v":0},{"$f":"(Y651/Instructions!$C$25)*100","v":0},{"$f":"(AA651/Instructions!$C$27)*100","v":0},{"$f":"(AC651/Instructions!$C$29)*100","v":0},{"$f":"(V651/Instructions!$C$33)*100","v":0},{"$f":"(U651/Instructions!$C$32)*100","v":0},{"$f":"(W651/Instructions!$C$36)*100","v":{"$error":"#VALUE!"}},"","E","E","E","E","E","E","E","--",null,null,null,null,null,{"$f":"Table_2[[#This Row],[Column51]]&Table_2[[#This Row],[Column52]]&AW653","v":""}]
[null,null,null,null,null,null,null,null,null,null,null,null,null,null,null,{"$f":"Instructions!B686","v":0},null,{"$f":"Instructions!B680","v":0},{"$f":"Instructions!B681","v":0},{"$f":"Instructions!B682","v":0},null,null,"--",0,{"$f":"Table_2[[#This Row],[Column20]]+Table_2[[#This Row],[Column56]]","v":0},"",{"$f":"Table_2[[#This Row],[Column20]]+Table_2[[#This Row],[Column56]]","v":0},"",{"$f":"Table_2[[#This Row],[Column57]]+Table_2[[#This Row],[Column16]]+Table_2[[#This Row],[Column15]]","v":0},"",{"$f":"(K652/Instructions!$C$23)*100","v":0},{"$f":"(L652/Instructions!$C$24)*100","v":0},{"$f":"(Y652/Instructions!$C$25)*100","v":0},{"$f":"(AA652/Instructions!$C$27)*100","v":0},{"$f":"(AC652/Instructions!$C$29)*100","v":0},{"$f":"(V652/Instructions!$C$33)*100","v":0},{"$f":"(U652/Instructions!$C$32)*100","v":0},{"$f":"(W652/Instructions!$C$36)*100","v":{"$error":"#VALUE!"}},"","E","E","E","E","E","E","E","--",null,null,null,null,null,{"$f":"Table_2[[#This Row],[Column51]]&Table_2[[#This Row],[Column52]]&AW654","v":""}]
[null,null,null,null,null,null,null,null,null,null,null,null,null,null,null,{"$f":"Instructions!B687","v":0},null,{"$f":"Instructions!B681","v":0},{"$f":"Instructions!B682","v":0},{"$f":"Instructions!B683","v":0},null,null,"--",0,{"$f":"Table_2[[#This Row],[Column20]]+Table_2[[#This Row],[Column56]]","v":0},"",{"$f":"Table_2[[#This Row],[Column20]]+Table_2[[#This Row],[Column56]]","v":0},"",{"$f":"Table_2[[#This Row],[Column57]]+Table_2[[#This Row],[Column16]]+Table_2[[#This Row],[Column15]]","v":0},"",{"$f":"(K653/Instructions!$C$23)*100","v":0},{"$f":"(L653/Instructions!$C$24)*100","v":0},{"$f":"(Y653/Instructions!$C$25)*100","v":0},{"$f":"(AA653/Instructions!$C$27)*100","v":0},{"$f":"(AC653/Instructions!$C$29)*100","v":0},{"$f":"(V653/Instructions!$C$33)*100","v":0},{"$f":"(U653/Instructions!$C$32)*100","v":0},{"$f":"(W653/Instructions!$C$36)*100","v":{"$error":"#VALUE!"}},"","E","E","E","E","E","E","E","--",null,null,null,null,null,{"$f":"Table_2[[#This Row],[Column51]]&Table_2[[#This Row],[Column52]]&AW655","v":""}]
[null,null,null,null,null,null,null,null,null,null,null,null,null,null,null,{"$f":"Instructions!B688","v":0},null,{"$f":"Instructions!B682","v":0},{"$f":"Instructions!B683","v":0},{"$f":"Instructions!B684","v":0},null,null,"--",0,{"$f":"Table_2[[#This Row],[Column20]]+Table_2[[#This Row],[Column56]]","v":0},"",{"$f":"Table_2[[#This Row],[Column20]]+Table_2[[#This Row],[Column56]]","v":0},"",{"$f":"Table_2[[#This Row],[Column57]]+Table_2[[#This Row],[Column16]]+Table_2[[#This Row],[Column15]]","v":0},"",{"$f":"(K654/Instructions!$C$23)*100","v":0},{"$f":"(L654/Instructions!$C$24)*100","v":0},{"$f":"(Y654/Instructions!$C$25)*100","v":0},{"$f":"(AA654/Instructions!$C$27)*100","v":0},{"$f":"(AC654/Instructions!$C$29)*100","v":0},{"$f":"(V654/Instructions!$C$33)*100","v":0},{"$f":"(U654/Instructions!$C$32)*100","v":0},{"$f":"(W654/Instructions!$C$36)*100","v":{"$error":"#VALUE!"}},"","E","E","E","E","E","E","E","--",null,null,null,null,null,{"$f":"Table_2[[#This Row],[Column51]]&Table_2[[#This Row],[Column52]]&AW656","v":""}]
[null,null,null,null,null,null,null,null,null,null,null,null,null,null,null,{"$f":"Instructions!B689","v":0},null,{"$f":"Instructions!B683","v":0},{"$f":"Instructions!B684","v":0},{"$f":"Instructions!B685","v":0},null,null,"--",0,{"$f":"Table_2[[#This Row],[Column20]]+Table_2[[#This Row],[Column56]]","v":0},"",{"$f":"Table_2[[#This Row],[Column20]]+Table_2[[#This Row],[Column56]]","v":0},"",{"$f":"Table_2[[#This Row],[Column57]]+Table_2[[#This Row],[Column16]]+Table_2[[#This Row],[Column15]]","v":0},"",{"$f":"(K655/Instructions!$C$23)*100","v":0},{"$f":"(L655/Instructions!$C$24)*100","v":0},{"$f":"(Y655/Instructions!$C$25)*100","v":0},{"$f":"(AA655/Instructions!$C$27)*100","v":0},{"$f":"(AC655/Instructions!$C$29)*100","v":0},{"$f":"(V655/Instructions!$C$33)*100","v":0},{"$f":"(U655/Instructions!$C$32)*100","v":0},{"$f":"(W655/Instructions!$C$36)*100","v":{"$error":"#VALUE!"}},"","E","E","E","E","E","E","E","--",null,null,null,null,null,{"$f":"Table_2[[#This Row],[Column51]]&Table_2[[#This Row],[Column52]]&AW657","v":""}]
[null,null,null,null,null,null,null,null,null,null,null,null,null,null,null,{"$f":"Instructions!B690","v":0},null,{"$f":"Instructions!B684","v":0},{"$f":"Instructions!B685","v":0},{"$f":"Instructions!B686","v":0},null,null,"--",0,{"$f":"Table_2[[#This Row],[Column20]]+Table_2[[#This Row],[Column56]]","v":0},"",{"$f":"Table_2[[#This Row],[Column20]]+Table_2[[#This Row],[Column56]]","v":0},"",{"$f":"Table_2[[#This Row],[Column57]]+Table_2[[#This Row],[Column16]]+Table_2[[#This Row],[Column15]]","v":0},"",{"$f":"(K656/Instructions!$C$23)*100","v":0},{"$f":"(L656/Instructions!$C$24)*100","v":0},{"$f":"(Y656/Instructions!$C$25)*100","v":0},{"$f":"(AA656/Instructions!$C$27)*100","v":0},{"$f":"(AC656/Instructions!$C$29)*100","v":0},{"$f":"(V656/Instructions!$C$33)*100","v":0},{"$f":"(U656/Instructions!$C$32)*100","v":0},{"$f":"(W656/Instructions!$C$36)*100","v":{"$error":"#VALUE!"}},"","E","E","E","E","E","E","E","--",null,null,null,null,null,{"$f":"Table_2[[#This Row],[Column51]]&Table_2[[#This Row],[Column52]]&AW658","v":""}]
[null,null,null,null,null,null,null,null,null,null,null,null,null,null,null,{"$f":"Instructions!B691","v":0},null,{"$f":"Instructions!B685","v":0},{"$f":"Instructions!B686","v":0},{"$f":"Instructions!B687","v":0},null,null,"--",0,{"$f":"Table_2[[#This Row],[Column20]]+Table_2[[#This Row],[Column56]]","v":0},"",{"$f":"Table_2[[#This Row],[Column20]]+Table_2[[#This Row],[Column56]]","v":0},"",{"$f":"Table_2[[#This Row],[Column57]]+Table_2[[#This Row],[Column16]]+Table_2[[#This Row],[Column15]]","v":0},"",{"$f":"(K657/Instructions!$C$23)*100","v":0},{"$f":"(L657/Instructions!$C$24)*100","v":0},{"$f":"(Y657/Instructions!$C$25)*100","v":0},{"$f":"(AA657/Instructions!$C$27)*100","v":0},{"$f":"(AC657/Instructions!$C$29)*100","v":0},{"$f":"(V657/Instructions!$C$33)*100","v":0},{"$f":"(U657/Instructions!$C$32)*100","v":0},{"$f":"(W657/Instructions!$C$36)*100","v":{"$error":"#VALUE!"}},"","E","E","E","E","E","E","E","--",null,null,null,null,null,{"$f":"Table_2[[#This Row],[Column51]]&Table_2[[#This Row],[Column52]]&AW659","v":""}]
[null,null,null,null,null,null,null,null,null,null,null,null,null,null,null,{"$f":"Instructions!B692","v":0},null,{"$f":"Instructions!B686","v":0},{"$f":"Instructions!B687","v":0},{"$f":"Instructions!B688","v":0},null,null,"--",0,{"$f":"Table_2[[#This Row],[Column20]]+Table_2[[#This Row],[Column56]]","v":0},"",{"$f":"Table_2[[#This Row],[Column20]]+Table_2[[#This Row],[Column56]]","v":0},"",{"$f":"Table_2[[#This Row],[Column57]]+Table_2[[#This Row],[Column16]]+Table_2[[#This Row],[Column15]]","v":0},"",{"$f":"(K658/Instructions!$C$23)*100","v":0},{"$f":"(L658/Instructions!$C$24)*100","v":0},{"$f":"(Y658/Instructions!$C$25)*100","v":0},{"$f":"(AA658/Instructions!$C$27)*100","v":0},{"$f":"(AC658/Instructions!$C$29)*100","v":0},{"$f":"(V658/Instructions!$C$33)*100","v":0},{"$f":"(U658/Instructions!$C$32)*100","v":0},{"$f":"(W658/Instructions!$C$36)*100","v":{"$error":"#VALUE!"}},"","E","E","E","E","E","E","E","--",null,null,null,null,null,{"$f":"Table_2[[#This Row],[Column51]]&Table_2[[#This Row],[Column52]]&AW660","v":""}]
[null,null,null,null,null,null,null,null,null,null,null,null,null,null,null,{"$f":"Instructions!B693","v":0},null,{"$f":"Instructions!B687","v":0},{"$f":"Instructions!B688","v":0},{"$f":"Instructions!B689","v":0},null,null,"--",0,{"$f":"Table_2[[#This Row],[Column20]]+Table_2[[#This Row],[Column56]]","v":0},"",{"$f":"Table_2[[#This Row],[Column20]]+Table_2[[#This Row],[Column56]]","v":0},"",{"$f":"Table_2[[#This Row],[Column57]]+Table_2[[#This Row],[Column16]]+Table_2[[#This Row],[Column15]]","v":0},"",{"$f":"(K659/Instructions!$C$23)*100","v":0},{"$f":"(L659/Instructions!$C$24)*100","v":0},{"$f":"(Y659/Instructions!$C$25)*100","v":0},{"$f":"(AA659/Instructions!$C$27)*100","v":0},{"$f":"(AC659/Instructions!$C$29)*100","v":0},{"$f":"(V659/Instructions!$C$33)*100","v":0},{"$f":"(U659/Instructions!$C$32)*100","v":0},{"$f":"(W659/Instructions!$C$36)*100","v":{"$error":"#VALUE!"}},"","E","E","E","E","E","E","E","--",null,null,null,null,null,{"$f":"Table_2[[#This Row],[Column51]]&Table_2[[#This Row],[Column52]]&AW661","v":""}]
[null,null,null,null,null,null,null,null,null,null,null,null,null,null,null,{"$f":"Instructions!B694","v":0},null,{"$f":"Instructions!B688","v":0},{"$f":"Instructions!B689","v":0},{"$f":"Instructions!B690","v":0},null,null,"--",0,{"$f":"Table_2[[#This Row],[Column20]]+Table_2[[#This Row],[Column56]]","v":0},"",{"$f":"Table_2[[#This Row],[Column20]]+Table_2[[#This Row],[Column56]]","v":0},"",{"$f":"Table_2[[#This Row],[Column57]]+Table_2[[#This Row],[Column16]]+Table_2[[#This Row],[Column15]]","v":0},"",{"$f":"(K660/Instructions!$C$23)*100","v":0},{"$f":"(L660/Instructions!$C$24)*100","v":0},{"$f":"(Y660/Instructions!$C$25)*100","v":0},{"$f":"(AA660/Instructions!$C$27)*100","v":0},{"$f":"(AC660/Instructions!$C$29)*100","v":0},{"$f":"(V660/Instructions!$C$33)*100","v":0},{"$f":"(U660/Instructions!$C$32)*100","v":0},{"$f":"(W660/Instructions!$C$36)*100","v":{"$error":"#VALUE!"}},"","E","E","E","E","E","E","E","--",null,null,null,null,null,{"$f":"Table_2[[#This Row],[Column51]]&Table_2[[#This Row],[Column52]]&AW662","v":""}]
[null,null,null,null,null,null,null,null,null,null,null,null,null,null,null,{"$f":"Instructions!B695","v":0},null,{"$f":"Instructions!B689","v":0},{"$f":"Instructions!B690","v":0},{"$f":"Instructions!B691","v":0},null,null,"--",0,{"$f":"Table_2[[#This Row],[Column20]]+Table_2[[#This Row],[Column56]]","v":0},"",{"$f":"Table_2[[#This Row],[Column20]]+Table_2[[#This Row],[Column56]]","v":0},"",{"$f":"Table_2[[#This Row],[Column57]]+Table_2[[#This Row],[Column16]]+Table_2[[#This Row],[Column15]]","v":0},"",{"$f":"(K661/Instructions!$C$23)*100","v":0},{"$f":"(L661/Instructions!$C$24)*100","v":0},{"$f":"(Y661/Instructions!$C$25)*100","v":0},{"$f":"(AA661/Instructions!$C$27)*100","v":0},{"$f":"(AC661/Instructions!$C$29)*100","v":0},{"$f":"(V661/Instructions!$C$33)*100","v":0},{"$f":"(U661/Instructions!$C$32)*100","v":0},{"$f":"(W661/Instructions!$C$36)*100","v":{"$error":"#VALUE!"}},"","E","E","E","E","E","E","E","--",null,null,null,null,null,{"$f":"Table_2[[#This Row],[Column51]]&Table_2[[#This Row],[Column52]]&AW663","v":""}]
[null,null,null,null,null,null,null,null,null,null,null,null,null,null,null,{"$f":"Instructions!B696","v":0},null,{"$f":"Instructions!B690","v":0},{"$f":"Instructions!B691","v":0},{"$f":"Instructions!B692","v":0},null,null,"--",0,{"$f":"Table_2[[#This Row],[Column20]]+Table_2[[#This Row],[Column56]]","v":0},"",{"$f":"Table_2[[#This Row],[Column20]]+Table_2[[#This Row],[Column56]]","v":0},"",{"$f":"Table_2[[#This Row],[Column57]]+Table_2[[#This Row],[Column16]]+Table_2[[#This Row],[Column15]]","v":0},"",{"$f":"(K662/Instructions!$C$23)*100","v":0},{"$f":"(L662/Instructions!$C$24)*100","v":0},{"$f":"(Y662/Instructions!$C$25)*100","v":0},{"$f":"(AA662/Instructions!$C$27)*100","v":0},{"$f":"(AC662/Instructions!$C$29)*100","v":0},{"$f":"(V662/Instructions!$C$33)*100","v":0},{"$f":"(U662/Instructions!$C$32)*100","v":0},{"$f":"(W662/Instructions!$C$36)*100","v":{"$error":"#VALUE!"}},"","E","E","E","E","E","E","E","--",null,null,null,null,null,{"$f":"Table_2[[#This Row],[Column51]]&Table_2[[#This Row],[Column52]]&AW664","v":""}]
[null,null,null,null,null,null,null,null,null,null,null,null,null,null,null,{"$f":"Instructions!B697","v":0},null,{"$f":"Instructions!B691","v":0},{"$f":"Instructions!B692","v":0},{"$f":"Instructions!B693","v":0},null,null,"--",0,{"$f":"Table_2[[#This Row],[Column20]]+Table_2[[#This Row],[Column56]]","v":0},"",{"$f":"Table_2[[#This Row],[Column20]]+Table_2[[#This Row],[Column56]]","v":0},"",{"$f":"Table_2[[#This Row],[Column57]]+Table_2[[#This Row],[Column16]]+Table_2[[#This Row],[Column15]]","v":0},"",{"$f":"(K663/Instructions!$C$23)*100","v":0},{"$f":"(L663/Instructions!$C$24)*100","v":0},{"$f":"(Y663/Instructions!$C$25)*100","v":0},{"$f":"(AA663/Instructions!$C$27)*100","v":0},{"$f":"(AC663/Instructions!$C$29)*100","v":0},{"$f":"(V663/Instructions!$C$33)*100","v":0},{"$f":"(U663/Instructions!$C$32)*100","v":0},{"$f":"(W663/Instructions!$C$36)*100","v":{"$error":"#VALUE!"}},"","E","E","E","E","E","E","E","--",null,null,null,null,null,{"$f":"Table_2[[#This Row],[Column51]]&Table_2[[#This Row],[Column52]]&AW665","v":""}]
[null,null,null,null,null,null,null,null,null,null,null,null,null,null,null,{"$f":"Instructions!B698","v":0},null,{"$f":"Instructions!B692","v":0},{"$f":"Instructions!B693","v":0},{"$f":"Instructions!B694","v":0},null,null,"--",0,{"$f":"Table_2[[#This Row],[Column20]]+Table_2[[#This Row],[Column56]]","v":0},"",{"$f":"Table_2[[#This Row],[Column20]]+Table_2[[#This Row],[Column56]]","v":0},"",{"$f":"Table_2[[#This Row],[Column57]]+Table_2[[#This Row],[Column16]]+Table_2[[#This Row],[Column15]]","v":0},"",{"$f":"(K664/Instructions!$C$23)*100","v":0},{"$f":"(L664/Instructions!$C$24)*100","v":0},{"$f":"(Y664/Instructions!$C$25)*100","v":0},{"$f":"(AA664/Instructions!$C$27)*100","v":0},{"$f":"(AC664/Instructions!$C$29)*100","v":0},{"$f":"(V664/Instructions!$C$33)*100","v":0},{"$f":"(U664/Instructions!$C$32)*100","v":0},{"$f":"(W664/Instructions!$C$36)*100","v":{"$error":"#VALUE!"}},"","E","E","E","E","E","E","E","--",null,null,null,null,null,{"$f":"Table_2[[#This Row],[Column51]]&Table_2[[#This Row],[Column52]]&AW666","v":""}]
[null,null,null,null,null,null,null,null,null,null,null,null,null,null,null,{"$f":"Instructions!B699","v":0},null,{"$f":"Instructions!B693","v":0},{"$f":"Instructions!B694","v":0},{"$f":"Instructions!B695","v":0},null,null,"--",0,{"$f":"Table_2[[#This Row],[Column20]]+Table_2[[#This Row],[Column56]]","v":0},"",{"$f":"Table_2[[#This Row],[Column20]]+Table_2[[#This Row],[Column56]]","v":0},"",{"$f":"Table_2[[#This Row],[Column57]]+Table_2[[#This Row],[Column16]]+Table_2[[#This Row],[Column15]]","v":0},"",{"$f":"(K665/Instructions!$C$23)*100","v":0},{"$f":"(L665/Instructions!$C$24)*100","v":0},{"$f":"(Y665/Instructions!$C$25)*100","v":0},{"$f":"(AA665/Instructions!$C$27)*100","v":0},{"$f":"(AC665/Instructions!$C$29)*100","v":0},{"$f":"(V665/Instructions!$C$33)*100","v":0},{"$f":"(U665/Instructions!$C$32)*100","v":0},{"$f":"(W665/Instructions!$C$36)*100","v":{"$error":"#VALUE!"}},"","E","E","E","E","E","E","E","--",null,null,null,null,null,{"$f":"Table_2[[#This Row],[Column51]]&Table_2[[#This Row],[Column52]]&AW667","v":""}]
[null,null,null,null,null,null,null,null,null,null,null,null,null,null,null,{"$f":"Instructions!B700","v":0},null,{"$f":"Instructions!B694","v":0},{"$f":"Instructions!B695","v":0},{"$f":"Instructions!B696","v":0},null,null,"--",0,{"$f":"Table_2[[#This Row],[Column20]]+Table_2[[#This Row],[Column56]]","v":0},"",{"$f":"Table_2[[#This Row],[Column20]]+Table_2[[#This Row],[Column56]]","v":0},"",{"$f":"Table_2[[#This Row],[Column57]]+Table_2[[#This Row],[Column16]]+Table_2[[#This Row],[Column15]]","v":0},"",{"$f":"(K666/Instructions!$C$23)*100","v":0},{"$f":"(L666/Instructions!$C$24)*100","v":0},{"$f":"(Y666/Instructions!$C$25)*100","v":0},{"$f":"(AA666/Instructions!$C$27)*100","v":0},{"$f":"(AC666/Instructions!$C$29)*100","v":0},{"$f":"(V666/Instructions!$C$33)*100","v":0},{"$f":"(U666/Instructions!$C$32)*100","v":0},{"$f":"(W666/Instructions!$C$36)*100","v":{"$error":"#VALUE!"}},"","E","E","E","E","E","E","E","--",null,null,null,null,null,{"$f":"Table_2[[#This Row],[Column51]]&Table_2[[#This Row],[Column52]]&AW668","v":""}]
[null,null,null,null,null,null,null,null,null,null,null,null,null,null,null,{"$f":"Instructions!B701","v":0},null,{"$f":"Instructions!B695","v":0},{"$f":"Instructions!B696","v":0},{"$f":"Instructions!B697","v":0},null,null,"--",0,{"$f":"Table_2[[#This Row],[Column20]]+Table_2[[#This Row],[Column56]]","v":0},"",{"$f":"Table_2[[#This Row],[Column20]]+Table_2[[#This Row],[Column56]]","v":0},"",{"$f":"Table_2[[#This Row],[Column57]]+Table_2[[#This Row],[Column16]]+Table_2[[#This Row],[Column15]]","v":0},"",{"$f":"(K667/Instructions!$C$23)*100","v":0},{"$f":"(L667/Instructions!$C$24)*100","v":0},{"$f":"(Y667/Instructions!$C$25)*100","v":0},{"$f":"(AA667/Instructions!$C$27)*100","v":0},{"$f":"(AC667/Instructions!$C$29)*100","v":0},{"$f":"(V667/Instructions!$C$33)*100","v":0},{"$f":"(U667/Instructions!$C$32)*100","v":0},{"$f":"(W667/Instructions!$C$36)*100","v":{"$error":"#VALUE!"}},"","E","E","E","E","E","E","E","--",null,null,null,null,null,{"$f":"Table_2[[#This Row],[Column51]]&Table_2[[#This Row],[Column52]]&AW669","v":""}]
[null,null,null,null,null,null,null,null,null,null,null,null,null,null,null,{"$f":"Instructions!B702","v":0},null,{"$f":"Instructions!B696","v":0},{"$f":"Instructions!B697","v":0},{"$f":"Instructions!B698","v":0},null,null,"--",0,{"$f":"Table_2[[#This Row],[Column20]]+Table_2[[#This Row],[Column56]]","v":0},"",{"$f":"Table_2[[#This Row],[Column20]]+Table_2[[#This Row],[Column56]]","v":0},"",{"$f":"Table_2[[#This Row],[Column57]]+Table_2[[#This Row],[Column16]]+Table_2[[#This Row],[Column15]]","v":0},"",{"$f":"(K668/Instructions!$C$23)*100","v":0},{"$f":"(L668/Instructions!$C$24)*100","v":0},{"$f":"(Y668/Instructions!$C$25)*100","v":0},{"$f":"(AA668/Instructions!$C$27)*100","v":0},{"$f":"(AC668/Instructions!$C$29)*100","v":0},{"$f":"(V668/Instructions!$C$33)*100","v":0},{"$f":"(U668/Instructions!$C$32)*100","v":0},{"$f":"(W668/Instructions!$C$36)*100","v":{"$error":"#VALUE!"}},"","E","E","E","E","E","E","E","--",null,null,null,null,null,{"$f":"Table_2[[#This Row],[Column51]]&Table_2[[#This Row],[Column52]]&AW670","v":""}]
[null,null,null,null,null,null,null,null,null,null,null,null,null,null,null,{"$f":"Instructions!B703","v":0},null,{"$f":"Instructions!B697","v":0},{"$f":"Instructions!B698","v":0},{"$f":"Instructions!B699","v":0},null,null,"--",0,{"$f":"Table_2[[#This Row],[Column20]]+Table_2[[#This Row],[Column56]]","v":0},"",{"$f":"Table_2[[#This Row],[Column20]]+Table_2[[#This Row],[Column56]]","v":0},"",{"$f":"Table_2[[#This Row],[Column57]]+Table_2[[#This Row],[Column16]]+Table_2[[#This Row],[Column15]]","v":0},"",{"$f":"(K669/Instructions!$C$23)*100","v":0},{"$f":"(L669/Instructions!$C$24)*100","v":0},{"$f":"(Y669/Instructions!$C$25)*100","v":0},{"$f":"(AA669/Instructions!$C$27)*100","v":0},{"$f":"(AC669/Instructions!$C$29)*100","v":0},{"$f":"(V669/Instructions!$C$33)*100","v":0},{"$f":"(U669/Instructions!$C$32)*100","v":0},{"$f":"(W669/Instructions!$C$36)*100","v":{"$error":"#VALUE!"}},"","E","E","E","E","E","E","E","--",null,null,null,null,null,{"$f":"Table_2[[#This Row],[Column51]]&Table_2[[#This Row],[Column52]]&AW671","v":""}]
[null,null,null,null,null,null,null,null,null,null,null,null,null,null,null,{"$f":"Instructions!B704","v":0},null,{"$f":"Instructions!B698","v":0},{"$f":"Instructions!B699","v":0},{"$f":"Instructions!B700","v":0},null,null,"--",0,{"$f":"Table_2[[#This Row],[Column20]]+Table_2[[#This Row],[Column56]]","v":0},"",{"$f":"Table_2[[#This Row],[Column20]]+Table_2[[#This Row],[Column56]]","v":0},"",{"$f":"Table_2[[#This Row],[Column57]]+Table_2[[#This Row],[Column16]]+Table_2[[#This Row],[Column15]]","v":0},"",{"$f":"(K670/Instructions!$C$23)*100","v":0},{"$f":"(L670/Instructions!$C$24)*100","v":0},{"$f":"(Y670/Instructions!$C$25)*100","v":0},{"$f":"(AA670/Instructions!$C$27)*100","v":0},{"$f":"(AC670/Instructions!$C$29)*100","v":0},{"$f":"(V670/Instructions!$C$33)*100","v":0},{"$f":"(U670/Instructions!$C$32)*100","v":0},{"$f":"(W670/Instructions!$C$36)*100","v":{"$error":"#VALUE!"}},"","E","E","E","E","E","E","E","--",null,null,null,null,null,{"$f":"Table_2[[#This Row],[Column51]]&Table_2[[#This Row],[Column52]]&AW672","v":""}]
[null,null,null,null,null,null,null,null,null,null,null,null,null,null,null,{"$f":"Instructions!B705","v":0},null,{"$f":"Instructions!B699","v":0},{"$f":"Instructions!B700","v":0},{"$f":"Instructions!B701","v":0},null,null,"--",0,{"$f":"Table_2[[#This Row],[Column20]]+Table_2[[#This Row],[Column56]]","v":0},"",{"$f":"Table_2[[#This Row],[Column20]]+Table_2[[#This Row],[Column56]]","v":0},"",{"$f":"Table_2[[#This Row],[Column57]]+Table_2[[#This Row],[Column16]]+Table_2[[#This Row],[Column15]]","v":0},"",{"$f":"(K671/Instructions!$C$23)*100","v":0},{"$f":"(L671/Instructions!$C$24)*100","v":0},{"$f":"(Y671/Instructions!$C$25)*100","v":0},{"$f":"(AA671/Instructions!$C$27)*100","v":0},{"$f":"(AC671/Instructions!$C$29)*100","v":0},{"$f":"(V671/Instructions!$C$33)*100","v":0},{"$f":"(U671/Instructions!$C$32)*100","v":0},{"$f":"(W671/Instructions!$C$36)*100","v":{"$error":"#VALUE!"}},"","E","E","E","E","E","E","E","--",null,null,null,null,null,{"$f":"Table_2[[#This Row],[Column51]]&Table_2[[#This Row],[Column52]]&AW673","v":""}]
[null,null,null,null,null,null,null,null,null,null,null,null,null,null,null,{"$f":"Instructions!B706","v":0},null,{"$f":"Instructions!B700","v":0},{"$f":"Instructions!B701","v":0},{"$f":"Instructions!B702","v":0},null,null,"--",0,{"$f":"Table_2[[#This Row],[Column20]]+Table_2[[#This Row],[Column56]]","v":0},"",{"$f":"Table_2[[#This Row],[Column20]]+Table_2[[#This Row],[Column56]]","v":0},"",{"$f":"Table_2[[#This Row],[Column57]]+Table_2[[#This Row],[Column16]]+Table_2[[#This Row],[Column15]]","v":0},"",{"$f":"(K672/Instructions!$C$23)*100","v":0},{"$f":"(L672/Instructions!$C$24)*100","v":0},{"$f":"(Y672/Instructions!$C$25)*100","v":0},{"$f":"(AA672/Instructions!$C$27)*100","v":0},{"$f":"(AC672/Instructions!$C$29)*100","v":0},{"$f":"(V672/Instructions!$C$33)*100","v":0},{"$f":"(U672/Instructions!$C$32)*100","v":0},{"$f":"(W672/Instructions!$C$36)*100","v":{"$error":"#VALUE!"}},"","E","E","E","E","E","E","E","--",null,null,null,null,null,{"$f":"Table_2[[#This Row],[Column51]]&Table_2[[#This Row],[Column52]]&AW674","v":""}]
[null,null,null,null,null,null,null,null,null,null,null,null,null,null,null,{"$f":"Instructions!B707","v":0},null,{"$f":"Instructions!B701","v":0},{"$f":"Instructions!B702","v":0},{"$f":"Instructions!B703","v":0},null,null,"--",0,{"$f":"Table_2[[#This Row],[Column20]]+Table_2[[#This Row],[Column56]]","v":0},"",{"$f":"Table_2[[#This Row],[Column20]]+Table_2[[#This Row],[Column56]]","v":0},"",{"$f":"Table_2[[#This Row],[Column57]]+Table_2[[#This Row],[Column16]]+Table_2[[#This Row],[Column15]]","v":0},"",{"$f":"(K673/Instructions!$C$23)*100","v":0},{"$f":"(L673/Instructions!$C$24)*100","v":0},{"$f":"(Y673/Instructions!$C$25)*100","v":0},{"$f":"(AA673/Instructions!$C$27)*100","v":0},{"$f":"(AC673/Instructions!$C$29)*100","v":0},{"$f":"(V673/Instructions!$C$33)*100","v":0},{"$f":"(U673/Instructions!$C$32)*100","v":0},{"$f":"(W673/Instructions!$C$36)*100","v":{"$error":"#VALUE!"}},"","E","E","E","E","E","E","E","--",null,null,null,null,null,{"$f":"Table_2[[#This Row],[Column51]]&Table_2[[#This Row],[Column52]]&AW675","v":""}]
[null,null,null,null,null,null,null,null,null,null,null,null,null,null,null,{"$f":"Instructions!B708","v":0},null,{"$f":"Instructions!B702","v":0},{"$f":"Instructions!B703","v":0},{"$f":"Instructions!B704","v":0},null,null,"--",0,{"$f":"Table_2[[#This Row],[Column20]]+Table_2[[#This Row],[Column56]]","v":0},"",{"$f":"Table_2[[#This Row],[Column20]]+Table_2[[#This Row],[Column56]]","v":0},"",{"$f":"Table_2[[#This Row],[Column57]]+Table_2[[#This Row],[Column16]]+Table_2[[#This Row],[Column15]]","v":0},"",{"$f":"(K674/Instructions!$C$23)*100","v":0},{"$f":"(L674/Instructions!$C$24)*100","v":0},{"$f":"(Y674/Instructions!$C$25)*100","v":0},{"$f":"(AA674/Instructions!$C$27)*100","v":0},{"$f":"(AC674/Instructions!$C$29)*100","v":0},{"$f":"(V674/Instructions!$C$33)*100","v":0},{"$f":"(U674/Instructions!$C$32)*100","v":0},{"$f":"(W674/Instructions!$C$36)*100","v":{"$error":"#VALUE!"}},"","E","E","E","E","E","E","E","--",null,null,null,null,null,{"$f":"Table_2[[#This Row],[Column51]]&Table_2[[#This Row],[Column52]]&AW676","v":""}]
[null,null,null,null,null,null,null,null,null,null,null,null,null,null,null,{"$f":"Instructions!B709","v":0},null,{"$f":"Instructions!B703","v":0},{"$f":"Instructions!B704","v":0},{"$f":"Instructions!B705","v":0},null,null,"--",0,{"$f":"Table_2[[#This Row],[Column20]]+Table_2[[#This Row],[Column56]]","v":0},"",{"$f":"Table_2[[#This Row],[Column20]]+Table_2[[#This Row],[Column56]]","v":0},"",{"$f":"Table_2[[#This Row],[Column57]]+Table_2[[#This Row],[Column16]]+Table_2[[#This Row],[Column15]]","v":0},"",{"$f":"(K675/Instructions!$C$23)*100","v":0},{"$f":"(L675/Instructions!$C$24)*100","v":0},{"$f":"(Y675/Instructions!$C$25)*100","v":0},{"$f":"(AA675/Instructions!$C$27)*100","v":0},{"$f":"(AC675/Instructions!$C$29)*100","v":0},{"$f":"(V675/Instructions!$C$33)*100","v":0},{"$f":"(U675/Instructions!$C$32)*100","v":0},{"$f":"(W675/Instructions!$C$36)*100","v":{"$error":"#VALUE!"}},"","E","E","E","E","E","E","E","--",null,null,null,null,null,{"$f":"Table_2[[#This Row],[Column51]]&Table_2[[#This Row],[Column52]]&AW677","v":""}]
[null,null,null,null,null,null,null,null,null,null,null,null,null,null,null,{"$f":"Instructions!B710","v":0},null,{"$f":"Instructions!B704","v":0},{"$f":"Instructions!B705","v":0},{"$f":"Instructions!B706","v":0},null,null,"--",0,{"$f":"Table_2[[#This Row],[Column20]]+Table_2[[#This Row],[Column56]]","v":0},"",{"$f":"Table_2[[#This Row],[Column20]]+Table_2[[#This Row],[Column56]]","v":0},"",{"$f":"Table_2[[#This Row],[Column57]]+Table_2[[#This Row],[Column16]]+Table_2[[#This Row],[Column15]]","v":0},"",{"$f":"(K676/Instructions!$C$23)*100","v":0},{"$f":"(L676/Instructions!$C$24)*100","v":0},{"$f":"(Y676/Instructions!$C$25)*100","v":0},{"$f":"(AA676/Instructions!$C$27)*100","v":0},{"$f":"(AC676/Instructions!$C$29)*100","v":0},{"$f":"(V676/Instructions!$C$33)*100","v":0},{"$f":"(U676/Instructions!$C$32)*100","v":0},{"$f":"(W676/Instructions!$C$36)*100","v":{"$error":"#VALUE!"}},"","E","E","E","E","E","E","E","--",null,null,null,null,null,{"$f":"Table_2[[#This Row],[Column51]]&Table_2[[#This Row],[Column52]]&AW678","v":""}]
[null,null,null,null,null,null,null,null,null,null,null,null,null,null,null,{"$f":"Instructions!B711","v":0},null,{"$f":"Instructions!B705","v":0},{"$f":"Instructions!B706","v":0},{"$f":"Instructions!B707","v":0},null,null,"--",0,{"$f":"Table_2[[#This Row],[Column20]]+Table_2[[#This Row],[Column56]]","v":0},"",{"$f":"Table_2[[#This Row],[Column20]]+Table_2[[#This Row],[Column56]]","v":0},"",{"$f":"Table_2[[#This Row],[Column57]]+Table_2[[#This Row],[Column16]]+Table_2[[#This Row],[Column15]]","v":0},"",{"$f":"(K677/Instructions!$C$23)*100","v":0},{"$f":"(L677/Instructions!$C$24)*100","v":0},{"$f":"(Y677/Instructions!$C$25)*100","v":0},{"$f":"(AA677/Instructions!$C$27)*100","v":0},{"$f":"(AC677/Instructions!$C$29)*100","v":0},{"$f":"(V677/Instructions!$C$33)*100","v":0},{"$f":"(U677/Instructions!$C$32)*100","v":0},{"$f":"(W677/Instructions!$C$36)*100","v":{"$error":"#VALUE!"}},"","E","E","E","E","E","E","E","--",null,null,null,null,null,{"$f":"Table_2[[#This Row],[Column51]]&Table_2[[#This Row],[Column52]]&AW679","v":""}]
[null,null,null,null,null,null,null,null,null,null,null,null,null,null,null,{"$f":"Instructions!B712","v":0},null,{"$f":"Instructions!B706","v":0},{"$f":"Instructions!B707","v":0},{"$f":"Instructions!B708","v":0},null,null,"--",0,{"$f":"Table_2[[#This Row],[Column20]]+Table_2[[#This Row],[Column56]]","v":0},"",{"$f":"Table_2[[#This Row],[Column20]]+Table_2[[#This Row],[Column56]]","v":0},"",{"$f":"Table_2[[#This Row],[Column57]]+Table_2[[#This Row],[Column16]]+Table_2[[#This Row],[Column15]]","v":0},"",{"$f":"(K678/Instructions!$C$23)*100","v":0},{"$f":"(L678/Instructions!$C$24)*100","v":0},{"$f":"(Y678/Instructions!$C$25)*100","v":0},{"$f":"(AA678/Instructions!$C$27)*100","v":0},{"$f":"(AC678/Instructions!$C$29)*100","v":0},{"$f":"(V678/Instructions!$C$33)*100","v":0},{"$f":"(U678/Instructions!$C$32)*100","v":0},{"$f":"(W678/Instructions!$C$36)*100","v":{"$error":"#VALUE!"}},"","E","E","E","E","E","E","E","--",null,null,null,null,null,{"$f":"Table_2[[#This Row],[Column51]]&Table_2[[#This Row],[Column52]]&AW680","v":""}]
[null,null,null,null,null,null,null,null,null,null,null,null,null,null,null,{"$f":"Instructions!B713","v":0},null,{"$f":"Instructions!B707","v":0},{"$f":"Instructions!B708","v":0},{"$f":"Instructions!B709","v":0},null,null,"--",0,{"$f":"Table_2[[#This Row],[Column20]]+Table_2[[#This Row],[Column56]]","v":0},"",{"$f":"Table_2[[#This Row],[Column20]]+Table_2[[#This Row],[Column56]]","v":0},"",{"$f":"Table_2[[#This Row],[Column57]]+Table_2[[#This Row],[Column16]]+Table_2[[#This Row],[Column15]]","v":0},"",{"$f":"(K679/Instructions!$C$23)*100","v":0},{"$f":"(L679/Instructions!$C$24)*100","v":0},{"$f":"(Y679/Instructions!$C$25)*100","v":0},{"$f":"(AA679/Instructions!$C$27)*100","v":0},{"$f":"(AC679/Instructions!$C$29)*100","v":0},{"$f":"(V679/Instructions!$C$33)*100","v":0},{"$f":"(U679/Instructions!$C$32)*100","v":0},{"$f":"(W679/Instructions!$C$36)*100","v":{"$error":"#VALUE!"}},"","E","E","E","E","E","E","E","--",null,null,null,null,null,{"$f":"Table_2[[#This Row],[Column51]]&Table_2[[#This Row],[Column52]]&AW681","v":""}]
[null,null,null,null,null,null,null,null,null,null,null,null,null,null,null,{"$f":"Instructions!B714","v":0},null,{"$f":"Instructions!B708","v":0},{"$f":"Instructions!B709","v":0},{"$f":"Instructions!B710","v":0},null,null,"--",0,{"$f":"Table_2[[#This Row],[Column20]]+Table_2[[#This Row],[Column56]]","v":0},"",{"$f":"Table_2[[#This Row],[Column20]]+Table_2[[#This Row],[Column56]]","v":0},"",{"$f":"Table_2[[#This Row],[Column57]]+Table_2[[#This Row],[Column16]]+Table_2[[#This Row],[Column15]]","v":0},"",{"$f":"(K680/Instructions!$C$23)*100","v":0},{"$f":"(L680/Instructions!$C$24)*100","v":0},{"$f":"(Y680/Instructions!$C$25)*100","v":0},{"$f":"(AA680/Instructions!$C$27)*100","v":0},{"$f":"(AC680/Instructions!$C$29)*100","v":0},{"$f":"(V680/Instructions!$C$33)*100","v":0},{"$f":"(U680/Instructions!$C$32)*100","v":0},{"$f":"(W680/Instructions!$C$36)*100","v":{"$error":"#VALUE!"}},"","E","E","E","E","E","E","E","--",null,null,null,null,null,{"$f":"Table_2[[#This Row],[Column51]]&Table_2[[#This Row],[Column52]]&AW682","v":""}]
[null,null,null,null,null,null,null,null,null,null,null,null,null,null,null,{"$f":"Instructions!B715","v":0},null,{"$f":"Instructions!B709","v":0},{"$f":"Instructions!B710","v":0},{"$f":"Instructions!B711","v":0},null,null,"--",0,{"$f":"Table_2[[#This Row],[Column20]]+Table_2[[#This Row],[Column56]]","v":0},"",{"$f":"Table_2[[#This Row],[Column20]]+Table_2[[#This Row],[Column56]]","v":0},"",{"$f":"Table_2[[#This Row],[Column57]]+Table_2[[#This Row],[Column16]]+Table_2[[#This Row],[Column15]]","v":0},"",{"$f":"(K681/Instructions!$C$23)*100","v":0},{"$f":"(L681/Instructions!$C$24)*100","v":0},{"$f":"(Y681/Instructions!$C$25)*100","v":0},{"$f":"(AA681/Instructions!$C$27)*100","v":0},{"$f":"(AC681/Instructions!$C$29)*100","v":0},{"$f":"(V681/Instructions!$C$33)*100","v":0},{"$f":"(U681/Instructions!$C$32)*100","v":0},{"$f":"(W681/Instructions!$C$36)*100","v":{"$error":"#VALUE!"}},"","E","E","E","E","E","E","E","--",null,null,null,null,null,{"$f":"Table_2[[#This Row],[Column51]]&Table_2[[#This Row],[Column52]]&AW683","v":""}]
[null,null,null,null,null,null,null,null,null,null,null,null,null,null,null,{"$f":"Instructions!B716","v":0},null,{"$f":"Instructions!B710","v":0},{"$f":"Instructions!B711","v":0},{"$f":"Instructions!B712","v":0},null,null,"--",0,{"$f":"Table_2[[#This Row],[Column20]]+Table_2[[#This Row],[Column56]]","v":0},"",{"$f":"Table_2[[#This Row],[Column20]]+Table_2[[#This Row],[Column56]]","v":0},"",{"$f":"Table_2[[#This Row],[Column57]]+Table_2[[#This Row],[Column16]]+Table_2[[#This Row],[Column15]]","v":0},"",{"$f":"(K682/Instructions!$C$23)*100","v":0},{"$f":"(L682/Instructions!$C$24)*100","v":0},{"$f":"(Y682/Instructions!$C$25)*100","v":0},{"$f":"(AA682/Instructions!$C$27)*100","v":0},{"$f":"(AC682/Instructions!$C$29)*100","v":0},{"$f":"(V682/Instructions!$C$33)*100","v":0},{"$f":"(U682/Instructions!$C$32)*100","v":0},{"$f":"(W682/Instructions!$C$36)*100","v":{"$error":"#VALUE!"}},"","E","E","E","E","E","E","E","--",null,null,null,null,null,{"$f":"Table_2[[#This Row],[Column51]]&Table_2[[#This Row],[Column52]]&AW684","v":""}]
[null,null,null,null,null,null,null,null,null,null,null,null,null,null,null,{"$f":"Instructions!B717","v":0},null,{"$f":"Instructions!B711","v":0},{"$f":"Instructions!B712","v":0},{"$f":"Instructions!B713","v":0},null,null,"--",0,{"$f":"Table_2[[#This Row],[Column20]]+Table_2[[#This Row],[Column56]]","v":0},"",{"$f":"Table_2[[#This Row],[Column20]]+Table_2[[#This Row],[Column56]]","v":0},"",{"$f":"Table_2[[#This Row],[Column57]]+Table_2[[#This Row],[Column16]]+Table_2[[#This Row],[Column15]]","v":0},"",{"$f":"(K683/Instructions!$C$23)*100","v":0},{"$f":"(L683/Instructions!$C$24)*100","v":0},{"$f":"(Y683/Instructions!$C$25)*100","v":0},{"$f":"(AA683/Instructions!$C$27)*100","v":0},{"$f":"(AC683/Instructions!$C$29)*100","v":0},{"$f":"(V683/Instructions!$C$33)*100","v":0},{"$f":"(U683/Instructions!$C$32)*100","v":0},{"$f":"(W683/Instructions!$C$36)*100","v":{"$error":"#VALUE!"}},"","E","E","E","E","E","E","E","--",null,null,null,null,null,{"$f":"Table_2[[#This Row],[Column51]]&Table_2[[#This Row],[Column52]]&AW685","v":""}]
[null,null,null,null,null,null,null,null,null,null,null,null,null,null,null,{"$f":"Instructions!B718","v":0},null,{"$f":"Instructions!B712","v":0},{"$f":"Instructions!B713","v":0},{"$f":"Instructions!B714","v":0},null,null,"--",0,{"$f":"Table_2[[#This Row],[Column20]]+Table_2[[#This Row],[Column56]]","v":0},"",{"$f":"Table_2[[#This Row],[Column20]]+Table_2[[#This Row],[Column56]]","v":0},"",{"$f":"Table_2[[#This Row],[Column57]]+Table_2[[#This Row],[Column16]]+Table_2[[#This Row],[Column15]]","v":0},"",{"$f":"(K684/Instructions!$C$23)*100","v":0},{"$f":"(L684/Instructions!$C$24)*100","v":0},{"$f":"(Y684/Instructions!$C$25)*100","v":0},{"$f":"(AA684/Instructions!$C$27)*100","v":0},{"$f":"(AC684/Instructions!$C$29)*100","v":0},{"$f":"(V684/Instructions!$C$33)*100","v":0},{"$f":"(U684/Instructions!$C$32)*100","v":0},{"$f":"(W684/Instructions!$C$36)*100","v":{"$error":"#VALUE!"}},"","E","E","E","E","E","E","E","--",null,null,null,null,null,{"$f":"Table_2[[#This Row],[Column51]]&Table_2[[#This Row],[Column52]]&AW686","v":""}]
[null,null,null,null,null,null,null,null,null,null,null,null,null,null,null,{"$f":"Instructions!B719","v":0},null,{"$f":"Instructions!B713","v":0},{"$f":"Instructions!B714","v":0},{"$f":"Instructions!B715","v":0},null,null,"--",0,{"$f":"Table_2[[#This Row],[Column20]]+Table_2[[#This Row],[Column56]]","v":0},"",{"$f":"Table_2[[#This Row],[Column20]]+Table_2[[#This Row],[Column56]]","v":0},"",{"$f":"Table_2[[#This Row],[Column57]]+Table_2[[#This Row],[Column16]]+Table_2[[#This Row],[Column15]]","v":0},"",{"$f":"(K685/Instructions!$C$23)*100","v":0},{"$f":"(L685/Instructions!$C$24)*100","v":0},{"$f":"(Y685/Instructions!$C$25)*100","v":0},{"$f":"(AA685/Instructions!$C$27)*100","v":0},{"$f":"(AC685/Instructions!$C$29)*100","v":0},{"$f":"(V685/Instructions!$C$33)*100","v":0},{"$f":"(U685/Instructions!$C$32)*100","v":0},{"$f":"(W685/Instructions!$C$36)*100","v":{"$error":"#VALUE!"}},"","E","E","E","E","E","E","E","--",null,null,null,null,null,{"$f":"Table_2[[#This Row],[Column51]]&Table_2[[#This Row],[Column52]]&AW687","v":""}]
[null,null,null,null,null,null,null,null,null,null,null,null,null,null,null,{"$f":"Instructions!B720","v":0},null,{"$f":"Instructions!B714","v":0},{"$f":"Instructions!B715","v":0},{"$f":"Instructions!B716","v":0},null,null,"--",0,{"$f":"Table_2[[#This Row],[Column20]]+Table_2[[#This Row],[Column56]]","v":0},"",{"$f":"Table_2[[#This Row],[Column20]]+Table_2[[#This Row],[Column56]]","v":0},"",{"$f":"Table_2[[#This Row],[Column57]]+Table_2[[#This Row],[Column16]]+Table_2[[#This Row],[Column15]]","v":0},"",{"$f":"(K686/Instructions!$C$23)*100","v":0},{"$f":"(L686/Instructions!$C$24)*100","v":0},{"$f":"(Y686/Instructions!$C$25)*100","v":0},{"$f":"(AA686/Instructions!$C$27)*100","v":0},{"$f":"(AC686/Instructions!$C$29)*100","v":0},{"$f":"(V686/Instructions!$C$33)*100","v":0},{"$f":"(U686/Instructions!$C$32)*100","v":0},{"$f":"(W686/Instructions!$C$36)*100","v":{"$error":"#VALUE!"}},"","E","E","E","E","E","E","E","--",null,null,null,null,null,{"$f":"Table_2[[#This Row],[Column51]]&Table_2[[#This Row],[Column52]]&AW688","v":""}]
[null,null,null,null,null,null,null,null,null,null,null,null,null,null,null,{"$f":"Instructions!B721","v":0},null,{"$f":"Instructions!B715","v":0},{"$f":"Instructions!B716","v":0},{"$f":"Instructions!B717","v":0},null,null,"--",0,{"$f":"Table_2[[#This Row],[Column20]]+Table_2[[#This Row],[Column56]]","v":0},"",{"$f":"Table_2[[#This Row],[Column20]]+Table_2[[#This Row],[Column56]]","v":0},"",{"$f":"Table_2[[#This Row],[Column57]]+Table_2[[#This Row],[Column16]]+Table_2[[#This Row],[Column15]]","v":0},"",{"$f":"(K687/Instructions!$C$23)*100","v":0},{"$f":"(L687/Instructions!$C$24)*100","v":0},{"$f":"(Y687/Instructions!$C$25)*100","v":0},{"$f":"(AA687/Instructions!$C$27)*100","v":0},{"$f":"(AC687/Instructions!$C$29)*100","v":0},{"$f":"(V687/Instructions!$C$33)*100","v":0},{"$f":"(U687/Instructions!$C$32)*100","v":0},{"$f":"(W687/Instructions!$C$36)*100","v":{"$error":"#VALUE!"}},"","E","E","E","E","E","E","E","--",null,null,null,null,null,{"$f":"Table_2[[#This Row],[Column51]]&Table_2[[#This Row],[Column52]]&AW689","v":""}]
[null,null,null,null,null,null,null,null,null,null,null,null,null,null,null,{"$f":"Instructions!B722","v":0},null,{"$f":"Instructions!B716","v":0},{"$f":"Instructions!B717","v":0},{"$f":"Instructions!B718","v":0},null,null,"--",0,{"$f":"Table_2[[#This Row],[Column20]]+Table_2[[#This Row],[Column56]]","v":0},"",{"$f":"Table_2[[#This Row],[Column20]]+Table_2[[#This Row],[Column56]]","v":0},"",{"$f":"Table_2[[#This Row],[Column57]]+Table_2[[#This Row],[Column16]]+Table_2[[#This Row],[Column15]]","v":0},"",{"$f":"(K688/Instructions!$C$23)*100","v":0},{"$f":"(L688/Instructions!$C$24)*100","v":0},{"$f":"(Y688/Instructions!$C$25)*100","v":0},{"$f":"(AA688/Instructions!$C$27)*100","v":0},{"$f":"(AC688/Instructions!$C$29)*100","v":0},{"$f":"(V688/Instructions!$C$33)*100","v":0},{"$f":"(U688/Instructions!$C$32)*100","v":0},{"$f":"(W688/Instructions!$C$36)*100","v":{"$error":"#VALUE!"}},"","E","E","E","E","E","E","E","--",null,null,null,null,null,{"$f":"Table_2[[#This Row],[Column51]]&Table_2[[#This Row],[Column52]]&AW690","v":""}]
[null,null,null,null,null,null,null,null,null,null,null,null,null,null,null,{"$f":"Instructions!B723","v":0},null,{"$f":"Instructions!B717","v":0},{"$f":"Instructions!B718","v":0},{"$f":"Instructions!B719","v":0},null,null,"--",0,{"$f":"Table_2[[#This Row],[Column20]]+Table_2[[#This Row],[Column56]]","v":0},"",{"$f":"Table_2[[#This Row],[Column20]]+Table_2[[#This Row],[Column56]]","v":0},"",{"$f":"Table_2[[#This Row],[Column57]]+Table_2[[#This Row],[Column16]]+Table_2[[#This Row],[Column15]]","v":0},"",{"$f":"(K689/Instructions!$C$23)*100","v":0},{"$f":"(L689/Instructions!$C$24)*100","v":0},{"$f":"(Y689/Instructions!$C$25)*100","v":0},{"$f":"(AA689/Instructions!$C$27)*100","v":0},{"$f":"(AC689/Instructions!$C$29)*100","v":0},{"$f":"(V689/Instructions!$C$33)*100","v":0},{"$f":"(U689/Instructions!$C$32)*100","v":0},{"$f":"(W689/Instructions!$C$36)*100","v":{"$error":"#VALUE!"}},"","E","E","E","E","E","E","E","--",null,null,null,null,null,{"$f":"Table_2[[#This Row],[Column51]]&Table_2[[#This Row],[Column52]]&AW691","v":""}]
[null,null,null,null,null,null,null,null,null,null,null,null,null,null,null,{"$f":"Instructions!B724","v":0},null,{"$f":"Instructions!B718","v":0},{"$f":"Instructions!B719","v":0},{"$f":"Instructions!B720","v":0},null,null,"--",0,{"$f":"Table_2[[#This Row],[Column20]]+Table_2[[#This Row],[Column56]]","v":0},"",{"$f":"Table_2[[#This Row],[Column20]]+Table_2[[#This Row],[Column56]]","v":0},"",{"$f":"Table_2[[#This Row],[Column57]]+Table_2[[#This Row],[Column16]]+Table_2[[#This Row],[Column15]]","v":0},"",{"$f":"(K690/Instructions!$C$23)*100","v":0},{"$f":"(L690/Instructions!$C$24)*100","v":0},{"$f":"(Y690/Instructions!$C$25)*100","v":0},{"$f":"(AA690/Instructions!$C$27)*100","v":0},{"$f":"(AC690/Instructions!$C$29)*100","v":0},{"$f":"(V690/Instructions!$C$33)*100","v":0},{"$f":"(U690/Instructions!$C$32)*100","v":0},{"$f":"(W690/Instructions!$C$36)*100","v":{"$error":"#VALUE!"}},"","E","E","E","E","E","E","E","--",null,null,null,null,null,{"$f":"Table_2[[#This Row],[Column51]]&Table_2[[#This Row],[Column52]]&AW692","v":""}]
[null,null,null,null,null,null,null,null,null,null,null,null,null,null,null,{"$f":"Instructions!B725","v":0},null,{"$f":"Instructions!B719","v":0},{"$f":"Instructions!B720","v":0},{"$f":"Instructions!B721","v":0},null,null,"--",0,{"$f":"Table_2[[#This Row],[Column20]]+Table_2[[#This Row],[Column56]]","v":0},"",{"$f":"Table_2[[#This Row],[Column20]]+Table_2[[#This Row],[Column56]]","v":0},"",{"$f":"Table_2[[#This Row],[Column57]]+Table_2[[#This Row],[Column16]]+Table_2[[#This Row],[Column15]]","v":0},"",{"$f":"(K691/Instructions!$C$23)*100","v":0},{"$f":"(L691/Instructions!$C$24)*100","v":0},{"$f":"(Y691/Instructions!$C$25)*100","v":0},{"$f":"(AA691/Instructions!$C$27)*100","v":0},{"$f":"(AC691/Instructions!$C$29)*100","v":0},{"$f":"(V691/Instructions!$C$33)*100","v":0},{"$f":"(U691/Instructions!$C$32)*100","v":0},{"$f":"(W691/Instructions!$C$36)*100","v":{"$error":"#VALUE!"}},"","E","E","E","E","E","E","E","--",null,null,null,null,null,{"$f":"Table_2[[#This Row],[Column51]]&Table_2[[#This Row],[Column52]]&AW693","v":""}]
[null,null,null,null,null,null,null,null,null,null,null,null,null,null,null,{"$f":"Instructions!B726","v":0},null,{"$f":"Instructions!B720","v":0},{"$f":"Instructions!B721","v":0},{"$f":"Instructions!B722","v":0},null,null,"--",0,{"$f":"Table_2[[#This Row],[Column20]]+Table_2[[#This Row],[Column56]]","v":0},"",{"$f":"Table_2[[#This Row],[Column20]]+Table_2[[#This Row],[Column56]]","v":0},"",{"$f":"Table_2[[#This Row],[Column57]]+Table_2[[#This Row],[Column16]]+Table_2[[#This Row],[Column15]]","v":0},"",{"$f":"(K692/Instructions!$C$23)*100","v":0},{"$f":"(L692/Instructions!$C$24)*100","v":0},{"$f":"(Y692/Instructions!$C$25)*100","v":0},{"$f":"(AA692/Instructions!$C$27)*100","v":0},{"$f":"(AC692/Instructions!$C$29)*100","v":0},{"$f":"(V692/Instructions!$C$33)*100","v":0},{"$f":"(U692/Instructions!$C$32)*100","v":0},{"$f":"(W692/Instructions!$C$36)*100","v":{"$error":"#VALUE!"}},"","E","E","E","E","E","E","E","--",null,null,null,null,null,{"$f":"Table_2[[#This Row],[Column51]]&Table_2[[#This Row],[Column52]]&AW694","v":""}]
[null,null,null,null,null,null,null,null,null,null,null,null,null,null,null,{"$f":"Instructions!B727","v":0},null,{"$f":"Instructions!B721","v":0},{"$f":"Instructions!B722","v":0},{"$f":"Instructions!B723","v":0},null,null,"--",0,{"$f":"Table_2[[#This Row],[Column20]]+Table_2[[#This Row],[Column56]]","v":0},"",{"$f":"Table_2[[#This Row],[Column20]]+Table_2[[#This Row],[Column56]]","v":0},"",{"$f":"Table_2[[#This Row],[Column57]]+Table_2[[#This Row],[Column16]]+Table_2[[#This Row],[Column15]]","v":0},"",{"$f":"(K693/Instructions!$C$23)*100","v":0},{"$f":"(L693/Instructions!$C$24)*100","v":0},{"$f":"(Y693/Instructions!$C$25)*100","v":0},{"$f":"(AA693/Instructions!$C$27)*100","v":0},{"$f":"(AC693/Instructions!$C$29)*100","v":0},{"$f":"(V693/Instructions!$C$33)*100","v":0},{"$f":"(U693/Instructions!$C$32)*100","v":0},{"$f":"(W693/Instructions!$C$36)*100","v":{"$error":"#VALUE!"}},"","E","E","E","E","E","E","E","--",null,null,null,null,null,{"$f":"Table_2[[#This Row],[Column51]]&Table_2[[#This Row],[Column52]]&AW695","v":""}]
[null,null,null,null,null,null,null,null,null,null,null,null,null,null,null,{"$f":"Instructions!B728","v":0},null,{"$f":"Instructions!B722","v":0},{"$f":"Instructions!B723","v":0},{"$f":"Instructions!B724","v":0},null,null,"--",0,{"$f":"Table_2[[#This Row],[Column20]]+Table_2[[#This Row],[Column56]]","v":0},"",{"$f":"Table_2[[#This Row],[Column20]]+Table_2[[#This Row],[Column56]]","v":0},"",{"$f":"Table_2[[#This Row],[Column57]]+Table_2[[#This Row],[Column16]]+Table_2[[#This Row],[Column15]]","v":0},"",{"$f":"(K694/Instructions!$C$23)*100","v":0},{"$f":"(L694/Instructions!$C$24)*100","v":0},{"$f":"(Y694/Instructions!$C$25)*100","v":0},{"$f":"(AA694/Instructions!$C$27)*100","v":0},{"$f":"(AC694/Instructions!$C$29)*100","v":0},{"$f":"(V694/Instructions!$C$33)*100","v":0},{"$f":"(U694/Instructions!$C$32)*100","v":0},{"$f":"(W694/Instructions!$C$36)*100","v":{"$error":"#VALUE!"}},"","E","E","E","E","E","E","E","--",null,null,null,null,null,{"$f":"Table_2[[#This Row],[Column51]]&Table_2[[#This Row],[Column52]]&AW696","v":""}]
[null,null,null,null,null,null,null,null,null,null,null,null,null,null,null,{"$f":"Instructions!B729","v":0},null,{"$f":"Instructions!B723","v":0},{"$f":"Instructions!B724","v":0},{"$f":"Instructions!B725","v":0},null,null,"--",0,{"$f":"Table_2[[#This Row],[Column20]]+Table_2[[#This Row],[Column56]]","v":0},"",{"$f":"Table_2[[#This Row],[Column20]]+Table_2[[#This Row],[Column56]]","v":0},"",{"$f":"Table_2[[#This Row],[Column57]]+Table_2[[#This Row],[Column16]]+Table_2[[#This Row],[Column15]]","v":0},"",{"$f":"(K695/Instructions!$C$23)*100","v":0},{"$f":"(L695/Instructions!$C$24)*100","v":0},{"$f":"(Y695/Instructions!$C$25)*100","v":0},{"$f":"(AA695/Instructions!$C$27)*100","v":0},{"$f":"(AC695/Instructions!$C$29)*100","v":0},{"$f":"(V695/Instructions!$C$33)*100","v":0},{"$f":"(U695/Instructions!$C$32)*100","v":0},{"$f":"(W695/Instructions!$C$36)*100","v":{"$error":"#VALUE!"}},"","E","E","E","E","E","E","E","--",null,null,null,null,null,{"$f":"Table_2[[#This Row],[Column51]]&Table_2[[#This Row],[Column52]]&AW697","v":""}]
[null,null,null,null,null,null,null,null,null,null,null,null,null,null,null,{"$f":"Instructions!B730","v":0},null,{"$f":"Instructions!B724","v":0},{"$f":"Instructions!B725","v":0},{"$f":"Instructions!B726","v":0},null,null,"--",0,{"$f":"Table_2[[#This Row],[Column20]]+Table_2[[#This Row],[Column56]]","v":0},"",{"$f":"Table_2[[#This Row],[Column20]]+Table_2[[#This Row],[Column56]]","v":0},"",{"$f":"Table_2[[#This Row],[Column57]]+Table_2[[#This Row],[Column16]]+Table_2[[#This Row],[Column15]]","v":0},"",{"$f":"(K696/Instructions!$C$23)*100","v":0},{"$f":"(L696/Instructions!$C$24)*100","v":0},{"$f":"(Y696/Instructions!$C$25)*100","v":0},{"$f":"(AA696/Instructions!$C$27)*100","v":0},{"$f":"(AC696/Instructions!$C$29)*100","v":0},{"$f":"(V696/Instructions!$C$33)*100","v":0},{"$f":"(U696/Instructions!$C$32)*100","v":0},{"$f":"(W696/Instructions!$C$36)*100","v":{"$error":"#VALUE!"}},"","E","E","E","E","E","E","E","--",null,null,null,null,null,{"$f":"Table_2[[#This Row],[Column51]]&Table_2[[#This Row],[Column52]]&AW698","v":""}]
[null,null,null,null,null,null,null,null,null,null,null,null,null,null,null,{"$f":"Instructions!B731","v":0},null,{"$f":"Instructions!B725","v":0},{"$f":"Instructions!B726","v":0},{"$f":"Instructions!B727","v":0},null,null,"--",0,{"$f":"Table_2[[#This Row],[Column20]]+Table_2[[#This Row],[Column56]]","v":0},"",{"$f":"Table_2[[#This Row],[Column20]]+Table_2[[#This Row],[Column56]]","v":0},"",{"$f":"Table_2[[#This Row],[Column57]]+Table_2[[#This Row],[Column16]]+Table_2[[#This Row],[Column15]]","v":0},"",{"$f":"(K697/Instructions!$C$23)*100","v":0},{"$f":"(L697/Instructions!$C$24)*100","v":0},{"$f":"(Y697/Instructions!$C$25)*100","v":0},{"$f":"(AA697/Instructions!$C$27)*100","v":0},{"$f":"(AC697/Instructions!$C$29)*100","v":0},{"$f":"(V697/Instructions!$C$33)*100","v":0},{"$f":"(U697/Instructions!$C$32)*100","v":0},{"$f":"(W697/Instructions!$C$36)*100","v":{"$error":"#VALUE!"}},"","E","E","E","E","E","E","E","--",null,null,null,null,null,{"$f":"Table_2[[#This Row],[Column51]]&Table_2[[#This Row],[Column52]]&AW699","v":""}]
[null,null,null,null,null,null,null,null,null,null,null,null,null,null,null,{"$f":"Instructions!B732","v":0},null,{"$f":"Instructions!B726","v":0},{"$f":"Instructions!B727","v":0},{"$f":"Instructions!B728","v":0},null,null,"--",0,{"$f":"Table_2[[#This Row],[Column20]]+Table_2[[#This Row],[Column56]]","v":0},"",{"$f":"Table_2[[#This Row],[Column20]]+Table_2[[#This Row],[Column56]]","v":0},"",{"$f":"Table_2[[#This Row],[Column57]]+Table_2[[#This Row],[Column16]]+Table_2[[#This Row],[Column15]]","v":0},"",{"$f":"(K698/Instructions!$C$23)*100","v":0},{"$f":"(L698/Instructions!$C$24)*100","v":0},{"$f":"(Y698/Instructions!$C$25)*100","v":0},{"$f":"(AA698/Instructions!$C$27)*100","v":0},{"$f":"(AC698/Instructions!$C$29)*100","v":0},{"$f":"(V698/Instructions!$C$33)*100","v":0},{"$f":"(U698/Instructions!$C$32)*100","v":0},{"$f":"(W698/Instructions!$C$36)*100","v":{"$error":"#VALUE!"}},"","E","E","E","E","E","E","E","--",null,null,null,null,null,{"$f":"Table_2[[#This Row],[Column51]]&Table_2[[#This Row],[Column52]]&AW700","v":""}]
[null,null,null,null,null,null,null,null,null,null,null,null,null,null,null,{"$f":"Instructions!B733","v":0},null,{"$f":"Instructions!B727","v":0},{"$f":"Instructions!B728","v":0},{"$f":"Instructions!B729","v":0},null,null,"--",0,{"$f":"Table_2[[#This Row],[Column20]]+Table_2[[#This Row],[Column56]]","v":0},"",{"$f":"Table_2[[#This Row],[Column20]]+Table_2[[#This Row],[Column56]]","v":0},"",{"$f":"Table_2[[#This Row],[Column57]]+Table_2[[#This Row],[Column16]]+Table_2[[#This Row],[Column15]]","v":0},"",{"$f":"(K699/Instructions!$C$23)*100","v":0},{"$f":"(L699/Instructions!$C$24)*100","v":0},{"$f":"(Y699/Instructions!$C$25)*100","v":0},{"$f":"(AA699/Instructions!$C$27)*100","v":0},{"$f":"(AC699/Instructions!$C$29)*100","v":0},{"$f":"(V699/Instructions!$C$33)*100","v":0},{"$f":"(U699/Instructions!$C$32)*100","v":0},{"$f":"(W699/Instructions!$C$36)*100","v":{"$error":"#VALUE!"}},"","E","E","E","E","E","E","E","--",null,null,null,null,null,{"$f":"Table_2[[#This Row],[Column51]]&Table_2[[#This Row],[Column52]]&AW701","v":""}]
[null,null,null,null,null,null,null,null,null,null,null,null,null,null,null,{"$f":"Instructions!B734","v":0},null,{"$f":"Instructions!B728","v":0},{"$f":"Instructions!B729","v":0},{"$f":"Instructions!B730","v":0},null,null,"--",0,{"$f":"Table_2[[#This Row],[Column20]]+Table_2[[#This Row],[Column56]]","v":0},"",{"$f":"Table_2[[#This Row],[Column20]]+Table_2[[#This Row],[Column56]]","v":0},"",{"$f":"Table_2[[#This Row],[Column57]]+Table_2[[#This Row],[Column16]]+Table_2[[#This Row],[Column15]]","v":0},"",{"$f":"(K700/Instructions!$C$23)*100","v":0},{"$f":"(L700/Instructions!$C$24)*100","v":0},{"$f":"(Y700/Instructions!$C$25)*100","v":0},{"$f":"(AA700/Instructions!$C$27)*100","v":0},{"$f":"(AC700/Instructions!$C$29)*100","v":0},{"$f":"(V700/Instructions!$C$33)*100","v":0},{"$f":"(U700/Instructions!$C$32)*100","v":0},{"$f":"(W700/Instructions!$C$36)*100","v":{"$error":"#VALUE!"}},"","E","E","E","E","E","E","E","--",null,null,null,null,null,{"$f":"Table_2[[#This Row],[Column51]]&Table_2[[#This Row],[Column52]]&AW702","v":""}]
[null,null,null,null,null,null,null,null,null,null,null,null,null,null,null,{"$f":"Instructions!B735","v":0},null,{"$f":"Instructions!B729","v":0},{"$f":"Instructions!B730","v":0},{"$f":"Instructions!B731","v":0},null,null,"--",0,{"$f":"Table_2[[#This Row],[Column20]]+Table_2[[#This Row],[Column56]]","v":0},"",{"$f":"Table_2[[#This Row],[Column20]]+Table_2[[#This Row],[Column56]]","v":0},"",{"$f":"Table_2[[#This Row],[Column57]]+Table_2[[#This Row],[Column16]]+Table_2[[#This Row],[Column15]]","v":0},"",{"$f":"(K701/Instructions!$C$23)*100","v":0},{"$f":"(L701/Instructions!$C$24)*100","v":0},{"$f":"(Y701/Instructions!$C$25)*100","v":0},{"$f":"(AA701/Instructions!$C$27)*100","v":0},{"$f":"(AC701/Instructions!$C$29)*100","v":0},{"$f":"(V701/Instructions!$C$33)*100","v":0},{"$f":"(U701/Instructions!$C$32)*100","v":0},{"$f":"(W701/Instructions!$C$36)*100","v":{"$error":"#VALUE!"}},"","E","E","E","E","E","E","E","--",null,null,null,null,null,{"$f":"Table_2[[#This Row],[Column51]]&Table_2[[#This Row],[Column52]]&AW703","v":""}]
[null,null,null,null,null,null,null,null,null,null,null,null,null,null,null,{"$f":"Instructions!B736","v":0},null,{"$f":"Instructions!B730","v":0},{"$f":"Instructions!B731","v":0},{"$f":"Instructions!B732","v":0},null,null,"--",0,{"$f":"Table_2[[#This Row],[Column20]]+Table_2[[#This Row],[Column56]]","v":0},"",{"$f":"Table_2[[#This Row],[Column20]]+Table_2[[#This Row],[Column56]]","v":0},"",{"$f":"Table_2[[#This Row],[Column57]]+Table_2[[#This Row],[Column16]]+Table_2[[#This Row],[Column15]]","v":0},"",{"$f":"(K702/Instructions!$C$23)*100","v":0},{"$f":"(L702/Instructions!$C$24)*100","v":0},{"$f":"(Y702/Instructions!$C$25)*100","v":0},{"$f":"(AA702/Instructions!$C$27)*100","v":0},{"$f":"(AC702/Instructions!$C$29)*100","v":0},{"$f":"(V702/Instructions!$C$33)*100","v":0},{"$f":"(U702/Instructions!$C$32)*100","v":0},{"$f":"(W702/Instructions!$C$36)*100","v":{"$error":"#VALUE!"}},"","E","E","E","E","E","E","E","--",null,null,null,null,null,{"$f":"Table_2[[#This Row],[Column51]]&Table_2[[#This Row],[Column52]]&AW704","v":""}]
[null,null,null,null,null,null,null,null,null,null,null,null,null,null,null,{"$f":"Instructions!B737","v":0},null,{"$f":"Instructions!B731","v":0},{"$f":"Instructions!B732","v":0},{"$f":"Instructions!B733","v":0},null,null,"--",0,{"$f":"Table_2[[#This Row],[Column20]]+Table_2[[#This Row],[Column56]]","v":0},"",{"$f":"Table_2[[#This Row],[Column20]]+Table_2[[#This Row],[Column56]]","v":0},"",{"$f":"Table_2[[#This Row],[Column57]]+Table_2[[#This Row],[Column16]]+Table_2[[#This Row],[Column15]]","v":0},"",{"$f":"(K703/Instructions!$C$23)*100","v":0},{"$f":"(L703/Instructions!$C$24)*100","v":0},{"$f":"(Y703/Instructions!$C$25)*100","v":0},{"$f":"(AA703/Instructions!$C$27)*100","v":0},{"$f":"(AC703/Instructions!$C$29)*100","v":0},{"$f":"(V703/Instructions!$C$33)*100","v":0},{"$f":"(U703/Instructions!$C$32)*100","v":0},{"$f":"(W703/Instructions!$C$36)*100","v":{"$error":"#VALUE!"}},"","E","E","E","E","E","E","E","--",null,null,null,null,null,{"$f":"Table_2[[#This Row],[Column51]]&Table_2[[#This Row],[Column52]]&AW705","v":""}]
[null,null,null,null,null,null,null,null,null,null,null,null,null,null,null,{"$f":"Instructions!B738","v":0},null,{"$f":"Instructions!B732","v":0},{"$f":"Instructions!B733","v":0},{"$f":"Instructions!B734","v":0},null,null,"--",0,{"$f":"Table_2[[#This Row],[Column20]]+Table_2[[#This Row],[Column56]]","v":0},"",{"$f":"Table_2[[#This Row],[Column20]]+Table_2[[#This Row],[Column56]]","v":0},"",{"$f":"Table_2[[#This Row],[Column57]]+Table_2[[#This Row],[Column16]]+Table_2[[#This Row],[Column15]]","v":0},"",{"$f":"(K704/Instructions!$C$23)*100","v":0},{"$f":"(L704/Instructions!$C$24)*100","v":0},{"$f":"(Y704/Instructions!$C$25)*100","v":0},{"$f":"(AA704/Instructions!$C$27)*100","v":0},{"$f":"(AC704/Instructions!$C$29)*100","v":0},{"$f":"(V704/Instructions!$C$33)*100","v":0},{"$f":"(U704/Instructions!$C$32)*100","v":0},{"$f":"(W704/Instructions!$C$36)*100","v":{"$error":"#VALUE!"}},"","E","E","E","E","E","E","E","--",null,null,null,null,null,{"$f":"Table_2[[#This Row],[Column51]]&Table_2[[#This Row],[Column52]]&AW706","v":""}]
[null,null,null,null,null,null,null,null,null,null,null,null,null,null,null,{"$f":"Instructions!B739","v":0},null,{"$f":"Instructions!B733","v":0},{"$f":"Instructions!B734","v":0},{"$f":"Instructions!B735","v":0},null,null,"--",0,{"$f":"Table_2[[#This Row],[Column20]]+Table_2[[#This Row],[Column56]]","v":0},"",{"$f":"Table_2[[#This Row],[Column20]]+Table_2[[#This Row],[Column56]]","v":0},"",{"$f":"Table_2[[#This Row],[Column57]]+Table_2[[#This Row],[Column16]]+Table_2[[#This Row],[Column15]]","v":0},"",{"$f":"(K705/Instructions!$C$23)*100","v":0},{"$f":"(L705/Instructions!$C$24)*100","v":0},{"$f":"(Y705/Instructions!$C$25)*100","v":0},{"$f":"(AA705/Instructions!$C$27)*100","v":0},{"$f":"(AC705/Instructions!$C$29)*100","v":0},{"$f":"(V705/Instructions!$C$33)*100","v":0},{"$f":"(U705/Instructions!$C$32)*100","v":0},{"$f":"(W705/Instructions!$C$36)*100","v":{"$error":"#VALUE!"}},"","E","E","E","E","E","E","E","--",null,null,null,null,null,{"$f":"Table_2[[#This Row],[Column51]]&Table_2[[#This Row],[Column52]]&AW707","v":""}]
[null,null,null,null,null,null,null,null,null,null,null,null,null,null,null,{"$f":"Instructions!B740","v":0},null,{"$f":"Instructions!B734","v":0},{"$f":"Instructions!B735","v":0},{"$f":"Instructions!B736","v":0},null,null,"--",0,{"$f":"Table_2[[#This Row],[Column20]]+Table_2[[#This Row],[Column56]]","v":0},"",{"$f":"Table_2[[#This Row],[Column20]]+Table_2[[#This Row],[Column56]]","v":0},"",{"$f":"Table_2[[#This Row],[Column57]]+Table_2[[#This Row],[Column16]]+Table_2[[#This Row],[Column15]]","v":0},"",{"$f":"(K706/Instructions!$C$23)*100","v":0},{"$f":"(L706/Instructions!$C$24)*100","v":0},{"$f":"(Y706/Instructions!$C$25)*100","v":0},{"$f":"(AA706/Instructions!$C$27)*100","v":0},{"$f":"(AC706/Instructions!$C$29)*100","v":0},{"$f":"(V706/Instructions!$C$33)*100","v":0},{"$f":"(U706/Instructions!$C$32)*100","v":0},{"$f":"(W706/Instructions!$C$36)*100","v":{"$error":"#VALUE!"}},"","E","E","E","E","E","E","E","--",null,null,null,null,null,{"$f":"Table_2[[#This Row],[Column51]]&Table_2[[#This Row],[Column52]]&AW708","v":""}]
[null,null,null,null,null,null,null,null,null,null,null,null,null,null,null,{"$f":"Instructions!B741","v":0},null,{"$f":"Instructions!B735","v":0},{"$f":"Instructions!B736","v":0},{"$f":"Instructions!B737","v":0},null,null,{"$f":"IF(MIN(AE707:AI707)>=33,SUM(K707:T707),\"--\")","v":"--"},{"$f":"IF(W707=\"--\",0,W707)","v":0},{"$f":"Table_2[[#This Row],[Column20]]+Table_2[[#This Row],[Column56]]","v":0},{"$f":"IF(N707>0,$N$1,IF(O707>0,$O$1,\"\"))","v":""},{"$f":"Table_2[[#This Row],[Column20]]+Table_2[[#This Row],[Column56]]","v":0},{"$f":"IFERROR(IF(P707>0,$P$1,IF(Q707>0,$Q$1,\"\")),\"\")","v":""},{"$f":"Table_2[[#This Row],[Column57]]+Table_2[[#This Row],[Column16]]+Table_2[[#This Row],[Column15]]","v":0},{"$f":"IFERROR(IF(R707>0,$R$1,IF(S707>0,$S$1,IF(T707>0,$T$1,\"\"))),\"\")","v":""},{"$f":"(K707/Instructions!$C$23)*100","v":0},{"$f":"(L707/Instructions!$C$24)*100","v":0},{"$f":"(Y707/Instructions!$C$25)*100","v":0},{"$f":"(AA707/Instructions!$C$27)*100","v":0},{"$f":"(AC707/Instructions!$C$29)*100","v":0},{"$f":"(V707/Instructions!$C$33)*100","v":0},{"$f":"(U707/Instructions!$C$32)*100","v":0},{"$f":"(W707/Instructions!$C$36)*100","v":{"$error":"#VALUE!"}},{"$f":"IFERROR(IF(AL707>=33,\"PASS\",\"----\"),\"\")","v":""},{"$f":"IFERROR(IF(AE707>90,\"A+\",IF(AE707>80,\"A\",IF(AE707>70,\"B+\",IF(AE707>60,\"B\",IF(AE707>50,\"C+\",IF(AE707>40,\"C\",IF(AE707>=33,\"D\",\"E\"))))))),\"Abs\")","v":"E"},{"$f":"IFERROR(IF(AF707>90,\"A+\",IF(AF707>80,\"A\",IF(AF707>70,\"B+\",IF(AF707>60,\"B\",IF(AF707>50,\"C+\",IF(AF707>40,\"C\",IF(AF707>=33,\"D\",\"E\"))))))),\"Abs\")","v":"E"},{"$f":"IFERROR(IF(AG707>90,\"A+\",IF(AG707>80,\"A\",IF(AG707>70,\"B+\",IF(AG707>60,\"B\",IF(AG707>50,\"C+\",IF(AG707>40,\"C\",IF(AG707>=33,\"D\",\"E\"))))))),\"Abs\")","v":"E"},{"$f":"IFERROR(IF(AH707>90,\"A+\",IF(AH707>80,\"A\",IF(AH707>70,\"B+\",IF(AH707>60,\"B\",IF(AH707>50,\"C+\",IF(AH707>40,\"C\",IF(AH707>=33,\"D\",\"E\"))))))),\"Abs\")","v":"E"},{"$f":"IFERROR(IF(AI707>90,\"A+\",IF(AI707>80,\"A\",IF(AI707>70,\"B+\",IF(AI707>60,\"B\",IF(AI707>50,\"C+\",IF(AI707>40,\"C\",IF(AI707>=33,\"D\",\"E\"))))))),\"Abs\")","v":"E"},{"$f":"IFERROR(IF(AJ707>90,\"A+\",IF(AJ707>80,\"A\",IF(AJ707>70,\"B+\",IF(AJ707>60,\"B\",IF(AJ707>50,\"C+\",IF(AJ707>40,\"C\",IF(AJ707>=33,\"D\",\"E\"))))))),\"Abs\")","v":"E"},{"$f":"IFERROR(IF(AK707>90,\"A+\",IF(AK707>80,\"A\",IF(AK707>70,\"B+\",IF(AK707>60,\"B\",IF(AK707>50,\"C+\",IF(AK707>40,\"C\",IF(AK707>=33,\"D\",\"E\"))))))),\"Abs\")","v":"E"},{"$f":"IFERROR(IF(AL707>90,\"A+\",IF(AL707>80,\"A\",IF(AL707>70,\"B+\",IF(AL707>60,\"B\",IF(AL707>50,\"C+\",IF(AL707>40,\"C\",IF(AL707>=33,\"D\",\"E\"))))))),\"--\")","v":"--"},null,null,null,null,null,{"$f":"Table_2[[#This Row],[Column51]]&Table_2[[#This Row],[Column52]]&AW709","v":""}]
[null,null,null,null,null,null,null,null,null,null,null,null,null,null,null,{"$f":"Instructions!B742","v":0},null,{"$f":"Instructions!B736","v":0},{"$f":"Instructions!B737","v":0},{"$f":"Instructions!B738","v":0},null,null,"--",0,{"$f":"Table_2[[#This Row],[Column20]]+Table_2[[#This Row],[Column56]]","v":0},"",{"$f":"Table_2[[#This Row],[Column20]]+Table_2[[#This Row],[Column56]]","v":0},"",{"$f":"Table_2[[#This Row],[Column57]]+Table_2[[#This Row],[Column16]]+Table_2[[#This Row],[Column15]]","v":0},"",{"$f":"(K708/Instructions!$C$23)*100","v":0},{"$f":"(L708/Instructions!$C$24)*100","v":0},{"$f":"(Y708/Instructions!$C$25)*100","v":0},{"$f":"(AA708/Instructions!$C$27)*100","v":0},{"$f":"(AC708/Instructions!$C$29)*100","v":0},{"$f":"(V708/Instructions!$C$33)*100","v":0},{"$f":"(U708/Instructions!$C$32)*100","v":0},{"$f":"(W708/Instructions!$C$36)*100","v":{"$error":"#VALUE!"}},"","E","E","E","E","E","E","E","--",null,null,null,null,null,{"$f":"Table_2[[#This Row],[Column51]]&Table_2[[#This Row],[Column52]]&AW710","v":""}]
[null,null,null,null,null,null,null,null,null,null,null,null,null,null,null,{"$f":"Instructions!B743","v":0},null,{"$f":"Instructions!B737","v":0},{"$f":"Instructions!B738","v":0},{"$f":"Instructions!B739","v":0},null,null,"--",0,{"$f":"Table_2[[#This Row],[Column20]]+Table_2[[#This Row],[Column56]]","v":0},"",{"$f":"Table_2[[#This Row],[Column20]]+Table_2[[#This Row],[Column56]]","v":0},"",{"$f":"Table_2[[#This Row],[Column57]]+Table_2[[#This Row],[Column16]]+Table_2[[#This Row],[Column15]]","v":0},"",{"$f":"(K709/Instructions!$C$23)*100","v":0},{"$f":"(L709/Instructions!$C$24)*100","v":0},{"$f":"(Y709/Instructions!$C$25)*100","v":0},{"$f":"(AA709/Instructions!$C$27)*100","v":0},{"$f":"(AC709/Instructions!$C$29)*100","v":0},{"$f":"(V709/Instructions!$C$33)*100","v":0},{"$f":"(U709/Instructions!$C$32)*100","v":0},{"$f":"(W709/Instructions!$C$36)*100","v":{"$error":"#VALUE!"}},"","E","E","E","E","E","E","E","--",null,null,null,null,null,{"$f":"Table_2[[#This Row],[Column51]]&Table_2[[#This Row],[Column52]]&AW711","v":""}]
[null,null,null,null,null,null,null,null,null,null,null,null,null,null,null,{"$f":"Instructions!B744","v":0},null,{"$f":"Instructions!B738","v":0},{"$f":"Instructions!B739","v":0},{"$f":"Instructions!B740","v":0},null,null,"--",0,{"$f":"Table_2[[#This Row],[Column20]]+Table_2[[#This Row],[Column56]]","v":0},"",{"$f":"Table_2[[#This Row],[Column20]]+Table_2[[#This Row],[Column56]]","v":0},"",{"$f":"Table_2[[#This Row],[Column57]]+Table_2[[#This Row],[Column16]]+Table_2[[#This Row],[Column15]]","v":0},"",{"$f":"(K710/Instructions!$C$23)*100","v":0},{"$f":"(L710/Instructions!$C$24)*100","v":0},{"$f":"(Y710/Instructions!$C$25)*100","v":0},{"$f":"(AA710/Instructions!$C$27)*100","v":0},{"$f":"(AC710/Instructions!$C$29)*100","v":0},{"$f":"(V710/Instructions!$C$33)*100","v":0},{"$f":"(U710/Instructions!$C$32)*100","v":0},{"$f":"(W710/Instructions!$C$36)*100","v":{"$error":"#VALUE!"}},"","E","E","E","E","E","E","E","--",null,null,null,null,null,{"$f":"Table_2[[#This Row],[Column51]]&Table_2[[#This Row],[Column52]]&AW712","v":""}]
[null,null,null,null,null,null,null,null,null,null,null,null,null,null,null,{"$f":"Instructions!B745","v":0},null,{"$f":"Instructions!B739","v":0},{"$f":"Instructions!B740","v":0},{"$f":"Instructions!B741","v":0},null,null,"--",0,{"$f":"Table_2[[#This Row],[Column20]]+Table_2[[#This Row],[Column56]]","v":0},"",{"$f":"Table_2[[#This Row],[Column20]]+Table_2[[#This Row],[Column56]]","v":0},"",{"$f":"Table_2[[#This Row],[Column57]]+Table_2[[#This Row],[Column16]]+Table_2[[#This Row],[Column15]]","v":0},"",{"$f":"(K711/Instructions!$C$23)*100","v":0},{"$f":"(L711/Instructions!$C$24)*100","v":0},{"$f":"(Y711/Instructions!$C$25)*100","v":0},{"$f":"(AA711/Instructions!$C$27)*100","v":0},{"$f":"(AC711/Instructions!$C$29)*100","v":0},{"$f":"(V711/Instructions!$C$33)*100","v":0},{"$f":"(U711/Instructions!$C$32)*100","v":0},{"$f":"(W711/Instructions!$C$36)*100","v":{"$error":"#VALUE!"}},"","E","E","E","E","E","E","E","--",null,null,null,null,null,{"$f":"Table_2[[#This Row],[Column51]]&Table_2[[#This Row],[Column52]]&AW713","v":""}]
[null,null,null,null,null,null,null,null,null,null,null,null,null,null,null,{"$f":"Instructions!B746","v":0},null,{"$f":"Instructions!B740","v":0},{"$f":"Instructions!B741","v":0},{"$f":"Instructions!B742","v":0},null,null,"--",0,{"$f":"Table_2[[#This Row],[Column20]]+Table_2[[#This Row],[Column56]]","v":0},"",{"$f":"Table_2[[#This Row],[Column20]]+Table_2[[#This Row],[Column56]]","v":0},"",{"$f":"Table_2[[#This Row],[Column57]]+Table_2[[#This Row],[Column16]]+Table_2[[#This Row],[Column15]]","v":0},"",{"$f":"(K712/Instructions!$C$23)*100","v":0},{"$f":"(L712/Instructions!$C$24)*100","v":0},{"$f":"(Y712/Instructions!$C$25)*100","v":0},{"$f":"(AA712/Instructions!$C$27)*100","v":0},{"$f":"(AC712/Instructions!$C$29)*100","v":0},{"$f":"(V712/Instructions!$C$33)*100","v":0},{"$f":"(U712/Instructions!$C$32)*100","v":0},{"$f":"(W712/Instructions!$C$36)*100","v":{"$error":"#VALUE!"}},"","E","E","E","E","E","E","E","--",null,null,null,null,null,{"$f":"Table_2[[#This Row],[Column51]]&Table_2[[#This Row],[Column52]]&AW714","v":""}]
[null,null,null,null,null,null,null,null,null,null,null,null,null,null,null,{"$f":"Instructions!B747","v":0},null,{"$f":"Instructions!B741","v":0},{"$f":"Instructions!B742","v":0},{"$f":"Instructions!B743","v":0},null,null,"--",0,{"$f":"Table_2[[#This Row],[Column20]]+Table_2[[#This Row],[Column56]]","v":0},"",{"$f":"Table_2[[#This Row],[Column20]]+Table_2[[#This Row],[Column56]]","v":0},"",{"$f":"Table_2[[#This Row],[Column57]]+Table_2[[#This Row],[Column16]]+Table_2[[#This Row],[Column15]]","v":0},"",{"$f":"(K713/Instructions!$C$23)*100","v":0},{"$f":"(L713/Instructions!$C$24)*100","v":0},{"$f":"(Y713/Instructions!$C$25)*100","v":0},{"$f":"(AA713/Instructions!$C$27)*100","v":0},{"$f":"(AC713/Instructions!$C$29)*100","v":0},{"$f":"(V713/Instructions!$C$33)*100","v":0},{"$f":"(U713/Instructions!$C$32)*100","v":0},{"$f":"(W713/Instructions!$C$36)*100","v":{"$error":"#VALUE!"}},"","E","E","E","E","E","E","E","--",null,null,null,null,null,{"$f":"Table_2[[#This Row],[Column51]]&Table_2[[#This Row],[Column52]]&AW715","v":""}]
[null,null,null,null,null,null,null,null,null,null,null,null,null,null,null,{"$f":"Instructions!B748","v":0},null,{"$f":"Instructions!B742","v":0},{"$f":"Instructions!B743","v":0},{"$f":"Instructions!B744","v":0},null,null,"--",0,{"$f":"Table_2[[#This Row],[Column20]]+Table_2[[#This Row],[Column56]]","v":0},"",{"$f":"Table_2[[#This Row],[Column20]]+Table_2[[#This Row],[Column56]]","v":0},"",{"$f":"Table_2[[#This Row],[Column57]]+Table_2[[#This Row],[Column16]]+Table_2[[#This Row],[Column15]]","v":0},"",{"$f":"(K714/Instructions!$C$23)*100","v":0},{"$f":"(L714/Instructions!$C$24)*100","v":0},{"$f":"(Y714/Instructions!$C$25)*100","v":0},{"$f":"(AA714/Instructions!$C$27)*100","v":0},{"$f":"(AC714/Instructions!$C$29)*100","v":0},{"$f":"(V714/Instructions!$C$33)*100","v":0},{"$f":"(U714/Instructions!$C$32)*100","v":0},{"$f":"(W714/Instructions!$C$36)*100","v":{"$error":"#VALUE!"}},"","E","E","E","E","E","E","E","--",null,null,null,null,null,{"$f":"Table_2[[#This Row],[Column51]]&Table_2[[#This Row],[Column52]]&AW716","v":""}]
[null,null,null,null,null,null,null,null,null,null,null,null,null,null,null,{"$f":"Instructions!B749","v":0},null,{"$f":"Instructions!B743","v":0},{"$f":"Instructions!B744","v":0},{"$f":"Instructions!B745","v":0},null,null,"--",0,{"$f":"Table_2[[#This Row],[Column20]]+Table_2[[#This Row],[Column56]]","v":0},"",{"$f":"Table_2[[#This Row],[Column20]]+Table_2[[#This Row],[Column56]]","v":0},"",{"$f":"Table_2[[#This Row],[Column57]]+Table_2[[#This Row],[Column16]]+Table_2[[#This Row],[Column15]]","v":0},"",{"$f":"(K715/Instructions!$C$23)*100","v":0},{"$f":"(L715/Instructions!$C$24)*100","v":0},{"$f":"(Y715/Instructions!$C$25)*100","v":0},{"$f":"(AA715/Instructions!$C$27)*100","v":0},{"$f":"(AC715/Instructions!$C$29)*100","v":0},{"$f":"(V715/Instructions!$C$33)*100","v":0},{"$f":"(U715/Instructions!$C$32)*100","v":0},{"$f":"(W715/Instructions!$C$36)*100","v":{"$error":"#VALUE!"}},"","E","E","E","E","E","E","E","--",null,null,null,null,null,{"$f":"Table_2[[#This Row],[Column51]]&Table_2[[#This Row],[Column52]]&AW717","v":""}]
[null,null,null,null,null,null,null,null,null,null,null,null,null,null,null,{"$f":"Instructions!B750","v":0},null,{"$f":"Instructions!B744","v":0},{"$f":"Instructions!B745","v":0},{"$f":"Instructions!B746","v":0},null,null,"--",0,{"$f":"Table_2[[#This Row],[Column20]]+Table_2[[#This Row],[Column56]]","v":0},"",{"$f":"Table_2[[#This Row],[Column20]]+Table_2[[#This Row],[Column56]]","v":0},"",{"$f":"Table_2[[#This Row],[Column57]]+Table_2[[#This Row],[Column16]]+Table_2[[#This Row],[Column15]]","v":0},"",{"$f":"(K716/Instructions!$C$23)*100","v":0},{"$f":"(L716/Instructions!$C$24)*100","v":0},{"$f":"(Y716/Instructions!$C$25)*100","v":0},{"$f":"(AA716/Instructions!$C$27)*100","v":0},{"$f":"(AC716/Instructions!$C$29)*100","v":0},{"$f":"(V716/Instructions!$C$33)*100","v":0},{"$f":"(U716/Instructions!$C$32)*100","v":0},{"$f":"(W716/Instructions!$C$36)*100","v":{"$error":"#VALUE!"}},"","E","E","E","E","E","E","E","--",null,null,null,null,null,{"$f":"Table_2[[#This Row],[Column51]]&Table_2[[#This Row],[Column52]]&AW718","v":""}]
[null,null,null,null,null,null,null,null,null,null,null,null,null,null,null,{"$f":"Instructions!B751","v":0},null,{"$f":"Instructions!B745","v":0},{"$f":"Instructions!B746","v":0},{"$f":"Instructions!B747","v":0},null,null,"--",0,{"$f":"Table_2[[#This Row],[Column20]]+Table_2[[#This Row],[Column56]]","v":0},"",{"$f":"Table_2[[#This Row],[Column20]]+Table_2[[#This Row],[Column56]]","v":0},"",{"$f":"Table_2[[#This Row],[Column57]]+Table_2[[#This Row],[Column16]]+Table_2[[#This Row],[Column15]]","v":0},"",{"$f":"(K717/Instructions!$C$23)*100","v":0},{"$f":"(L717/Instructions!$C$24)*100","v":0},{"$f":"(Y717/Instructions!$C$25)*100","v":0},{"$f":"(AA717/Instructions!$C$27)*100","v":0},{"$f":"(AC717/Instructions!$C$29)*100","v":0},{"$f":"(V717/Instructions!$C$33)*100","v":0},{"$f":"(U717/Instructions!$C$32)*100","v":0},{"$f":"(W717/Instructions!$C$36)*100","v":{"$error":"#VALUE!"}},"","E","E","E","E","E","E","E","--",null,null,null,null,null,{"$f":"Table_2[[#This Row],[Column51]]&Table_2[[#This Row],[Column52]]&AW719","v":""}]
[null,null,null,null,null,null,null,null,null,null,null,null,null,null,null,{"$f":"Instructions!B752","v":0},null,{"$f":"Instructions!B746","v":0},{"$f":"Instructions!B747","v":0},{"$f":"Instructions!B748","v":0},null,null,"--",0,{"$f":"Table_2[[#This Row],[Column20]]+Table_2[[#This Row],[Column56]]","v":0},"",{"$f":"Table_2[[#This Row],[Column20]]+Table_2[[#This Row],[Column56]]","v":0},"",{"$f":"Table_2[[#This Row],[Column57]]+Table_2[[#This Row],[Column16]]+Table_2[[#This Row],[Column15]]","v":0},"",{"$f":"(K718/Instructions!$C$23)*100","v":0},{"$f":"(L718/Instructions!$C$24)*100","v":0},{"$f":"(Y718/Instructions!$C$25)*100","v":0},{"$f":"(AA718/Instructions!$C$27)*100","v":0},{"$f":"(AC718/Instructions!$C$29)*100","v":0},{"$f":"(V718/Instructions!$C$33)*100","v":0},{"$f":"(U718/Instructions!$C$32)*100","v":0},{"$f":"(W718/Instructions!$C$36)*100","v":{"$error":"#VALUE!"}},"","E","E","E","E","E","E","E","--",null,null,null,null,null,{"$f":"Table_2[[#This Row],[Column51]]&Table_2[[#This Row],[Column52]]&AW720","v":""}]
[null,null,null,null,null,null,null,null,null,null,null,null,null,null,null,{"$f":"Instructions!B753","v":0},null,{"$f":"Instructions!B747","v":0},{"$f":"Instructions!B748","v":0},{"$f":"Instructions!B749","v":0},null,null,"--",0,{"$f":"Table_2[[#This Row],[Column20]]+Table_2[[#This Row],[Column56]]","v":0},"",{"$f":"Table_2[[#This Row],[Column20]]+Table_2[[#This Row],[Column56]]","v":0},"",{"$f":"Table_2[[#This Row],[Column57]]+Table_2[[#This Row],[Column16]]+Table_2[[#This Row],[Column15]]","v":0},"",{"$f":"(K719/Instructions!$C$23)*100","v":0},{"$f":"(L719/Instructions!$C$24)*100","v":0},{"$f":"(Y719/Instructions!$C$25)*100","v":0},{"$f":"(AA719/Instructions!$C$27)*100","v":0},{"$f":"(AC719/Instructions!$C$29)*100","v":0},{"$f":"(V719/Instructions!$C$33)*100","v":0},{"$f":"(U719/Instructions!$C$32)*100","v":0},{"$f":"(W719/Instructions!$C$36)*100","v":{"$error":"#VALUE!"}},"","E","E","E","E","E","E","E","--",null,null,null,null,null,{"$f":"Table_2[[#This Row],[Column51]]&Table_2[[#This Row],[Column52]]&AW721","v":""}]
[null,null,null,null,null,null,null,null,null,null,null,null,null,null,null,{"$f":"Instructions!B754","v":0},null,{"$f":"Instructions!B748","v":0},{"$f":"Instructions!B749","v":0},{"$f":"Instructions!B750","v":0},null,null,"--",0,{"$f":"Table_2[[#This Row],[Column20]]+Table_2[[#This Row],[Column56]]","v":0},"",{"$f":"Table_2[[#This Row],[Column20]]+Table_2[[#This Row],[Column56]]","v":0},"",{"$f":"Table_2[[#This Row],[Column57]]+Table_2[[#This Row],[Column16]]+Table_2[[#This Row],[Column15]]","v":0},"",{"$f":"(K720/Instructions!$C$23)*100","v":0},{"$f":"(L720/Instructions!$C$24)*100","v":0},{"$f":"(Y720/Instructions!$C$25)*100","v":0},{"$f":"(AA720/Instructions!$C$27)*100","v":0},{"$f":"(AC720/Instructions!$C$29)*100","v":0},{"$f":"(V720/Instructions!$C$33)*100","v":0},{"$f":"(U720/Instructions!$C$32)*100","v":0},{"$f":"(W720/Instructions!$C$36)*100","v":{"$error":"#VALUE!"}},"","E","E","E","E","E","E","E","--",null,null,null,null,null,{"$f":"Table_2[[#This Row],[Column51]]&Table_2[[#This Row],[Column52]]&AW722","v":""}]
[null,null,null,null,null,null,null,null,null,null,null,null,null,null,null,{"$f":"Instructions!B755","v":0},null,{"$f":"Instructions!B749","v":0},{"$f":"Instructions!B750","v":0},{"$f":"Instructions!B751","v":0},null,null,"--",0,{"$f":"Table_2[[#This Row],[Column20]]+Table_2[[#This Row],[Column56]]","v":0},"",{"$f":"Table_2[[#This Row],[Column20]]+Table_2[[#This Row],[Column56]]","v":0},"",{"$f":"Table_2[[#This Row],[Column57]]+Table_2[[#This Row],[Column16]]+Table_2[[#This Row],[Column15]]","v":0},"",{"$f":"(K721/Instructions!$C$23)*100","v":0},{"$f":"(L721/Instructions!$C$24)*100","v":0},{"$f":"(Y721/Instructions!$C$25)*100","v":0},{"$f":"(AA721/Instructions!$C$27)*100","v":0},{"$f":"(AC721/Instructions!$C$29)*100","v":0},{"$f":"(V721/Instructions!$C$33)*100","v":0},{"$f":"(U721/Instructions!$C$32)*100","v":0},{"$f":"(W721/Instructions!$C$36)*100","v":{"$error":"#VALUE!"}},"","E","E","E","E","E","E","E","--",null,null,null,null,null,{"$f":"Table_2[[#This Row],[Column51]]&Table_2[[#This Row],[Column52]]&AW723","v":""}]
[null,null,null,null,null,null,null,null,null,null,null,null,null,null,null,{"$f":"Instructions!B756","v":0},null,{"$f":"Instructions!B750","v":0},{"$f":"Instructions!B751","v":0},{"$f":"Instructions!B752","v":0},null,null,"--",0,{"$f":"Table_2[[#This Row],[Column20]]+Table_2[[#This Row],[Column56]]","v":0},"",{"$f":"Table_2[[#This Row],[Column20]]+Table_2[[#This Row],[Column56]]","v":0},"",{"$f":"Table_2[[#This Row],[Column57]]+Table_2[[#This Row],[Column16]]+Table_2[[#This Row],[Column15]]","v":0},"",{"$f":"(K722/Instructions!$C$23)*100","v":0},{"$f":"(L722/Instructions!$C$24)*100","v":0},{"$f":"(Y722/Instructions!$C$25)*100","v":0},{"$f":"(AA722/Instructions!$C$27)*100","v":0},{"$f":"(AC722/Instructions!$C$29)*100","v":0},{"$f":"(V722/Instructions!$C$33)*100","v":0},{"$f":"(U722/Instructions!$C$32)*100","v":0},{"$f":"(W722/Instructions!$C$36)*100","v":{"$error":"#VALUE!"}},"","E","E","E","E","E","E","E","--",null,null,null,null,null,{"$f":"Table_2[[#This Row],[Column51]]&Table_2[[#This Row],[Column52]]&AW724","v":""}]
[null,null,null,null,null,null,null,null,null,null,null,null,null,null,null,{"$f":"Instructions!B757","v":0},null,{"$f":"Instructions!B751","v":0},{"$f":"Instructions!B752","v":0},{"$f":"Instructions!B753","v":0},null,null,"--",0,{"$f":"Table_2[[#This Row],[Column20]]+Table_2[[#This Row],[Column56]]","v":0},"",{"$f":"Table_2[[#This Row],[Column20]]+Table_2[[#This Row],[Column56]]","v":0},"",{"$f":"Table_2[[#This Row],[Column57]]+Table_2[[#This Row],[Column16]]+Table_2[[#This Row],[Column15]]","v":0},"",{"$f":"(K723/Instructions!$C$23)*100","v":0},{"$f":"(L723/Instructions!$C$24)*100","v":0},{"$f":"(Y723/Instructions!$C$25)*100","v":0},{"$f":"(AA723/Instructions!$C$27)*100","v":0},{"$f":"(AC723/Instructions!$C$29)*100","v":0},{"$f":"(V723/Instructions!$C$33)*100","v":0},{"$f":"(U723/Instructions!$C$32)*100","v":0},{"$f":"(W723/Instructions!$C$36)*100","v":{"$error":"#VALUE!"}},"","E","E","E","E","E","E","E","--",null,null,null,null,null,{"$f":"Table_2[[#This Row],[Column51]]&Table_2[[#This Row],[Column52]]&AW725","v":""}]
[null,null,null,null,null,null,null,null,null,null,null,null,null,null,null,{"$f":"Instructions!B758","v":0},null,{"$f":"Instructions!B752","v":0},{"$f":"Instructions!B753","v":0},{"$f":"Instructions!B754","v":0},null,null,"--",0,{"$f":"Table_2[[#This Row],[Column20]]+Table_2[[#This Row],[Column56]]","v":0},"",{"$f":"Table_2[[#This Row],[Column20]]+Table_2[[#This Row],[Column56]]","v":0},"",{"$f":"Table_2[[#This Row],[Column57]]+Table_2[[#This Row],[Column16]]+Table_2[[#This Row],[Column15]]","v":0},"",{"$f":"(K724/Instructions!$C$23)*100","v":0},{"$f":"(L724/Instructions!$C$24)*100","v":0},{"$f":"(Y724/Instructions!$C$25)*100","v":0},{"$f":"(AA724/Instructions!$C$27)*100","v":0},{"$f":"(AC724/Instructions!$C$29)*100","v":0},{"$f":"(V724/Instructions!$C$33)*100","v":0},{"$f":"(U724/Instructions!$C$32)*100","v":0},{"$f":"(W724/Instructions!$C$36)*100","v":{"$error":"#VALUE!"}},"","E","E","E","E","E","E","E","--",null,null,null,null,null,{"$f":"Table_2[[#This Row],[Column51]]&Table_2[[#This Row],[Column52]]&AW726","v":""}]
[null,null,null,null,null,null,null,null,null,null,null,null,null,null,null,{"$f":"Instructions!B759","v":0},null,{"$f":"Instructions!B753","v":0},{"$f":"Instructions!B754","v":0},{"$f":"Instructions!B755","v":0},null,null,"--",0,{"$f":"Table_2[[#This Row],[Column20]]+Table_2[[#This Row],[Column56]]","v":0},"",{"$f":"Table_2[[#This Row],[Column20]]+Table_2[[#This Row],[Column56]]","v":0},"",{"$f":"Table_2[[#This Row],[Column57]]+Table_2[[#This Row],[Column16]]+Table_2[[#This Row],[Column15]]","v":0},"",{"$f":"(K725/Instructions!$C$23)*100","v":0},{"$f":"(L725/Instructions!$C$24)*100","v":0},{"$f":"(Y725/Instructions!$C$25)*100","v":0},{"$f":"(AA725/Instructions!$C$27)*100","v":0},{"$f":"(AC725/Instructions!$C$29)*100","v":0},{"$f":"(V725/Instructions!$C$33)*100","v":0},{"$f":"(U725/Instructions!$C$32)*100","v":0},{"$f":"(W725/Instructions!$C$36)*100","v":{"$error":"#VALUE!"}},"","E","E","E","E","E","E","E","--",null,null,null,null,null,{"$f":"Table_2[[#This Row],[Column51]]&Table_2[[#This Row],[Column52]]&AW727","v":""}]
[null,null,null,null,null,null,null,null,null,null,null,null,null,null,null,{"$f":"Instructions!B760","v":0},null,{"$f":"Instructions!B754","v":0},{"$f":"Instructions!B755","v":0},{"$f":"Instructions!B756","v":0},null,null,"--",0,{"$f":"Table_2[[#This Row],[Column20]]+Table_2[[#This Row],[Column56]]","v":0},"",{"$f":"Table_2[[#This Row],[Column20]]+Table_2[[#This Row],[Column56]]","v":0},"",{"$f":"Table_2[[#This Row],[Column57]]+Table_2[[#This Row],[Column16]]+Table_2[[#This Row],[Column15]]","v":0},"",{"$f":"(K726/Instructions!$C$23)*100","v":0},{"$f":"(L726/Instructions!$C$24)*100","v":0},{"$f":"(Y726/Instructions!$C$25)*100","v":0},{"$f":"(AA726/Instructions!$C$27)*100","v":0},{"$f":"(AC726/Instructions!$C$29)*100","v":0},{"$f":"(V726/Instructions!$C$33)*100","v":0},{"$f":"(U726/Instructions!$C$32)*100","v":0},{"$f":"(W726/Instructions!$C$36)*100","v":{"$error":"#VALUE!"}},"","E","E","E","E","E","E","E","--",null,null,null,null,null,{"$f":"Table_2[[#This Row],[Column51]]&Table_2[[#This Row],[Column52]]&AW728","v":""}]
[null,null,null,null,null,null,null,null,null,null,null,null,null,null,null,{"$f":"Instructions!B761","v":0},null,{"$f":"Instructions!B755","v":0},{"$f":"Instructions!B756","v":0},{"$f":"Instructions!B757","v":0},null,null,"--",0,{"$f":"Table_2[[#This Row],[Column20]]+Table_2[[#This Row],[Column56]]","v":0},"",{"$f":"Table_2[[#This Row],[Column20]]+Table_2[[#This Row],[Column56]]","v":0},"",{"$f":"Table_2[[#This Row],[Column57]]+Table_2[[#This Row],[Column16]]+Table_2[[#This Row],[Column15]]","v":0},"",{"$f":"(K727/Instructions!$C$23)*100","v":0},{"$f":"(L727/Instructions!$C$24)*100","v":0},{"$f":"(Y727/Instructions!$C$25)*100","v":0},{"$f":"(AA727/Instructions!$C$27)*100","v":0},{"$f":"(AC727/Instructions!$C$29)*100","v":0},{"$f":"(V727/Instructions!$C$33)*100","v":0},{"$f":"(U727/Instructions!$C$32)*100","v":0},{"$f":"(W727/Instructions!$C$36)*100","v":{"$error":"#VALUE!"}},"","E","E","E","E","E","E","E","--",null,null,null,null,null,{"$f":"Table_2[[#This Row],[Column51]]&Table_2[[#This Row],[Column52]]&AW729","v":""}]
[null,null,null,null,null,null,null,null,null,null,null,null,null,null,null,{"$f":"Instructions!B762","v":0},null,{"$f":"Instructions!B756","v":0},{"$f":"Instructions!B757","v":0},{"$f":"Instructions!B758","v":0},null,null,"--",0,{"$f":"Table_2[[#This Row],[Column20]]+Table_2[[#This Row],[Column56]]","v":0},"",{"$f":"Table_2[[#This Row],[Column20]]+Table_2[[#This Row],[Column56]]","v":0},"",{"$f":"Table_2[[#This Row],[Column57]]+Table_2[[#This Row],[Column16]]+Table_2[[#This Row],[Column15]]","v":0},"",{"$f":"(K728/Instructions!$C$23)*100","v":0},{"$f":"(L728/Instructions!$C$24)*100","v":0},{"$f":"(Y728/Instructions!$C$25)*100","v":0},{"$f":"(AA728/Instructions!$C$27)*100","v":0},{"$f":"(AC728/Instructions!$C$29)*100","v":0},{"$f":"(V728/Instructions!$C$33)*100","v":0},{"$f":"(U728/Instructions!$C$32)*100","v":0},{"$f":"(W728/Instructions!$C$36)*100","v":{"$error":"#VALUE!"}},"","E","E","E","E","E","E","E","--",null,null,null,null,null,{"$f":"Table_2[[#This Row],[Column51]]&Table_2[[#This Row],[Column52]]&AW730","v":""}]
[null,null,null,null,null,null,null,null,null,null,null,null,null,null,null,{"$f":"Instructions!B763","v":0},null,{"$f":"Instructions!B757","v":0},{"$f":"Instructions!B758","v":0},{"$f":"Instructions!B759","v":0},null,null,"--",0,{"$f":"Table_2[[#This Row],[Column20]]+Table_2[[#This Row],[Column56]]","v":0},"",{"$f":"Table_2[[#This Row],[Column20]]+Table_2[[#This Row],[Column56]]","v":0},"",{"$f":"Table_2[[#This Row],[Column57]]+Table_2[[#This Row],[Column16]]+Table_2[[#This Row],[Column15]]","v":0},"",{"$f":"(K729/Instructions!$C$23)*100","v":0},{"$f":"(L729/Instructions!$C$24)*100","v":0},{"$f":"(Y729/Instructions!$C$25)*100","v":0},{"$f":"(AA729/Instructions!$C$27)*100","v":0},{"$f":"(AC729/Instructions!$C$29)*100","v":0},{"$f":"(V729/Instructions!$C$33)*100","v":0},{"$f":"(U729/Instructions!$C$32)*100","v":0},{"$f":"(W729/Instructions!$C$36)*100","v":{"$error":"#VALUE!"}},"","E","E","E","E","E","E","E","--",null,null,null,null,null,{"$f":"Table_2[[#This Row],[Column51]]&Table_2[[#This Row],[Column52]]&AW731","v":""}]
[null,null,null,null,null,null,null,null,null,null,null,null,null,null,null,{"$f":"Instructions!B764","v":0},null,{"$f":"Instructions!B758","v":0},{"$f":"Instructions!B759","v":0},{"$f":"Instructions!B760","v":0},null,null,"--",0,{"$f":"Table_2[[#This Row],[Column20]]+Table_2[[#This Row],[Column56]]","v":0},"",{"$f":"Table_2[[#This Row],[Column20]]+Table_2[[#This Row],[Column56]]","v":0},"",{"$f":"Table_2[[#This Row],[Column57]]+Table_2[[#This Row],[Column16]]+Table_2[[#This Row],[Column15]]","v":0},"",{"$f":"(K730/Instructions!$C$23)*100","v":0},{"$f":"(L730/Instructions!$C$24)*100","v":0},{"$f":"(Y730/Instructions!$C$25)*100","v":0},{"$f":"(AA730/Instructions!$C$27)*100","v":0},{"$f":"(AC730/Instructions!$C$29)*100","v":0},{"$f":"(V730/Instructions!$C$33)*100","v":0},{"$f":"(U730/Instructions!$C$32)*100","v":0},{"$f":"(W730/Instructions!$C$36)*100","v":{"$error":"#VALUE!"}},"","E","E","E","E","E","E","E","--",null,null,null,null,null,{"$f":"Table_2[[#This Row],[Column51]]&Table_2[[#This Row],[Column52]]&AW732","v":""}]
[null,null,null,null,null,null,null,null,null,null,null,null,null,null,null,{"$f":"Instructions!B765","v":0},null,{"$f":"Instructions!B759","v":0},{"$f":"Instructions!B760","v":0},{"$f":"Instructions!B761","v":0},null,null,"--",0,{"$f":"Table_2[[#This Row],[Column20]]+Table_2[[#This Row],[Column56]]","v":0},"",{"$f":"Table_2[[#This Row],[Column20]]+Table_2[[#This Row],[Column56]]","v":0},"",{"$f":"Table_2[[#This Row],[Column57]]+Table_2[[#This Row],[Column16]]+Table_2[[#This Row],[Column15]]","v":0},"",{"$f":"(K731/Instructions!$C$23)*100","v":0},{"$f":"(L731/Instructions!$C$24)*100","v":0},{"$f":"(Y731/Instructions!$C$25)*100","v":0},{"$f":"(AA731/Instructions!$C$27)*100","v":0},{"$f":"(AC731/Instructions!$C$29)*100","v":0},{"$f":"(V731/Instructions!$C$33)*100","v":0},{"$f":"(U731/Instructions!$C$32)*100","v":0},{"$f":"(W731/Instructions!$C$36)*100","v":{"$error":"#VALUE!"}},"","E","E","E","E","E","E","E","--",null,null,null,null,null,{"$f":"Table_2[[#This Row],[Column51]]&Table_2[[#This Row],[Column52]]&AW733","v":""}]
[null,null,null,null,null,null,null,null,null,null,null,null,null,null,null,{"$f":"Instructions!B766","v":0},null,{"$f":"Instructions!B760","v":0},{"$f":"Instructions!B761","v":0},{"$f":"Instructions!B762","v":0},null,null,"--",0,{"$f":"Table_2[[#This Row],[Column20]]+Table_2[[#This Row],[Column56]]","v":0},"",{"$f":"Table_2[[#This Row],[Column20]]+Table_2[[#This Row],[Column56]]","v":0},"",{"$f":"Table_2[[#This Row],[Column57]]+Table_2[[#This Row],[Column16]]+Table_2[[#This Row],[Column15]]","v":0},"",{"$f":"(K732/Instructions!$C$23)*100","v":0},{"$f":"(L732/Instructions!$C$24)*100","v":0},{"$f":"(Y732/Instructions!$C$25)*100","v":0},{"$f":"(AA732/Instructions!$C$27)*100","v":0},{"$f":"(AC732/Instructions!$C$29)*100","v":0},{"$f":"(V732/Instructions!$C$33)*100","v":0},{"$f":"(U732/Instructions!$C$32)*100","v":0},{"$f":"(W732/Instructions!$C$36)*100","v":{"$error":"#VALUE!"}},"","E","E","E","E","E","E","E","--",null,null,null,null,null,{"$f":"Table_2[[#This Row],[Column51]]&Table_2[[#This Row],[Column52]]&AW734","v":""}]
[null,null,null,null,null,null,null,null,null,null,null,null,null,null,null,{"$f":"Instructions!B767","v":0},null,{"$f":"Instructions!B761","v":0},{"$f":"Instructions!B762","v":0},{"$f":"Instructions!B763","v":0},null,null,"--",0,{"$f":"Table_2[[#This Row],[Column20]]+Table_2[[#This Row],[Column56]]","v":0},"",{"$f":"Table_2[[#This Row],[Column20]]+Table_2[[#This Row],[Column56]]","v":0},"",{"$f":"Table_2[[#This Row],[Column57]]+Table_2[[#This Row],[Column16]]+Table_2[[#This Row],[Column15]]","v":0},"",{"$f":"(K733/Instructions!$C$23)*100","v":0},{"$f":"(L733/Instructions!$C$24)*100","v":0},{"$f":"(Y733/Instructions!$C$25)*100","v":0},{"$f":"(AA733/Instructions!$C$27)*100","v":0},{"$f":"(AC733/Instructions!$C$29)*100","v":0},{"$f":"(V733/Instructions!$C$33)*100","v":0},{"$f":"(U733/Instructions!$C$32)*100","v":0},{"$f":"(W733/Instructions!$C$36)*100","v":{"$error":"#VALUE!"}},"","E","E","E","E","E","E","E","--",null,null,null,null,null,{"$f":"Table_2[[#This Row],[Column51]]&Table_2[[#This Row],[Column52]]&AW735","v":""}]
[null,null,null,null,null,null,null,null,null,null,null,null,null,null,null,{"$f":"Instructions!B768","v":0},null,{"$f":"Instructions!B762","v":0},{"$f":"Instructions!B763","v":0},{"$f":"Instructions!B764","v":0},null,null,"--",0,{"$f":"Table_2[[#This Row],[Column20]]+Table_2[[#This Row],[Column56]]","v":0},"",{"$f":"Table_2[[#This Row],[Column20]]+Table_2[[#This Row],[Column56]]","v":0},"",{"$f":"Table_2[[#This Row],[Column57]]+Table_2[[#This Row],[Column16]]+Table_2[[#This Row],[Column15]]","v":0},"",{"$f":"(K734/Instructions!$C$23)*100","v":0},{"$f":"(L734/Instructions!$C$24)*100","v":0},{"$f":"(Y734/Instructions!$C$25)*100","v":0},{"$f":"(AA734/Instructions!$C$27)*100","v":0},{"$f":"(AC734/Instructions!$C$29)*100","v":0},{"$f":"(V734/Instructions!$C$33)*100","v":0},{"$f":"(U734/Instructions!$C$32)*100","v":0},{"$f":"(W734/Instructions!$C$36)*100","v":{"$error":"#VALUE!"}},"","E","E","E","E","E","E","E","--",null,null,null,null,null,{"$f":"Table_2[[#This Row],[Column51]]&Table_2[[#This Row],[Column52]]&AW736","v":""}]
[null,null,null,null,null,null,null,null,null,null,null,null,null,null,null,{"$f":"Instructions!B769","v":0},null,{"$f":"Instructions!B763","v":0},{"$f":"Instructions!B764","v":0},{"$f":"Instructions!B765","v":0},null,null,"--",0,{"$f":"Table_2[[#This Row],[Column20]]+Table_2[[#This Row],[Column56]]","v":0},"",{"$f":"Table_2[[#This Row],[Column20]]+Table_2[[#This Row],[Column56]]","v":0},"",{"$f":"Table_2[[#This Row],[Column57]]+Table_2[[#This Row],[Column16]]+Table_2[[#This Row],[Column15]]","v":0},"",{"$f":"(K735/Instructions!$C$23)*100","v":0},{"$f":"(L735/Instructions!$C$24)*100","v":0},{"$f":"(Y735/Instructions!$C$25)*100","v":0},{"$f":"(AA735/Instructions!$C$27)*100","v":0},{"$f":"(AC735/Instructions!$C$29)*100","v":0},{"$f":"(V735/Instructions!$C$33)*100","v":0},{"$f":"(U735/Instructions!$C$32)*100","v":0},{"$f":"(W735/Instructions!$C$36)*100","v":{"$error":"#VALUE!"}},"","E","E","E","E","E","E","E","--",null,null,null,null,null,{"$f":"Table_2[[#This Row],[Column51]]&Table_2[[#This Row],[Column52]]&AW737","v":""}]
[null,null,null,null,null,null,null,null,null,null,null,null,null,null,null,{"$f":"Instructions!B770","v":0},null,{"$f":"Instructions!B764","v":0},{"$f":"Instructions!B765","v":0},{"$f":"Instructions!B766","v":0},null,null,"--",0,{"$f":"Table_2[[#This Row],[Column20]]+Table_2[[#This Row],[Column56]]","v":0},"",{"$f":"Table_2[[#This Row],[Column20]]+Table_2[[#This Row],[Column56]]","v":0},"",{"$f":"Table_2[[#This Row],[Column57]]+Table_2[[#This Row],[Column16]]+Table_2[[#This Row],[Column15]]","v":0},"",{"$f":"(K736/Instructions!$C$23)*100","v":0},{"$f":"(L736/Instructions!$C$24)*100","v":0},{"$f":"(Y736/Instructions!$C$25)*100","v":0},{"$f":"(AA736/Instructions!$C$27)*100","v":0},{"$f":"(AC736/Instructions!$C$29)*100","v":0},{"$f":"(V736/Instructions!$C$33)*100","v":0},{"$f":"(U736/Instructions!$C$32)*100","v":0},{"$f":"(W736/Instructions!$C$36)*100","v":{"$error":"#VALUE!"}},"","E","E","E","E","E","E","E","--",null,null,null,null,null,{"$f":"Table_2[[#This Row],[Column51]]&Table_2[[#This Row],[Column52]]&AW738","v":""}]
[null,null,null,null,null,null,null,null,null,null,null,null,null,null,null,{"$f":"Instructions!B771","v":0},null,{"$f":"Instructions!B765","v":0},{"$f":"Instructions!B766","v":0},{"$f":"Instructions!B767","v":0},null,null,"--",0,{"$f":"Table_2[[#This Row],[Column20]]+Table_2[[#This Row],[Column56]]","v":0},"",{"$f":"Table_2[[#This Row],[Column20]]+Table_2[[#This Row],[Column56]]","v":0},"",{"$f":"Table_2[[#This Row],[Column57]]+Table_2[[#This Row],[Column16]]+Table_2[[#This Row],[Column15]]","v":0},"",{"$f":"(K737/Instructions!$C$23)*100","v":0},{"$f":"(L737/Instructions!$C$24)*100","v":0},{"$f":"(Y737/Instructions!$C$25)*100","v":0},{"$f":"(AA737/Instructions!$C$27)*100","v":0},{"$f":"(AC737/Instructions!$C$29)*100","v":0},{"$f":"(V737/Instructions!$C$33)*100","v":0},{"$f":"(U737/Instructions!$C$32)*100","v":0},{"$f":"(W737/Instructions!$C$36)*100","v":{"$error":"#VALUE!"}},"","E","E","E","E","E","E","E","--",null,null,null,null,null,{"$f":"Table_2[[#This Row],[Column51]]&Table_2[[#This Row],[Column52]]&AW739","v":""}]
[null,null,null,null,null,null,null,null,null,null,null,null,null,null,null,{"$f":"Instructions!B772","v":0},null,{"$f":"Instructions!B766","v":0},{"$f":"Instructions!B767","v":0},{"$f":"Instructions!B768","v":0},null,null,"--",0,{"$f":"Table_2[[#This Row],[Column20]]+Table_2[[#This Row],[Column56]]","v":0},"",{"$f":"Table_2[[#This Row],[Column20]]+Table_2[[#This Row],[Column56]]","v":0},"",{"$f":"Table_2[[#This Row],[Column57]]+Table_2[[#This Row],[Column16]]+Table_2[[#This Row],[Column15]]","v":0},"",{"$f":"(K738/Instructions!$C$23)*100","v":0},{"$f":"(L738/Instructions!$C$24)*100","v":0},{"$f":"(Y738/Instructions!$C$25)*100","v":0},{"$f":"(AA738/Instructions!$C$27)*100","v":0},{"$f":"(AC738/Instructions!$C$29)*100","v":0},{"$f":"(V738/Instructions!$C$33)*100","v":0},{"$f":"(U738/Instructions!$C$32)*100","v":0},{"$f":"(W738/Instructions!$C$36)*100","v":{"$error":"#VALUE!"}},"","E","E","E","E","E","E","E","--",null,null,null,null,null,{"$f":"Table_2[[#This Row],[Column51]]&Table_2[[#This Row],[Column52]]&AW740","v":""}]
[null,null,null,null,null,null,null,null,null,null,null,null,null,null,null,{"$f":"Instructions!B773","v":0},null,{"$f":"Instructions!B767","v":0},{"$f":"Instructions!B768","v":0},{"$f":"Instructions!B769","v":0},null,null,"--",0,{"$f":"Table_2[[#This Row],[Column20]]+Table_2[[#This Row],[Column56]]","v":0},"",{"$f":"Table_2[[#This Row],[Column20]]+Table_2[[#This Row],[Column56]]","v":0},"",{"$f":"Table_2[[#This Row],[Column57]]+Table_2[[#This Row],[Column16]]+Table_2[[#This Row],[Column15]]","v":0},"",{"$f":"(K739/Instructions!$C$23)*100","v":0},{"$f":"(L739/Instructions!$C$24)*100","v":0},{"$f":"(Y739/Instructions!$C$25)*100","v":0},{"$f":"(AA739/Instructions!$C$27)*100","v":0},{"$f":"(AC739/Instructions!$C$29)*100","v":0},{"$f":"(V739/Instructions!$C$33)*100","v":0},{"$f":"(U739/Instructions!$C$32)*100","v":0},{"$f":"(W739/Instructions!$C$36)*100","v":{"$error":"#VALUE!"}},"","E","E","E","E","E","E","E","--",null,null,null,null,null,{"$f":"Table_2[[#This Row],[Column51]]&Table_2[[#This Row],[Column52]]&AW741","v":""}]
[null,null,null,null,null,null,null,null,null,null,null,null,null,null,null,{"$f":"Instructions!B774","v":0},null,{"$f":"Instructions!B768","v":0},{"$f":"Instructions!B769","v":0},{"$f":"Instructions!B770","v":0},null,null,"--",0,{"$f":"Table_2[[#This Row],[Column20]]+Table_2[[#This Row],[Column56]]","v":0},"",{"$f":"Table_2[[#This Row],[Column20]]+Table_2[[#This Row],[Column56]]","v":0},"",{"$f":"Table_2[[#This Row],[Column57]]+Table_2[[#This Row],[Column16]]+Table_2[[#This Row],[Column15]]","v":0},"",{"$f":"(K740/Instructions!$C$23)*100","v":0},{"$f":"(L740/Instructions!$C$24)*100","v":0},{"$f":"(Y740/Instructions!$C$25)*100","v":0},{"$f":"(AA740/Instructions!$C$27)*100","v":0},{"$f":"(AC740/Instructions!$C$29)*100","v":0},{"$f":"(V740/Instructions!$C$33)*100","v":0},{"$f":"(U740/Instructions!$C$32)*100","v":0},{"$f":"(W740/Instructions!$C$36)*100","v":{"$error":"#VALUE!"}},"","E","E","E","E","E","E","E","--",null,null,null,null,null,{"$f":"Table_2[[#This Row],[Column51]]&Table_2[[#This Row],[Column52]]&AW742","v":""}]
[null,null,null,null,null,null,null,null,null,null,null,null,null,null,null,{"$f":"Instructions!B775","v":0},null,{"$f":"Instructions!B769","v":0},{"$f":"Instructions!B770","v":0},{"$f":"Instructions!B771","v":0},null,null,"--",0,{"$f":"Table_2[[#This Row],[Column20]]+Table_2[[#This Row],[Column56]]","v":0},"",{"$f":"Table_2[[#This Row],[Column20]]+Table_2[[#This Row],[Column56]]","v":0},"",{"$f":"Table_2[[#This Row],[Column57]]+Table_2[[#This Row],[Column16]]+Table_2[[#This Row],[Column15]]","v":0},"",{"$f":"(K741/Instructions!$C$23)*100","v":0},{"$f":"(L741/Instructions!$C$24)*100","v":0},{"$f":"(Y741/Instructions!$C$25)*100","v":0},{"$f":"(AA741/Instructions!$C$27)*100","v":0},{"$f":"(AC741/Instructions!$C$29)*100","v":0},{"$f":"(V741/Instructions!$C$33)*100","v":0},{"$f":"(U741/Instructions!$C$32)*100","v":0},{"$f":"(W741/Instructions!$C$36)*100","v":{"$error":"#VALUE!"}},"","E","E","E","E","E","E","E","--",null,null,null,null,null,{"$f":"Table_2[[#This Row],[Column51]]&Table_2[[#This Row],[Column52]]&AW743","v":""}]
[null,null,null,null,null,null,null,null,null,null,null,null,null,null,null,{"$f":"Instructions!B776","v":0},null,{"$f":"Instructions!B770","v":0},{"$f":"Instructions!B771","v":0},{"$f":"Instructions!B772","v":0},null,null,"--",0,{"$f":"Table_2[[#This Row],[Column20]]+Table_2[[#This Row],[Column56]]","v":0},"",{"$f":"Table_2[[#This Row],[Column20]]+Table_2[[#This Row],[Column56]]","v":0},"",{"$f":"Table_2[[#This Row],[Column57]]+Table_2[[#This Row],[Column16]]+Table_2[[#This Row],[Column15]]","v":0},"",{"$f":"(K742/Instructions!$C$23)*100","v":0},{"$f":"(L742/Instructions!$C$24)*100","v":0},{"$f":"(Y742/Instructions!$C$25)*100","v":0},{"$f":"(AA742/Instructions!$C$27)*100","v":0},{"$f":"(AC742/Instructions!$C$29)*100","v":0},{"$f":"(V742/Instructions!$C$33)*100","v":0},{"$f":"(U742/Instructions!$C$32)*100","v":0},{"$f":"(W742/Instructions!$C$36)*100","v":{"$error":"#VALUE!"}},"","E","E","E","E","E","E","E","--",null,null,null,null,null,{"$f":"Table_2[[#This Row],[Column51]]&Table_2[[#This Row],[Column52]]&AW744","v":""}]
[null,null,null,null,null,null,null,null,null,null,null,null,null,null,null,{"$f":"Instructions!B777","v":0},null,{"$f":"Instructions!B771","v":0},{"$f":"Instructions!B772","v":0},{"$f":"Instructions!B773","v":0},null,null,"--",0,{"$f":"Table_2[[#This Row],[Column20]]+Table_2[[#This Row],[Column56]]","v":0},"",{"$f":"Table_2[[#This Row],[Column20]]+Table_2[[#This Row],[Column56]]","v":0},"",{"$f":"Table_2[[#This Row],[Column57]]+Table_2[[#This Row],[Column16]]+Table_2[[#This Row],[Column15]]","v":0},"",{"$f":"(K743/Instructions!$C$23)*100","v":0},{"$f":"(L743/Instructions!$C$24)*100","v":0},{"$f":"(Y743/Instructions!$C$25)*100","v":0},{"$f":"(AA743/Instructions!$C$27)*100","v":0},{"$f":"(AC743/Instructions!$C$29)*100","v":0},{"$f":"(V743/Instructions!$C$33)*100","v":0},{"$f":"(U743/Instructions!$C$32)*100","v":0},{"$f":"(W743/Instructions!$C$36)*100","v":{"$error":"#VALUE!"}},"","E","E","E","E","E","E","E","--",null,null,null,null,null,{"$f":"Table_2[[#This Row],[Column51]]&Table_2[[#This Row],[Column52]]&AW745","v":""}]
[null,null,null,null,null,null,null,null,null,null,null,null,null,null,null,{"$f":"Instructions!B778","v":0},null,{"$f":"Instructions!B772","v":0},{"$f":"Instructions!B773","v":0},{"$f":"Instructions!B774","v":0},null,null,"--",0,{"$f":"Table_2[[#This Row],[Column20]]+Table_2[[#This Row],[Column56]]","v":0},"",{"$f":"Table_2[[#This Row],[Column20]]+Table_2[[#This Row],[Column56]]","v":0},"",{"$f":"Table_2[[#This Row],[Column57]]+Table_2[[#This Row],[Column16]]+Table_2[[#This Row],[Column15]]","v":0},"",{"$f":"(K744/Instructions!$C$23)*100","v":0},{"$f":"(L744/Instructions!$C$24)*100","v":0},{"$f":"(Y744/Instructions!$C$25)*100","v":0},{"$f":"(AA744/Instructions!$C$27)*100","v":0},{"$f":"(AC744/Instructions!$C$29)*100","v":0},{"$f":"(V744/Instructions!$C$33)*100","v":0},{"$f":"(U744/Instructions!$C$32)*100","v":0},{"$f":"(W744/Instructions!$C$36)*100","v":{"$error":"#VALUE!"}},"","E","E","E","E","E","E","E","--",null,null,null,null,null,{"$f":"Table_2[[#This Row],[Column51]]&Table_2[[#This Row],[Column52]]&AW746","v":""}]
[null,null,null,null,null,null,null,null,null,null,null,null,null,null,null,{"$f":"Instructions!B779","v":0},null,{"$f":"Instructions!B773","v":0},{"$f":"Instructions!B774","v":0},{"$f":"Instructions!B775","v":0},null,null,"--",0,{"$f":"Table_2[[#This Row],[Column20]]+Table_2[[#This Row],[Column56]]","v":0},"",{"$f":"Table_2[[#This Row],[Column20]]+Table_2[[#This Row],[Column56]]","v":0},"",{"$f":"Table_2[[#This Row],[Column57]]+Table_2[[#This Row],[Column16]]+Table_2[[#This Row],[Column15]]","v":0},"",{"$f":"(K745/Instructions!$C$23)*100","v":0},{"$f":"(L745/Instructions!$C$24)*100","v":0},{"$f":"(Y745/Instructions!$C$25)*100","v":0},{"$f":"(AA745/Instructions!$C$27)*100","v":0},{"$f":"(AC745/Instructions!$C$29)*100","v":0},{"$f":"(V745/Instructions!$C$33)*100","v":0},{"$f":"(U745/Instructions!$C$32)*100","v":0},{"$f":"(W745/Instructions!$C$36)*100","v":{"$error":"#VALUE!"}},"","E","E","E","E","E","E","E","--",null,null,null,null,null,{"$f":"Table_2[[#This Row],[Column51]]&Table_2[[#This Row],[Column52]]&AW747","v":""}]
[null,null,null,null,null,null,null,null,null,null,null,null,null,null,null,{"$f":"Instructions!B780","v":0},null,{"$f":"Instructions!B774","v":0},{"$f":"Instructions!B775","v":0},{"$f":"Instructions!B776","v":0},null,null,"--",0,{"$f":"Table_2[[#This Row],[Column20]]+Table_2[[#This Row],[Column56]]","v":0},"",{"$f":"Table_2[[#This Row],[Column20]]+Table_2[[#This Row],[Column56]]","v":0},"",{"$f":"Table_2[[#This Row],[Column57]]+Table_2[[#This Row],[Column16]]+Table_2[[#This Row],[Column15]]","v":0},"",{"$f":"(K746/Instructions!$C$23)*100","v":0},{"$f":"(L746/Instructions!$C$24)*100","v":0},{"$f":"(Y746/Instructions!$C$25)*100","v":0},{"$f":"(AA746/Instructions!$C$27)*100","v":0},{"$f":"(AC746/Instructions!$C$29)*100","v":0},{"$f":"(V746/Instructions!$C$33)*100","v":0},{"$f":"(U746/Instructions!$C$32)*100","v":0},{"$f":"(W746/Instructions!$C$36)*100","v":{"$error":"#VALUE!"}},"","E","E","E","E","E","E","E","--",null,null,null,null,null,{"$f":"Table_2[[#This Row],[Column51]]&Table_2[[#This Row],[Column52]]&AW748","v":""}]
[null,null,null,null,null,null,null,null,null,null,null,null,null,null,null,{"$f":"Instructions!B781","v":0},null,{"$f":"Instructions!B775","v":0},{"$f":"Instructions!B776","v":0},{"$f":"Instructions!B777","v":0},null,null,"--",0,{"$f":"Table_2[[#This Row],[Column20]]+Table_2[[#This Row],[Column56]]","v":0},"",{"$f":"Table_2[[#This Row],[Column20]]+Table_2[[#This Row],[Column56]]","v":0},"",{"$f":"Table_2[[#This Row],[Column57]]+Table_2[[#This Row],[Column16]]+Table_2[[#This Row],[Column15]]","v":0},"",{"$f":"(K747/Instructions!$C$23)*100","v":0},{"$f":"(L747/Instructions!$C$24)*100","v":0},{"$f":"(Y747/Instructions!$C$25)*100","v":0},{"$f":"(AA747/Instructions!$C$27)*100","v":0},{"$f":"(AC747/Instructions!$C$29)*100","v":0},{"$f":"(V747/Instructions!$C$33)*100","v":0},{"$f":"(U747/Instructions!$C$32)*100","v":0},{"$f":"(W747/Instructions!$C$36)*100","v":{"$error":"#VALUE!"}},"","E","E","E","E","E","E","E","--",null,null,null,null,null,{"$f":"Table_2[[#This Row],[Column51]]&Table_2[[#This Row],[Column52]]&AW749","v":""}]
[null,null,null,null,null,null,null,null,null,null,null,null,null,null,null,{"$f":"Instructions!B782","v":0},null,{"$f":"Instructions!B776","v":0},{"$f":"Instructions!B777","v":0},{"$f":"Instructions!B778","v":0},null,null,"--",0,{"$f":"Table_2[[#This Row],[Column20]]+Table_2[[#This Row],[Column56]]","v":0},"",{"$f":"Table_2[[#This Row],[Column20]]+Table_2[[#This Row],[Column56]]","v":0},"",{"$f":"Table_2[[#This Row],[Column57]]+Table_2[[#This Row],[Column16]]+Table_2[[#This Row],[Column15]]","v":0},"",{"$f":"(K748/Instructions!$C$23)*100","v":0},{"$f":"(L748/Instructions!$C$24)*100","v":0},{"$f":"(Y748/Instructions!$C$25)*100","v":0},{"$f":"(AA748/Instructions!$C$27)*100","v":0},{"$f":"(AC748/Instructions!$C$29)*100","v":0},{"$f":"(V748/Instructions!$C$33)*100","v":0},{"$f":"(U748/Instructions!$C$32)*100","v":0},{"$f":"(W748/Instructions!$C$36)*100","v":{"$error":"#VALUE!"}},"","E","E","E","E","E","E","E","--",null,null,null,null,null,{"$f":"Table_2[[#This Row],[Column51]]&Table_2[[#This Row],[Column52]]&AW750","v":""}]
[null,null,null,null,null,null,null,null,null,null,null,null,null,null,null,{"$f":"Instructions!B783","v":0},null,{"$f":"Instructions!B777","v":0},{"$f":"Instructions!B778","v":0},{"$f":"Instructions!B779","v":0},null,null,"--",0,{"$f":"Table_2[[#This Row],[Column20]]+Table_2[[#This Row],[Column56]]","v":0},"",{"$f":"Table_2[[#This Row],[Column20]]+Table_2[[#This Row],[Column56]]","v":0},"",{"$f":"Table_2[[#This Row],[Column57]]+Table_2[[#This Row],[Column16]]+Table_2[[#This Row],[Column15]]","v":0},"",{"$f":"(K749/Instructions!$C$23)*100","v":0},{"$f":"(L749/Instructions!$C$24)*100","v":0},{"$f":"(Y749/Instructions!$C$25)*100","v":0},{"$f":"(AA749/Instructions!$C$27)*100","v":0},{"$f":"(AC749/Instructions!$C$29)*100","v":0},{"$f":"(V749/Instructions!$C$33)*100","v":0},{"$f":"(U749/Instructions!$C$32)*100","v":0},{"$f":"(W749/Instructions!$C$36)*100","v":{"$error":"#VALUE!"}},"","E","E","E","E","E","E","E","--",null,null,null,null,null,{"$f":"Table_2[[#This Row],[Column51]]&Table_2[[#This Row],[Column52]]&AW751","v":""}]
[null,null,null,null,null,null,null,null,null,null,null,null,null,null,null,{"$f":"Instructions!B784","v":0},null,{"$f":"Instructions!B778","v":0},{"$f":"Instructions!B779","v":0},{"$f":"Instructions!B780","v":0},null,null,"--",0,{"$f":"Table_2[[#This Row],[Column20]]+Table_2[[#This Row],[Column56]]","v":0},"",{"$f":"Table_2[[#This Row],[Column20]]+Table_2[[#This Row],[Column56]]","v":0},"",{"$f":"Table_2[[#This Row],[Column57]]+Table_2[[#This Row],[Column16]]+Table_2[[#This Row],[Column15]]","v":0},"",{"$f":"(K750/Instructions!$C$23)*100","v":0},{"$f":"(L750/Instructions!$C$24)*100","v":0},{"$f":"(Y750/Instructions!$C$25)*100","v":0},{"$f":"(AA750/Instructions!$C$27)*100","v":0},{"$f":"(AC750/Instructions!$C$29)*100","v":0},{"$f":"(V750/Instructions!$C$33)*100","v":0},{"$f":"(U750/Instructions!$C$32)*100","v":0},{"$f":"(W750/Instructions!$C$36)*100","v":{"$error":"#VALUE!"}},"","E","E","E","E","E","E","E","--",null,null,null,null,null,{"$f":"Table_2[[#This Row],[Column51]]&Table_2[[#This Row],[Column52]]&AW752","v":""}]
[null,null,null,null,null,null,null,null,null,null,null,null,null,null,null,{"$f":"Instructions!B785","v":0},null,{"$f":"Instructions!B779","v":0},{"$f":"Instructions!B780","v":0},{"$f":"Instructions!B781","v":0},null,null,"--",0,{"$f":"Table_2[[#This Row],[Column20]]+Table_2[[#This Row],[Column56]]","v":0},"",{"$f":"Table_2[[#This Row],[Column20]]+Table_2[[#This Row],[Column56]]","v":0},"",{"$f":"Table_2[[#This Row],[Column57]]+Table_2[[#This Row],[Column16]]+Table_2[[#This Row],[Column15]]","v":0},"",{"$f":"(K751/Instructions!$C$23)*100","v":0},{"$f":"(L751/Instructions!$C$24)*100","v":0},{"$f":"(Y751/Instructions!$C$25)*100","v":0},{"$f":"(AA751/Instructions!$C$27)*100","v":0},{"$f":"(AC751/Instructions!$C$29)*100","v":0},{"$f":"(V751/Instructions!$C$33)*100","v":0},{"$f":"(U751/Instructions!$C$32)*100","v":0},{"$f":"(W751/Instructions!$C$36)*100","v":{"$error":"#VALUE!"}},"","E","E","E","E","E","E","E","--",null,null,null,null,null,{"$f":"Table_2[[#This Row],[Column51]]&Table_2[[#This Row],[Column52]]&AW753","v":""}]
[null,null,null,null,null,null,null,null,null,null,null,null,null,null,null,{"$f":"Instructions!B786","v":0},null,{"$f":"Instructions!B780","v":0},{"$f":"Instructions!B781","v":0},{"$f":"Instructions!B782","v":0},null,null,"--",0,{"$f":"Table_2[[#This Row],[Column20]]+Table_2[[#This Row],[Column56]]","v":0},"",{"$f":"Table_2[[#This Row],[Column20]]+Table_2[[#This Row],[Column56]]","v":0},"",{"$f":"Table_2[[#This Row],[Column57]]+Table_2[[#This Row],[Column16]]+Table_2[[#This Row],[Column15]]","v":0},"",{"$f":"(K752/Instructions!$C$23)*100","v":0},{"$f":"(L752/Instructions!$C$24)*100","v":0},{"$f":"(Y752/Instructions!$C$25)*100","v":0},{"$f":"(AA752/Instructions!$C$27)*100","v":0},{"$f":"(AC752/Instructions!$C$29)*100","v":0},{"$f":"(V752/Instructions!$C$33)*100","v":0},{"$f":"(U752/Instructions!$C$32)*100","v":0},{"$f":"(W752/Instructions!$C$36)*100","v":{"$error":"#VALUE!"}},"","E","E","E","E","E","E","E","--",null,null,null,null,null,{"$f":"Table_2[[#This Row],[Column51]]&Table_2[[#This Row],[Column52]]&AW754","v":""}]
[null,null,null,null,null,null,null,null,null,null,null,null,null,null,null,{"$f":"Instructions!B787","v":0},null,{"$f":"Instructions!B781","v":0},{"$f":"Instructions!B782","v":0},{"$f":"Instructions!B783","v":0},null,null,"--",0,{"$f":"Table_2[[#This Row],[Column20]]+Table_2[[#This Row],[Column56]]","v":0},"",{"$f":"Table_2[[#This Row],[Column20]]+Table_2[[#This Row],[Column56]]","v":0},"",{"$f":"Table_2[[#This Row],[Column57]]+Table_2[[#This Row],[Column16]]+Table_2[[#This Row],[Column15]]","v":0},"",{"$f":"(K753/Instructions!$C$23)*100","v":0},{"$f":"(L753/Instructions!$C$24)*100","v":0},{"$f":"(Y753/Instructions!$C$25)*100","v":0},{"$f":"(AA753/Instructions!$C$27)*100","v":0},{"$f":"(AC753/Instructions!$C$29)*100","v":0},{"$f":"(V753/Instructions!$C$33)*100","v":0},{"$f":"(U753/Instructions!$C$32)*100","v":0},{"$f":"(W753/Instructions!$C$36)*100","v":{"$error":"#VALUE!"}},"","E","E","E","E","E","E","E","--",null,null,null,null,null,{"$f":"Table_2[[#This Row],[Column51]]&Table_2[[#This Row],[Column52]]&AW755","v":""}]
[null,null,null,null,null,null,null,null,null,null,null,null,null,null,null,{"$f":"Instructions!B788","v":0},null,{"$f":"Instructions!B782","v":0},{"$f":"Instructions!B783","v":0},{"$f":"Instructions!B784","v":0},null,null,"--",0,{"$f":"Table_2[[#This Row],[Column20]]+Table_2[[#This Row],[Column56]]","v":0},"",{"$f":"Table_2[[#This Row],[Column20]]+Table_2[[#This Row],[Column56]]","v":0},"",{"$f":"Table_2[[#This Row],[Column57]]+Table_2[[#This Row],[Column16]]+Table_2[[#This Row],[Column15]]","v":0},"",{"$f":"(K754/Instructions!$C$23)*100","v":0},{"$f":"(L754/Instructions!$C$24)*100","v":0},{"$f":"(Y754/Instructions!$C$25)*100","v":0},{"$f":"(AA754/Instructions!$C$27)*100","v":0},{"$f":"(AC754/Instructions!$C$29)*100","v":0},{"$f":"(V754/Instructions!$C$33)*100","v":0},{"$f":"(U754/Instructions!$C$32)*100","v":0},{"$f":"(W754/Instructions!$C$36)*100","v":{"$error":"#VALUE!"}},"","E","E","E","E","E","E","E","--",null,null,null,null,null,{"$f":"Table_2[[#This Row],[Column51]]&Table_2[[#This Row],[Column52]]&AW756","v":""}]
[null,null,null,null,null,null,null,null,null,null,null,null,null,null,null,{"$f":"Instructions!B789","v":0},null,{"$f":"Instructions!B783","v":0},{"$f":"Instructions!B784","v":0},{"$f":"Instructions!B785","v":0},null,null,"--",0,{"$f":"Table_2[[#This Row],[Column20]]+Table_2[[#This Row],[Column56]]","v":0},"",{"$f":"Table_2[[#This Row],[Column20]]+Table_2[[#This Row],[Column56]]","v":0},"",{"$f":"Table_2[[#This Row],[Column57]]+Table_2[[#This Row],[Column16]]+Table_2[[#This Row],[Column15]]","v":0},"",{"$f":"(K755/Instructions!$C$23)*100","v":0},{"$f":"(L755/Instructions!$C$24)*100","v":0},{"$f":"(Y755/Instructions!$C$25)*100","v":0},{"$f":"(AA755/Instructions!$C$27)*100","v":0},{"$f":"(AC755/Instructions!$C$29)*100","v":0},{"$f":"(V755/Instructions!$C$33)*100","v":0},{"$f":"(U755/Instructions!$C$32)*100","v":0},{"$f":"(W755/Instructions!$C$36)*100","v":{"$error":"#VALUE!"}},"","E","E","E","E","E","E","E","--",null,null,null,null,null,{"$f":"Table_2[[#This Row],[Column51]]&Table_2[[#This Row],[Column52]]&AW757","v":""}]
[null,null,null,null,null,null,null,null,null,null,null,null,null,null,null,{"$f":"Instructions!B790","v":0},null,{"$f":"Instructions!B784","v":0},{"$f":"Instructions!B785","v":0},{"$f":"Instructions!B786","v":0},null,null,"--",0,{"$f":"Table_2[[#This Row],[Column20]]+Table_2[[#This Row],[Column56]]","v":0},"",{"$f":"Table_2[[#This Row],[Column20]]+Table_2[[#This Row],[Column56]]","v":0},"",{"$f":"Table_2[[#This Row],[Column57]]+Table_2[[#This Row],[Column16]]+Table_2[[#This Row],[Column15]]","v":0},"",{"$f":"(K756/Instructions!$C$23)*100","v":0},{"$f":"(L756/Instructions!$C$24)*100","v":0},{"$f":"(Y756/Instructions!$C$25)*100","v":0},{"$f":"(AA756/Instructions!$C$27)*100","v":0},{"$f":"(AC756/Instructions!$C$29)*100","v":0},{"$f":"(V756/Instructions!$C$33)*100","v":0},{"$f":"(U756/Instructions!$C$32)*100","v":0},{"$f":"(W756/Instructions!$C$36)*100","v":{"$error":"#VALUE!"}},"","E","E","E","E","E","E","E","--",null,null,null,null,null,{"$f":"Table_2[[#This Row],[Column51]]&Table_2[[#This Row],[Column52]]&AW758","v":""}]
[null,null,null,null,null,null,null,null,null,null,null,null,null,null,null,{"$f":"Instructions!B791","v":0},null,{"$f":"Instructions!B785","v":0},{"$f":"Instructions!B786","v":0},{"$f":"Instructions!B787","v":0},null,null,"--",0,{"$f":"Table_2[[#This Row],[Column20]]+Table_2[[#This Row],[Column56]]","v":0},"",{"$f":"Table_2[[#This Row],[Column20]]+Table_2[[#This Row],[Column56]]","v":0},"",{"$f":"Table_2[[#This Row],[Column57]]+Table_2[[#This Row],[Column16]]+Table_2[[#This Row],[Column15]]","v":0},"",{"$f":"(K757/Instructions!$C$23)*100","v":0},{"$f":"(L757/Instructions!$C$24)*100","v":0},{"$f":"(Y757/Instructions!$C$25)*100","v":0},{"$f":"(AA757/Instructions!$C$27)*100","v":0},{"$f":"(AC757/Instructions!$C$29)*100","v":0},{"$f":"(V757/Instructions!$C$33)*100","v":0},{"$f":"(U757/Instructions!$C$32)*100","v":0},{"$f":"(W757/Instructions!$C$36)*100","v":{"$error":"#VALUE!"}},"","E","E","E","E","E","E","E","--",null,null,null,null,null,{"$f":"Table_2[[#This Row],[Column51]]&Table_2[[#This Row],[Column52]]&AW759","v":""}]
[null,null,null,null,null,null,null,null,null,null,null,null,null,null,null,{"$f":"Instructions!B792","v":0},null,{"$f":"Instructions!B786","v":0},{"$f":"Instructions!B787","v":0},{"$f":"Instructions!B788","v":0},null,null,"--",0,{"$f":"Table_2[[#This Row],[Column20]]+Table_2[[#This Row],[Column56]]","v":0},"",{"$f":"Table_2[[#This Row],[Column20]]+Table_2[[#This Row],[Column56]]","v":0},"",{"$f":"Table_2[[#This Row],[Column57]]+Table_2[[#This Row],[Column16]]+Table_2[[#This Row],[Column15]]","v":0},"",{"$f":"(K758/Instructions!$C$23)*100","v":0},{"$f":"(L758/Instructions!$C$24)*100","v":0},{"$f":"(Y758/Instructions!$C$25)*100","v":0},{"$f":"(AA758/Instructions!$C$27)*100","v":0},{"$f":"(AC758/Instructions!$C$29)*100","v":0},{"$f":"(V758/Instructions!$C$33)*100","v":0},{"$f":"(U758/Instructions!$C$32)*100","v":0},{"$f":"(W758/Instructions!$C$36)*100","v":{"$error":"#VALUE!"}},"","E","E","E","E","E","E","E","--",null,null,null,null,null,{"$f":"Table_2[[#This Row],[Column51]]&Table_2[[#This Row],[Column52]]&AW760","v":""}]
[null,null,null,null,null,null,null,null,null,null,null,null,null,null,null,{"$f":"Instructions!B793","v":0},null,{"$f":"Instructions!B787","v":0},{"$f":"Instructions!B788","v":0},{"$f":"Instructions!B789","v":0},null,null,"--",0,{"$f":"Table_2[[#This Row],[Column20]]+Table_2[[#This Row],[Column56]]","v":0},"",{"$f":"Table_2[[#This Row],[Column20]]+Table_2[[#This Row],[Column56]]","v":0},"",{"$f":"Table_2[[#This Row],[Column57]]+Table_2[[#This Row],[Column16]]+Table_2[[#This Row],[Column15]]","v":0},"",{"$f":"(K759/Instructions!$C$23)*100","v":0},{"$f":"(L759/Instructions!$C$24)*100","v":0},{"$f":"(Y759/Instructions!$C$25)*100","v":0},{"$f":"(AA759/Instructions!$C$27)*100","v":0},{"$f":"(AC759/Instructions!$C$29)*100","v":0},{"$f":"(V759/Instructions!$C$33)*100","v":0},{"$f":"(U759/Instructions!$C$32)*100","v":0},{"$f":"(W759/Instructions!$C$36)*100","v":{"$error":"#VALUE!"}},"","E","E","E","E","E","E","E","--",null,null,null,null,null,{"$f":"Table_2[[#This Row],[Column51]]&Table_2[[#This Row],[Column52]]&AW761","v":""}]
[null,null,null,null,null,null,null,null,null,null,null,null,null,null,null,{"$f":"Instructions!B794","v":0},null,{"$f":"Instructions!B788","v":0},{"$f":"Instructions!B789","v":0},{"$f":"Instructions!B790","v":0},null,null,"--",0,{"$f":"Table_2[[#This Row],[Column20]]+Table_2[[#This Row],[Column56]]","v":0},"",{"$f":"Table_2[[#This Row],[Column20]]+Table_2[[#This Row],[Column56]]","v":0},"",{"$f":"Table_2[[#This Row],[Column57]]+Table_2[[#This Row],[Column16]]+Table_2[[#This Row],[Column15]]","v":0},"",{"$f":"(K760/Instructions!$C$23)*100","v":0},{"$f":"(L760/Instructions!$C$24)*100","v":0},{"$f":"(Y760/Instructions!$C$25)*100","v":0},{"$f":"(AA760/Instructions!$C$27)*100","v":0},{"$f":"(AC760/Instructions!$C$29)*100","v":0},{"$f":"(V760/Instructions!$C$33)*100","v":0},{"$f":"(U760/Instructions!$C$32)*100","v":0},{"$f":"(W760/Instructions!$C$36)*100","v":{"$error":"#VALUE!"}},"","E","E","E","E","E","E","E","--",null,null,null,null,null,{"$f":"Table_2[[#This Row],[Column51]]&Table_2[[#This Row],[Column52]]&AW762","v":""}]
[null,null,null,null,null,null,null,null,null,null,null,null,null,null,null,{"$f":"Instructions!B795","v":0},null,{"$f":"Instructions!B789","v":0},{"$f":"Instructions!B790","v":0},{"$f":"Instructions!B791","v":0},null,null,"--",0,{"$f":"Table_2[[#This Row],[Column20]]+Table_2[[#This Row],[Column56]]","v":0},"",{"$f":"Table_2[[#This Row],[Column20]]+Table_2[[#This Row],[Column56]]","v":0},"",{"$f":"Table_2[[#This Row],[Column57]]+Table_2[[#This Row],[Column16]]+Table_2[[#This Row],[Column15]]","v":0},"",{"$f":"(K761/Instructions!$C$23)*100","v":0},{"$f":"(L761/Instructions!$C$24)*100","v":0},{"$f":"(Y761/Instructions!$C$25)*100","v":0},{"$f":"(AA761/Instructions!$C$27)*100","v":0},{"$f":"(AC761/Instructions!$C$29)*100","v":0},{"$f":"(V761/Instructions!$C$33)*100","v":0},{"$f":"(U761/Instructions!$C$32)*100","v":0},{"$f":"(W761/Instructions!$C$36)*100","v":{"$error":"#VALUE!"}},"","E","E","E","E","E","E","E","--",null,null,null,null,null,{"$f":"Table_2[[#This Row],[Column51]]&Table_2[[#This Row],[Column52]]&AW763","v":""}]
[null,null,null,null,null,null,null,null,null,null,null,null,null,null,null,{"$f":"Instructions!B796","v":0},null,{"$f":"Instructions!B790","v":0},{"$f":"Instructions!B791","v":0},{"$f":"Instructions!B792","v":0},null,null,"--",0,{"$f":"Table_2[[#This Row],[Column20]]+Table_2[[#This Row],[Column56]]","v":0},"",{"$f":"Table_2[[#This Row],[Column20]]+Table_2[[#This Row],[Column56]]","v":0},"",{"$f":"Table_2[[#This Row],[Column57]]+Table_2[[#This Row],[Column16]]+Table_2[[#This Row],[Column15]]","v":0},"",{"$f":"(K762/Instructions!$C$23)*100","v":0},{"$f":"(L762/Instructions!$C$24)*100","v":0},{"$f":"(Y762/Instructions!$C$25)*100","v":0},{"$f":"(AA762/Instructions!$C$27)*100","v":0},{"$f":"(AC762/Instructions!$C$29)*100","v":0},{"$f":"(V762/Instructions!$C$33)*100","v":0},{"$f":"(U762/Instructions!$C$32)*100","v":0},{"$f":"(W762/Instructions!$C$36)*100","v":{"$error":"#VALUE!"}},"","E","E","E","E","E","E","E","--",null,null,null,null,null,{"$f":"Table_2[[#This Row],[Column51]]&Table_2[[#This Row],[Column52]]&AW764","v":""}]
[null,null,null,null,null,null,null,null,null,null,null,null,null,null,null,{"$f":"Instructions!B797","v":0},null,{"$f":"Instructions!B791","v":0},{"$f":"Instructions!B792","v":0},{"$f":"Instructions!B793","v":0},null,null,"--",0,{"$f":"Table_2[[#This Row],[Column20]]+Table_2[[#This Row],[Column56]]","v":0},"",{"$f":"Table_2[[#This Row],[Column20]]+Table_2[[#This Row],[Column56]]","v":0},"",{"$f":"Table_2[[#This Row],[Column57]]+Table_2[[#This Row],[Column16]]+Table_2[[#This Row],[Column15]]","v":0},"",{"$f":"(K763/Instructions!$C$23)*100","v":0},{"$f":"(L763/Instructions!$C$24)*100","v":0},{"$f":"(Y763/Instructions!$C$25)*100","v":0},{"$f":"(AA763/Instructions!$C$27)*100","v":0},{"$f":"(AC763/Instructions!$C$29)*100","v":0},{"$f":"(V763/Instructions!$C$33)*100","v":0},{"$f":"(U763/Instructions!$C$32)*100","v":0},{"$f":"(W763/Instructions!$C$36)*100","v":{"$error":"#VALUE!"}},"","E","E","E","E","E","E","E","--",null,null,null,null,null,{"$f":"Table_2[[#This Row],[Column51]]&Table_2[[#This Row],[Column52]]&AW765","v":""}]
[null,null,null,null,null,null,null,null,null,null,null,null,null,null,null,{"$f":"Instructions!B798","v":0},null,{"$f":"Instructions!B792","v":0},{"$f":"Instructions!B793","v":0},{"$f":"Instructions!B794","v":0},null,null,"--",0,{"$f":"Table_2[[#This Row],[Column20]]+Table_2[[#This Row],[Column56]]","v":0},"",{"$f":"Table_2[[#This Row],[Column20]]+Table_2[[#This Row],[Column56]]","v":0},"",{"$f":"Table_2[[#This Row],[Column57]]+Table_2[[#This Row],[Column16]]+Table_2[[#This Row],[Column15]]","v":0},"",{"$f":"(K764/Instructions!$C$23)*100","v":0},{"$f":"(L764/Instructions!$C$24)*100","v":0},{"$f":"(Y764/Instructions!$C$25)*100","v":0},{"$f":"(AA764/Instructions!$C$27)*100","v":0},{"$f":"(AC764/Instructions!$C$29)*100","v":0},{"$f":"(V764/Instructions!$C$33)*100","v":0},{"$f":"(U764/Instructions!$C$32)*100","v":0},{"$f":"(W764/Instructions!$C$36)*100","v":{"$error":"#VALUE!"}},"","E","E","E","E","E","E","E","--",null,null,null,null,null,{"$f":"Table_2[[#This Row],[Column51]]&Table_2[[#This Row],[Column52]]&AW766","v":""}]
[null,null,null,null,null,null,null,null,null,null,null,null,null,null,null,{"$f":"Instructions!B799","v":0},null,{"$f":"Instructions!B793","v":0},{"$f":"Instructions!B794","v":0},{"$f":"Instructions!B795","v":0},null,null,"--",0,{"$f":"Table_2[[#This Row],[Column20]]+Table_2[[#This Row],[Column56]]","v":0},"",{"$f":"Table_2[[#This Row],[Column20]]+Table_2[[#This Row],[Column56]]","v":0},"",{"$f":"Table_2[[#This Row],[Column57]]+Table_2[[#This Row],[Column16]]+Table_2[[#This Row],[Column15]]","v":0},"",{"$f":"(K765/Instructions!$C$23)*100","v":0},{"$f":"(L765/Instructions!$C$24)*100","v":0},{"$f":"(Y765/Instructions!$C$25)*100","v":0},{"$f":"(AA765/Instructions!$C$27)*100","v":0},{"$f":"(AC765/Instructions!$C$29)*100","v":0},{"$f":"(V765/Instructions!$C$33)*100","v":0},{"$f":"(U765/Instructions!$C$32)*100","v":0},{"$f":"(W765/Instructions!$C$36)*100","v":{"$error":"#VALUE!"}},"","E","E","E","E","E","E","E","--",null,null,null,null,null,{"$f":"Table_2[[#This Row],[Column51]]&Table_2[[#This Row],[Column52]]&AW767","v":""}]
[null,null,null,null,null,null,null,null,null,null,null,null,null,null,null,{"$f":"Instructions!B800","v":0},null,{"$f":"Instructions!B794","v":0},{"$f":"Instructions!B795","v":0},{"$f":"Instructions!B796","v":0},null,null,"--",0,{"$f":"Table_2[[#This Row],[Column20]]+Table_2[[#This Row],[Column56]]","v":0},"",{"$f":"Table_2[[#This Row],[Column20]]+Table_2[[#This Row],[Column56]]","v":0},"",{"$f":"Table_2[[#This Row],[Column57]]+Table_2[[#This Row],[Column16]]+Table_2[[#This Row],[Column15]]","v":0},"",{"$f":"(K766/Instructions!$C$23)*100","v":0},{"$f":"(L766/Instructions!$C$24)*100","v":0},{"$f":"(Y766/Instructions!$C$25)*100","v":0},{"$f":"(AA766/Instructions!$C$27)*100","v":0},{"$f":"(AC766/Instructions!$C$29)*100","v":0},{"$f":"(V766/Instructions!$C$33)*100","v":0},{"$f":"(U766/Instructions!$C$32)*100","v":0},{"$f":"(W766/Instructions!$C$36)*100","v":{"$error":"#VALUE!"}},"","E","E","E","E","E","E","E","--",null,null,null,null,null,{"$f":"Table_2[[#This Row],[Column51]]&Table_2[[#This Row],[Column52]]&AW768","v":""}]
[null,null,null,null,null,null,null,null,null,null,null,null,null,null,null,{"$f":"Instructions!B801","v":0},null,{"$f":"Instructions!B795","v":0},{"$f":"Instructions!B796","v":0},{"$f":"Instructions!B797","v":0},null,null,"--",0,{"$f":"Table_2[[#This Row],[Column20]]+Table_2[[#This Row],[Column56]]","v":0},"",{"$f":"Table_2[[#This Row],[Column20]]+Table_2[[#This Row],[Column56]]","v":0},"",{"$f":"Table_2[[#This Row],[Column57]]+Table_2[[#This Row],[Column16]]+Table_2[[#This Row],[Column15]]","v":0},"",{"$f":"(K767/Instructions!$C$23)*100","v":0},{"$f":"(L767/Instructions!$C$24)*100","v":0},{"$f":"(Y767/Instructions!$C$25)*100","v":0},{"$f":"(AA767/Instructions!$C$27)*100","v":0},{"$f":"(AC767/Instructions!$C$29)*100","v":0},{"$f":"(V767/Instructions!$C$33)*100","v":0},{"$f":"(U767/Instructions!$C$32)*100","v":0},{"$f":"(W767/Instructions!$C$36)*100","v":{"$error":"#VALUE!"}},"","E","E","E","E","E","E","E","--",null,null,null,null,null,{"$f":"Table_2[[#This Row],[Column51]]&Table_2[[#This Row],[Column52]]&AW769","v":""}]
[null,null,null,null,null,null,null,null,null,null,null,null,null,null,null,{"$f":"Instructions!B802","v":0},null,{"$f":"Instructions!B796","v":0},{"$f":"Instructions!B797","v":0},{"$f":"Instructions!B798","v":0},null,null,"--",0,{"$f":"Table_2[[#This Row],[Column20]]+Table_2[[#This Row],[Column56]]","v":0},"",{"$f":"Table_2[[#This Row],[Column20]]+Table_2[[#This Row],[Column56]]","v":0},"",{"$f":"Table_2[[#This Row],[Column57]]+Table_2[[#This Row],[Column16]]+Table_2[[#This Row],[Column15]]","v":0},"",{"$f":"(K768/Instructions!$C$23)*100","v":0},{"$f":"(L768/Instructions!$C$24)*100","v":0},{"$f":"(Y768/Instructions!$C$25)*100","v":0},{"$f":"(AA768/Instructions!$C$27)*100","v":0},{"$f":"(AC768/Instructions!$C$29)*100","v":0},{"$f":"(V768/Instructions!$C$33)*100","v":0},{"$f":"(U768/Instructions!$C$32)*100","v":0},{"$f":"(W768/Instructions!$C$36)*100","v":{"$error":"#VALUE!"}},"","E","E","E","E","E","E","E","--",null,null,null,null,null,{"$f":"Table_2[[#This Row],[Column51]]&Table_2[[#This Row],[Column52]]&AW770","v":""}]
[null,null,null,null,null,null,null,null,null,null,null,null,null,null,null,{"$f":"Instructions!B803","v":0},null,{"$f":"Instructions!B797","v":0},{"$f":"Instructions!B798","v":0},{"$f":"Instructions!B799","v":0},null,null,"--",0,{"$f":"Table_2[[#This Row],[Column20]]+Table_2[[#This Row],[Column56]]","v":0},"",{"$f":"Table_2[[#This Row],[Column20]]+Table_2[[#This Row],[Column56]]","v":0},"",{"$f":"Table_2[[#This Row],[Column57]]+Table_2[[#This Row],[Column16]]+Table_2[[#This Row],[Column15]]","v":0},"",{"$f":"(K769/Instructions!$C$23)*100","v":0},{"$f":"(L769/Instructions!$C$24)*100","v":0},{"$f":"(Y769/Instructions!$C$25)*100","v":0},{"$f":"(AA769/Instructions!$C$27)*100","v":0},{"$f":"(AC769/Instructions!$C$29)*100","v":0},{"$f":"(V769/Instructions!$C$33)*100","v":0},{"$f":"(U769/Instructions!$C$32)*100","v":0},{"$f":"(W769/Instructions!$C$36)*100","v":{"$error":"#VALUE!"}},"","E","E","E","E","E","E","E","--",null,null,null,null,null,{"$f":"Table_2[[#This Row],[Column51]]&Table_2[[#This Row],[Column52]]&AW771","v":""}]
[null,null,null,null,null,null,null,null,null,null,null,null,null,null,null,{"$f":"Instructions!B804","v":0},null,{"$f":"Instructions!B798","v":0},{"$f":"Instructions!B799","v":0},{"$f":"Instructions!B800","v":0},null,null,"--",0,{"$f":"Table_2[[#This Row],[Column20]]+Table_2[[#This Row],[Column56]]","v":0},"",{"$f":"Table_2[[#This Row],[Column20]]+Table_2[[#This Row],[Column56]]","v":0},"",{"$f":"Table_2[[#This Row],[Column57]]+Table_2[[#This Row],[Column16]]+Table_2[[#This Row],[Column15]]","v":0},"",{"$f":"(K770/Instructions!$C$23)*100","v":0},{"$f":"(L770/Instructions!$C$24)*100","v":0},{"$f":"(Y770/Instructions!$C$25)*100","v":0},{"$f":"(AA770/Instructions!$C$27)*100","v":0},{"$f":"(AC770/Instructions!$C$29)*100","v":0},{"$f":"(V770/Instructions!$C$33)*100","v":0},{"$f":"(U770/Instructions!$C$32)*100","v":0},{"$f":"(W770/Instructions!$C$36)*100","v":{"$error":"#VALUE!"}},"","E","E","E","E","E","E","E","--",null,null,null,null,null,{"$f":"Table_2[[#This Row],[Column51]]&Table_2[[#This Row],[Column52]]&AW772","v":""}]
[null,null,null,null,null,null,null,null,null,null,null,null,null,null,null,{"$f":"Instructions!B805","v":0},null,{"$f":"Instructions!B799","v":0},{"$f":"Instructions!B800","v":0},{"$f":"Instructions!B801","v":0},null,null,{"$f":"IF(MIN(AE771:AI771)>=33,SUM(K771:T771),\"--\")","v":"--"},{"$f":"IF(W771=\"--\",0,W771)","v":0},{"$f":"Table_2[[#This Row],[Column20]]+Table_2[[#This Row],[Column56]]","v":0},{"$f":"IF(N771>0,$N$1,IF(O771>0,$O$1,\"\"))","v":""},{"$f":"Table_2[[#This Row],[Column20]]+Table_2[[#This Row],[Column56]]","v":0},{"$f":"IFERROR(IF(P771>0,$P$1,IF(Q771>0,$Q$1,\"\")),\"\")","v":""},{"$f":"Table_2[[#This Row],[Column57]]+Table_2[[#This Row],[Column16]]+Table_2[[#This Row],[Column15]]","v":0},{"$f":"IFERROR(IF(R771>0,$R$1,IF(S771>0,$S$1,IF(T771>0,$T$1,\"\"))),\"\")","v":""},{"$f":"(K771/Instructions!$C$23)*100","v":0},{"$f":"(L771/Instructions!$C$24)*100","v":0},{"$f":"(Y771/Instructions!$C$25)*100","v":0},{"$f":"(AA771/Instructions!$C$27)*100","v":0},{"$f":"(AC771/Instructions!$C$29)*100","v":0},{"$f":"(V771/Instructions!$C$33)*100","v":0},{"$f":"(U771/Instructions!$C$32)*100","v":0},{"$f":"(W771/Instructions!$C$36)*100","v":{"$error":"#VALUE!"}},{"$f":"IFERROR(IF(AL771>=33,\"PASS\",\"----\"),\"\")","v":""},{"$f":"IFERROR(IF(AE771>90,\"A+\",IF(AE771>80,\"A\",IF(AE771>70,\"B+\",IF(AE771>60,\"B\",IF(AE771>50,\"C+\",IF(AE771>40,\"C\",IF(AE771>=33,\"D\",\"E\"))))))),\"Abs\")","v":"E"},{"$f":"IFERROR(IF(AF771>90,\"A+\",IF(AF771>80,\"A\",IF(AF771>70,\"B+\",IF(AF771>60,\"B\",IF(AF771>50,\"C+\",IF(AF771>40,\"C\",IF(AF771>=33,\"D\",\"E\"))))))),\"Abs\")","v":"E"},{"$f":"IFERROR(IF(AG771>90,\"A+\",IF(AG771>80,\"A\",IF(AG771>70,\"B+\",IF(AG771>60,\"B\",IF(AG771>50,\"C+\",IF(AG771>40,\"C\",IF(AG771>=33,\"D\",\"E\"))))))),\"Abs\")","v":"E"},{"$f":"IFERROR(IF(AH771>90,\"A+\",IF(AH771>80,\"A\",IF(AH771>70,\"B+\",IF(AH771>60,\"B\",IF(AH771>50,\"C+\",IF(AH771>40,\"C\",IF(AH771>=33,\"D\",\"E\"))))))),\"Abs\")","v":"E"},{"$f":"IFERROR(IF(AI771>90,\"A+\",IF(AI771>80,\"A\",IF(AI771>70,\"B+\",IF(AI771>60,\"B\",IF(AI771>50,\"C+\",IF(AI771>40,\"C\",IF(AI771>=33,\"D\",\"E\"))))))),\"Abs\")","v":"E"},{"$f":"IFERROR(IF(AJ771>90,\"A+\",IF(AJ771>80,\"A\",IF(AJ771>70,\"B+\",IF(AJ771>60,\"B\",IF(AJ771>50,\"C+\",IF(AJ771>40,\"C\",IF(AJ771>=33,\"D\",\"E\"))))))),\"Abs\")","v":"E"},{"$f":"IFERROR(IF(AK771>90,\"A+\",IF(AK771>80,\"A\",IF(AK771>70,\"B+\",IF(AK771>60,\"B\",IF(AK771>50,\"C+\",IF(AK771>40,\"C\",IF(AK771>=33,\"D\",\"E\"))))))),\"Abs\")","v":"E"},{"$f":"IFERROR(IF(AL771>90,\"A+\",IF(AL771>80,\"A\",IF(AL771>70,\"B+\",IF(AL771>60,\"B\",IF(AL771>50,\"C+\",IF(AL771>40,\"C\",IF(AL771>=33,\"D\",\"E\"))))))),\"--\")","v":"--"},null,null,null,null,null,{"$f":"Table_2[[#This Row],[Column51]]&Table_2[[#This Row],[Column52]]&AW773","v":""}]
[null,null,null,null,null,null,null,null,null,null,null,null,null,null,null,{"$f":"Instructions!B806","v":0},null,{"$f":"Instructions!B800","v":0},{"$f":"Instructions!B801","v":0},{"$f":"Instructions!B802","v":0},null,null,"--",0,{"$f":"Table_2[[#This Row],[Column20]]+Table_2[[#This Row],[Column56]]","v":0},"",{"$f":"Table_2[[#This Row],[Column20]]+Table_2[[#This Row],[Column56]]","v":0},"",{"$f":"Table_2[[#This Row],[Column57]]+Table_2[[#This Row],[Column16]]+Table_2[[#This Row],[Column15]]","v":0},"",{"$f":"(K772/Instructions!$C$23)*100","v":0},{"$f":"(L772/Instructions!$C$24)*100","v":0},{"$f":"(Y772/Instructions!$C$25)*100","v":0},{"$f":"(AA772/Instructions!$C$27)*100","v":0},{"$f":"(AC772/Instructions!$C$29)*100","v":0},{"$f":"(V772/Instructions!$C$33)*100","v":0},{"$f":"(U772/Instructions!$C$32)*100","v":0},{"$f":"(W772/Instructions!$C$36)*100","v":{"$error":"#VALUE!"}},"","E","E","E","E","E","E","E","--",null,null,null,null,null,{"$f":"Table_2[[#This Row],[Column51]]&Table_2[[#This Row],[Column52]]&AW774","v":""}]
[null,null,null,null,null,null,null,null,null,null,null,null,null,null,null,{"$f":"Instructions!B807","v":0},null,{"$f":"Instructions!B801","v":0},{"$f":"Instructions!B802","v":0},{"$f":"Instructions!B803","v":0},null,null,"--",0,{"$f":"Table_2[[#This Row],[Column20]]+Table_2[[#This Row],[Column56]]","v":0},"",{"$f":"Table_2[[#This Row],[Column20]]+Table_2[[#This Row],[Column56]]","v":0},"",{"$f":"Table_2[[#This Row],[Column57]]+Table_2[[#This Row],[Column16]]+Table_2[[#This Row],[Column15]]","v":0},"",{"$f":"(K773/Instructions!$C$23)*100","v":0},{"$f":"(L773/Instructions!$C$24)*100","v":0},{"$f":"(Y773/Instructions!$C$25)*100","v":0},{"$f":"(AA773/Instructions!$C$27)*100","v":0},{"$f":"(AC773/Instructions!$C$29)*100","v":0},{"$f":"(V773/Instructions!$C$33)*100","v":0},{"$f":"(U773/Instructions!$C$32)*100","v":0},{"$f":"(W773/Instructions!$C$36)*100","v":{"$error":"#VALUE!"}},"","E","E","E","E","E","E","E","--",null,null,null,null,null,{"$f":"Table_2[[#This Row],[Column51]]&Table_2[[#This Row],[Column52]]&AW775","v":""}]
[null,null,null,null,null,null,null,null,null,null,null,null,null,null,null,{"$f":"Instructions!B808","v":0},null,{"$f":"Instructions!B802","v":0},{"$f":"Instructions!B803","v":0},{"$f":"Instructions!B804","v":0},null,null,"--",0,{"$f":"Table_2[[#This Row],[Column20]]+Table_2[[#This Row],[Column56]]","v":0},"",{"$f":"Table_2[[#This Row],[Column20]]+Table_2[[#This Row],[Column56]]","v":0},"",{"$f":"Table_2[[#This Row],[Column57]]+Table_2[[#This Row],[Column16]]+Table_2[[#This Row],[Column15]]","v":0},"",{"$f":"(K774/Instructions!$C$23)*100","v":0},{"$f":"(L774/Instructions!$C$24)*100","v":0},{"$f":"(Y774/Instructions!$C$25)*100","v":0},{"$f":"(AA774/Instructions!$C$27)*100","v":0},{"$f":"(AC774/Instructions!$C$29)*100","v":0},{"$f":"(V774/Instructions!$C$33)*100","v":0},{"$f":"(U774/Instructions!$C$32)*100","v":0},{"$f":"(W774/Instructions!$C$36)*100","v":{"$error":"#VALUE!"}},"","E","E","E","E","E","E","E","--",null,null,null,null,null,{"$f":"Table_2[[#This Row],[Column51]]&Table_2[[#This Row],[Column52]]&AW776","v":""}]
[null,null,null,null,null,null,null,null,null,null,null,null,null,null,null,{"$f":"Instructions!B809","v":0},null,{"$f":"Instructions!B803","v":0},{"$f":"Instructions!B804","v":0},{"$f":"Instructions!B805","v":0},null,null,"--",0,{"$f":"Table_2[[#This Row],[Column20]]+Table_2[[#This Row],[Column56]]","v":0},"",{"$f":"Table_2[[#This Row],[Column20]]+Table_2[[#This Row],[Column56]]","v":0},"",{"$f":"Table_2[[#This Row],[Column57]]+Table_2[[#This Row],[Column16]]+Table_2[[#This Row],[Column15]]","v":0},"",{"$f":"(K775/Instructions!$C$23)*100","v":0},{"$f":"(L775/Instructions!$C$24)*100","v":0},{"$f":"(Y775/Instructions!$C$25)*100","v":0},{"$f":"(AA775/Instructions!$C$27)*100","v":0},{"$f":"(AC775/Instructions!$C$29)*100","v":0},{"$f":"(V775/Instructions!$C$33)*100","v":0},{"$f":"(U775/Instructions!$C$32)*100","v":0},{"$f":"(W775/Instructions!$C$36)*100","v":{"$error":"#VALUE!"}},"","E","E","E","E","E","E","E","--",null,null,null,null,null,{"$f":"Table_2[[#This Row],[Column51]]&Table_2[[#This Row],[Column52]]&AW777","v":""}]
[null,null,null,null,null,null,null,null,null,null,null,null,null,null,null,{"$f":"Instructions!B810","v":0},null,{"$f":"Instructions!B804","v":0},{"$f":"Instructions!B805","v":0},{"$f":"Instructions!B806","v":0},null,null,"--",0,{"$f":"Table_2[[#This Row],[Column20]]+Table_2[[#This Row],[Column56]]","v":0},"",{"$f":"Table_2[[#This Row],[Column20]]+Table_2[[#This Row],[Column56]]","v":0},"",{"$f":"Table_2[[#This Row],[Column57]]+Table_2[[#This Row],[Column16]]+Table_2[[#This Row],[Column15]]","v":0},"",{"$f":"(K776/Instructions!$C$23)*100","v":0},{"$f":"(L776/Instructions!$C$24)*100","v":0},{"$f":"(Y776/Instructions!$C$25)*100","v":0},{"$f":"(AA776/Instructions!$C$27)*100","v":0},{"$f":"(AC776/Instructions!$C$29)*100","v":0},{"$f":"(V776/Instructions!$C$33)*100","v":0},{"$f":"(U776/Instructions!$C$32)*100","v":0},{"$f":"(W776/Instructions!$C$36)*100","v":{"$error":"#VALUE!"}},"","E","E","E","E","E","E","E","--",null,null,null,null,null,{"$f":"Table_2[[#This Row],[Column51]]&Table_2[[#This Row],[Column52]]&AW778","v":""}]
[null,null,null,null,null,null,null,null,null,null,null,null,null,null,null,{"$f":"Instructions!B811","v":0},null,{"$f":"Instructions!B805","v":0},{"$f":"Instructions!B806","v":0},{"$f":"Instructions!B807","v":0},null,null,"--",0,{"$f":"Table_2[[#This Row],[Column20]]+Table_2[[#This Row],[Column56]]","v":0},"",{"$f":"Table_2[[#This Row],[Column20]]+Table_2[[#This Row],[Column56]]","v":0},"",{"$f":"Table_2[[#This Row],[Column57]]+Table_2[[#This Row],[Column16]]+Table_2[[#This Row],[Column15]]","v":0},"",{"$f":"(K777/Instructions!$C$23)*100","v":0},{"$f":"(L777/Instructions!$C$24)*100","v":0},{"$f":"(Y777/Instructions!$C$25)*100","v":0},{"$f":"(AA777/Instructions!$C$27)*100","v":0},{"$f":"(AC777/Instructions!$C$29)*100","v":0},{"$f":"(V777/Instructions!$C$33)*100","v":0},{"$f":"(U777/Instructions!$C$32)*100","v":0},{"$f":"(W777/Instructions!$C$36)*100","v":{"$error":"#VALUE!"}},"","E","E","E","E","E","E","E","--",null,null,null,null,null,{"$f":"Table_2[[#This Row],[Column51]]&Table_2[[#This Row],[Column52]]&AW779","v":""}]
[null,null,null,null,null,null,null,null,null,null,null,null,null,null,null,{"$f":"Instructions!B812","v":0},null,{"$f":"Instructions!B806","v":0},{"$f":"Instructions!B807","v":0},{"$f":"Instructions!B808","v":0},null,null,"--",0,{"$f":"Table_2[[#This Row],[Column20]]+Table_2[[#This Row],[Column56]]","v":0},"",{"$f":"Table_2[[#This Row],[Column20]]+Table_2[[#This Row],[Column56]]","v":0},"",{"$f":"Table_2[[#This Row],[Column57]]+Table_2[[#This Row],[Column16]]+Table_2[[#This Row],[Column15]]","v":0},"",{"$f":"(K778/Instructions!$C$23)*100","v":0},{"$f":"(L778/Instructions!$C$24)*100","v":0},{"$f":"(Y778/Instructions!$C$25)*100","v":0},{"$f":"(AA778/Instructions!$C$27)*100","v":0},{"$f":"(AC778/Instructions!$C$29)*100","v":0},{"$f":"(V778/Instructions!$C$33)*100","v":0},{"$f":"(U778/Instructions!$C$32)*100","v":0},{"$f":"(W778/Instructions!$C$36)*100","v":{"$error":"#VALUE!"}},"","E","E","E","E","E","E","E","--",null,null,null,null,null,{"$f":"Table_2[[#This Row],[Column51]]&Table_2[[#This Row],[Column52]]&AW780","v":""}]
[null,null,null,null,null,null,null,null,null,null,null,null,null,null,null,{"$f":"Instructions!B813","v":0},null,{"$f":"Instructions!B807","v":0},{"$f":"Instructions!B808","v":0},{"$f":"Instructions!B809","v":0},null,null,"--",0,{"$f":"Table_2[[#This Row],[Column20]]+Table_2[[#This Row],[Column56]]","v":0},"",{"$f":"Table_2[[#This Row],[Column20]]+Table_2[[#This Row],[Column56]]","v":0},"",{"$f":"Table_2[[#This Row],[Column57]]+Table_2[[#This Row],[Column16]]+Table_2[[#This Row],[Column15]]","v":0},"",{"$f":"(K779/Instructions!$C$23)*100","v":0},{"$f":"(L779/Instructions!$C$24)*100","v":0},{"$f":"(Y779/Instructions!$C$25)*100","v":0},{"$f":"(AA779/Instructions!$C$27)*100","v":0},{"$f":"(AC779/Instructions!$C$29)*100","v":0},{"$f":"(V779/Instructions!$C$33)*100","v":0},{"$f":"(U779/Instructions!$C$32)*100","v":0},{"$f":"(W779/Instructions!$C$36)*100","v":{"$error":"#VALUE!"}},"","E","E","E","E","E","E","E","--",null,null,null,null,null,{"$f":"Table_2[[#This Row],[Column51]]&Table_2[[#This Row],[Column52]]&AW781","v":""}]
[null,null,null,null,null,null,null,null,null,null,null,null,null,null,null,{"$f":"Instructions!B814","v":0},null,{"$f":"Instructions!B808","v":0},{"$f":"Instructions!B809","v":0},{"$f":"Instructions!B810","v":0},null,null,"--",0,{"$f":"Table_2[[#This Row],[Column20]]+Table_2[[#This Row],[Column56]]","v":0},"",{"$f":"Table_2[[#This Row],[Column20]]+Table_2[[#This Row],[Column56]]","v":0},"",{"$f":"Table_2[[#This Row],[Column57]]+Table_2[[#This Row],[Column16]]+Table_2[[#This Row],[Column15]]","v":0},"",{"$f":"(K780/Instructions!$C$23)*100","v":0},{"$f":"(L780/Instructions!$C$24)*100","v":0},{"$f":"(Y780/Instructions!$C$25)*100","v":0},{"$f":"(AA780/Instructions!$C$27)*100","v":0},{"$f":"(AC780/Instructions!$C$29)*100","v":0},{"$f":"(V780/Instructions!$C$33)*100","v":0},{"$f":"(U780/Instructions!$C$32)*100","v":0},{"$f":"(W780/Instructions!$C$36)*100","v":{"$error":"#VALUE!"}},"","E","E","E","E","E","E","E","--",null,null,null,null,null,{"$f":"Table_2[[#This Row],[Column51]]&Table_2[[#This Row],[Column52]]&AW782","v":""}]
[null,null,null,null,null,null,null,null,null,null,null,null,null,null,null,{"$f":"Instructions!B815","v":0},null,{"$f":"Instructions!B809","v":0},{"$f":"Instructions!B810","v":0},{"$f":"Instructions!B811","v":0},null,null,"--",0,{"$f":"Table_2[[#This Row],[Column20]]+Table_2[[#This Row],[Column56]]","v":0},"",{"$f":"Table_2[[#This Row],[Column20]]+Table_2[[#This Row],[Column56]]","v":0},"",{"$f":"Table_2[[#This Row],[Column57]]+Table_2[[#This Row],[Column16]]+Table_2[[#This Row],[Column15]]","v":0},"",{"$f":"(K781/Instructions!$C$23)*100","v":0},{"$f":"(L781/Instructions!$C$24)*100","v":0},{"$f":"(Y781/Instructions!$C$25)*100","v":0},{"$f":"(AA781/Instructions!$C$27)*100","v":0},{"$f":"(AC781/Instructions!$C$29)*100","v":0},{"$f":"(V781/Instructions!$C$33)*100","v":0},{"$f":"(U781/Instructions!$C$32)*100","v":0},{"$f":"(W781/Instructions!$C$36)*100","v":{"$error":"#VALUE!"}},"","E","E","E","E","E","E","E","--",null,null,null,null,null,{"$f":"Table_2[[#This Row],[Column51]]&Table_2[[#This Row],[Column52]]&AW783","v":""}]
[null,null,null,null,null,null,null,null,null,null,null,null,null,null,null,{"$f":"Instructions!B816","v":0},null,{"$f":"Instructions!B810","v":0},{"$f":"Instructions!B811","v":0},{"$f":"Instructions!B812","v":0},null,null,"--",0,{"$f":"Table_2[[#This Row],[Column20]]+Table_2[[#This Row],[Column56]]","v":0},"",{"$f":"Table_2[[#This Row],[Column20]]+Table_2[[#This Row],[Column56]]","v":0},"",{"$f":"Table_2[[#This Row],[Column57]]+Table_2[[#This Row],[Column16]]+Table_2[[#This Row],[Column15]]","v":0},"",{"$f":"(K782/Instructions!$C$23)*100","v":0},{"$f":"(L782/Instructions!$C$24)*100","v":0},{"$f":"(Y782/Instructions!$C$25)*100","v":0},{"$f":"(AA782/Instructions!$C$27)*100","v":0},{"$f":"(AC782/Instructions!$C$29)*100","v":0},{"$f":"(V782/Instructions!$C$33)*100","v":0},{"$f":"(U782/Instructions!$C$32)*100","v":0},{"$f":"(W782/Instructions!$C$36)*100","v":{"$error":"#VALUE!"}},"","E","E","E","E","E","E","E","--",null,null,null,null,null,{"$f":"Table_2[[#This Row],[Column51]]&Table_2[[#This Row],[Column52]]&AW784","v":""}]
[null,null,null,null,null,null,null,null,null,null,null,null,null,null,null,{"$f":"Instructions!B817","v":0},null,{"$f":"Instructions!B811","v":0},{"$f":"Instructions!B812","v":0},{"$f":"Instructions!B813","v":0},null,null,"--",0,{"$f":"Table_2[[#This Row],[Column20]]+Table_2[[#This Row],[Column56]]","v":0},"",{"$f":"Table_2[[#This Row],[Column20]]+Table_2[[#This Row],[Column56]]","v":0},"",{"$f":"Table_2[[#This Row],[Column57]]+Table_2[[#This Row],[Column16]]+Table_2[[#This Row],[Column15]]","v":0},"",{"$f":"(K783/Instructions!$C$23)*100","v":0},{"$f":"(L783/Instructions!$C$24)*100","v":0},{"$f":"(Y783/Instructions!$C$25)*100","v":0},{"$f":"(AA783/Instructions!$C$27)*100","v":0},{"$f":"(AC783/Instructions!$C$29)*100","v":0},{"$f":"(V783/Instructions!$C$33)*100","v":0},{"$f":"(U783/Instructions!$C$32)*100","v":0},{"$f":"(W783/Instructions!$C$36)*100","v":{"$error":"#VALUE!"}},"","E","E","E","E","E","E","E","--",null,null,null,null,null,{"$f":"Table_2[[#This Row],[Column51]]&Table_2[[#This Row],[Column52]]&AW785","v":""}]
[null,null,null,null,null,null,null,null,null,null,null,null,null,null,null,{"$f":"Instructions!B818","v":0},null,{"$f":"Instructions!B812","v":0},{"$f":"Instructions!B813","v":0},{"$f":"Instructions!B814","v":0},null,null,"--",0,{"$f":"Table_2[[#This Row],[Column20]]+Table_2[[#This Row],[Column56]]","v":0},"",{"$f":"Table_2[[#This Row],[Column20]]+Table_2[[#This Row],[Column56]]","v":0},"",{"$f":"Table_2[[#This Row],[Column57]]+Table_2[[#This Row],[Column16]]+Table_2[[#This Row],[Column15]]","v":0},"",{"$f":"(K784/Instructions!$C$23)*100","v":0},{"$f":"(L784/Instructions!$C$24)*100","v":0},{"$f":"(Y784/Instructions!$C$25)*100","v":0},{"$f":"(AA784/Instructions!$C$27)*100","v":0},{"$f":"(AC784/Instructions!$C$29)*100","v":0},{"$f":"(V784/Instructions!$C$33)*100","v":0},{"$f":"(U784/Instructions!$C$32)*100","v":0},{"$f":"(W784/Instructions!$C$36)*100","v":{"$error":"#VALUE!"}},"","E","E","E","E","E","E","E","--",null,null,null,null,null,{"$f":"Table_2[[#This Row],[Column51]]&Table_2[[#This Row],[Column52]]&AW786","v":""}]
[null,null,null,null,null,null,null,null,null,null,null,null,null,null,null,{"$f":"Instructions!B819","v":0},null,{"$f":"Instructions!B813","v":0},{"$f":"Instructions!B814","v":0},{"$f":"Instructions!B815","v":0},null,null,"--",0,{"$f":"Table_2[[#This Row],[Column20]]+Table_2[[#This Row],[Column56]]","v":0},"",{"$f":"Table_2[[#This Row],[Column20]]+Table_2[[#This Row],[Column56]]","v":0},"",{"$f":"Table_2[[#This Row],[Column57]]+Table_2[[#This Row],[Column16]]+Table_2[[#This Row],[Column15]]","v":0},"",{"$f":"(K785/Instructions!$C$23)*100","v":0},{"$f":"(L785/Instructions!$C$24)*100","v":0},{"$f":"(Y785/Instructions!$C$25)*100","v":0},{"$f":"(AA785/Instructions!$C$27)*100","v":0},{"$f":"(AC785/Instructions!$C$29)*100","v":0},{"$f":"(V785/Instructions!$C$33)*100","v":0},{"$f":"(U785/Instructions!$C$32)*100","v":0},{"$f":"(W785/Instructions!$C$36)*100","v":{"$error":"#VALUE!"}},"","E","E","E","E","E","E","E","--",null,null,null,null,null,{"$f":"Table_2[[#This Row],[Column51]]&Table_2[[#This Row],[Column52]]&AW787","v":""}]
[null,null,null,null,null,null,null,null,null,null,null,null,null,null,null,{"$f":"Instructions!B820","v":0},null,{"$f":"Instructions!B814","v":0},{"$f":"Instructions!B815","v":0},{"$f":"Instructions!B816","v":0},null,null,"--",0,{"$f":"Table_2[[#This Row],[Column20]]+Table_2[[#This Row],[Column56]]","v":0},"",{"$f":"Table_2[[#This Row],[Column20]]+Table_2[[#This Row],[Column56]]","v":0},"",{"$f":"Table_2[[#This Row],[Column57]]+Table_2[[#This Row],[Column16]]+Table_2[[#This Row],[Column15]]","v":0},"",{"$f":"(K786/Instructions!$C$23)*100","v":0},{"$f":"(L786/Instructions!$C$24)*100","v":0},{"$f":"(Y786/Instructions!$C$25)*100","v":0},{"$f":"(AA786/Instructions!$C$27)*100","v":0},{"$f":"(AC786/Instructions!$C$29)*100","v":0},{"$f":"(V786/Instructions!$C$33)*100","v":0},{"$f":"(U786/Instructions!$C$32)*100","v":0},{"$f":"(W786/Instructions!$C$36)*100","v":{"$error":"#VALUE!"}},"","E","E","E","E","E","E","E","--",null,null,null,null,null,{"$f":"Table_2[[#This Row],[Column51]]&Table_2[[#This Row],[Column52]]&AW788","v":""}]
[null,null,null,null,null,null,null,null,null,null,null,null,null,null,null,{"$f":"Instructions!B821","v":0},null,{"$f":"Instructions!B815","v":0},{"$f":"Instructions!B816","v":0},{"$f":"Instructions!B817","v":0},null,null,"--",0,{"$f":"Table_2[[#This Row],[Column20]]+Table_2[[#This Row],[Column56]]","v":0},"",{"$f":"Table_2[[#This Row],[Column20]]+Table_2[[#This Row],[Column56]]","v":0},"",{"$f":"Table_2[[#This Row],[Column57]]+Table_2[[#This Row],[Column16]]+Table_2[[#This Row],[Column15]]","v":0},"",{"$f":"(K787/Instructions!$C$23)*100","v":0},{"$f":"(L787/Instructions!$C$24)*100","v":0},{"$f":"(Y787/Instructions!$C$25)*100","v":0},{"$f":"(AA787/Instructions!$C$27)*100","v":0},{"$f":"(AC787/Instructions!$C$29)*100","v":0},{"$f":"(V787/Instructions!$C$33)*100","v":0},{"$f":"(U787/Instructions!$C$32)*100","v":0},{"$f":"(W787/Instructions!$C$36)*100","v":{"$error":"#VALUE!"}},"","E","E","E","E","E","E","E","--",null,null,null,null,null,{"$f":"Table_2[[#This Row],[Column51]]&Table_2[[#This Row],[Column52]]&AW789","v":""}]
[null,null,null,null,null,null,null,null,null,null,null,null,null,null,null,{"$f":"Instructions!B822","v":0},null,{"$f":"Instructions!B816","v":0},{"$f":"Instructions!B817","v":0},{"$f":"Instructions!B818","v":0},null,null,"--",0,{"$f":"Table_2[[#This Row],[Column20]]+Table_2[[#This Row],[Column56]]","v":0},"",{"$f":"Table_2[[#This Row],[Column20]]+Table_2[[#This Row],[Column56]]","v":0},"",{"$f":"Table_2[[#This Row],[Column57]]+Table_2[[#This Row],[Column16]]+Table_2[[#This Row],[Column15]]","v":0},"",{"$f":"(K788/Instructions!$C$23)*100","v":0},{"$f":"(L788/Instructions!$C$24)*100","v":0},{"$f":"(Y788/Instructions!$C$25)*100","v":0},{"$f":"(AA788/Instructions!$C$27)*100","v":0},{"$f":"(AC788/Instructions!$C$29)*100","v":0},{"$f":"(V788/Instructions!$C$33)*100","v":0},{"$f":"(U788/Instructions!$C$32)*100","v":0},{"$f":"(W788/Instructions!$C$36)*100","v":{"$error":"#VALUE!"}},"","E","E","E","E","E","E","E","--",null,null,null,null,null,{"$f":"Table_2[[#This Row],[Column51]]&Table_2[[#This Row],[Column52]]&AW790","v":""}]
[null,null,null,null,null,null,null,null,null,null,null,null,null,null,null,{"$f":"Instructions!B823","v":0},null,{"$f":"Instructions!B817","v":0},{"$f":"Instructions!B818","v":0},{"$f":"Instructions!B819","v":0},null,null,"--",0,{"$f":"Table_2[[#This Row],[Column20]]+Table_2[[#This Row],[Column56]]","v":0},"",{"$f":"Table_2[[#This Row],[Column20]]+Table_2[[#This Row],[Column56]]","v":0},"",{"$f":"Table_2[[#This Row],[Column57]]+Table_2[[#This Row],[Column16]]+Table_2[[#This Row],[Column15]]","v":0},"",{"$f":"(K789/Instructions!$C$23)*100","v":0},{"$f":"(L789/Instructions!$C$24)*100","v":0},{"$f":"(Y789/Instructions!$C$25)*100","v":0},{"$f":"(AA789/Instructions!$C$27)*100","v":0},{"$f":"(AC789/Instructions!$C$29)*100","v":0},{"$f":"(V789/Instructions!$C$33)*100","v":0},{"$f":"(U789/Instructions!$C$32)*100","v":0},{"$f":"(W789/Instructions!$C$36)*100","v":{"$error":"#VALUE!"}},"","E","E","E","E","E","E","E","--",null,null,null,null,null,{"$f":"Table_2[[#This Row],[Column51]]&Table_2[[#This Row],[Column52]]&AW791","v":""}]
[null,null,null,null,null,null,null,null,null,null,null,null,null,null,null,{"$f":"Instructions!B824","v":0},null,{"$f":"Instructions!B818","v":0},{"$f":"Instructions!B819","v":0},{"$f":"Instructions!B820","v":0},null,null,"--",0,{"$f":"Table_2[[#This Row],[Column20]]+Table_2[[#This Row],[Column56]]","v":0},"",{"$f":"Table_2[[#This Row],[Column20]]+Table_2[[#This Row],[Column56]]","v":0},"",{"$f":"Table_2[[#This Row],[Column57]]+Table_2[[#This Row],[Column16]]+Table_2[[#This Row],[Column15]]","v":0},"",{"$f":"(K790/Instructions!$C$23)*100","v":0},{"$f":"(L790/Instructions!$C$24)*100","v":0},{"$f":"(Y790/Instructions!$C$25)*100","v":0},{"$f":"(AA790/Instructions!$C$27)*100","v":0},{"$f":"(AC790/Instructions!$C$29)*100","v":0},{"$f":"(V790/Instructions!$C$33)*100","v":0},{"$f":"(U790/Instructions!$C$32)*100","v":0},{"$f":"(W790/Instructions!$C$36)*100","v":{"$error":"#VALUE!"}},"","E","E","E","E","E","E","E","--",null,null,null,null,null,{"$f":"Table_2[[#This Row],[Column51]]&Table_2[[#This Row],[Column52]]&AW792","v":""}]
[null,null,null,null,null,null,null,null,null,null,null,null,null,null,null,{"$f":"Instructions!B825","v":0},null,{"$f":"Instructions!B819","v":0},{"$f":"Instructions!B820","v":0},{"$f":"Instructions!B821","v":0},null,null,"--",0,{"$f":"Table_2[[#This Row],[Column20]]+Table_2[[#This Row],[Column56]]","v":0},"",{"$f":"Table_2[[#This Row],[Column20]]+Table_2[[#This Row],[Column56]]","v":0},"",{"$f":"Table_2[[#This Row],[Column57]]+Table_2[[#This Row],[Column16]]+Table_2[[#This Row],[Column15]]","v":0},"",{"$f":"(K791/Instructions!$C$23)*100","v":0},{"$f":"(L791/Instructions!$C$24)*100","v":0},{"$f":"(Y791/Instructions!$C$25)*100","v":0},{"$f":"(AA791/Instructions!$C$27)*100","v":0},{"$f":"(AC791/Instructions!$C$29)*100","v":0},{"$f":"(V791/Instructions!$C$33)*100","v":0},{"$f":"(U791/Instructions!$C$32)*100","v":0},{"$f":"(W791/Instructions!$C$36)*100","v":{"$error":"#VALUE!"}},"","E","E","E","E","E","E","E","--",null,null,null,null,null,{"$f":"Table_2[[#This Row],[Column51]]&Table_2[[#This Row],[Column52]]&AW793","v":""}]
[null,null,null,null,null,null,null,null,null,null,null,null,null,null,null,{"$f":"Instructions!B826","v":0},null,{"$f":"Instructions!B820","v":0},{"$f":"Instructions!B821","v":0},{"$f":"Instructions!B822","v":0},null,null,"--",0,{"$f":"Table_2[[#This Row],[Column20]]+Table_2[[#This Row],[Column56]]","v":0},"",{"$f":"Table_2[[#This Row],[Column20]]+Table_2[[#This Row],[Column56]]","v":0},"",{"$f":"Table_2[[#This Row],[Column57]]+Table_2[[#This Row],[Column16]]+Table_2[[#This Row],[Column15]]","v":0},"",{"$f":"(K792/Instructions!$C$23)*100","v":0},{"$f":"(L792/Instructions!$C$24)*100","v":0},{"$f":"(Y792/Instructions!$C$25)*100","v":0},{"$f":"(AA792/Instructions!$C$27)*100","v":0},{"$f":"(AC792/Instructions!$C$29)*100","v":0},{"$f":"(V792/Instructions!$C$33)*100","v":0},{"$f":"(U792/Instructions!$C$32)*100","v":0},{"$f":"(W792/Instructions!$C$36)*100","v":{"$error":"#VALUE!"}},"","E","E","E","E","E","E","E","--",null,null,null,null,null,{"$f":"Table_2[[#This Row],[Column51]]&Table_2[[#This Row],[Column52]]&AW794","v":""}]
[null,null,null,null,null,null,null,null,null,null,null,null,null,null,null,{"$f":"Instructions!B827","v":0},null,{"$f":"Instructions!B821","v":0},{"$f":"Instructions!B822","v":0},{"$f":"Instructions!B823","v":0},null,null,"--",0,{"$f":"Table_2[[#This Row],[Column20]]+Table_2[[#This Row],[Column56]]","v":0},"",{"$f":"Table_2[[#This Row],[Column20]]+Table_2[[#This Row],[Column56]]","v":0},"",{"$f":"Table_2[[#This Row],[Column57]]+Table_2[[#This Row],[Column16]]+Table_2[[#This Row],[Column15]]","v":0},"",{"$f":"(K793/Instructions!$C$23)*100","v":0},{"$f":"(L793/Instructions!$C$24)*100","v":0},{"$f":"(Y793/Instructions!$C$25)*100","v":0},{"$f":"(AA793/Instructions!$C$27)*100","v":0},{"$f":"(AC793/Instructions!$C$29)*100","v":0},{"$f":"(V793/Instructions!$C$33)*100","v":0},{"$f":"(U793/Instructions!$C$32)*100","v":0},{"$f":"(W793/Instructions!$C$36)*100","v":{"$error":"#VALUE!"}},"","E","E","E","E","E","E","E","--",null,null,null,null,null,{"$f":"Table_2[[#This Row],[Column51]]&Table_2[[#This Row],[Column52]]&AW795","v":""}]
[null,null,null,null,null,null,null,null,null,null,null,null,null,null,null,{"$f":"Instructions!B828","v":0},null,{"$f":"Instructions!B822","v":0},{"$f":"Instructions!B823","v":0},{"$f":"Instructions!B824","v":0},null,null,"--",0,{"$f":"Table_2[[#This Row],[Column20]]+Table_2[[#This Row],[Column56]]","v":0},"",{"$f":"Table_2[[#This Row],[Column20]]+Table_2[[#This Row],[Column56]]","v":0},"",{"$f":"Table_2[[#This Row],[Column57]]+Table_2[[#This Row],[Column16]]+Table_2[[#This Row],[Column15]]","v":0},"",{"$f":"(K794/Instructions!$C$23)*100","v":0},{"$f":"(L794/Instructions!$C$24)*100","v":0},{"$f":"(Y794/Instructions!$C$25)*100","v":0},{"$f":"(AA794/Instructions!$C$27)*100","v":0},{"$f":"(AC794/Instructions!$C$29)*100","v":0},{"$f":"(V794/Instructions!$C$33)*100","v":0},{"$f":"(U794/Instructions!$C$32)*100","v":0},{"$f":"(W794/Instructions!$C$36)*100","v":{"$error":"#VALUE!"}},"","E","E","E","E","E","E","E","--",null,null,null,null,null,{"$f":"Table_2[[#This Row],[Column51]]&Table_2[[#This Row],[Column52]]&AW796","v":""}]
[null,null,null,null,null,null,null,null,null,null,null,null,null,null,null,{"$f":"Instructions!B829","v":0},null,{"$f":"Instructions!B823","v":0},{"$f":"Instructions!B824","v":0},{"$f":"Instructions!B825","v":0},null,null,"--",0,{"$f":"Table_2[[#This Row],[Column20]]+Table_2[[#This Row],[Column56]]","v":0},"",{"$f":"Table_2[[#This Row],[Column20]]+Table_2[[#This Row],[Column56]]","v":0},"",{"$f":"Table_2[[#This Row],[Column57]]+Table_2[[#This Row],[Column16]]+Table_2[[#This Row],[Column15]]","v":0},"",{"$f":"(K795/Instructions!$C$23)*100","v":0},{"$f":"(L795/Instructions!$C$24)*100","v":0},{"$f":"(Y795/Instructions!$C$25)*100","v":0},{"$f":"(AA795/Instructions!$C$27)*100","v":0},{"$f":"(AC795/Instructions!$C$29)*100","v":0},{"$f":"(V795/Instructions!$C$33)*100","v":0},{"$f":"(U795/Instructions!$C$32)*100","v":0},{"$f":"(W795/Instructions!$C$36)*100","v":{"$error":"#VALUE!"}},"","E","E","E","E","E","E","E","--",null,null,null,null,null,{"$f":"Table_2[[#This Row],[Column51]]&Table_2[[#This Row],[Column52]]&AW797","v":""}]
[null,null,null,null,null,null,null,null,null,null,null,null,null,null,null,{"$f":"Instructions!B830","v":0},null,{"$f":"Instructions!B824","v":0},{"$f":"Instructions!B825","v":0},{"$f":"Instructions!B826","v":0},null,null,"--",0,{"$f":"Table_2[[#This Row],[Column20]]+Table_2[[#This Row],[Column56]]","v":0},"",{"$f":"Table_2[[#This Row],[Column20]]+Table_2[[#This Row],[Column56]]","v":0},"",{"$f":"Table_2[[#This Row],[Column57]]+Table_2[[#This Row],[Column16]]+Table_2[[#This Row],[Column15]]","v":0},"",{"$f":"(K796/Instructions!$C$23)*100","v":0},{"$f":"(L796/Instructions!$C$24)*100","v":0},{"$f":"(Y796/Instructions!$C$25)*100","v":0},{"$f":"(AA796/Instructions!$C$27)*100","v":0},{"$f":"(AC796/Instructions!$C$29)*100","v":0},{"$f":"(V796/Instructions!$C$33)*100","v":0},{"$f":"(U796/Instructions!$C$32)*100","v":0},{"$f":"(W796/Instructions!$C$36)*100","v":{"$error":"#VALUE!"}},"","E","E","E","E","E","E","E","--",null,null,null,null,null,{"$f":"Table_2[[#This Row],[Column51]]&Table_2[[#This Row],[Column52]]&AW798","v":""}]
[null,null,null,null,null,null,null,null,null,null,null,null,null,null,null,{"$f":"Instructions!B831","v":0},null,{"$f":"Instructions!B825","v":0},{"$f":"Instructions!B826","v":0},{"$f":"Instructions!B827","v":0},null,null,"--",0,{"$f":"Table_2[[#This Row],[Column20]]+Table_2[[#This Row],[Column56]]","v":0},"",{"$f":"Table_2[[#This Row],[Column20]]+Table_2[[#This Row],[Column56]]","v":0},"",{"$f":"Table_2[[#This Row],[Column57]]+Table_2[[#This Row],[Column16]]+Table_2[[#This Row],[Column15]]","v":0},"",{"$f":"(K797/Instructions!$C$23)*100","v":0},{"$f":"(L797/Instructions!$C$24)*100","v":0},{"$f":"(Y797/Instructions!$C$25)*100","v":0},{"$f":"(AA797/Instructions!$C$27)*100","v":0},{"$f":"(AC797/Instructions!$C$29)*100","v":0},{"$f":"(V797/Instructions!$C$33)*100","v":0},{"$f":"(U797/Instructions!$C$32)*100","v":0},{"$f":"(W797/Instructions!$C$36)*100","v":{"$error":"#VALUE!"}},"","E","E","E","E","E","E","E","--",null,null,null,null,null,{"$f":"Table_2[[#This Row],[Column51]]&Table_2[[#This Row],[Column52]]&AW799","v":""}]
[null,null,null,null,null,null,null,null,null,null,null,null,null,null,null,{"$f":"Instructions!B832","v":0},null,{"$f":"Instructions!B826","v":0},{"$f":"Instructions!B827","v":0},{"$f":"Instructions!B828","v":0},null,null,"--",0,{"$f":"Table_2[[#This Row],[Column20]]+Table_2[[#This Row],[Column56]]","v":0},"",{"$f":"Table_2[[#This Row],[Column20]]+Table_2[[#This Row],[Column56]]","v":0},"",{"$f":"Table_2[[#This Row],[Column57]]+Table_2[[#This Row],[Column16]]+Table_2[[#This Row],[Column15]]","v":0},"",{"$f":"(K798/Instructions!$C$23)*100","v":0},{"$f":"(L798/Instructions!$C$24)*100","v":0},{"$f":"(Y798/Instructions!$C$25)*100","v":0},{"$f":"(AA798/Instructions!$C$27)*100","v":0},{"$f":"(AC798/Instructions!$C$29)*100","v":0},{"$f":"(V798/Instructions!$C$33)*100","v":0},{"$f":"(U798/Instructions!$C$32)*100","v":0},{"$f":"(W798/Instructions!$C$36)*100","v":{"$error":"#VALUE!"}},"","E","E","E","E","E","E","E","--",null,null,null,null,null,{"$f":"Table_2[[#This Row],[Column51]]&Table_2[[#This Row],[Column52]]&AW800","v":""}]
[null,null,null,null,null,null,null,null,null,null,null,null,null,null,null,{"$f":"Instructions!B833","v":0},null,{"$f":"Instructions!B827","v":0},{"$f":"Instructions!B828","v":0},{"$f":"Instructions!B829","v":0},null,null,"--",0,{"$f":"Table_2[[#This Row],[Column20]]+Table_2[[#This Row],[Column56]]","v":0},"",{"$f":"Table_2[[#This Row],[Column20]]+Table_2[[#This Row],[Column56]]","v":0},"",{"$f":"Table_2[[#This Row],[Column57]]+Table_2[[#This Row],[Column16]]+Table_2[[#This Row],[Column15]]","v":0},"",{"$f":"(K799/Instructions!$C$23)*100","v":0},{"$f":"(L799/Instructions!$C$24)*100","v":0},{"$f":"(Y799/Instructions!$C$25)*100","v":0},{"$f":"(AA799/Instructions!$C$27)*100","v":0},{"$f":"(AC799/Instructions!$C$29)*100","v":0},{"$f":"(V799/Instructions!$C$33)*100","v":0},{"$f":"(U799/Instructions!$C$32)*100","v":0},{"$f":"(W799/Instructions!$C$36)*100","v":{"$error":"#VALUE!"}},"","E","E","E","E","E","E","E","--",null,null,null,null,null,{"$f":"Table_2[[#This Row],[Column51]]&Table_2[[#This Row],[Column52]]&AW801","v":""}]
[null,null,null,null,null,null,null,null,null,null,null,null,null,null,null,{"$f":"Instructions!B834","v":0},null,{"$f":"Instructions!B828","v":0},{"$f":"Instructions!B829","v":0},{"$f":"Instructions!B830","v":0},null,null,"--",0,{"$f":"Table_2[[#This Row],[Column20]]+Table_2[[#This Row],[Column56]]","v":0},"",{"$f":"Table_2[[#This Row],[Column20]]+Table_2[[#This Row],[Column56]]","v":0},"",{"$f":"Table_2[[#This Row],[Column57]]+Table_2[[#This Row],[Column16]]+Table_2[[#This Row],[Column15]]","v":0},"",{"$f":"(K800/Instructions!$C$23)*100","v":0},{"$f":"(L800/Instructions!$C$24)*100","v":0},{"$f":"(Y800/Instructions!$C$25)*100","v":0},{"$f":"(AA800/Instructions!$C$27)*100","v":0},{"$f":"(AC800/Instructions!$C$29)*100","v":0},{"$f":"(V800/Instructions!$C$33)*100","v":0},{"$f":"(U800/Instructions!$C$32)*100","v":0},{"$f":"(W800/Instructions!$C$36)*100","v":{"$error":"#VALUE!"}},"","E","E","E","E","E","E","E","--",null,null,null,null,null,{"$f":"Table_2[[#This Row],[Column51]]&Table_2[[#This Row],[Column52]]&AW802","v":""}]
[null,null,null,null,null,null,null,null,null,null,null,null,null,null,null,{"$f":"Instructions!B835","v":0},null,{"$f":"Instructions!B829","v":0},{"$f":"Instructions!B830","v":0},{"$f":"Instructions!B831","v":0},null,null,"--",0,{"$f":"Table_2[[#This Row],[Column20]]+Table_2[[#This Row],[Column56]]","v":0},"",{"$f":"Table_2[[#This Row],[Column20]]+Table_2[[#This Row],[Column56]]","v":0},"",{"$f":"Table_2[[#This Row],[Column57]]+Table_2[[#This Row],[Column16]]+Table_2[[#This Row],[Column15]]","v":0},"",{"$f":"(K801/Instructions!$C$23)*100","v":0},{"$f":"(L801/Instructions!$C$24)*100","v":0},{"$f":"(Y801/Instructions!$C$25)*100","v":0},{"$f":"(AA801/Instructions!$C$27)*100","v":0},{"$f":"(AC801/Instructions!$C$29)*100","v":0},{"$f":"(V801/Instructions!$C$33)*100","v":0},{"$f":"(U801/Instructions!$C$32)*100","v":0},{"$f":"(W801/Instructions!$C$36)*100","v":{"$error":"#VALUE!"}},"","E","E","E","E","E","E","E","--",null,null,null,null,null,{"$f":"Table_2[[#This Row],[Column51]]&Table_2[[#This Row],[Column52]]&AW803","v":""}]
[null,null,null,null,null,null,null,null,null,null,null,null,null,null,null,{"$f":"Instructions!B836","v":0},null,{"$f":"Instructions!B830","v":0},{"$f":"Instructions!B831","v":0},{"$f":"Instructions!B832","v":0},null,null,"--",0,{"$f":"Table_2[[#This Row],[Column20]]+Table_2[[#This Row],[Column56]]","v":0},"",{"$f":"Table_2[[#This Row],[Column20]]+Table_2[[#This Row],[Column56]]","v":0},"",{"$f":"Table_2[[#This Row],[Column57]]+Table_2[[#This Row],[Column16]]+Table_2[[#This Row],[Column15]]","v":0},"",{"$f":"(K802/Instructions!$C$23)*100","v":0},{"$f":"(L802/Instructions!$C$24)*100","v":0},{"$f":"(Y802/Instructions!$C$25)*100","v":0},{"$f":"(AA802/Instructions!$C$27)*100","v":0},{"$f":"(AC802/Instructions!$C$29)*100","v":0},{"$f":"(V802/Instructions!$C$33)*100","v":0},{"$f":"(U802/Instructions!$C$32)*100","v":0},{"$f":"(W802/Instructions!$C$36)*100","v":{"$error":"#VALUE!"}},"","E","E","E","E","E","E","E","--",null,null,null,null,null,{"$f":"Table_2[[#This Row],[Column51]]&Table_2[[#This Row],[Column52]]&AW804","v":""}]
[null,null,null,null,null,null,null,null,null,null,null,null,null,null,null,{"$f":"Instructions!B837","v":0},null,{"$f":"Instructions!B831","v":0},{"$f":"Instructions!B832","v":0},{"$f":"Instructions!B833","v":0},null,null,"--",0,{"$f":"Table_2[[#This Row],[Column20]]+Table_2[[#This Row],[Column56]]","v":0},"",{"$f":"Table_2[[#This Row],[Column20]]+Table_2[[#This Row],[Column56]]","v":0},"",{"$f":"Table_2[[#This Row],[Column57]]+Table_2[[#This Row],[Column16]]+Table_2[[#This Row],[Column15]]","v":0},"",{"$f":"(K803/Instructions!$C$23)*100","v":0},{"$f":"(L803/Instructions!$C$24)*100","v":0},{"$f":"(Y803/Instructions!$C$25)*100","v":0},{"$f":"(AA803/Instructions!$C$27)*100","v":0},{"$f":"(AC803/Instructions!$C$29)*100","v":0},{"$f":"(V803/Instructions!$C$33)*100","v":0},{"$f":"(U803/Instructions!$C$32)*100","v":0},{"$f":"(W803/Instructions!$C$36)*100","v":{"$error":"#VALUE!"}},"","E","E","E","E","E","E","E","--",null,null,null,null,null,{"$f":"Table_2[[#This Row],[Column51]]&Table_2[[#This Row],[Column52]]&AW805","v":""}]
[null,null,null,null,null,null,null,null,null,null,null,null,null,null,null,{"$f":"Instructions!B838","v":0},null,{"$f":"Instructions!B832","v":0},{"$f":"Instructions!B833","v":0},{"$f":"Instructions!B834","v":0},null,null,"--",0,{"$f":"Table_2[[#This Row],[Column20]]+Table_2[[#This Row],[Column56]]","v":0},"",{"$f":"Table_2[[#This Row],[Column20]]+Table_2[[#This Row],[Column56]]","v":0},"",{"$f":"Table_2[[#This Row],[Column57]]+Table_2[[#This Row],[Column16]]+Table_2[[#This Row],[Column15]]","v":0},"",{"$f":"(K804/Instructions!$C$23)*100","v":0},{"$f":"(L804/Instructions!$C$24)*100","v":0},{"$f":"(Y804/Instructions!$C$25)*100","v":0},{"$f":"(AA804/Instructions!$C$27)*100","v":0},{"$f":"(AC804/Instructions!$C$29)*100","v":0},{"$f":"(V804/Instructions!$C$33)*100","v":0},{"$f":"(U804/Instructions!$C$32)*100","v":0},{"$f":"(W804/Instructions!$C$36)*100","v":{"$error":"#VALUE!"}},"","E","E","E","E","E","E","E","--",null,null,null,null,null,{"$f":"Table_2[[#This Row],[Column51]]&Table_2[[#This Row],[Column52]]&AW806","v":""}]
[null,null,null,null,null,null,null,null,null,null,null,null,null,null,null,{"$f":"Instructions!B839","v":0},null,{"$f":"Instructions!B833","v":0},{"$f":"Instructions!B834","v":0},{"$f":"Instructions!B835","v":0},null,null,"--",0,{"$f":"Table_2[[#This Row],[Column20]]+Table_2[[#This Row],[Column56]]","v":0},"",{"$f":"Table_2[[#This Row],[Column20]]+Table_2[[#This Row],[Column56]]","v":0},"",{"$f":"Table_2[[#This Row],[Column57]]+Table_2[[#This Row],[Column16]]+Table_2[[#This Row],[Column15]]","v":0},"",{"$f":"(K805/Instructions!$C$23)*100","v":0},{"$f":"(L805/Instructions!$C$24)*100","v":0},{"$f":"(Y805/Instructions!$C$25)*100","v":0},{"$f":"(AA805/Instructions!$C$27)*100","v":0},{"$f":"(AC805/Instructions!$C$29)*100","v":0},{"$f":"(V805/Instructions!$C$33)*100","v":0},{"$f":"(U805/Instructions!$C$32)*100","v":0},{"$f":"(W805/Instructions!$C$36)*100","v":{"$error":"#VALUE!"}},"","E","E","E","E","E","E","E","--",null,null,null,null,null,{"$f":"Table_2[[#This Row],[Column51]]&Table_2[[#This Row],[Column52]]&AW807","v":""}]
[null,null,null,null,null,null,null,null,null,null,null,null,null,null,null,{"$f":"Instructions!B840","v":0},null,{"$f":"Instructions!B834","v":0},{"$f":"Instructions!B835","v":0},{"$f":"Instructions!B836","v":0},null,null,"--",0,{"$f":"Table_2[[#This Row],[Column20]]+Table_2[[#This Row],[Column56]]","v":0},"",{"$f":"Table_2[[#This Row],[Column20]]+Table_2[[#This Row],[Column56]]","v":0},"",{"$f":"Table_2[[#This Row],[Column57]]+Table_2[[#This Row],[Column16]]+Table_2[[#This Row],[Column15]]","v":0},"",{"$f":"(K806/Instructions!$C$23)*100","v":0},{"$f":"(L806/Instructions!$C$24)*100","v":0},{"$f":"(Y806/Instructions!$C$25)*100","v":0},{"$f":"(AA806/Instructions!$C$27)*100","v":0},{"$f":"(AC806/Instructions!$C$29)*100","v":0},{"$f":"(V806/Instructions!$C$33)*100","v":0},{"$f":"(U806/Instructions!$C$32)*100","v":0},{"$f":"(W806/Instructions!$C$36)*100","v":{"$error":"#VALUE!"}},"","E","E","E","E","E","E","E","--",null,null,null,null,null,{"$f":"Table_2[[#This Row],[Column51]]&Table_2[[#This Row],[Column52]]&AW808","v":""}]
[null,null,null,null,null,null,null,null,null,null,null,null,null,null,null,{"$f":"Instructions!B841","v":0},null,{"$f":"Instructions!B835","v":0},{"$f":"Instructions!B836","v":0},{"$f":"Instructions!B837","v":0},null,null,"--",0,{"$f":"Table_2[[#This Row],[Column20]]+Table_2[[#This Row],[Column56]]","v":0},"",{"$f":"Table_2[[#This Row],[Column20]]+Table_2[[#This Row],[Column56]]","v":0},"",{"$f":"Table_2[[#This Row],[Column57]]+Table_2[[#This Row],[Column16]]+Table_2[[#This Row],[Column15]]","v":0},"",{"$f":"(K807/Instructions!$C$23)*100","v":0},{"$f":"(L807/Instructions!$C$24)*100","v":0},{"$f":"(Y807/Instructions!$C$25)*100","v":0},{"$f":"(AA807/Instructions!$C$27)*100","v":0},{"$f":"(AC807/Instructions!$C$29)*100","v":0},{"$f":"(V807/Instructions!$C$33)*100","v":0},{"$f":"(U807/Instructions!$C$32)*100","v":0},{"$f":"(W807/Instructions!$C$36)*100","v":{"$error":"#VALUE!"}},"","E","E","E","E","E","E","E","--",null,null,null,null,null,{"$f":"Table_2[[#This Row],[Column51]]&Table_2[[#This Row],[Column52]]&AW809","v":""}]
[null,null,null,null,null,null,null,null,null,null,null,null,null,null,null,{"$f":"Instructions!B842","v":0},null,{"$f":"Instructions!B836","v":0},{"$f":"Instructions!B837","v":0},{"$f":"Instructions!B838","v":0},null,null,"--",0,{"$f":"Table_2[[#This Row],[Column20]]+Table_2[[#This Row],[Column56]]","v":0},"",{"$f":"Table_2[[#This Row],[Column20]]+Table_2[[#This Row],[Column56]]","v":0},"",{"$f":"Table_2[[#This Row],[Column57]]+Table_2[[#This Row],[Column16]]+Table_2[[#This Row],[Column15]]","v":0},"",{"$f":"(K808/Instructions!$C$23)*100","v":0},{"$f":"(L808/Instructions!$C$24)*100","v":0},{"$f":"(Y808/Instructions!$C$25)*100","v":0},{"$f":"(AA808/Instructions!$C$27)*100","v":0},{"$f":"(AC808/Instructions!$C$29)*100","v":0},{"$f":"(V808/Instructions!$C$33)*100","v":0},{"$f":"(U808/Instructions!$C$32)*100","v":0},{"$f":"(W808/Instructions!$C$36)*100","v":{"$error":"#VALUE!"}},"","E","E","E","E","E","E","E","--",null,null,null,null,null,{"$f":"Table_2[[#This Row],[Column51]]&Table_2[[#This Row],[Column52]]&AW810","v":""}]
[null,null,null,null,null,null,null,null,null,null,null,null,null,null,null,{"$f":"Instructions!B843","v":0},null,{"$f":"Instructions!B837","v":0},{"$f":"Instructions!B838","v":0},{"$f":"Instructions!B839","v":0},null,null,"--",0,{"$f":"Table_2[[#This Row],[Column20]]+Table_2[[#This Row],[Column56]]","v":0},"",{"$f":"Table_2[[#This Row],[Column20]]+Table_2[[#This Row],[Column56]]","v":0},"",{"$f":"Table_2[[#This Row],[Column57]]+Table_2[[#This Row],[Column16]]+Table_2[[#This Row],[Column15]]","v":0},"",{"$f":"(K809/Instructions!$C$23)*100","v":0},{"$f":"(L809/Instructions!$C$24)*100","v":0},{"$f":"(Y809/Instructions!$C$25)*100","v":0},{"$f":"(AA809/Instructions!$C$27)*100","v":0},{"$f":"(AC809/Instructions!$C$29)*100","v":0},{"$f":"(V809/Instructions!$C$33)*100","v":0},{"$f":"(U809/Instructions!$C$32)*100","v":0},{"$f":"(W809/Instructions!$C$36)*100","v":{"$error":"#VALUE!"}},"","E","E","E","E","E","E","E","--",null,null,null,null,null,{"$f":"Table_2[[#This Row],[Column51]]&Table_2[[#This Row],[Column52]]&AW811","v":""}]
[null,null,null,null,null,null,null,null,null,null,null,null,null,null,null,{"$f":"Instructions!B844","v":0},null,{"$f":"Instructions!B838","v":0},{"$f":"Instructions!B839","v":0},{"$f":"Instructions!B840","v":0},null,null,"--",0,{"$f":"Table_2[[#This Row],[Column20]]+Table_2[[#This Row],[Column56]]","v":0},"",{"$f":"Table_2[[#This Row],[Column20]]+Table_2[[#This Row],[Column56]]","v":0},"",{"$f":"Table_2[[#This Row],[Column57]]+Table_2[[#This Row],[Column16]]+Table_2[[#This Row],[Column15]]","v":0},"",{"$f":"(K810/Instructions!$C$23)*100","v":0},{"$f":"(L810/Instructions!$C$24)*100","v":0},{"$f":"(Y810/Instructions!$C$25)*100","v":0},{"$f":"(AA810/Instructions!$C$27)*100","v":0},{"$f":"(AC810/Instructions!$C$29)*100","v":0},{"$f":"(V810/Instructions!$C$33)*100","v":0},{"$f":"(U810/Instructions!$C$32)*100","v":0},{"$f":"(W810/Instructions!$C$36)*100","v":{"$error":"#VALUE!"}},"","E","E","E","E","E","E","E","--",null,null,null,null,null,{"$f":"Table_2[[#This Row],[Column51]]&Table_2[[#This Row],[Column52]]&AW812","v":""}]
[null,null,null,null,null,null,null,null,null,null,null,null,null,null,null,{"$f":"Instructions!B845","v":0},null,{"$f":"Instructions!B839","v":0},{"$f":"Instructions!B840","v":0},{"$f":"Instructions!B841","v":0},null,null,"--",0,{"$f":"Table_2[[#This Row],[Column20]]+Table_2[[#This Row],[Column56]]","v":0},"",{"$f":"Table_2[[#This Row],[Column20]]+Table_2[[#This Row],[Column56]]","v":0},"",{"$f":"Table_2[[#This Row],[Column57]]+Table_2[[#This Row],[Column16]]+Table_2[[#This Row],[Column15]]","v":0},"",{"$f":"(K811/Instructions!$C$23)*100","v":0},{"$f":"(L811/Instructions!$C$24)*100","v":0},{"$f":"(Y811/Instructions!$C$25)*100","v":0},{"$f":"(AA811/Instructions!$C$27)*100","v":0},{"$f":"(AC811/Instructions!$C$29)*100","v":0},{"$f":"(V811/Instructions!$C$33)*100","v":0},{"$f":"(U811/Instructions!$C$32)*100","v":0},{"$f":"(W811/Instructions!$C$36)*100","v":{"$error":"#VALUE!"}},"","E","E","E","E","E","E","E","--",null,null,null,null,null,{"$f":"Table_2[[#This Row],[Column51]]&Table_2[[#This Row],[Column52]]&AW813","v":""}]
[null,null,null,null,null,null,null,null,null,null,null,null,null,null,null,{"$f":"Instructions!B846","v":0},null,{"$f":"Instructions!B840","v":0},{"$f":"Instructions!B841","v":0},{"$f":"Instructions!B842","v":0},null,null,"--",0,{"$f":"Table_2[[#This Row],[Column20]]+Table_2[[#This Row],[Column56]]","v":0},"",{"$f":"Table_2[[#This Row],[Column20]]+Table_2[[#This Row],[Column56]]","v":0},"",{"$f":"Table_2[[#This Row],[Column57]]+Table_2[[#This Row],[Column16]]+Table_2[[#This Row],[Column15]]","v":0},"",{"$f":"(K812/Instructions!$C$23)*100","v":0},{"$f":"(L812/Instructions!$C$24)*100","v":0},{"$f":"(Y812/Instructions!$C$25)*100","v":0},{"$f":"(AA812/Instructions!$C$27)*100","v":0},{"$f":"(AC812/Instructions!$C$29)*100","v":0},{"$f":"(V812/Instructions!$C$33)*100","v":0},{"$f":"(U812/Instructions!$C$32)*100","v":0},{"$f":"(W812/Instructions!$C$36)*100","v":{"$error":"#VALUE!"}},"","E","E","E","E","E","E","E","--",null,null,null,null,null,{"$f":"Table_2[[#This Row],[Column51]]&Table_2[[#This Row],[Column52]]&AW814","v":""}]
[null,null,null,null,null,null,null,null,null,null,null,null,null,null,null,{"$f":"Instructions!B847","v":0},null,{"$f":"Instructions!B841","v":0},{"$f":"Instructions!B842","v":0},{"$f":"Instructions!B843","v":0},null,null,"--",0,{"$f":"Table_2[[#This Row],[Column20]]+Table_2[[#This Row],[Column56]]","v":0},"",{"$f":"Table_2[[#This Row],[Column20]]+Table_2[[#This Row],[Column56]]","v":0},"",{"$f":"Table_2[[#This Row],[Column57]]+Table_2[[#This Row],[Column16]]+Table_2[[#This Row],[Column15]]","v":0},"",{"$f":"(K813/Instructions!$C$23)*100","v":0},{"$f":"(L813/Instructions!$C$24)*100","v":0},{"$f":"(Y813/Instructions!$C$25)*100","v":0},{"$f":"(AA813/Instructions!$C$27)*100","v":0},{"$f":"(AC813/Instructions!$C$29)*100","v":0},{"$f":"(V813/Instructions!$C$33)*100","v":0},{"$f":"(U813/Instructions!$C$32)*100","v":0},{"$f":"(W813/Instructions!$C$36)*100","v":{"$error":"#VALUE!"}},"","E","E","E","E","E","E","E","--",null,null,null,null,null,{"$f":"Table_2[[#This Row],[Column51]]&Table_2[[#This Row],[Column52]]&AW815","v":""}]
[null,null,null,null,null,null,null,null,null,null,null,null,null,null,null,{"$f":"Instructions!B848","v":0},null,{"$f":"Instructions!B842","v":0},{"$f":"Instructions!B843","v":0},{"$f":"Instructions!B844","v":0},null,null,"--",0,{"$f":"Table_2[[#This Row],[Column20]]+Table_2[[#This Row],[Column56]]","v":0},"",{"$f":"Table_2[[#This Row],[Column20]]+Table_2[[#This Row],[Column56]]","v":0},"",{"$f":"Table_2[[#This Row],[Column57]]+Table_2[[#This Row],[Column16]]+Table_2[[#This Row],[Column15]]","v":0},"",{"$f":"(K814/Instructions!$C$23)*100","v":0},{"$f":"(L814/Instructions!$C$24)*100","v":0},{"$f":"(Y814/Instructions!$C$25)*100","v":0},{"$f":"(AA814/Instructions!$C$27)*100","v":0},{"$f":"(AC814/Instructions!$C$29)*100","v":0},{"$f":"(V814/Instructions!$C$33)*100","v":0},{"$f":"(U814/Instructions!$C$32)*100","v":0},{"$f":"(W814/Instructions!$C$36)*100","v":{"$error":"#VALUE!"}},"","E","E","E","E","E","E","E","--",null,null,null,null,null,{"$f":"Table_2[[#This Row],[Column51]]&Table_2[[#This Row],[Column52]]&AW816","v":""}]
[null,null,null,null,null,null,null,null,null,null,null,null,null,null,null,{"$f":"Instructions!B849","v":0},null,{"$f":"Instructions!B843","v":0},{"$f":"Instructions!B844","v":0},{"$f":"Instructions!B845","v":0},null,null,"--",0,{"$f":"Table_2[[#This Row],[Column20]]+Table_2[[#This Row],[Column56]]","v":0},"",{"$f":"Table_2[[#This Row],[Column20]]+Table_2[[#This Row],[Column56]]","v":0},"",{"$f":"Table_2[[#This Row],[Column57]]+Table_2[[#This Row],[Column16]]+Table_2[[#This Row],[Column15]]","v":0},"",{"$f":"(K815/Instructions!$C$23)*100","v":0},{"$f":"(L815/Instructions!$C$24)*100","v":0},{"$f":"(Y815/Instructions!$C$25)*100","v":0},{"$f":"(AA815/Instructions!$C$27)*100","v":0},{"$f":"(AC815/Instructions!$C$29)*100","v":0},{"$f":"(V815/Instructions!$C$33)*100","v":0},{"$f":"(U815/Instructions!$C$32)*100","v":0},{"$f":"(W815/Instructions!$C$36)*100","v":{"$error":"#VALUE!"}},"","E","E","E","E","E","E","E","--",null,null,null,null,null,{"$f":"Table_2[[#This Row],[Column51]]&Table_2[[#This Row],[Column52]]&AW817","v":""}]
[null,null,null,null,null,null,null,null,null,null,null,null,null,null,null,{"$f":"Instructions!B850","v":0},null,{"$f":"Instructions!B844","v":0},{"$f":"Instructions!B845","v":0},{"$f":"Instructions!B846","v":0},null,null,"--",0,{"$f":"Table_2[[#This Row],[Column20]]+Table_2[[#This Row],[Column56]]","v":0},"",{"$f":"Table_2[[#This Row],[Column20]]+Table_2[[#This Row],[Column56]]","v":0},"",{"$f":"Table_2[[#This Row],[Column57]]+Table_2[[#This Row],[Column16]]+Table_2[[#This Row],[Column15]]","v":0},"",{"$f":"(K816/Instructions!$C$23)*100","v":0},{"$f":"(L816/Instructions!$C$24)*100","v":0},{"$f":"(Y816/Instructions!$C$25)*100","v":0},{"$f":"(AA816/Instructions!$C$27)*100","v":0},{"$f":"(AC816/Instructions!$C$29)*100","v":0},{"$f":"(V816/Instructions!$C$33)*100","v":0},{"$f":"(U816/Instructions!$C$32)*100","v":0},{"$f":"(W816/Instructions!$C$36)*100","v":{"$error":"#VALUE!"}},"","E","E","E","E","E","E","E","--",null,null,null,null,null,{"$f":"Table_2[[#This Row],[Column51]]&Table_2[[#This Row],[Column52]]&AW818","v":""}]
[null,null,null,null,null,null,null,null,null,null,null,null,null,null,null,{"$f":"Instructions!B851","v":0},null,{"$f":"Instructions!B845","v":0},{"$f":"Instructions!B846","v":0},{"$f":"Instructions!B847","v":0},null,null,"--",0,{"$f":"Table_2[[#This Row],[Column20]]+Table_2[[#This Row],[Column56]]","v":0},"",{"$f":"Table_2[[#This Row],[Column20]]+Table_2[[#This Row],[Column56]]","v":0},"",{"$f":"Table_2[[#This Row],[Column57]]+Table_2[[#This Row],[Column16]]+Table_2[[#This Row],[Column15]]","v":0},"",{"$f":"(K817/Instructions!$C$23)*100","v":0},{"$f":"(L817/Instructions!$C$24)*100","v":0},{"$f":"(Y817/Instructions!$C$25)*100","v":0},{"$f":"(AA817/Instructions!$C$27)*100","v":0},{"$f":"(AC817/Instructions!$C$29)*100","v":0},{"$f":"(V817/Instructions!$C$33)*100","v":0},{"$f":"(U817/Instructions!$C$32)*100","v":0},{"$f":"(W817/Instructions!$C$36)*100","v":{"$error":"#VALUE!"}},"","E","E","E","E","E","E","E","--",null,null,null,null,null,{"$f":"Table_2[[#This Row],[Column51]]&Table_2[[#This Row],[Column52]]&AW819","v":""}]
[null,null,null,null,null,null,null,null,null,null,null,null,null,null,null,{"$f":"Instructions!B852","v":0},null,{"$f":"Instructions!B846","v":0},{"$f":"Instructions!B847","v":0},{"$f":"Instructions!B848","v":0},null,null,"--",0,{"$f":"Table_2[[#This Row],[Column20]]+Table_2[[#This Row],[Column56]]","v":0},"",{"$f":"Table_2[[#This Row],[Column20]]+Table_2[[#This Row],[Column56]]","v":0},"",{"$f":"Table_2[[#This Row],[Column57]]+Table_2[[#This Row],[Column16]]+Table_2[[#This Row],[Column15]]","v":0},"",{"$f":"(K818/Instructions!$C$23)*100","v":0},{"$f":"(L818/Instructions!$C$24)*100","v":0},{"$f":"(Y818/Instructions!$C$25)*100","v":0},{"$f":"(AA818/Instructions!$C$27)*100","v":0},{"$f":"(AC818/Instructions!$C$29)*100","v":0},{"$f":"(V818/Instructions!$C$33)*100","v":0},{"$f":"(U818/Instructions!$C$32)*100","v":0},{"$f":"(W818/Instructions!$C$36)*100","v":{"$error":"#VALUE!"}},"","E","E","E","E","E","E","E","--",null,null,null,null,null,{"$f":"Table_2[[#This Row],[Column51]]&Table_2[[#This Row],[Column52]]&AW820","v":""}]
[null,null,null,null,null,null,null,null,null,null,null,null,null,null,null,{"$f":"Instructions!B853","v":0},null,{"$f":"Instructions!B847","v":0},{"$f":"Instructions!B848","v":0},{"$f":"Instructions!B849","v":0},null,null,"--",0,{"$f":"Table_2[[#This Row],[Column20]]+Table_2[[#This Row],[Column56]]","v":0},"",{"$f":"Table_2[[#This Row],[Column20]]+Table_2[[#This Row],[Column56]]","v":0},"",{"$f":"Table_2[[#This Row],[Column57]]+Table_2[[#This Row],[Column16]]+Table_2[[#This Row],[Column15]]","v":0},"",{"$f":"(K819/Instructions!$C$23)*100","v":0},{"$f":"(L819/Instructions!$C$24)*100","v":0},{"$f":"(Y819/Instructions!$C$25)*100","v":0},{"$f":"(AA819/Instructions!$C$27)*100","v":0},{"$f":"(AC819/Instructions!$C$29)*100","v":0},{"$f":"(V819/Instructions!$C$33)*100","v":0},{"$f":"(U819/Instructions!$C$32)*100","v":0},{"$f":"(W819/Instructions!$C$36)*100","v":{"$error":"#VALUE!"}},"","E","E","E","E","E","E","E","--",null,null,null,null,null,{"$f":"Table_2[[#This Row],[Column51]]&Table_2[[#This Row],[Column52]]&AW821","v":""}]
[null,null,null,null,null,null,null,null,null,null,null,null,null,null,null,{"$f":"Instructions!B854","v":0},null,{"$f":"Instructions!B848","v":0},{"$f":"Instructions!B849","v":0},{"$f":"Instructions!B850","v":0},null,null,"--",0,{"$f":"Table_2[[#This Row],[Column20]]+Table_2[[#This Row],[Column56]]","v":0},"",{"$f":"Table_2[[#This Row],[Column20]]+Table_2[[#This Row],[Column56]]","v":0},"",{"$f":"Table_2[[#This Row],[Column57]]+Table_2[[#This Row],[Column16]]+Table_2[[#This Row],[Column15]]","v":0},"",{"$f":"(K820/Instructions!$C$23)*100","v":0},{"$f":"(L820/Instructions!$C$24)*100","v":0},{"$f":"(Y820/Instructions!$C$25)*100","v":0},{"$f":"(AA820/Instructions!$C$27)*100","v":0},{"$f":"(AC820/Instructions!$C$29)*100","v":0},{"$f":"(V820/Instructions!$C$33)*100","v":0},{"$f":"(U820/Instructions!$C$32)*100","v":0},{"$f":"(W820/Instructions!$C$36)*100","v":{"$error":"#VALUE!"}},"","E","E","E","E","E","E","E","--",null,null,null,null,null,{"$f":"Table_2[[#This Row],[Column51]]&Table_2[[#This Row],[Column52]]&AW822","v":""}]
[null,null,null,null,null,null,null,null,null,null,null,null,null,null,null,{"$f":"Instructions!B855","v":0},null,{"$f":"Instructions!B849","v":0},{"$f":"Instructions!B850","v":0},{"$f":"Instructions!B851","v":0},null,null,"--",0,{"$f":"Table_2[[#This Row],[Column20]]+Table_2[[#This Row],[Column56]]","v":0},"",{"$f":"Table_2[[#This Row],[Column20]]+Table_2[[#This Row],[Column56]]","v":0},"",{"$f":"Table_2[[#This Row],[Column57]]+Table_2[[#This Row],[Column16]]+Table_2[[#This Row],[Column15]]","v":0},"",{"$f":"(K821/Instructions!$C$23)*100","v":0},{"$f":"(L821/Instructions!$C$24)*100","v":0},{"$f":"(Y821/Instructions!$C$25)*100","v":0},{"$f":"(AA821/Instructions!$C$27)*100","v":0},{"$f":"(AC821/Instructions!$C$29)*100","v":0},{"$f":"(V821/Instructions!$C$33)*100","v":0},{"$f":"(U821/Instructions!$C$32)*100","v":0},{"$f":"(W821/Instructions!$C$36)*100","v":{"$error":"#VALUE!"}},"","E","E","E","E","E","E","E","--",null,null,null,null,null,{"$f":"Table_2[[#This Row],[Column51]]&Table_2[[#This Row],[Column52]]&AW823","v":""}]
[null,null,null,null,null,null,null,null,null,null,null,null,null,null,null,{"$f":"Instructions!B856","v":0},null,{"$f":"Instructions!B850","v":0},{"$f":"Instructions!B851","v":0},{"$f":"Instructions!B852","v":0},null,null,"--",0,{"$f":"Table_2[[#This Row],[Column20]]+Table_2[[#This Row],[Column56]]","v":0},"",{"$f":"Table_2[[#This Row],[Column20]]+Table_2[[#This Row],[Column56]]","v":0},"",{"$f":"Table_2[[#This Row],[Column57]]+Table_2[[#This Row],[Column16]]+Table_2[[#This Row],[Column15]]","v":0},"",{"$f":"(K822/Instructions!$C$23)*100","v":0},{"$f":"(L822/Instructions!$C$24)*100","v":0},{"$f":"(Y822/Instructions!$C$25)*100","v":0},{"$f":"(AA822/Instructions!$C$27)*100","v":0},{"$f":"(AC822/Instructions!$C$29)*100","v":0},{"$f":"(V822/Instructions!$C$33)*100","v":0},{"$f":"(U822/Instructions!$C$32)*100","v":0},{"$f":"(W822/Instructions!$C$36)*100","v":{"$error":"#VALUE!"}},"","E","E","E","E","E","E","E","--",null,null,null,null,null,{"$f":"Table_2[[#This Row],[Column51]]&Table_2[[#This Row],[Column52]]&AW824","v":""}]
[null,null,null,null,null,null,null,null,null,null,null,null,null,null,null,{"$f":"Instructions!B857","v":0},null,{"$f":"Instructions!B851","v":0},{"$f":"Instructions!B852","v":0},{"$f":"Instructions!B853","v":0},null,null,"--",0,{"$f":"Table_2[[#This Row],[Column20]]+Table_2[[#This Row],[Column56]]","v":0},"",{"$f":"Table_2[[#This Row],[Column20]]+Table_2[[#This Row],[Column56]]","v":0},"",{"$f":"Table_2[[#This Row],[Column57]]+Table_2[[#This Row],[Column16]]+Table_2[[#This Row],[Column15]]","v":0},"",{"$f":"(K823/Instructions!$C$23)*100","v":0},{"$f":"(L823/Instructions!$C$24)*100","v":0},{"$f":"(Y823/Instructions!$C$25)*100","v":0},{"$f":"(AA823/Instructions!$C$27)*100","v":0},{"$f":"(AC823/Instructions!$C$29)*100","v":0},{"$f":"(V823/Instructions!$C$33)*100","v":0},{"$f":"(U823/Instructions!$C$32)*100","v":0},{"$f":"(W823/Instructions!$C$36)*100","v":{"$error":"#VALUE!"}},"","E","E","E","E","E","E","E","--",null,null,null,null,null,{"$f":"Table_2[[#This Row],[Column51]]&Table_2[[#This Row],[Column52]]&AW825","v":""}]
[null,null,null,null,null,null,null,null,null,null,null,null,null,null,null,{"$f":"Instructions!B858","v":0},null,{"$f":"Instructions!B852","v":0},{"$f":"Instructions!B853","v":0},{"$f":"Instructions!B854","v":0},null,null,"--",0,{"$f":"Table_2[[#This Row],[Column20]]+Table_2[[#This Row],[Column56]]","v":0},"",{"$f":"Table_2[[#This Row],[Column20]]+Table_2[[#This Row],[Column56]]","v":0},"",{"$f":"Table_2[[#This Row],[Column57]]+Table_2[[#This Row],[Column16]]+Table_2[[#This Row],[Column15]]","v":0},"",{"$f":"(K824/Instructions!$C$23)*100","v":0},{"$f":"(L824/Instructions!$C$24)*100","v":0},{"$f":"(Y824/Instructions!$C$25)*100","v":0},{"$f":"(AA824/Instructions!$C$27)*100","v":0},{"$f":"(AC824/Instructions!$C$29)*100","v":0},{"$f":"(V824/Instructions!$C$33)*100","v":0},{"$f":"(U824/Instructions!$C$32)*100","v":0},{"$f":"(W824/Instructions!$C$36)*100","v":{"$error":"#VALUE!"}},"","E","E","E","E","E","E","E","--",null,null,null,null,null,{"$f":"Table_2[[#This Row],[Column51]]&Table_2[[#This Row],[Column52]]&AW826","v":""}]
[null,null,null,null,null,null,null,null,null,null,null,null,null,null,null,{"$f":"Instructions!B859","v":0},null,{"$f":"Instructions!B853","v":0},{"$f":"Instructions!B854","v":0},{"$f":"Instructions!B855","v":0},null,null,"--",0,{"$f":"Table_2[[#This Row],[Column20]]+Table_2[[#This Row],[Column56]]","v":0},"",{"$f":"Table_2[[#This Row],[Column20]]+Table_2[[#This Row],[Column56]]","v":0},"",{"$f":"Table_2[[#This Row],[Column57]]+Table_2[[#This Row],[Column16]]+Table_2[[#This Row],[Column15]]","v":0},"",{"$f":"(K825/Instructions!$C$23)*100","v":0},{"$f":"(L825/Instructions!$C$24)*100","v":0},{"$f":"(Y825/Instructions!$C$25)*100","v":0},{"$f":"(AA825/Instructions!$C$27)*100","v":0},{"$f":"(AC825/Instructions!$C$29)*100","v":0},{"$f":"(V825/Instructions!$C$33)*100","v":0},{"$f":"(U825/Instructions!$C$32)*100","v":0},{"$f":"(W825/Instructions!$C$36)*100","v":{"$error":"#VALUE!"}},"","E","E","E","E","E","E","E","--",null,null,null,null,null,{"$f":"Table_2[[#This Row],[Column51]]&Table_2[[#This Row],[Column52]]&AW827","v":""}]
[null,null,null,null,null,null,null,null,null,null,null,null,null,null,null,{"$f":"Instructions!B860","v":0},null,{"$f":"Instructions!B854","v":0},{"$f":"Instructions!B855","v":0},{"$f":"Instructions!B856","v":0},null,null,"--",0,{"$f":"Table_2[[#This Row],[Column20]]+Table_2[[#This Row],[Column56]]","v":0},"",{"$f":"Table_2[[#This Row],[Column20]]+Table_2[[#This Row],[Column56]]","v":0},"",{"$f":"Table_2[[#This Row],[Column57]]+Table_2[[#This Row],[Column16]]+Table_2[[#This Row],[Column15]]","v":0},"",{"$f":"(K826/Instructions!$C$23)*100","v":0},{"$f":"(L826/Instructions!$C$24)*100","v":0},{"$f":"(Y826/Instructions!$C$25)*100","v":0},{"$f":"(AA826/Instructions!$C$27)*100","v":0},{"$f":"(AC826/Instructions!$C$29)*100","v":0},{"$f":"(V826/Instructions!$C$33)*100","v":0},{"$f":"(U826/Instructions!$C$32)*100","v":0},{"$f":"(W826/Instructions!$C$36)*100","v":{"$error":"#VALUE!"}},"","E","E","E","E","E","E","E","--",null,null,null,null,null,{"$f":"Table_2[[#This Row],[Column51]]&Table_2[[#This Row],[Column52]]&AW828","v":""}]
[null,null,null,null,null,null,null,null,null,null,null,null,null,null,null,{"$f":"Instructions!B861","v":0},null,{"$f":"Instructions!B855","v":0},{"$f":"Instructions!B856","v":0},{"$f":"Instructions!B857","v":0},null,null,"--",0,{"$f":"Table_2[[#This Row],[Column20]]+Table_2[[#This Row],[Column56]]","v":0},"",{"$f":"Table_2[[#This Row],[Column20]]+Table_2[[#This Row],[Column56]]","v":0},"",{"$f":"Table_2[[#This Row],[Column57]]+Table_2[[#This Row],[Column16]]+Table_2[[#This Row],[Column15]]","v":0},"",{"$f":"(K827/Instructions!$C$23)*100","v":0},{"$f":"(L827/Instructions!$C$24)*100","v":0},{"$f":"(Y827/Instructions!$C$25)*100","v":0},{"$f":"(AA827/Instructions!$C$27)*100","v":0},{"$f":"(AC827/Instructions!$C$29)*100","v":0},{"$f":"(V827/Instructions!$C$33)*100","v":0},{"$f":"(U827/Instructions!$C$32)*100","v":0},{"$f":"(W827/Instructions!$C$36)*100","v":{"$error":"#VALUE!"}},"","E","E","E","E","E","E","E","--",null,null,null,null,null,{"$f":"Table_2[[#This Row],[Column51]]&Table_2[[#This Row],[Column52]]&AW875","v":""}]
[null,null,null,null,null,null,null,null,null,null,null,null,null,null,null,{"$f":"Instructions!B862","v":0},null,{"$f":"Instructions!B856","v":0},{"$f":"Instructions!B857","v":0},{"$f":"Instructions!B858","v":0},null,null,"--",0,{"$f":"Table_2[[#This Row],[Column20]]+Table_2[[#This Row],[Column56]]","v":0},"",{"$f":"Table_2[[#This Row],[Column20]]+Table_2[[#This Row],[Column56]]","v":0},"",{"$f":"Table_2[[#This Row],[Column57]]+Table_2[[#This Row],[Column16]]+Table_2[[#This Row],[Column15]]","v":0},"",{"$f":"(K828/Instructions!$C$23)*100","v":0},{"$f":"(L828/Instructions!$C$24)*100","v":0},{"$f":"(Y828/Instructions!$C$25)*100","v":0},{"$f":"(AA828/Instructions!$C$27)*100","v":0},{"$f":"(AC828/Instructions!$C$29)*100","v":0},{"$f":"(V828/Instructions!$C$33)*100","v":0},{"$f":"(U828/Instructions!$C$32)*100","v":0},{"$f":"(W828/Instructions!$C$36)*100","v":{"$error":"#VALUE!"}},"","E","E","E","E","E","E","E","--",null,null,null,null,null,{"$f":"Table_2[[#This Row],[Column51]]&Table_2[[#This Row],[Column52]]&AW876","v":""}]
[null,null,null,null,null,null,null,null,null,null,null,null,null,null,null,{"$f":"Instructions!B863","v":0},null,{"$f":"Instructions!B857","v":0},{"$f":"Instructions!B858","v":0},{"$f":"Instructions!B859","v":0},null,null,"--",0,{"$f":"Table_2[[#This Row],[Column20]]+Table_2[[#This Row],[Column56]]","v":0},"",{"$f":"Table_2[[#This Row],[Column20]]+Table_2[[#This Row],[Column56]]","v":0},"",{"$f":"Table_2[[#This Row],[Column57]]+Table_2[[#This Row],[Column16]]+Table_2[[#This Row],[Column15]]","v":0},"",{"$f":"(K829/Instructions!$C$23)*100","v":0},{"$f":"(L829/Instructions!$C$24)*100","v":0},{"$f":"(Y829/Instructions!$C$25)*100","v":0},{"$f":"(AA829/Instructions!$C$27)*100","v":0},{"$f":"(AC829/Instructions!$C$29)*100","v":0},{"$f":"(V829/Instructions!$C$33)*100","v":0},{"$f":"(U829/Instructions!$C$32)*100","v":0},{"$f":"(W829/Instructions!$C$36)*100","v":{"$error":"#VALUE!"}},"","E","E","E","E","E","E","E","--",null,null,null,null,null,{"$f":"Table_2[[#This Row],[Column51]]&Table_2[[#This Row],[Column52]]&AW831","v":""}]
[null,null,null,null,null,null,null,null,null,null,null,null,null,null,null,{"$f":"Instructions!B864","v":0},null,{"$f":"Instructions!B858","v":0},{"$f":"Instructions!B859","v":0},{"$f":"Instructions!B860","v":0},null,null,"--",0,{"$f":"Table_2[[#This Row],[Column20]]+Table_2[[#This Row],[Column56]]","v":0},"",{"$f":"Table_2[[#This Row],[Column20]]+Table_2[[#This Row],[Column56]]","v":0},"",{"$f":"Table_2[[#This Row],[Column57]]+Table_2[[#This Row],[Column16]]+Table_2[[#This Row],[Column15]]","v":0},"",{"$f":"(K830/Instructions!$C$23)*100","v":0},{"$f":"(L830/Instructions!$C$24)*100","v":0},{"$f":"(Y830/Instructions!$C$25)*100","v":0},{"$f":"(AA830/Instructions!$C$27)*100","v":0},{"$f":"(AC830/Instructions!$C$29)*100","v":0},{"$f":"(V830/Instructions!$C$33)*100","v":0},{"$f":"(U830/Instructions!$C$32)*100","v":0},{"$f":"(W830/Instructions!$C$36)*100","v":{"$error":"#VALUE!"}},"","E","E","E","E","E","E","E","--",null,null,null,null,null,{"$f":"Table_2[[#This Row],[Column51]]&Table_2[[#This Row],[Column52]]&AW832","v":""}]
[null,null,null,null,null,null,null,null,null,null,null,null,null,null,null,{"$f":"Instructions!B865","v":0},null,{"$f":"Instructions!B859","v":0},{"$f":"Instructions!B860","v":0},{"$f":"Instructions!B861","v":0},null,null,"--",0,{"$f":"Table_2[[#This Row],[Column20]]+Table_2[[#This Row],[Column56]]","v":0},"",{"$f":"Table_2[[#This Row],[Column20]]+Table_2[[#This Row],[Column56]]","v":0},"",{"$f":"Table_2[[#This Row],[Column57]]+Table_2[[#This Row],[Column16]]+Table_2[[#This Row],[Column15]]","v":0},"",{"$f":"(K831/Instructions!$C$23)*100","v":0},{"$f":"(L831/Instructions!$C$24)*100","v":0},{"$f":"(Y831/Instructions!$C$25)*100","v":0},{"$f":"(AA831/Instructions!$C$27)*100","v":0},{"$f":"(AC831/Instructions!$C$29)*100","v":0},{"$f":"(V831/Instructions!$C$33)*100","v":0},{"$f":"(U831/Instructions!$C$32)*100","v":0},{"$f":"(W831/Instructions!$C$36)*100","v":{"$error":"#VALUE!"}},"","E","E","E","E","E","E","E","--",null,null,null,null,null,{"$f":"Table_2[[#This Row],[Column51]]&Table_2[[#This Row],[Column52]]&AW833","v":""}]
[null,null,null,null,null,null,null,null,null,null,null,null,null,null,null,{"$f":"Instructions!B866","v":0},null,{"$f":"Instructions!B860","v":0},{"$f":"Instructions!B861","v":0},{"$f":"Instructions!B862","v":0},null,null,"--",0,{"$f":"Table_2[[#This Row],[Column20]]+Table_2[[#This Row],[Column56]]","v":0},"",{"$f":"Table_2[[#This Row],[Column20]]+Table_2[[#This Row],[Column56]]","v":0},"",{"$f":"Table_2[[#This Row],[Column57]]+Table_2[[#This Row],[Column16]]+Table_2[[#This Row],[Column15]]","v":0},"",{"$f":"(K832/Instructions!$C$23)*100","v":0},{"$f":"(L832/Instructions!$C$24)*100","v":0},{"$f":"(Y832/Instructions!$C$25)*100","v":0},{"$f":"(AA832/Instructions!$C$27)*100","v":0},{"$f":"(AC832/Instructions!$C$29)*100","v":0},{"$f":"(V832/Instructions!$C$33)*100","v":0},{"$f":"(U832/Instructions!$C$32)*100","v":0},{"$f":"(W832/Instructions!$C$36)*100","v":{"$error":"#VALUE!"}},"","E","E","E","E","E","E","E","--",null,null,null,null,null,{"$f":"Table_2[[#This Row],[Column51]]&Table_2[[#This Row],[Column52]]&AW834","v":""}]
[null,null,null,null,null,null,null,null,null,null,null,null,null,null,null,{"$f":"Instructions!B867","v":0},null,{"$f":"Instructions!B861","v":0},{"$f":"Instructions!B862","v":0},{"$f":"Instructions!B863","v":0},null,null,"--",0,{"$f":"Table_2[[#This Row],[Column20]]+Table_2[[#This Row],[Column56]]","v":0},"",{"$f":"Table_2[[#This Row],[Column20]]+Table_2[[#This Row],[Column56]]","v":0},"",{"$f":"Table_2[[#This Row],[Column57]]+Table_2[[#This Row],[Column16]]+Table_2[[#This Row],[Column15]]","v":0},"",{"$f":"(K833/Instructions!$C$23)*100","v":0},{"$f":"(L833/Instructions!$C$24)*100","v":0},{"$f":"(Y833/Instructions!$C$25)*100","v":0},{"$f":"(AA833/Instructions!$C$27)*100","v":0},{"$f":"(AC833/Instructions!$C$29)*100","v":0},{"$f":"(V833/Instructions!$C$33)*100","v":0},{"$f":"(U833/Instructions!$C$32)*100","v":0},{"$f":"(W833/Instructions!$C$36)*100","v":{"$error":"#VALUE!"}},"","E","E","E","E","E","E","E","--",null,null,null,null,null,{"$f":"Table_2[[#This Row],[Column51]]&Table_2[[#This Row],[Column52]]&AW835","v":""}]
[null,null,null,null,null,null,null,null,null,null,null,null,null,null,null,{"$f":"Instructions!B868","v":0},null,{"$f":"Instructions!B862","v":0},{"$f":"Instructions!B863","v":0},{"$f":"Instructions!B864","v":0},null,null,"--",0,{"$f":"Table_2[[#This Row],[Column20]]+Table_2[[#This Row],[Column56]]","v":0},"",{"$f":"Table_2[[#This Row],[Column20]]+Table_2[[#This Row],[Column56]]","v":0},"",{"$f":"Table_2[[#This Row],[Column57]]+Table_2[[#This Row],[Column16]]+Table_2[[#This Row],[Column15]]","v":0},"",{"$f":"(K834/Instructions!$C$23)*100","v":0},{"$f":"(L834/Instructions!$C$24)*100","v":0},{"$f":"(Y834/Instructions!$C$25)*100","v":0},{"$f":"(AA834/Instructions!$C$27)*100","v":0},{"$f":"(AC834/Instructions!$C$29)*100","v":0},{"$f":"(V834/Instructions!$C$33)*100","v":0},{"$f":"(U834/Instructions!$C$32)*100","v":0},{"$f":"(W834/Instructions!$C$36)*100","v":{"$error":"#VALUE!"}},"","E","E","E","E","E","E","E","--",null,null,null,null,null,{"$f":"Table_2[[#This Row],[Column51]]&Table_2[[#This Row],[Column52]]&AW836","v":""}]
[null,null,null,null,null,null,null,null,null,null,null,null,null,null,null,{"$f":"Instructions!B869","v":0},null,{"$f":"Instructions!B863","v":0},{"$f":"Instructions!B864","v":0},{"$f":"Instructions!B865","v":0},null,null,{"$f":"IF(MIN(AE835:AI835)>=33,SUM(K835:T835),\"--\")","v":"--"},{"$f":"IF(W835=\"--\",0,W835)","v":0},{"$f":"Table_2[[#This Row],[Column20]]+Table_2[[#This Row],[Column56]]","v":0},{"$f":"IF(N835>0,$N$1,IF(O835>0,$O$1,\"\"))","v":""},{"$f":"Table_2[[#This Row],[Column20]]+Table_2[[#This Row],[Column56]]","v":0},{"$f":"IFERROR(IF(P835>0,$P$1,IF(Q835>0,$Q$1,\"\")),\"\")","v":""},{"$f":"Table_2[[#This Row],[Column57]]+Table_2[[#This Row],[Column16]]+Table_2[[#This Row],[Column15]]","v":0},{"$f":"IFERROR(IF(R835>0,$R$1,IF(S835>0,$S$1,IF(T835>0,$T$1,\"\"))),\"\")","v":""},{"$f":"(K835/Instructions!$C$23)*100","v":0},{"$f":"(L835/Instructions!$C$24)*100","v":0},{"$f":"(Y835/Instructions!$C$25)*100","v":0},{"$f":"(AA835/Instructions!$C$27)*100","v":0},{"$f":"(AC835/Instructions!$C$29)*100","v":0},{"$f":"(V835/Instructions!$C$33)*100","v":0},{"$f":"(U835/Instructions!$C$32)*100","v":0},{"$f":"(W835/Instructions!$C$36)*100","v":{"$error":"#VALUE!"}},{"$f":"IFERROR(IF(AL835>=33,\"PASS\",\"----\"),\"\")","v":""},{"$f":"IFERROR(IF(AE835>90,\"A+\",IF(AE835>80,\"A\",IF(AE835>70,\"B+\",IF(AE835>60,\"B\",IF(AE835>50,\"C+\",IF(AE835>40,\"C\",IF(AE835>=33,\"D\",\"E\"))))))),\"Abs\")","v":"E"},{"$f":"IFERROR(IF(AF835>90,\"A+\",IF(AF835>80,\"A\",IF(AF835>70,\"B+\",IF(AF835>60,\"B\",IF(AF835>50,\"C+\",IF(AF835>40,\"C\",IF(AF835>=33,\"D\",\"E\"))))))),\"Abs\")","v":"E"},{"$f":"IFERROR(IF(AG835>90,\"A+\",IF(AG835>80,\"A\",IF(AG835>70,\"B+\",IF(AG835>60,\"B\",IF(AG835>50,\"C+\",IF(AG835>40,\"C\",IF(AG835>=33,\"D\",\"E\"))))))),\"Abs\")","v":"E"},{"$f":"IFERROR(IF(AH835>90,\"A+\",IF(AH835>80,\"A\",IF(AH835>70,\"B+\",IF(AH835>60,\"B\",IF(AH835>50,\"C+\",IF(AH835>40,\"C\",IF(AH835>=33,\"D\",\"E\"))))))),\"Abs\")","v":"E"},{"$f":"IFERROR(IF(AI835>90,\"A+\",IF(AI835>80,\"A\",IF(AI835>70,\"B+\",IF(AI835>60,\"B\",IF(AI835>50,\"C+\",IF(AI835>40,\"C\",IF(AI835>=33,\"D\",\"E\"))))))),\"Abs\")","v":"E"},{"$f":"IFERROR(IF(AJ835>90,\"A+\",IF(AJ835>80,\"A\",IF(AJ835>70,\"B+\",IF(AJ835>60,\"B\",IF(AJ835>50,\"C+\",IF(AJ835>40,\"C\",IF(AJ835>=33,\"D\",\"E\"))))))),\"Abs\")","v":"E"},{"$f":"IFERROR(IF(AK835>90,\"A+\",IF(AK835>80,\"A\",IF(AK835>70,\"B+\",IF(AK835>60,\"B\",IF(AK835>50,\"C+\",IF(AK835>40,\"C\",IF(AK835>=33,\"D\",\"E\"))))))),\"Abs\")","v":"E"},{"$f":"IFERROR(IF(AL835>90,\"A+\",IF(AL835>80,\"A\",IF(AL835>70,\"B+\",IF(AL835>60,\"B\",IF(AL835>50,\"C+\",IF(AL835>40,\"C\",IF(AL835>=33,\"D\",\"E\"))))))),\"--\")","v":"--"},null,null,null,null,null,{"$f":"Table_2[[#This Row],[Column51]]&Table_2[[#This Row],[Column52]]&AW837","v":""}]
[null,null,null,null,null,null,null,null,null,null,null,null,null,null,null,{"$f":"Instructions!B870","v":0},null,{"$f":"Instructions!B864","v":0},{"$f":"Instructions!B865","v":0},{"$f":"Instructions!B866","v":0},null,null,"--",0,{"$f":"Table_2[[#This Row],[Column20]]+Table_2[[#This Row],[Column56]]","v":0},"",{"$f":"Table_2[[#This Row],[Column20]]+Table_2[[#This Row],[Column56]]","v":0},"",{"$f":"Table_2[[#This Row],[Column57]]+Table_2[[#This Row],[Column16]]+Table_2[[#This Row],[Column15]]","v":0},"",{"$f":"(K836/Instructions!$C$23)*100","v":0},{"$f":"(L836/Instructions!$C$24)*100","v":0},{"$f":"(Y836/Instructions!$C$25)*100","v":0},{"$f":"(AA836/Instructions!$C$27)*100","v":0},{"$f":"(AC836/Instructions!$C$29)*100","v":0},{"$f":"(V836/Instructions!$C$33)*100","v":0},{"$f":"(U836/Instructions!$C$32)*100","v":0},{"$f":"(W836/Instructions!$C$36)*100","v":{"$error":"#VALUE!"}},"","E","E","E","E","E","E","E","--",null,null,null,null,null,{"$f":"Table_2[[#This Row],[Column51]]&Table_2[[#This Row],[Column52]]&AW838","v":""}]
[null,null,null,null,null,null,null,null,null,null,null,null,null,null,null,{"$f":"Instructions!B871","v":0},null,{"$f":"Instructions!B865","v":0},{"$f":"Instructions!B866","v":0},{"$f":"Instructions!B867","v":0},null,null,"--",0,{"$f":"Table_2[[#This Row],[Column20]]+Table_2[[#This Row],[Column56]]","v":0},"",{"$f":"Table_2[[#This Row],[Column20]]+Table_2[[#This Row],[Column56]]","v":0},"",{"$f":"Table_2[[#This Row],[Column57]]+Table_2[[#This Row],[Column16]]+Table_2[[#This Row],[Column15]]","v":0},"",{"$f":"(K837/Instructions!$C$23)*100","v":0},{"$f":"(L837/Instructions!$C$24)*100","v":0},{"$f":"(Y837/Instructions!$C$25)*100","v":0},{"$f":"(AA837/Instructions!$C$27)*100","v":0},{"$f":"(AC837/Instructions!$C$29)*100","v":0},{"$f":"(V837/Instructions!$C$33)*100","v":0},{"$f":"(U837/Instructions!$C$32)*100","v":0},{"$f":"(W837/Instructions!$C$36)*100","v":{"$error":"#VALUE!"}},"","E","E","E","E","E","E","E","--",null,null,null,null,null,{"$f":"Table_2[[#This Row],[Column51]]&Table_2[[#This Row],[Column52]]&AW839","v":""}]
[null,null,null,null,null,null,null,null,null,null,null,null,null,null,null,{"$f":"Instructions!B872","v":0},null,{"$f":"Instructions!B866","v":0},{"$f":"Instructions!B867","v":0},{"$f":"Instructions!B868","v":0},null,null,"--",0,{"$f":"Table_2[[#This Row],[Column20]]+Table_2[[#This Row],[Column56]]","v":0},"",{"$f":"Table_2[[#This Row],[Column20]]+Table_2[[#This Row],[Column56]]","v":0},"",{"$f":"Table_2[[#This Row],[Column57]]+Table_2[[#This Row],[Column16]]+Table_2[[#This Row],[Column15]]","v":0},"",{"$f":"(K838/Instructions!$C$23)*100","v":0},{"$f":"(L838/Instructions!$C$24)*100","v":0},{"$f":"(Y838/Instructions!$C$25)*100","v":0},{"$f":"(AA838/Instructions!$C$27)*100","v":0},{"$f":"(AC838/Instructions!$C$29)*100","v":0},{"$f":"(V838/Instructions!$C$33)*100","v":0},{"$f":"(U838/Instructions!$C$32)*100","v":0},{"$f":"(W838/Instructions!$C$36)*100","v":{"$error":"#VALUE!"}},"","E","E","E","E","E","E","E","--",null,null,null,null,null,{"$f":"Table_2[[#This Row],[Column51]]&Table_2[[#This Row],[Column52]]&AW840","v":""}]
[null,null,null,null,null,null,null,null,null,null,null,null,null,null,null,{"$f":"Instructions!B873","v":0},null,{"$f":"Instructions!B867","v":0},{"$f":"Instructions!B868","v":0},{"$f":"Instructions!B869","v":0},null,null,"--",0,{"$f":"Table_2[[#This Row],[Column20]]+Table_2[[#This Row],[Column56]]","v":0},"",{"$f":"Table_2[[#This Row],[Column20]]+Table_2[[#This Row],[Column56]]","v":0},"",{"$f":"Table_2[[#This Row],[Column57]]+Table_2[[#This Row],[Column16]]+Table_2[[#This Row],[Column15]]","v":0},"",{"$f":"(K839/Instructions!$C$23)*100","v":0},{"$f":"(L839/Instructions!$C$24)*100","v":0},{"$f":"(Y839/Instructions!$C$25)*100","v":0},{"$f":"(AA839/Instructions!$C$27)*100","v":0},{"$f":"(AC839/Instructions!$C$29)*100","v":0},{"$f":"(V839/Instructions!$C$33)*100","v":0},{"$f":"(U839/Instructions!$C$32)*100","v":0},{"$f":"(W839/Instructions!$C$36)*100","v":{"$error":"#VALUE!"}},"","E","E","E","E","E","E","E","--",null,null,null,null,null,{"$f":"Table_2[[#This Row],[Column51]]&Table_2[[#This Row],[Column52]]&AW841","v":""}]
[null,null,null,null,null,null,null,null,null,null,null,null,null,null,null,{"$f":"Instructions!B874","v":0},null,{"$f":"Instructions!B868","v":0},{"$f":"Instructions!B869","v":0},{"$f":"Instructions!B870","v":0},null,null,"--",0,{"$f":"Table_2[[#This Row],[Column20]]+Table_2[[#This Row],[Column56]]","v":0},"",{"$f":"Table_2[[#This Row],[Column20]]+Table_2[[#This Row],[Column56]]","v":0},"",{"$f":"Table_2[[#This Row],[Column57]]+Table_2[[#This Row],[Column16]]+Table_2[[#This Row],[Column15]]","v":0},"",{"$f":"(K840/Instructions!$C$23)*100","v":0},{"$f":"(L840/Instructions!$C$24)*100","v":0},{"$f":"(Y840/Instructions!$C$25)*100","v":0},{"$f":"(AA840/Instructions!$C$27)*100","v":0},{"$f":"(AC840/Instructions!$C$29)*100","v":0},{"$f":"(V840/Instructions!$C$33)*100","v":0},{"$f":"(U840/Instructions!$C$32)*100","v":0},{"$f":"(W840/Instructions!$C$36)*100","v":{"$error":"#VALUE!"}},"","E","E","E","E","E","E","E","--",null,null,null,null,null,{"$f":"Table_2[[#This Row],[Column51]]&Table_2[[#This Row],[Column52]]&AW842","v":""}]
[null,null,null,null,null,null,null,null,null,null,null,null,null,null,null,{"$f":"Instructions!B875","v":0},null,{"$f":"Instructions!B869","v":0},{"$f":"Instructions!B870","v":0},{"$f":"Instructions!B871","v":0},null,null,"--",0,{"$f":"Table_2[[#This Row],[Column20]]+Table_2[[#This Row],[Column56]]","v":0},"",{"$f":"Table_2[[#This Row],[Column20]]+Table_2[[#This Row],[Column56]]","v":0},"",{"$f":"Table_2[[#This Row],[Column57]]+Table_2[[#This Row],[Column16]]+Table_2[[#This Row],[Column15]]","v":0},"",{"$f":"(K841/Instructions!$C$23)*100","v":0},{"$f":"(L841/Instructions!$C$24)*100","v":0},{"$f":"(Y841/Instructions!$C$25)*100","v":0},{"$f":"(AA841/Instructions!$C$27)*100","v":0},{"$f":"(AC841/Instructions!$C$29)*100","v":0},{"$f":"(V841/Instructions!$C$33)*100","v":0},{"$f":"(U841/Instructions!$C$32)*100","v":0},{"$f":"(W841/Instructions!$C$36)*100","v":{"$error":"#VALUE!"}},"","E","E","E","E","E","E","E","--",null,null,null,null,null,{"$f":"Table_2[[#This Row],[Column51]]&Table_2[[#This Row],[Column52]]&AW843","v":""}]
[null,null,null,null,null,null,null,null,null,null,null,null,null,null,null,{"$f":"Instructions!B876","v":0},null,{"$f":"Instructions!B870","v":0},{"$f":"Instructions!B871","v":0},{"$f":"Instructions!B872","v":0},null,null,"--",0,{"$f":"Table_2[[#This Row],[Column20]]+Table_2[[#This Row],[Column56]]","v":0},"",{"$f":"Table_2[[#This Row],[Column20]]+Table_2[[#This Row],[Column56]]","v":0},"",{"$f":"Table_2[[#This Row],[Column57]]+Table_2[[#This Row],[Column16]]+Table_2[[#This Row],[Column15]]","v":0},"",{"$f":"(K842/Instructions!$C$23)*100","v":0},{"$f":"(L842/Instructions!$C$24)*100","v":0},{"$f":"(Y842/Instructions!$C$25)*100","v":0},{"$f":"(AA842/Instructions!$C$27)*100","v":0},{"$f":"(AC842/Instructions!$C$29)*100","v":0},{"$f":"(V842/Instructions!$C$33)*100","v":0},{"$f":"(U842/Instructions!$C$32)*100","v":0},{"$f":"(W842/Instructions!$C$36)*100","v":{"$error":"#VALUE!"}},"","E","E","E","E","E","E","E","--",null,null,null,null,null,{"$f":"Table_2[[#This Row],[Column51]]&Table_2[[#This Row],[Column52]]&AW844","v":""}]
[null,null,null,null,null,null,null,null,null,null,null,null,null,null,null,{"$f":"Instructions!B877","v":0},null,{"$f":"Instructions!B871","v":0},{"$f":"Instructions!B872","v":0},{"$f":"Instructions!B873","v":0},null,null,"--",0,{"$f":"Table_2[[#This Row],[Column20]]+Table_2[[#This Row],[Column56]]","v":0},"",{"$f":"Table_2[[#This Row],[Column20]]+Table_2[[#This Row],[Column56]]","v":0},"",{"$f":"Table_2[[#This Row],[Column57]]+Table_2[[#This Row],[Column16]]+Table_2[[#This Row],[Column15]]","v":0},"",{"$f":"(K843/Instructions!$C$23)*100","v":0},{"$f":"(L843/Instructions!$C$24)*100","v":0},{"$f":"(Y843/Instructions!$C$25)*100","v":0},{"$f":"(AA843/Instructions!$C$27)*100","v":0},{"$f":"(AC843/Instructions!$C$29)*100","v":0},{"$f":"(V843/Instructions!$C$33)*100","v":0},{"$f":"(U843/Instructions!$C$32)*100","v":0},{"$f":"(W843/Instructions!$C$36)*100","v":{"$error":"#VALUE!"}},"","E","E","E","E","E","E","E","--",null,null,null,null,null,{"$f":"Table_2[[#This Row],[Column51]]&Table_2[[#This Row],[Column52]]&AW845","v":""}]
[null,null,null,null,null,null,null,null,null,null,null,null,null,null,null,{"$f":"Instructions!B878","v":0},null,{"$f":"Instructions!B872","v":0},{"$f":"Instructions!B873","v":0},{"$f":"Instructions!B874","v":0},null,null,"--",0,{"$f":"Table_2[[#This Row],[Column20]]+Table_2[[#This Row],[Column56]]","v":0},"",{"$f":"Table_2[[#This Row],[Column20]]+Table_2[[#This Row],[Column56]]","v":0},"",{"$f":"Table_2[[#This Row],[Column57]]+Table_2[[#This Row],[Column16]]+Table_2[[#This Row],[Column15]]","v":0},"",{"$f":"(K844/Instructions!$C$23)*100","v":0},{"$f":"(L844/Instructions!$C$24)*100","v":0},{"$f":"(Y844/Instructions!$C$25)*100","v":0},{"$f":"(AA844/Instructions!$C$27)*100","v":0},{"$f":"(AC844/Instructions!$C$29)*100","v":0},{"$f":"(V844/Instructions!$C$33)*100","v":0},{"$f":"(U844/Instructions!$C$32)*100","v":0},{"$f":"(W844/Instructions!$C$36)*100","v":{"$error":"#VALUE!"}},"","E","E","E","E","E","E","E","--",null,null,null,null,null,{"$f":"Table_2[[#This Row],[Column51]]&Table_2[[#This Row],[Column52]]&AW846","v":""}]
[null,null,null,null,null,null,null,null,null,null,null,null,null,null,null,{"$f":"Instructions!B879","v":0},null,{"$f":"Instructions!B873","v":0},{"$f":"Instructions!B874","v":0},{"$f":"Instructions!B875","v":0},null,null,"--",0,{"$f":"Table_2[[#This Row],[Column20]]+Table_2[[#This Row],[Column56]]","v":0},"",{"$f":"Table_2[[#This Row],[Column20]]+Table_2[[#This Row],[Column56]]","v":0},"",{"$f":"Table_2[[#This Row],[Column57]]+Table_2[[#This Row],[Column16]]+Table_2[[#This Row],[Column15]]","v":0},"",{"$f":"(K845/Instructions!$C$23)*100","v":0},{"$f":"(L845/Instructions!$C$24)*100","v":0},{"$f":"(Y845/Instructions!$C$25)*100","v":0},{"$f":"(AA845/Instructions!$C$27)*100","v":0},{"$f":"(AC845/Instructions!$C$29)*100","v":0},{"$f":"(V845/Instructions!$C$33)*100","v":0},{"$f":"(U845/Instructions!$C$32)*100","v":0},{"$f":"(W845/Instructions!$C$36)*100","v":{"$error":"#VALUE!"}},"","E","E","E","E","E","E","E","--",null,null,null,null,null,{"$f":"Table_2[[#This Row],[Column51]]&Table_2[[#This Row],[Column52]]&AW847","v":""}]
[null,null,null,null,null,null,null,null,null,null,null,null,null,null,null,{"$f":"Instructions!B880","v":0},null,{"$f":"Instructions!B874","v":0},{"$f":"Instructions!B875","v":0},{"$f":"Instructions!B876","v":0},null,null,"--",0,{"$f":"Table_2[[#This Row],[Column20]]+Table_2[[#This Row],[Column56]]","v":0},"",{"$f":"Table_2[[#This Row],[Column20]]+Table_2[[#This Row],[Column56]]","v":0},"",{"$f":"Table_2[[#This Row],[Column57]]+Table_2[[#This Row],[Column16]]+Table_2[[#This Row],[Column15]]","v":0},"",{"$f":"(K846/Instructions!$C$23)*100","v":0},{"$f":"(L846/Instructions!$C$24)*100","v":0},{"$f":"(Y846/Instructions!$C$25)*100","v":0},{"$f":"(AA846/Instructions!$C$27)*100","v":0},{"$f":"(AC846/Instructions!$C$29)*100","v":0},{"$f":"(V846/Instructions!$C$33)*100","v":0},{"$f":"(U846/Instructions!$C$32)*100","v":0},{"$f":"(W846/Instructions!$C$36)*100","v":{"$error":"#VALUE!"}},"","E","E","E","E","E","E","E","--",null,null,null,null,null,{"$f":"Table_2[[#This Row],[Column51]]&Table_2[[#This Row],[Column52]]&AW848","v":""}]
[null,null,null,null,null,null,null,null,null,null,null,null,null,null,null,{"$f":"Instructions!B881","v":0},null,{"$f":"Instructions!B875","v":0},{"$f":"Instructions!B876","v":0},{"$f":"Instructions!B877","v":0},null,null,"--",0,{"$f":"Table_2[[#This Row],[Column20]]+Table_2[[#This Row],[Column56]]","v":0},"",{"$f":"Table_2[[#This Row],[Column20]]+Table_2[[#This Row],[Column56]]","v":0},"",{"$f":"Table_2[[#This Row],[Column57]]+Table_2[[#This Row],[Column16]]+Table_2[[#This Row],[Column15]]","v":0},"",{"$f":"(K847/Instructions!$C$23)*100","v":0},{"$f":"(L847/Instructions!$C$24)*100","v":0},{"$f":"(Y847/Instructions!$C$25)*100","v":0},{"$f":"(AA847/Instructions!$C$27)*100","v":0},{"$f":"(AC847/Instructions!$C$29)*100","v":0},{"$f":"(V847/Instructions!$C$33)*100","v":0},{"$f":"(U847/Instructions!$C$32)*100","v":0},{"$f":"(W847/Instructions!$C$36)*100","v":{"$error":"#VALUE!"}},"","E","E","E","E","E","E","E","--",null,null,null,null,null,{"$f":"Table_2[[#This Row],[Column51]]&Table_2[[#This Row],[Column52]]&AW849","v":""}]
[null,null,null,null,null,null,null,null,null,null,null,null,null,null,null,{"$f":"Instructions!B882","v":0},null,{"$f":"Instructions!B876","v":0},{"$f":"Instructions!B877","v":0},{"$f":"Instructions!B878","v":0},null,null,"--",0,{"$f":"Table_2[[#This Row],[Column20]]+Table_2[[#This Row],[Column56]]","v":0},"",{"$f":"Table_2[[#This Row],[Column20]]+Table_2[[#This Row],[Column56]]","v":0},"",{"$f":"Table_2[[#This Row],[Column57]]+Table_2[[#This Row],[Column16]]+Table_2[[#This Row],[Column15]]","v":0},"",{"$f":"(K848/Instructions!$C$23)*100","v":0},{"$f":"(L848/Instructions!$C$24)*100","v":0},{"$f":"(Y848/Instructions!$C$25)*100","v":0},{"$f":"(AA848/Instructions!$C$27)*100","v":0},{"$f":"(AC848/Instructions!$C$29)*100","v":0},{"$f":"(V848/Instructions!$C$33)*100","v":0},{"$f":"(U848/Instructions!$C$32)*100","v":0},{"$f":"(W848/Instructions!$C$36)*100","v":{"$error":"#VALUE!"}},"","E","E","E","E","E","E","E","--",null,null,null,null,null,{"$f":"Table_2[[#This Row],[Column51]]&Table_2[[#This Row],[Column52]]&AW850","v":""}]
[null,null,null,null,null,null,null,null,null,null,null,null,null,null,null,{"$f":"Instructions!B883","v":0},null,{"$f":"Instructions!B877","v":0},{"$f":"Instructions!B878","v":0},{"$f":"Instructions!B879","v":0},null,null,"--",0,{"$f":"Table_2[[#This Row],[Column20]]+Table_2[[#This Row],[Column56]]","v":0},"",{"$f":"Table_2[[#This Row],[Column20]]+Table_2[[#This Row],[Column56]]","v":0},"",{"$f":"Table_2[[#This Row],[Column57]]+Table_2[[#This Row],[Column16]]+Table_2[[#This Row],[Column15]]","v":0},"",{"$f":"(K849/Instructions!$C$23)*100","v":0},{"$f":"(L849/Instructions!$C$24)*100","v":0},{"$f":"(Y849/Instructions!$C$25)*100","v":0},{"$f":"(AA849/Instructions!$C$27)*100","v":0},{"$f":"(AC849/Instructions!$C$29)*100","v":0},{"$f":"(V849/Instructions!$C$33)*100","v":0},{"$f":"(U849/Instructions!$C$32)*100","v":0},{"$f":"(W849/Instructions!$C$36)*100","v":{"$error":"#VALUE!"}},"","E","E","E","E","E","E","E","--",null,null,null,null,null,{"$f":"Table_2[[#This Row],[Column51]]&Table_2[[#This Row],[Column52]]&AW851","v":""}]
[null,null,null,null,null,null,null,null,null,null,null,null,null,null,null,{"$f":"Instructions!B884","v":0},null,{"$f":"Instructions!B878","v":0},{"$f":"Instructions!B879","v":0},{"$f":"Instructions!B880","v":0},null,null,"--",0,{"$f":"Table_2[[#This Row],[Column20]]+Table_2[[#This Row],[Column56]]","v":0},"",{"$f":"Table_2[[#This Row],[Column20]]+Table_2[[#This Row],[Column56]]","v":0},"",{"$f":"Table_2[[#This Row],[Column57]]+Table_2[[#This Row],[Column16]]+Table_2[[#This Row],[Column15]]","v":0},"",{"$f":"(K850/Instructions!$C$23)*100","v":0},{"$f":"(L850/Instructions!$C$24)*100","v":0},{"$f":"(Y850/Instructions!$C$25)*100","v":0},{"$f":"(AA850/Instructions!$C$27)*100","v":0},{"$f":"(AC850/Instructions!$C$29)*100","v":0},{"$f":"(V850/Instructions!$C$33)*100","v":0},{"$f":"(U850/Instructions!$C$32)*100","v":0},{"$f":"(W850/Instructions!$C$36)*100","v":{"$error":"#VALUE!"}},"","E","E","E","E","E","E","E","--",null,null,null,null,null,{"$f":"Table_2[[#This Row],[Column51]]&Table_2[[#This Row],[Column52]]&AW852","v":""}]
[null,null,null,null,null,null,null,null,null,null,null,null,null,null,null,{"$f":"Instructions!B885","v":0},null,{"$f":"Instructions!B879","v":0},{"$f":"Instructions!B880","v":0},{"$f":"Instructions!B881","v":0},null,null,"--",0,{"$f":"Table_2[[#This Row],[Column20]]+Table_2[[#This Row],[Column56]]","v":0},"",{"$f":"Table_2[[#This Row],[Column20]]+Table_2[[#This Row],[Column56]]","v":0},"",{"$f":"Table_2[[#This Row],[Column57]]+Table_2[[#This Row],[Column16]]+Table_2[[#This Row],[Column15]]","v":0},"",{"$f":"(K851/Instructions!$C$23)*100","v":0},{"$f":"(L851/Instructions!$C$24)*100","v":0},{"$f":"(Y851/Instructions!$C$25)*100","v":0},{"$f":"(AA851/Instructions!$C$27)*100","v":0},{"$f":"(AC851/Instructions!$C$29)*100","v":0},{"$f":"(V851/Instructions!$C$33)*100","v":0},{"$f":"(U851/Instructions!$C$32)*100","v":0},{"$f":"(W851/Instructions!$C$36)*100","v":{"$error":"#VALUE!"}},"","E","E","E","E","E","E","E","--",null,null,null,null,null,{"$f":"Table_2[[#This Row],[Column51]]&Table_2[[#This Row],[Column52]]&AW853","v":""}]
[null,null,null,null,null,null,null,null,null,null,null,null,null,null,null,{"$f":"Instructions!B886","v":0},null,{"$f":"Instructions!B880","v":0},{"$f":"Instructions!B881","v":0},{"$f":"Instructions!B882","v":0},null,null,"--",0,{"$f":"Table_2[[#This Row],[Column20]]+Table_2[[#This Row],[Column56]]","v":0},"",{"$f":"Table_2[[#This Row],[Column20]]+Table_2[[#This Row],[Column56]]","v":0},"",{"$f":"Table_2[[#This Row],[Column57]]+Table_2[[#This Row],[Column16]]+Table_2[[#This Row],[Column15]]","v":0},"",{"$f":"(K852/Instructions!$C$23)*100","v":0},{"$f":"(L852/Instructions!$C$24)*100","v":0},{"$f":"(Y852/Instructions!$C$25)*100","v":0},{"$f":"(AA852/Instructions!$C$27)*100","v":0},{"$f":"(AC852/Instructions!$C$29)*100","v":0},{"$f":"(V852/Instructions!$C$33)*100","v":0},{"$f":"(U852/Instructions!$C$32)*100","v":0},{"$f":"(W852/Instructions!$C$36)*100","v":{"$error":"#VALUE!"}},"","E","E","E","E","E","E","E","--",null,null,null,null,null,{"$f":"Table_2[[#This Row],[Column51]]&Table_2[[#This Row],[Column52]]&AW854","v":""}]
[null,null,null,null,null,null,null,null,null,null,null,null,null,null,null,{"$f":"Instructions!B887","v":0},null,{"$f":"Instructions!B881","v":0},{"$f":"Instructions!B882","v":0},{"$f":"Instructions!B883","v":0},null,null,"--",0,{"$f":"Table_2[[#This Row],[Column20]]+Table_2[[#This Row],[Column56]]","v":0},"",{"$f":"Table_2[[#This Row],[Column20]]+Table_2[[#This Row],[Column56]]","v":0},"",{"$f":"Table_2[[#This Row],[Column57]]+Table_2[[#This Row],[Column16]]+Table_2[[#This Row],[Column15]]","v":0},"",{"$f":"(K853/Instructions!$C$23)*100","v":0},{"$f":"(L853/Instructions!$C$24)*100","v":0},{"$f":"(Y853/Instructions!$C$25)*100","v":0},{"$f":"(AA853/Instructions!$C$27)*100","v":0},{"$f":"(AC853/Instructions!$C$29)*100","v":0},{"$f":"(V853/Instructions!$C$33)*100","v":0},{"$f":"(U853/Instructions!$C$32)*100","v":0},{"$f":"(W853/Instructions!$C$36)*100","v":{"$error":"#VALUE!"}},"","E","E","E","E","E","E","E","--",null,null,null,null,null,{"$f":"Table_2[[#This Row],[Column51]]&Table_2[[#This Row],[Column52]]&AW855","v":""}]
[null,null,null,null,null,null,null,null,null,null,null,null,null,null,null,{"$f":"Instructions!B888","v":0},null,{"$f":"Instructions!B882","v":0},{"$f":"Instructions!B883","v":0},{"$f":"Instructions!B884","v":0},null,null,"--",0,{"$f":"Table_2[[#This Row],[Column20]]+Table_2[[#This Row],[Column56]]","v":0},"",{"$f":"Table_2[[#This Row],[Column20]]+Table_2[[#This Row],[Column56]]","v":0},"",{"$f":"Table_2[[#This Row],[Column57]]+Table_2[[#This Row],[Column16]]+Table_2[[#This Row],[Column15]]","v":0},"",{"$f":"(K854/Instructions!$C$23)*100","v":0},{"$f":"(L854/Instructions!$C$24)*100","v":0},{"$f":"(Y854/Instructions!$C$25)*100","v":0},{"$f":"(AA854/Instructions!$C$27)*100","v":0},{"$f":"(AC854/Instructions!$C$29)*100","v":0},{"$f":"(V854/Instructions!$C$33)*100","v":0},{"$f":"(U854/Instructions!$C$32)*100","v":0},{"$f":"(W854/Instructions!$C$36)*100","v":{"$error":"#VALUE!"}},"","E","E","E","E","E","E","E","--",null,null,null,null,null,{"$f":"Table_2[[#This Row],[Column51]]&Table_2[[#This Row],[Column52]]&AW856","v":""}]
[null,null,null,null,null,null,null,null,null,null,null,null,null,null,null,{"$f":"Instructions!B889","v":0},null,{"$f":"Instructions!B883","v":0},{"$f":"Instructions!B884","v":0},{"$f":"Instructions!B885","v":0},null,null,"--",0,{"$f":"Table_2[[#This Row],[Column20]]+Table_2[[#This Row],[Column56]]","v":0},"",{"$f":"Table_2[[#This Row],[Column20]]+Table_2[[#This Row],[Column56]]","v":0},"",{"$f":"Table_2[[#This Row],[Column57]]+Table_2[[#This Row],[Column16]]+Table_2[[#This Row],[Column15]]","v":0},"",{"$f":"(K855/Instructions!$C$23)*100","v":0},{"$f":"(L855/Instructions!$C$24)*100","v":0},{"$f":"(Y855/Instructions!$C$25)*100","v":0},{"$f":"(AA855/Instructions!$C$27)*100","v":0},{"$f":"(AC855/Instructions!$C$29)*100","v":0},{"$f":"(V855/Instructions!$C$33)*100","v":0},{"$f":"(U855/Instructions!$C$32)*100","v":0},{"$f":"(W855/Instructions!$C$36)*100","v":{"$error":"#VALUE!"}},"","E","E","E","E","E","E","E","--",null,null,null,null,null,{"$f":"Table_2[[#This Row],[Column51]]&Table_2[[#This Row],[Column52]]&AW857","v":""}]
[null,null,null,null,null,null,null,null,null,null,null,null,null,null,null,{"$f":"Instructions!B890","v":0},null,{"$f":"Instructions!B884","v":0},{"$f":"Instructions!B885","v":0},{"$f":"Instructions!B886","v":0},null,null,"--",0,{"$f":"Table_2[[#This Row],[Column20]]+Table_2[[#This Row],[Column56]]","v":0},"",{"$f":"Table_2[[#This Row],[Column20]]+Table_2[[#This Row],[Column56]]","v":0},"",{"$f":"Table_2[[#This Row],[Column57]]+Table_2[[#This Row],[Column16]]+Table_2[[#This Row],[Column15]]","v":0},"",{"$f":"(K856/Instructions!$C$23)*100","v":0},{"$f":"(L856/Instructions!$C$24)*100","v":0},{"$f":"(Y856/Instructions!$C$25)*100","v":0},{"$f":"(AA856/Instructions!$C$27)*100","v":0},{"$f":"(AC856/Instructions!$C$29)*100","v":0},{"$f":"(V856/Instructions!$C$33)*100","v":0},{"$f":"(U856/Instructions!$C$32)*100","v":0},{"$f":"(W856/Instructions!$C$36)*100","v":{"$error":"#VALUE!"}},"","E","E","E","E","E","E","E","--",null,null,null,null,null,{"$f":"Table_2[[#This Row],[Column51]]&Table_2[[#This Row],[Column52]]&AW858","v":""}]
[null,null,null,null,null,null,null,null,null,null,null,null,null,null,null,{"$f":"Instructions!B891","v":0},null,{"$f":"Instructions!B885","v":0},{"$f":"Instructions!B886","v":0},{"$f":"Instructions!B887","v":0},null,null,"--",0,{"$f":"Table_2[[#This Row],[Column20]]+Table_2[[#This Row],[Column56]]","v":0},"",{"$f":"Table_2[[#This Row],[Column20]]+Table_2[[#This Row],[Column56]]","v":0},"",{"$f":"Table_2[[#This Row],[Column57]]+Table_2[[#This Row],[Column16]]+Table_2[[#This Row],[Column15]]","v":0},"",{"$f":"(K857/Instructions!$C$23)*100","v":0},{"$f":"(L857/Instructions!$C$24)*100","v":0},{"$f":"(Y857/Instructions!$C$25)*100","v":0},{"$f":"(AA857/Instructions!$C$27)*100","v":0},{"$f":"(AC857/Instructions!$C$29)*100","v":0},{"$f":"(V857/Instructions!$C$33)*100","v":0},{"$f":"(U857/Instructions!$C$32)*100","v":0},{"$f":"(W857/Instructions!$C$36)*100","v":{"$error":"#VALUE!"}},"","E","E","E","E","E","E","E","--",null,null,null,null,null,{"$f":"Table_2[[#This Row],[Column51]]&Table_2[[#This Row],[Column52]]&AW859","v":""}]
[null,null,null,null,null,null,null,null,null,null,null,null,null,null,null,{"$f":"Instructions!B892","v":0},null,{"$f":"Instructions!B886","v":0},{"$f":"Instructions!B887","v":0},{"$f":"Instructions!B888","v":0},null,null,"--",0,{"$f":"Table_2[[#This Row],[Column20]]+Table_2[[#This Row],[Column56]]","v":0},"",{"$f":"Table_2[[#This Row],[Column20]]+Table_2[[#This Row],[Column56]]","v":0},"",{"$f":"Table_2[[#This Row],[Column57]]+Table_2[[#This Row],[Column16]]+Table_2[[#This Row],[Column15]]","v":0},"",{"$f":"(K858/Instructions!$C$23)*100","v":0},{"$f":"(L858/Instructions!$C$24)*100","v":0},{"$f":"(Y858/Instructions!$C$25)*100","v":0},{"$f":"(AA858/Instructions!$C$27)*100","v":0},{"$f":"(AC858/Instructions!$C$29)*100","v":0},{"$f":"(V858/Instructions!$C$33)*100","v":0},{"$f":"(U858/Instructions!$C$32)*100","v":0},{"$f":"(W858/Instructions!$C$36)*100","v":{"$error":"#VALUE!"}},"","E","E","E","E","E","E","E","--",null,null,null,null,null,{"$f":"Table_2[[#This Row],[Column51]]&Table_2[[#This Row],[Column52]]&AW860","v":""}]
[null,null,null,null,null,null,null,null,null,null,null,null,null,null,null,{"$f":"Instructions!B893","v":0},null,{"$f":"Instructions!B887","v":0},{"$f":"Instructions!B888","v":0},{"$f":"Instructions!B889","v":0},null,null,"--",0,{"$f":"Table_2[[#This Row],[Column20]]+Table_2[[#This Row],[Column56]]","v":0},"",{"$f":"Table_2[[#This Row],[Column20]]+Table_2[[#This Row],[Column56]]","v":0},"",{"$f":"Table_2[[#This Row],[Column57]]+Table_2[[#This Row],[Column16]]+Table_2[[#This Row],[Column15]]","v":0},"",{"$f":"(K859/Instructions!$C$23)*100","v":0},{"$f":"(L859/Instructions!$C$24)*100","v":0},{"$f":"(Y859/Instructions!$C$25)*100","v":0},{"$f":"(AA859/Instructions!$C$27)*100","v":0},{"$f":"(AC859/Instructions!$C$29)*100","v":0},{"$f":"(V859/Instructions!$C$33)*100","v":0},{"$f":"(U859/Instructions!$C$32)*100","v":0},{"$f":"(W859/Instructions!$C$36)*100","v":{"$error":"#VALUE!"}},"","E","E","E","E","E","E","E","--",null,null,null,null,null,{"$f":"Table_2[[#This Row],[Column51]]&Table_2[[#This Row],[Column52]]&AW861","v":""}]
[null,null,null,null,null,null,null,null,null,null,null,null,null,null,null,{"$f":"Instructions!B894","v":0},null,{"$f":"Instructions!B888","v":0},{"$f":"Instructions!B889","v":0},{"$f":"Instructions!B890","v":0},null,null,"--",0,{"$f":"Table_2[[#This Row],[Column20]]+Table_2[[#This Row],[Column56]]","v":0},"",{"$f":"Table_2[[#This Row],[Column20]]+Table_2[[#This Row],[Column56]]","v":0},"",{"$f":"Table_2[[#This Row],[Column57]]+Table_2[[#This Row],[Column16]]+Table_2[[#This Row],[Column15]]","v":0},"",{"$f":"(K860/Instructions!$C$23)*100","v":0},{"$f":"(L860/Instructions!$C$24)*100","v":0},{"$f":"(Y860/Instructions!$C$25)*100","v":0},{"$f":"(AA860/Instructions!$C$27)*100","v":0},{"$f":"(AC860/Instructions!$C$29)*100","v":0},{"$f":"(V860/Instructions!$C$33)*100","v":0},{"$f":"(U860/Instructions!$C$32)*100","v":0},{"$f":"(W860/Instructions!$C$36)*100","v":{"$error":"#VALUE!"}},"","E","E","E","E","E","E","E","--",null,null,null,null,null,{"$f":"Table_2[[#This Row],[Column51]]&Table_2[[#This Row],[Column52]]&AW862","v":""}]
[null,null,null,null,null,null,null,null,null,null,null,null,null,null,null,{"$f":"Instructions!B895","v":0},null,{"$f":"Instructions!B889","v":0},{"$f":"Instructions!B890","v":0},{"$f":"Instructions!B891","v":0},null,null,"--",0,{"$f":"Table_2[[#This Row],[Column20]]+Table_2[[#This Row],[Column56]]","v":0},"",{"$f":"Table_2[[#This Row],[Column20]]+Table_2[[#This Row],[Column56]]","v":0},"",{"$f":"Table_2[[#This Row],[Column57]]+Table_2[[#This Row],[Column16]]+Table_2[[#This Row],[Column15]]","v":0},"",{"$f":"(K861/Instructions!$C$23)*100","v":0},{"$f":"(L861/Instructions!$C$24)*100","v":0},{"$f":"(Y861/Instructions!$C$25)*100","v":0},{"$f":"(AA861/Instructions!$C$27)*100","v":0},{"$f":"(AC861/Instructions!$C$29)*100","v":0},{"$f":"(V861/Instructions!$C$33)*100","v":0},{"$f":"(U861/Instructions!$C$32)*100","v":0},{"$f":"(W861/Instructions!$C$36)*100","v":{"$error":"#VALUE!"}},"","E","E","E","E","E","E","E","--",null,null,null,null,null,{"$f":"Table_2[[#This Row],[Column51]]&Table_2[[#This Row],[Column52]]&AW863","v":""}]
[null,null,null,null,null,null,null,null,null,null,null,null,null,null,null,{"$f":"Instructions!B896","v":0},null,{"$f":"Instructions!B890","v":0},{"$f":"Instructions!B891","v":0},{"$f":"Instructions!B892","v":0},null,null,"--",0,{"$f":"Table_2[[#This Row],[Column20]]+Table_2[[#This Row],[Column56]]","v":0},"",{"$f":"Table_2[[#This Row],[Column20]]+Table_2[[#This Row],[Column56]]","v":0},"",{"$f":"Table_2[[#This Row],[Column57]]+Table_2[[#This Row],[Column16]]+Table_2[[#This Row],[Column15]]","v":0},"",{"$f":"(K862/Instructions!$C$23)*100","v":0},{"$f":"(L862/Instructions!$C$24)*100","v":0},{"$f":"(Y862/Instructions!$C$25)*100","v":0},{"$f":"(AA862/Instructions!$C$27)*100","v":0},{"$f":"(AC862/Instructions!$C$29)*100","v":0},{"$f":"(V862/Instructions!$C$33)*100","v":0},{"$f":"(U862/Instructions!$C$32)*100","v":0},{"$f":"(W862/Instructions!$C$36)*100","v":{"$error":"#VALUE!"}},"","E","E","E","E","E","E","E","--",null,null,null,null,null,{"$f":"Table_2[[#This Row],[Column51]]&Table_2[[#This Row],[Column52]]&AW864","v":""}]
[null,null,null,null,null,null,null,null,null,null,null,null,null,null,null,{"$f":"Instructions!B897","v":0},null,{"$f":"Instructions!B891","v":0},{"$f":"Instructions!B892","v":0},{"$f":"Instructions!B893","v":0},null,null,"--",0,{"$f":"Table_2[[#This Row],[Column20]]+Table_2[[#This Row],[Column56]]","v":0},"",{"$f":"Table_2[[#This Row],[Column20]]+Table_2[[#This Row],[Column56]]","v":0},"",{"$f":"Table_2[[#This Row],[Column57]]+Table_2[[#This Row],[Column16]]+Table_2[[#This Row],[Column15]]","v":0},"",{"$f":"(K863/Instructions!$C$23)*100","v":0},{"$f":"(L863/Instructions!$C$24)*100","v":0},{"$f":"(Y863/Instructions!$C$25)*100","v":0},{"$f":"(AA863/Instructions!$C$27)*100","v":0},{"$f":"(AC863/Instructions!$C$29)*100","v":0},{"$f":"(V863/Instructions!$C$33)*100","v":0},{"$f":"(U863/Instructions!$C$32)*100","v":0},{"$f":"(W863/Instructions!$C$36)*100","v":{"$error":"#VALUE!"}},"","E","E","E","E","E","E","E","--",null,null,null,null,null,{"$f":"Table_2[[#This Row],[Column51]]&Table_2[[#This Row],[Column52]]&AW865","v":""}]
[null,null,null,null,null,null,null,null,null,null,null,null,null,null,null,{"$f":"Instructions!B898","v":0},null,{"$f":"Instructions!B892","v":0},{"$f":"Instructions!B893","v":0},{"$f":"Instructions!B894","v":0},null,null,"--",0,{"$f":"Table_2[[#This Row],[Column20]]+Table_2[[#This Row],[Column56]]","v":0},"",{"$f":"Table_2[[#This Row],[Column20]]+Table_2[[#This Row],[Column56]]","v":0},"",{"$f":"Table_2[[#This Row],[Column57]]+Table_2[[#This Row],[Column16]]+Table_2[[#This Row],[Column15]]","v":0},"",{"$f":"(K864/Instructions!$C$23)*100","v":0},{"$f":"(L864/Instructions!$C$24)*100","v":0},{"$f":"(Y864/Instructions!$C$25)*100","v":0},{"$f":"(AA864/Instructions!$C$27)*100","v":0},{"$f":"(AC864/Instructions!$C$29)*100","v":0},{"$f":"(V864/Instructions!$C$33)*100","v":0},{"$f":"(U864/Instructions!$C$32)*100","v":0},{"$f":"(W864/Instructions!$C$36)*100","v":{"$error":"#VALUE!"}},"","E","E","E","E","E","E","E","--",null,null,null,null,null,{"$f":"Table_2[[#This Row],[Column51]]&Table_2[[#This Row],[Column52]]&AW866","v":""}]
[null,null,null,null,null,null,null,null,null,null,null,null,null,null,null,{"$f":"Instructions!B899","v":0},null,{"$f":"Instructions!B893","v":0},{"$f":"Instructions!B894","v":0},{"$f":"Instructions!B895","v":0},null,null,"--",0,{"$f":"Table_2[[#This Row],[Column20]]+Table_2[[#This Row],[Column56]]","v":0},"",{"$f":"Table_2[[#This Row],[Column20]]+Table_2[[#This Row],[Column56]]","v":0},"",{"$f":"Table_2[[#This Row],[Column57]]+Table_2[[#This Row],[Column16]]+Table_2[[#This Row],[Column15]]","v":0},"",{"$f":"(K865/Instructions!$C$23)*100","v":0},{"$f":"(L865/Instructions!$C$24)*100","v":0},{"$f":"(Y865/Instructions!$C$25)*100","v":0},{"$f":"(AA865/Instructions!$C$27)*100","v":0},{"$f":"(AC865/Instructions!$C$29)*100","v":0},{"$f":"(V865/Instructions!$C$33)*100","v":0},{"$f":"(U865/Instructions!$C$32)*100","v":0},{"$f":"(W865/Instructions!$C$36)*100","v":{"$error":"#VALUE!"}},"","E","E","E","E","E","E","E","--",null,null,null,null,null,{"$f":"Table_2[[#This Row],[Column51]]&Table_2[[#This Row],[Column52]]&AW867","v":""}]
[null,null,null,null,null,null,null,null,null,null,null,null,null,null,null,{"$f":"Instructions!B900","v":0},null,{"$f":"Instructions!B894","v":0},{"$f":"Instructions!B895","v":0},{"$f":"Instructions!B896","v":0},null,null,"--",0,{"$f":"Table_2[[#This Row],[Column20]]+Table_2[[#This Row],[Column56]]","v":0},"",{"$f":"Table_2[[#This Row],[Column20]]+Table_2[[#This Row],[Column56]]","v":0},"",{"$f":"Table_2[[#This Row],[Column57]]+Table_2[[#This Row],[Column16]]+Table_2[[#This Row],[Column15]]","v":0},"",{"$f":"(K866/Instructions!$C$23)*100","v":0},{"$f":"(L866/Instructions!$C$24)*100","v":0},{"$f":"(Y866/Instructions!$C$25)*100","v":0},{"$f":"(AA866/Instructions!$C$27)*100","v":0},{"$f":"(AC866/Instructions!$C$29)*100","v":0},{"$f":"(V866/Instructions!$C$33)*100","v":0},{"$f":"(U866/Instructions!$C$32)*100","v":0},{"$f":"(W866/Instructions!$C$36)*100","v":{"$error":"#VALUE!"}},"","E","E","E","E","E","E","E","--",null,null,null,null,null,{"$f":"Table_2[[#This Row],[Column51]]&Table_2[[#This Row],[Column52]]&AW868","v":""}]
[null,null,null,null,null,null,null,null,null,null,null,null,null,null,null,{"$f":"Instructions!B901","v":0},null,{"$f":"Instructions!B895","v":0},{"$f":"Instructions!B896","v":0},{"$f":"Instructions!B897","v":0},null,null,"--",0,{"$f":"Table_2[[#This Row],[Column20]]+Table_2[[#This Row],[Column56]]","v":0},"",{"$f":"Table_2[[#This Row],[Column20]]+Table_2[[#This Row],[Column56]]","v":0},"",{"$f":"Table_2[[#This Row],[Column57]]+Table_2[[#This Row],[Column16]]+Table_2[[#This Row],[Column15]]","v":0},"",{"$f":"(K867/Instructions!$C$23)*100","v":0},{"$f":"(L867/Instructions!$C$24)*100","v":0},{"$f":"(Y867/Instructions!$C$25)*100","v":0},{"$f":"(AA867/Instructions!$C$27)*100","v":0},{"$f":"(AC867/Instructions!$C$29)*100","v":0},{"$f":"(V867/Instructions!$C$33)*100","v":0},{"$f":"(U867/Instructions!$C$32)*100","v":0},{"$f":"(W867/Instructions!$C$36)*100","v":{"$error":"#VALUE!"}},"","E","E","E","E","E","E","E","--",null,null,null,null,null,{"$f":"Table_2[[#This Row],[Column51]]&Table_2[[#This Row],[Column52]]&AW869","v":""}]
[null,null,null,null,null,null,null,null,null,null,null,null,null,null,null,{"$f":"Instructions!B902","v":0},null,{"$f":"Instructions!B896","v":0},{"$f":"Instructions!B897","v":0},{"$f":"Instructions!B898","v":0},null,null,"--",0,{"$f":"Table_2[[#This Row],[Column20]]+Table_2[[#This Row],[Column56]]","v":0},"",{"$f":"Table_2[[#This Row],[Column20]]+Table_2[[#This Row],[Column56]]","v":0},"",{"$f":"Table_2[[#This Row],[Column57]]+Table_2[[#This Row],[Column16]]+Table_2[[#This Row],[Column15]]","v":0},"",{"$f":"(K868/Instructions!$C$23)*100","v":0},{"$f":"(L868/Instructions!$C$24)*100","v":0},{"$f":"(Y868/Instructions!$C$25)*100","v":0},{"$f":"(AA868/Instructions!$C$27)*100","v":0},{"$f":"(AC868/Instructions!$C$29)*100","v":0},{"$f":"(V868/Instructions!$C$33)*100","v":0},{"$f":"(U868/Instructions!$C$32)*100","v":0},{"$f":"(W868/Instructions!$C$36)*100","v":{"$error":"#VALUE!"}},"","E","E","E","E","E","E","E","--",null,null,null,null,null,{"$f":"Table_2[[#This Row],[Column51]]&Table_2[[#This Row],[Column52]]&AW870","v":""}]
[null,null,null,null,null,null,null,null,null,null,null,null,null,null,null,{"$f":"Instructions!B903","v":0},null,{"$f":"Instructions!B897","v":0},{"$f":"Instructions!B898","v":0},{"$f":"Instructions!B899","v":0},null,null,"--",0,{"$f":"Table_2[[#This Row],[Column20]]+Table_2[[#This Row],[Column56]]","v":0},"",{"$f":"Table_2[[#This Row],[Column20]]+Table_2[[#This Row],[Column56]]","v":0},"",{"$f":"Table_2[[#This Row],[Column57]]+Table_2[[#This Row],[Column16]]+Table_2[[#This Row],[Column15]]","v":0},"",{"$f":"(K869/Instructions!$C$23)*100","v":0},{"$f":"(L869/Instructions!$C$24)*100","v":0},{"$f":"(Y869/Instructions!$C$25)*100","v":0},{"$f":"(AA869/Instructions!$C$27)*100","v":0},{"$f":"(AC869/Instructions!$C$29)*100","v":0},{"$f":"(V869/Instructions!$C$33)*100","v":0},{"$f":"(U869/Instructions!$C$32)*100","v":0},{"$f":"(W869/Instructions!$C$36)*100","v":{"$error":"#VALUE!"}},"","E","E","E","E","E","E","E","--",null,null,null,null,null,{"$f":"Table_2[[#This Row],[Column51]]&Table_2[[#This Row],[Column52]]&AW871","v":""}]
[null,null,null,null,null,null,null,null,null,null,null,null,null,null,null,{"$f":"Instructions!B904","v":0},null,{"$f":"Instructions!B898","v":0},{"$f":"Instructions!B899","v":0},{"$f":"Instructions!B900","v":0},null,null,"--",0,{"$f":"Table_2[[#This Row],[Column20]]+Table_2[[#This Row],[Column56]]","v":0},"",{"$f":"Table_2[[#This Row],[Column20]]+Table_2[[#This Row],[Column56]]","v":0},"",{"$f":"Table_2[[#This Row],[Column57]]+Table_2[[#This Row],[Column16]]+Table_2[[#This Row],[Column15]]","v":0},"",{"$f":"(K870/Instructions!$C$23)*100","v":0},{"$f":"(L870/Instructions!$C$24)*100","v":0},{"$f":"(Y870/Instructions!$C$25)*100","v":0},{"$f":"(AA870/Instructions!$C$27)*100","v":0},{"$f":"(AC870/Instructions!$C$29)*100","v":0},{"$f":"(V870/Instructions!$C$33)*100","v":0},{"$f":"(U870/Instructions!$C$32)*100","v":0},{"$f":"(W870/Instructions!$C$36)*100","v":{"$error":"#VALUE!"}},"","E","E","E","E","E","E","E","--",null,null,null,null,null,{"$f":"Table_2[[#This Row],[Column51]]&Table_2[[#This Row],[Column52]]&AW872","v":""}]
[null,null,null,null,null,null,null,null,null,null,null,null,null,null,null,{"$f":"Instructions!B905","v":0},null,{"$f":"Instructions!B899","v":0},{"$f":"Instructions!B900","v":0},{"$f":"Instructions!B901","v":0},null,null,"--",0,{"$f":"Table_2[[#This Row],[Column20]]+Table_2[[#This Row],[Column56]]","v":0},"",{"$f":"Table_2[[#This Row],[Column20]]+Table_2[[#This Row],[Column56]]","v":0},"",{"$f":"Table_2[[#This Row],[Column57]]+Table_2[[#This Row],[Column16]]+Table_2[[#This Row],[Column15]]","v":0},"",{"$f":"(K871/Instructions!$C$23)*100","v":0},{"$f":"(L871/Instructions!$C$24)*100","v":0},{"$f":"(Y871/Instructions!$C$25)*100","v":0},{"$f":"(AA871/Instructions!$C$27)*100","v":0},{"$f":"(AC871/Instructions!$C$29)*100","v":0},{"$f":"(V871/Instructions!$C$33)*100","v":0},{"$f":"(U871/Instructions!$C$32)*100","v":0},{"$f":"(W871/Instructions!$C$36)*100","v":{"$error":"#VALUE!"}},"","E","E","E","E","E","E","E","--",null,null,null,null,null,{"$f":"Table_2[[#This Row],[Column51]]&Table_2[[#This Row],[Column52]]&AW873","v":""}]
[null,null,null,null,null,null,null,null,null,null,null,null,null,null,null,{"$f":"Instructions!B906","v":0},null,{"$f":"Instructions!B900","v":0},{"$f":"Instructions!B901","v":0},{"$f":"Instructions!B902","v":0},null,null,"--",0,{"$f":"Table_2[[#This Row],[Column20]]+Table_2[[#This Row],[Column56]]","v":0},"",{"$f":"Table_2[[#This Row],[Column20]]+Table_2[[#This Row],[Column56]]","v":0},"",{"$f":"Table_2[[#This Row],[Column57]]+Table_2[[#This Row],[Column16]]+Table_2[[#This Row],[Column15]]","v":0},"",{"$f":"(K872/Instructions!$C$23)*100","v":0},{"$f":"(L872/Instructions!$C$24)*100","v":0},{"$f":"(Y872/Instructions!$C$25)*100","v":0},{"$f":"(AA872/Instructions!$C$27)*100","v":0},{"$f":"(AC872/Instructions!$C$29)*100","v":0},{"$f":"(V872/Instructions!$C$33)*100","v":0},{"$f":"(U872/Instructions!$C$32)*100","v":0},{"$f":"(W872/Instructions!$C$36)*100","v":{"$error":"#VALUE!"}},"","E","E","E","E","E","E","E","--",null,null,null,null,null,{"$f":"Table_2[[#This Row],[Column51]]&Table_2[[#This Row],[Column52]]&AW874","v":""}]
[null,null,null,null,null,null,null,null,null,null,null,null,null,null,null,{"$f":"Instructions!B907","v":0},null,{"$f":"Instructions!B901","v":0},{"$f":"Instructions!B902","v":0},{"$f":"Instructions!B903","v":0},null,null,"--",0,{"$f":"Table_2[[#This Row],[Column20]]+Table_2[[#This Row],[Column56]]","v":0},"",{"$f":"Table_2[[#This Row],[Column20]]+Table_2[[#This Row],[Column56]]","v":0},"",{"$f":"Table_2[[#This Row],[Column57]]+Table_2[[#This Row],[Column16]]+Table_2[[#This Row],[Column15]]","v":0},"",{"$f":"(K873/Instructions!$C$23)*100","v":0},{"$f":"(L873/Instructions!$C$24)*100","v":0},{"$f":"(Y873/Instructions!$C$25)*100","v":0},{"$f":"(AA873/Instructions!$C$27)*100","v":0},{"$f":"(AC873/Instructions!$C$29)*100","v":0},{"$f":"(V873/Instructions!$C$33)*100","v":0},{"$f":"(U873/Instructions!$C$32)*100","v":0},{"$f":"(W873/Instructions!$C$36)*100","v":{"$error":"#VALUE!"}},"","E","E","E","E","E","E","E","--",null,null,null,null,null,{"$f":"Table_2[[#This Row],[Column51]]&Table_2[[#This Row],[Column52]]&AW875","v":""}]
[null,null,null,null,null,null,null,null,null,null,null,null,null,null,null,{"$f":"Instructions!B908","v":0},null,{"$f":"Instructions!B902","v":0},{"$f":"Instructions!B903","v":0},{"$f":"Instructions!B904","v":0},null,null,"--",0,{"$f":"Table_2[[#This Row],[Column20]]+Table_2[[#This Row],[Column56]]","v":0},"",{"$f":"Table_2[[#This Row],[Column20]]+Table_2[[#This Row],[Column56]]","v":0},"",{"$f":"Table_2[[#This Row],[Column57]]+Table_2[[#This Row],[Column16]]+Table_2[[#This Row],[Column15]]","v":0},"",{"$f":"(K874/Instructions!$C$23)*100","v":0},{"$f":"(L874/Instructions!$C$24)*100","v":0},{"$f":"(Y874/Instructions!$C$25)*100","v":0},{"$f":"(AA874/Instructions!$C$27)*100","v":0},{"$f":"(AC874/Instructions!$C$29)*100","v":0},{"$f":"(V874/Instructions!$C$33)*100","v":0},{"$f":"(U874/Instructions!$C$32)*100","v":0},{"$f":"(W874/Instructions!$C$36)*100","v":{"$error":"#VALUE!"}},"","E","E","E","E","E","E","E","--",null,null,null,null,null,{"$f":"Table_2[[#This Row],[Column51]]&Table_2[[#This Row],[Column52]]&AW876","v":""}]

{"sheet":"Report Card","index":2,"n_rows":39,"n_cols":18,"rows_kept":39,"cut":false,"hidden":false,"merged":[[9,8,9,9],[10,8,10,9],[19,2,19,5],[19,6,19,7],[23,9,24,9],[36,2,36,4],[30,1,30,4],[31,1,31,4],[32,1,32,4],[30,5,30,8],[31,5,31,8],[32,5,32,8],[29,1,29,4],[28,1,28,8],[20,2,20,5],[20,6,20,7],[23,8,24,8],[22,2,22,5],[22,6,22,7],[25,1,25,2],[25,3,25,4],[25,5,25,6],[23,1,24,1],[23,2,24,5],[23,6,24,7],[1,0,1,3],[11,4,11,7],[5,0,5,10],[15,6,15,7],[9,4,9,7],[10,4,10,7],[11,1,11,3],[12,1,12,9],[13,1,13,9],[14,2,14,5],[14,6,14,7],[11,8,11,9],[7,4,7,7],[8,4,8,7],[8,8,8,9],[15,2,15,5],[38,8,38,10],[6,12,7,12],[9,1,9,3],[10,1,10,3],[7,1,7,3],[8,1,8,3],[21,2,21,5],[21,6,21,7],[16,2,16,5],[16,6,16,7],[17,2,17,5],[17,6,17,7],[18,2,18,5],[18,6,18,7],[26,1,26,9],[29,5,29,8]]}
[]
[{"$f":"\"        Serial No./\"&Q3&\"/\"&R3&\"/\"&N8","v":"        Serial No./March/2025/2"}]
[null,null,null,null,null,null,null,null,null,null,null,null,null,null,null,null,{"$f":"Instructions!C19","v":"March"},{"$f":"Instructions!B19","v":2025}]
[]
[null,null,null,null,null,null,null,null,null,null,null,null,"Total Number of Record",{"$f":"COUNTA('Marks Entry'!F:F)","v":3}]
[{"$f":"\"Report Card \"&Q3& \" - \"&R3","v":"Report Card March - 2025"}]
[null,null,null,null,null,null,null,null,null,null,null,null,"Sr No. of Record"]
[null,"Student Name        :",null,null,{"$f":"IFERROR(VLOOKUP($N$8,'Marks Entry'!$A$1:$AY$401,6,0),\"\")","v":"ARIF"},null,null,null,null,null,null,null,null,2]
[null,"E-Punjab ID              :",null,null,{"$f":"IFERROR(VLOOKUP($N$8,'Marks Entry'!$A$1:$AY$401,5,0),\"\")","v":1556}]
[null,"Father’s Name       :",null,null,{"$f":"IFERROR(VLOOKUP($N$8,'Marks Entry'!$A$1:$AY$401,7,0),\"\")","v":"SULEMAAN KHAN"}]
[null,"Mother’s Name     :",null,null,{"$f":"IFERROR(VLOOKUP($N$8,'Marks Entry'!$A$1:$AY$401,8,0),\"\")","v":"Mother2"}]
[null,"Class & Section      :",null,null,{"$f":"IFERROR(VLOOKUP($N$8,'Marks Entry'!$A$1:$AY$401,3,0)&\" \"&VLOOKUP($N$8,'Marks Entry'!$A$1:$AY$401,4,0),\"\")","v":"11th A"}]
[null,{"$f":"\"has secured subject wise marks and grade as mentioned below in School Examination held in \" & Q3 & \"  \"&R3","v":"has secured subject wise marks and grade as mentioned below in School Examination held in March  2025"}]
[]
[null,"Sr. no.","Subject Name",null,null,null,"Total Marks",null,"Marks Obtained","Grade"]
[null,1,"PUNJABI",null,null,null,{"$f":"Instructions!C23","v":100},null,{"$f":"IFERROR(VLOOKUP($N$8,'Marks Entry'!$A$1:$AY$401,11,0),\"\")","v":30},{"$f":"IFERROR(VLOOKUP($N$8,'Marks Entry'!$A$1:$AY$401,40,0),\"\")","v":"E"}]
[null,2,"ENGLISH",null,null,null,{"$f":"Instructions!C24","v":100},null,{"$f":"IFERROR(VLOOKUP($N$8,'Marks Entry'!$A$1:$AY$401,12,0),\"\")","v":35},{"$f":"IFERROR(VLOOKUP($N$8,'Marks Entry'!$A$1:$AY$401,41,0),\"\")","v":"D"}]
[null,3,{"$f":"IFERROR(VLOOKUP($N$8,'Marks Entry'!$A$1:$AY$401,26,0),\"\")","v":"Elective Subject 1 option 1"},null,null,null,{"$f":"Instructions!C25","v":100},null,{"$f":"IFERROR(VLOOKUP($N$8,'Marks Entry'!$A$1:$AY$401,25,0),\"\")","v":50},{"$f":"IFERROR(VLOOKUP($N$8,'Marks Entry'!$A$1:$AY$401,42,0),\"\")","v":"C"}]
[null,4,{"$f":"IFERROR(VLOOKUP($N$8,'Marks Entry'!$A$1:$AY$401,28,0),\"\")","v":"Elective Subject 2 Option 1"},null,null,null,{"$f":"Instructions!C27","v":100},null,{"$f":"IFERROR(VLOOKUP($N$8,'Marks Entry'!$A$1:$AY$401,27,0),\"\")","v":50},{"$f":"IFERROR(VLOOKUP($N$8,'Marks Entry'!$A$1:$AY$401,43,0),\"\")","v":"C"}]
[null,5,{"$f":"IFERROR(VLOOKUP($N$8,'Marks Entry'!$A$1:$AY$401,30,0),\"\")","v":"Elective Subject 3 Option 2"},null,null,null,{"$f":"Instructions!C29","v":100},null,{"$f":"IFERROR(VLOOKUP($N$8,'Marks Entry'!$A$1:$AY$401,29,0),\"\")","v":33},{"$f":"IFERROR(VLOOKUP($N$8,'Marks Entry'!$A$1:$AY$401,44,0),\"\")","v":"D"}]
[null,6,"*EVS",null,null,null,{"$f":"Instructions!C33","v":50},null,{"$f":"IFERROR(VLOOKUP($N$8,'Marks Entry'!$A$1:$AY$401,22,0),\"\")","v":20},{"$f":"IFERROR(VLOOKUP($N$8,'Marks Entry'!$A$1:$AY$401,45,0),\"\")","v":"D"}]
[null,7,"*COMPUTER SCIENCE",null,null,null,{"$f":"Instructions!C32","v":50},null,{"$f":"IFERROR(VLOOKUP($N$8,'Marks Entry'!$A$1:$AY$401,21,0),\"\")","v":33},{"$f":"IFERROR(VLOOKUP($N$8,'Marks Entry'!$A$1:$AY$401,46,0),\"\")","v":"B"}]
[]
[]
[]
[null,"RESULT    :",null,{"$f":"IFERROR(VLOOKUP($N$8,'Marks Entry'!$A$1:$AY$401,39,0),\"\")","v":""},null,"Grand Total",null,{"$f":"Instructions!C36","v":500},{"$f":"IFERROR(VLOOKUP($N$8,'Marks Entry'!$A$1:$AY$401,23,0),\"\")","v":"--"},{"$f":"IFERROR(VLOOKUP($N$8,'Marks Entry'!$A$1:$AY$401,47,0),\"\")","v":"--"}]
[null,"Note: * Implies marks obtained in subjects are grading subjects and have not been added in Grand Total"]
[]
[null,"Grade Description"]
[null,"A+  Above 90% marks ",null,null,null,"A  Above 80% & upto 90% marks"]
[null,"B+  Above 70% & upto  80% marks",null,null,null,"B  Above 60% & upto 70% marks"]
[null,"C+  Above 50% & upto 60% marks",null,null,null,"C  Above 40% & upto 50% marks"]
[null,"D   33%  & upto 40% marks",null,null,null,"E Below 33% marks"]
[]
[]
[]
[null,"Date   :  ",{"$f":"Instructions!C20","v":"2024-03-31"},null,null,null,null,null,null,"Signature "]
[]
[null,null,null,null,null,null,null,null,"www.Teachershelp.in  "]

{"sheet":"Abstract","index":3,"n_rows":14,"n_cols":16,"rows_kept":14,"cut":false,"hidden":false,"merged":[[0,0,0,10],[0,13,0,15],[13,1,13,4]]}
["Subject & Grade Wise  Students Counts Details",null,null,null,null,null,null,null,null,null,null,null,null,{"$f":"\"Topper of Class \"&B2","v":"Topper of Class 11th"}]
["Class","11th","Section","A",null,null,null,null,null,null,null,null,null,"Rank","Student Name","Marks"]
["Grade/Subject","Punjabi ","English",{"$f":"Instructions!B25","v":"Elective Subject 1 option 1"},{"$f":"Instructions!B26","v":"Elective Subject 1 option 2"},{"$f":"Instructions!B27","v":"Elective Subject 2 Option 1"},{"$f":"Instructions!B28","v":"Elective Subject 2 Option 2"},{"$f":"Instructions!B29","v":"Elective Subject 3 Option 1"},{"$f":"Instructions!B30","v":"Elective Subject 3 Option 2"},{"$f":"Instructions!B31","v":"Elective Subject 3 Option 3"},{"$f":"Instructions!B32","v":"Computer Sci"},{"$f":"Instructions!B33","v":"EVS"},null,1,"BHOLA",93]
["A+",{"$f":"COUNTIFS('Marks Entry'!$C:$C,$B$2,'Marks Entry'!$D:$D,$D$2,'Marks Entry'!AN:AN,$A4)","v":0},{"$f":"COUNTIFS('Marks Entry'!$C:$C,$B$2,'Marks Entry'!$D:$D,$D$2,'Marks Entry'!AO:AO,$A4)","v":0},{"$f":"COUNTIFS('Marks Entry'!$C:$C,$B$2,'Marks Entry'!$D:$D,$D$2,'Marks Entry'!AP:AP,$A4,'Marks Entry'!$Z:$Z,$D$3)","v":0},{"$f":"COUNTIFS('Marks Entry'!$C:$C,$B$2,'Marks Entry'!$D:$D,$D$2,'Marks Entry'!AP:AP,$A4,'Marks Entry'!$Z:$Z,$E$3)","v":0},{"$f":"COUNTIFS('Marks Entry'!$C:$C,$B$2,'Marks Entry'!$D:$D,$D$2,'Marks Entry'!AQ:AQ,$A4,'Marks Entry'!$AB:$AB,$F$3)","v":0},{"$f":"COUNTIFS('Marks Entry'!$C:$C,$B$2,'Marks Entry'!$D:$D,$D$2,'Marks Entry'!AQ:AQ,$A4,'Marks Entry'!$AB:$AB,$G$3)","v":0},{"$f":"COUNTIFS('Marks Entry'!$C:$C,$B$2,'Marks Entry'!$D:$D,$D$2,'Marks Entry'!AR:AR,$A4,'Marks Entry'!$AD:$AD,$H$3)","v":1},{"$f":"COUNTIFS('Marks Entry'!$C:$C,$B$2,'Marks Entry'!$D:$D,$D$2,'Marks Entry'!AR:AR,$A4,'Marks Entry'!$AD:$AD,$I$3)","v":0},{"$f":"COUNTIFS('Marks Entry'!$C:$C,$B$2,'Marks Entry'!$D:$D,$D$2,'Marks Entry'!AR:AR,$A4,'Marks Entry'!$AD:$AD,$J$3)","v":0},{"$f":"COUNTIFS('Marks Entry'!$C:$C,$B$2,'Marks Entry'!$D:$D,$D$2,'Marks Entry'!AT:AT,$A4)","v":0},{"$f":"COUNTIFS('Marks Entry'!$C:$C,$B$2,'Marks Entry'!$D:$D,$D$2,'Marks Entry'!AS:AS,$A4)","v":0},null,2,"CHAMAN",85]
["A",{"$f":"COUNTIFS('Marks Entry'!$C:$C,$B$2,'Marks Entry'!$D:$D,$D$2,'Marks Entry'!AN:AN,$A5)","v":0},{"$f":"COUNTIFS('Marks Entry'!$C:$C,$B$2,'Marks Entry'!$D:$D,$D$2,'Marks Entry'!AO:AO,$A5)","v":0},{"$f":"COUNTIFS('Marks Entry'!$C:$C,$B$2,'Marks Entry'!$D:$D,$D$2,'Marks Entry'!AP:AP,$A5,'Marks Entry'!$Z:$Z,$D$3)","v":0},{"$f":"COUNTIFS('Marks Entry'!$C:$C,$B$2,'Marks Entry'!$D:$D,$D$2,'Marks Entry'!AP:AP,$A5,'Marks Entry'!$Z:$Z,$E$3)","v":0},{"$f":"COUNTIFS('Marks Entry'!$C:$C,$B$2,'Marks Entry'!$D:$D,$D$2,'Marks Entry'!AQ:AQ,$A5,'Marks Entry'!$AB:$AB,$F$3)","v":0},{"$f":"COUNTIFS('Marks Entry'!$C:$C,$B$2,'Marks Entry'!$D:$D,$D$2,'Marks Entry'!AQ:AQ,$A5,'Marks Entry'!$AB:$AB,$G$3)","v":0},{"$f":"COUNTIFS('Marks Entry'!$C:$C,$B$2,'Marks Entry'!$D:$D,$D$2,'Marks Entry'!AR:AR,$A5,'Marks Entry'!$AD:$AD,$H$3)","v":0},{"$f":"COUNTIFS('Marks Entry'!$C:$C,$B$2,'Marks Entry'!$D:$D,$D$2,'Marks Entry'!AR:AR,$A5,'Marks Entry'!$AD:$AD,$I$3)","v":0},{"$f":"COUNTIFS('Marks Entry'!$C:$C,$B$2,'Marks Entry'!$D:$D,$D$2,'Marks Entry'!AR:AR,$A5,'Marks Entry'!$AD:$AD,$J$3)","v":0},{"$f":"COUNTIFS('Marks Entry'!$C:$C,$B$2,'Marks Entry'!$D:$D,$D$2,'Marks Entry'!AT:AT,$A5)","v":0},{"$f":"COUNTIFS('Marks Entry'!$C:$C,$B$2,'Marks Entry'!$D:$D,$D$2,'Marks Entry'!AS:AS,$A5)","v":0},null,3,"ASHOK",55]
["B+",{"$f":"COUNTIFS('Marks Entry'!$C:$C,$B$2,'Marks Entry'!$D:$D,$D$2,'Marks Entry'!AN:AN,$A6)","v":0},{"$f":"COUNTIFS('Marks Entry'!$C:$C,$B$2,'Marks Entry'!$D:$D,$D$2,'Marks Entry'!AO:AO,$A6)","v":0},{"$f":"COUNTIFS('Marks Entry'!$C:$C,$B$2,'Marks Entry'!$D:$D,$D$2,'Marks Entry'!AP:AP,$A6,'Marks Entry'!$Z:$Z,$D$3)","v":0},{"$f":"COUNTIFS('Marks Entry'!$C:$C,$B$2,'Marks Entry'!$D:$D,$D$2,'Marks Entry'!AP:AP,$A6,'Marks Entry'!$Z:$Z,$E$3)","v":0},{"$f":"COUNTIFS('Marks Entry'!$C:$C,$B$2,'Marks Entry'!$D:$D,$D$2,'Marks Entry'!AQ:AQ,$A6,'Marks Entry'!$AB:$AB,$F$3)","v":0},{"$f":"COUNTIFS('Marks Entry'!$C:$C,$B$2,'Marks Entry'!$D:$D,$D$2,'Marks Entry'!AQ:AQ,$A6,'Marks Entry'!$AB:$AB,$G$3)","v":0},{"$f":"COUNTIFS('Marks Entry'!$C:$C,$B$2,'Marks Entry'!$D:$D,$D$2,'Marks Entry'!AR:AR,$A6,'Marks Entry'!$AD:$AD,$H$3)","v":0},{"$f":"COUNTIFS('Marks Entry'!$C:$C,$B$2,'Marks Entry'!$D:$D,$D$2,'Marks Entry'!AR:AR,$A6,'Marks Entry'!$AD:$AD,$I$3)","v":0},{"$f":"COUNTIFS('Marks Entry'!$C:$C,$B$2,'Marks Entry'!$D:$D,$D$2,'Marks Entry'!AR:AR,$A6,'Marks Entry'!$AD:$AD,$J$3)","v":0},{"$f":"COUNTIFS('Marks Entry'!$C:$C,$B$2,'Marks Entry'!$D:$D,$D$2,'Marks Entry'!AT:AT,$A6)","v":1},{"$f":"COUNTIFS('Marks Entry'!$C:$C,$B$2,'Marks Entry'!$D:$D,$D$2,'Marks Entry'!AS:AS,$A6)","v":0},null,4,"ARIF",20]
["B",{"$f":"COUNTIFS('Marks Entry'!$C:$C,$B$2,'Marks Entry'!$D:$D,$D$2,'Marks Entry'!AN:AN,$A7)","v":0},{"$f":"COUNTIFS('Marks Entry'!$C:$C,$B$2,'Marks Entry'!$D:$D,$D$2,'Marks Entry'!AO:AO,$A7)","v":0},{"$f":"COUNTIFS('Marks Entry'!$C:$C,$B$2,'Marks Entry'!$D:$D,$D$2,'Marks Entry'!AP:AP,$A7,'Marks Entry'!$Z:$Z,$D$3)","v":0},{"$f":"COUNTIFS('Marks Entry'!$C:$C,$B$2,'Marks Entry'!$D:$D,$D$2,'Marks Entry'!AP:AP,$A7,'Marks Entry'!$Z:$Z,$E$3)","v":0},{"$f":"COUNTIFS('Marks Entry'!$C:$C,$B$2,'Marks Entry'!$D:$D,$D$2,'Marks Entry'!AQ:AQ,$A7,'Marks Entry'!$AB:$AB,$F$3)","v":0},{"$f":"COUNTIFS('Marks Entry'!$C:$C,$B$2,'Marks Entry'!$D:$D,$D$2,'Marks Entry'!AQ:AQ,$A7,'Marks Entry'!$AB:$AB,$G$3)","v":0},{"$f":"COUNTIFS('Marks Entry'!$C:$C,$B$2,'Marks Entry'!$D:$D,$D$2,'Marks Entry'!AR:AR,$A7,'Marks Entry'!$AD:$AD,$H$3)","v":0},{"$f":"COUNTIFS('Marks Entry'!$C:$C,$B$2,'Marks Entry'!$D:$D,$D$2,'Marks Entry'!AR:AR,$A7,'Marks Entry'!$AD:$AD,$I$3)","v":0},{"$f":"COUNTIFS('Marks Entry'!$C:$C,$B$2,'Marks Entry'!$D:$D,$D$2,'Marks Entry'!AR:AR,$A7,'Marks Entry'!$AD:$AD,$J$3)","v":0},{"$f":"COUNTIFS('Marks Entry'!$C:$C,$B$2,'Marks Entry'!$D:$D,$D$2,'Marks Entry'!AT:AT,$A7)","v":1},{"$f":"COUNTIFS('Marks Entry'!$C:$C,$B$2,'Marks Entry'!$D:$D,$D$2,'Marks Entry'!AS:AS,$A7)","v":0},null,5,"AMRITPREET KAUR",15]
["C+",{"$f":"COUNTIFS('Marks Entry'!$C:$C,$B$2,'Marks Entry'!$D:$D,$D$2,'Marks Entry'!AN:AN,$A8)","v":0},{"$f":"COUNTIFS('Marks Entry'!$C:$C,$B$2,'Marks Entry'!$D:$D,$D$2,'Marks Entry'!AO:AO,$A8)","v":0},{"$f":"COUNTIFS('Marks Entry'!$C:$C,$B$2,'Marks Entry'!$D:$D,$D$2,'Marks Entry'!AP:AP,$A8,'Marks Entry'!$Z:$Z,$D$3)","v":0},{"$f":"COUNTIFS('Marks Entry'!$C:$C,$B$2,'Marks Entry'!$D:$D,$D$2,'Marks Entry'!AP:AP,$A8,'Marks Entry'!$Z:$Z,$E$3)","v":0},{"$f":"COUNTIFS('Marks Entry'!$C:$C,$B$2,'Marks Entry'!$D:$D,$D$2,'Marks Entry'!AQ:AQ,$A8,'Marks Entry'!$AB:$AB,$F$3)","v":0},{"$f":"COUNTIFS('Marks Entry'!$C:$C,$B$2,'Marks Entry'!$D:$D,$D$2,'Marks Entry'!AQ:AQ,$A8,'Marks Entry'!$AB:$AB,$G$3)","v":0},{"$f":"COUNTIFS('Marks Entry'!$C:$C,$B$2,'Marks Entry'!$D:$D,$D$2,'Marks Entry'!AR:AR,$A8,'Marks Entry'!$AD:$AD,$H$3)","v":0},{"$f":"COUNTIFS('Marks Entry'!$C:$C,$B$2,'Marks Entry'!$D:$D,$D$2,'Marks Entry'!AR:AR,$A8,'Marks Entry'!$AD:$AD,$I$3)","v":0},{"$f":"COUNTIFS('Marks Entry'!$C:$C,$B$2,'Marks Entry'!$D:$D,$D$2,'Marks Entry'!AR:AR,$A8,'Marks Entry'!$AD:$AD,$J$3)","v":0},{"$f":"COUNTIFS('Marks Entry'!$C:$C,$B$2,'Marks Entry'!$D:$D,$D$2,'Marks Entry'!AT:AT,$A8)","v":0},{"$f":"COUNTIFS('Marks Entry'!$C:$C,$B$2,'Marks Entry'!$D:$D,$D$2,'Marks Entry'!AS:AS,$A8)","v":0},null,6,"CHIRAGDEEP SINGH"]
["C",{"$f":"COUNTIFS('Marks Entry'!$C:$C,$B$2,'Marks Entry'!$D:$D,$D$2,'Marks Entry'!AN:AN,$A9)","v":0},{"$f":"COUNTIFS('Marks Entry'!$C:$C,$B$2,'Marks Entry'!$D:$D,$D$2,'Marks Entry'!AO:AO,$A9)","v":0},{"$f":"COUNTIFS('Marks Entry'!$C:$C,$B$2,'Marks Entry'!$D:$D,$D$2,'Marks Entry'!AP:AP,$A9,'Marks Entry'!$Z:$Z,$D$3)","v":1},{"$f":"COUNTIFS('Marks Entry'!$C:$C,$B$2,'Marks Entry'!$D:$D,$D$2,'Marks Entry'!AP:AP,$A9,'Marks Entry'!$Z:$Z,$E$3)","v":0},{"$f":"COUNTIFS('Marks Entry'!$C:$C,$B$2,'Marks Entry'!$D:$D,$D$2,'Marks Entry'!AQ:AQ,$A9,'Marks Entry'!$AB:$AB,$F$3)","v":1},{"$f":"COUNTIFS('Marks Entry'!$C:$C,$B$2,'Marks Entry'!$D:$D,$D$2,'Marks Entry'!AQ:AQ,$A9,'Marks Entry'!$AB:$AB,$G$3)","v":0},{"$f":"COUNTIFS('Marks Entry'!$C:$C,$B$2,'Marks Entry'!$D:$D,$D$2,'Marks Entry'!AR:AR,$A9,'Marks Entry'!$AD:$AD,$H$3)","v":0},{"$f":"COUNTIFS('Marks Entry'!$C:$C,$B$2,'Marks Entry'!$D:$D,$D$2,'Marks Entry'!AR:AR,$A9,'Marks Entry'!$AD:$AD,$I$3)","v":0},{"$f":"COUNTIFS('Marks Entry'!$C:$C,$B$2,'Marks Entry'!$D:$D,$D$2,'Marks Entry'!AR:AR,$A9,'Marks Entry'!$AD:$AD,$J$3)","v":0},{"$f":"COUNTIFS('Marks Entry'!$C:$C,$B$2,'Marks Entry'!$D:$D,$D$2,'Marks Entry'!AT:AT,$A9)","v":0},{"$f":"COUNTIFS('Marks Entry'!$C:$C,$B$2,'Marks Entry'!$D:$D,$D$2,'Marks Entry'!AS:AS,$A9)","v":0},null,7,"GUDIA"]
["D",{"$f":"COUNTIFS('Marks Entry'!$C:$C,$B$2,'Marks Entry'!$D:$D,$D$2,'Marks Entry'!AN:AN,$A10)","v":0},{"$f":"COUNTIFS('Marks Entry'!$C:$C,$B$2,'Marks Entry'!$D:$D,$D$2,'Marks Entry'!AO:AO,$A10)","v":1},{"$f":"COUNTIFS('Marks Entry'!$C:$C,$B$2,'Marks Entry'!$D:$D,$D$2,'Marks Entry'!AP:AP,$A10,'Marks Entry'!$Z:$Z,$D$3)","v":1},{"$f":"COUNTIFS('Marks Entry'!$C:$C,$B$2,'Marks Entry'!$D:$D,$D$2,'Marks Entry'!AP:AP,$A10,'Marks Entry'!$Z:$Z,$E$3)","v":0},{"$f":"COUNTIFS('Marks Entry'!$C:$C,$B$2,'Marks Entry'!$D:$D,$D$2,'Marks Entry'!AQ:AQ,$A10,'Marks Entry'!$AB:$AB,$F$3)","v":0},{"$f":"COUNTIFS('Marks Entry'!$C:$C,$B$2,'Marks Entry'!$D:$D,$D$2,'Marks Entry'!AQ:AQ,$A10,'Marks Entry'!$AB:$AB,$G$3)","v":1},{"$f":"COUNTIFS('Marks Entry'!$C:$C,$B$2,'Marks Entry'!$D:$D,$D$2,'Marks Entry'!AR:AR,$A10,'Marks Entry'!$AD:$AD,$H$3)","v":0},{"$f":"COUNTIFS('Marks Entry'!$C:$C,$B$2,'Marks Entry'!$D:$D,$D$2,'Marks Entry'!AR:AR,$A10,'Marks Entry'!$AD:$AD,$I$3)","v":1},{"$f":"COUNTIFS('Marks Entry'!$C:$C,$B$2,'Marks Entry'!$D:$D,$D$2,'Marks Entry'!AR:AR,$A10,'Marks Entry'!$AD:$AD,$J$3)","v":0},{"$f":"COUNTIFS('Marks Entry'!$C:$C,$B$2,'Marks Entry'!$D:$D,$D$2,'Marks Entry'!AT:AT,$A10)","v":0},{"$f":"COUNTIFS('Marks Entry'!$C:$C,$B$2,'Marks Entry'!$D:$D,$D$2,'Marks Entry'!AS:AS,$A10)","v":1},null,8,"JARNAIL SINGH"]
["E",{"$f":"COUNTIFS('Marks Entry'!$C:$C,$B$2,'Marks Entry'!$D:$D,$D$2,'Marks Entry'!AN:AN,$A11)","v":2},{"$f":"COUNTIFS('Marks Entry'!$C:$C,$B$2,'Marks Entry'!$D:$D,$D$2,'Marks Entry'!AO:AO,$A11)","v":1},{"$f":"COUNTIFS('Marks Entry'!$C:$C,$B$2,'Marks Entry'!$D:$D,$D$2,'Marks Entry'!AP:AP,$A11,'Marks Entry'!$Z:$Z,$D$3)","v":0},{"$f":"COUNTIFS('Marks Entry'!$C:$C,$B$2,'Marks Entry'!$D:$D,$D$2,'Marks Entry'!AP:AP,$A11,'Marks Entry'!$Z:$Z,$E$3)","v":0},{"$f":"COUNTIFS('Marks Entry'!$C:$C,$B$2,'Marks Entry'!$D:$D,$D$2,'Marks Entry'!AQ:AQ,$A11,'Marks Entry'!$AB:$AB,$F$3)","v":0},{"$f":"COUNTIFS('Marks Entry'!$C:$C,$B$2,'Marks Entry'!$D:$D,$D$2,'Marks Entry'!AQ:AQ,$A11,'Marks Entry'!$AB:$AB,$G$3)","v":0},{"$f":"COUNTIFS('Marks Entry'!$C:$C,$B$2,'Marks Entry'!$D:$D,$D$2,'Marks Entry'!AR:AR,$A11,'Marks Entry'!$AD:$AD,$H$3)","v":0},{"$f":"COUNTIFS('Marks Entry'!$C:$C,$B$2,'Marks Entry'!$D:$D,$D$2,'Marks Entry'!AR:AR,$A11,'Marks Entry'!$AD:$AD,$I$3)","v":0},{"$f":"COUNTIFS('Marks Entry'!$C:$C,$B$2,'Marks Entry'!$D:$D,$D$2,'Marks Entry'!AR:AR,$A11,'Marks Entry'!$AD:$AD,$J$3)","v":0},{"$f":"COUNTIFS('Marks Entry'!$C:$C,$B$2,'Marks Entry'!$D:$D,$D$2,'Marks Entry'!AT:AT,$A11)","v":0},{"$f":"COUNTIFS('Marks Entry'!$C:$C,$B$2,'Marks Entry'!$D:$D,$D$2,'Marks Entry'!AS:AS,$A11)","v":1},null,9,"JASHAN"]
["Total Student",{"$f":"SUM(B4:B11)","v":2},{"$f":"SUM(C4:C11)","v":2},2,0,1,1,1,1,0,2,2,null,10,"KAJAL"]
[]
[null,"Total Fail/Reappear Students ",null,null,null,{"$f":"COUNTIFS('Marks Entry'!C2:C971,B2,'Marks Entry'!X2:X971,0)","v":2}]